{"text_format":"1","workbook":"xlsx","n_sheets":4,"sheets":["Übersicht","Konditionen","2016-2017","Bestellliste"],"not_rendered":{"charts":0,"images":7,"macros":1,"external_links":0,"defined_names":7,"comments":0,"pivot_tables":0},"unopened":[],"bounds":{"document_bytes":16777216,"sheet_cells":100000,"rows_first":2000,"rows_last":500,"rows_between":2000,"halvings":0,"cell_chars":16384,"cell_head_chars":4096},"cells_cut":0,"cells_raw":0,"read":"whole","date_system":"1900"}

{"sheet":"Übersicht","index":0,"n_rows":41,"n_cols":8,"rows_kept":41,"cut":false,"hidden":false,"merged":[]}
[]
[]
[]
[null,"Lindab GmbH"]
[null,"Carl-Benz-Weg 18"]
[null,"22941 Bargteheide"]
[null,"Tel. 04532-28590"]
[null,"Fax: 04532-5666"]
[null,"email: lindab@lindab.de"]
[]
[]
[null,null,null,"Lindab Preisliste 2016-2017 + TZ2"]
[]
[]
[null,"Mit Hilfe dieser Datei möchten wir Ihnen, ergänzend zur Preisliste 2016-2017 in gedruckter Form oder als PDF, die Möglichkeit bieten,  Ihre Einkaufskonditionen bei der "]
[null,"Preisfindung mit zu berücksichtigen und so schneller Ihren Einkaufspreis für das ausgewählte Produkt zu erfahren. "]
[]
[null,"Zu Beginn müssen Sie einmalig Ihre Konditionen im Programm hinterlegen. Dazu wechseln Sie zum Tabellenblatt \"Konditionen\" und tragen dort die vereinbarten "]
[null,"Rabatte ein. ","Zum Tabellenblatt Konditionen wechseln"]
[]
[null,"Im Tabellenblatt 2016-2017 wird Ihnen dann zu jedem Artikel Ihr Einkaufspreis angezeigt. ",null,null,null,null,"Zur Preisliste 2016-2017"]
[]
[null,"Mit Hilfe der Filter können Sie die Artikel nach Kategorie, oder Artikelkurzbezeichnung filtern, oder nutzen Sie die Suche-Funktion von Excel, wenn Ihnen "]
[null,"die Artikelnummer bekannt ist."]
[]
[null,"Schaltfläche* \"Zur Bestelliste hinzufügen\": Möchten Sie einen Artikel auswählen, markieren Sie bitte irgendeine Zelle in der Artikelzeile und drücken Sie die "]
[null,null,"                                           Schaltfläche, sie müssen nur noch  die gewünschte Stückzahl angeben und der Artikel wird in die Bestellliste\" übernommen."]
[null,null,"                                           Sie können dieses Tabellenblatt direkt per Email als Bestellung zu Lindab senden. *",null,null,null,null,"zur Bestellliste wechseln"]
[]
[]
[null,null,"                                       "]
[]
[]
[]
[]
[]
[]
[]
[]
[null,"* Um die Schaltflächen benutzen zu können, müssen die Sicherheitseinstellungen von Excel die Ausführung von Makros zulassen. Sie können dies über "]
[null,">Extras/Makro/Sicherheit/Sicherheitsstufe< \"mittel\" oder \"niedrig\" (nicht empfohlen) anpassen."]

{"sheet":"Konditionen","index":1,"n_rows":57,"n_cols":4,"rows_kept":57,"cut":false,"hidden":false,"merged":[]}
[]
[]
[]
[]
[]
[]
[]
[]
[]
[null,"Bitte tragen Sie in die nachfolgende Tabelle die Rabatte gemäß Ihrer aktuellen Konditionsbestätigung ein.  "]
[]
[null,"Im Tabellenblatt \"2016-2017\" werden Ihnen dann zu jedem Artikel Ihre Netto-Einkaufspreise direkt angezeigt."]
[]
[null,"zur 2016-2017","zurück zur Übersicht"]
[]
[]
[null,"Preisgruppe","Preisgruppenbezeichnung","Rabatt gesamt"]
[null,"10","Rohre",0]
[null,"11","Flex",0]
[null,"30","LindabSafe Formteile",0]
[null,"31","Schalldämpfer flexibel",0]
[null,"32","Klappen",0]
[null,"35","Lindab Transfer",0]
[null,"37","Filter",0]
[null,"53","Dachhauben",0]
[null,"60","Edelstahl",0]
[null,"65","Lindab Isol",0]
[null,"70","Lindab Comfort Luftauslässe",0]
[null,"80","Brandschutz",0]
[null,"90","Dienstleistungen & Zubehör",0]
[null,"5.PG01","Geba Preisgruppe 01",0]
[null,"5.PG05","Geba Preisgruppe 05",0]
[null,"5.PG11","Geba Preisgruppe 11",0]
[null,"7.ALLG","Systemair Allgemein",0]
[null,"7.AW","Systemair AW Ventilatoren",0]
[null,"7.K","Systemair K Ventilatoren",0]
[null,"9.BS","Strulik Brandschutz",0]
[null,"10.ALLG","Gripple Allgemein",0]
[null,"13.ALLG","Grada Allgemein",0]
[null,"14.MS","METU System",0]
[null,"14.REV","METU Revisionsdeckel",0]
[null,"16.ALLG","Dektite Allgemein",0]
[null,"17.ALLG","Beck Allgemein",0]
[null,"18.ALLG","Östberg Allgemein",0]
[null,"17.EFFI","Beck EffiTech Stecksystem",0]
[null,"20.ALLG","ALRE IT Allgemein",0]
[null,"42.ALLG","Masterflex Allgemein",0]
[null,"43.NETT","Schweißdraht Allgemein",0]
[]
[null,null,"Ihre Daten"]
[null,null,"Kundennr.:"]
[null,null,"Name:"]
[null,null,"Ansprechpartner"]
[null,null,"Str.:"]
[null,null,"PLZ/Ort:"]
[null,null,"Tel.:"]
[null,null,"Fax:"]

{"sheet":"2016-2017","index":2,"n_rows":16610,"n_cols":8,"rows_kept":4500,"cut":true,"hidden":false,"merged":[],"bounds":{"rows_first":2000,"rows_last":500,"rows_between":2000,"halvings":0}}
[]
[]
[null,null,"Lindab Preisliste 2016-2017 + TZ2"]
[]
[]
[null,null,null,null,null,"wechseln zu:","Übersicht"]
[null,null,null,null,null,null,"Konditionen"]
[null,null,null,null,null,null,"Bestellliste"]
[]
[]
["Kategorie","Kurzbezeichnung","Artikelnummer","Beschreibung 1","Beschreibung 2","Preisgruppe","Preis brutto","Preis netto"]
["Montagezubehör","ABN4X10","ABN4X10","Alu-Blindniete   ABN 4 X 10","(für Dicke 0-7,5) VPE=500","90",12.15,{"$f":"G12*(1-VLOOKUP(F12,Konditionen!$B:$D,3,0))","v":12.15}]
["Rohre und Formteile","ABUV2A","ABUV2A100","Ausblasbogen       ABU V2A     100","Edelstahl W.Nr. 1.4301","60",341.16,{"$f":"G13*(1-VLOOKUP(F13,Konditionen!$B:$D,3,0))","v":341.16}]
["Rohre und Formteile","ABUV2A","ABUV2A112","Ausblasbogen       ABU V2A     112","Edelstahl W. Nr. 1.4301","60",353.81,{"$f":"G14*(1-VLOOKUP(F14,Konditionen!$B:$D,3,0))","v":353.81}]
["Rohre und Formteile","ABUV2A","ABUV2A125","Ausblasbogen       ABU V2A     125","Edelstahl W. Nr. 1.4301","60",353.81,{"$f":"G15*(1-VLOOKUP(F15,Konditionen!$B:$D,3,0))","v":353.81}]
["Rohre und Formteile","ABUV2A","ABUV2A140","Ausblasbogen       ABU V2A     140","Edelstahl W. Nr. 1.4301","60",390.02,{"$f":"G16*(1-VLOOKUP(F16,Konditionen!$B:$D,3,0))","v":390.02}]
["Rohre und Formteile","ABUV2A","ABUV2A150","Ausblasbogen       ABU V2A     150","Edelstahl W. Nr. 1.4301","60",390.02,{"$f":"G17*(1-VLOOKUP(F17,Konditionen!$B:$D,3,0))","v":390.02}]
["Rohre und Formteile","ABUV2A","ABUV2A160","Ausblasbogen       ABU V2A     160","Edelstahl W. Nr. 1.4301","60",390.02,{"$f":"G18*(1-VLOOKUP(F18,Konditionen!$B:$D,3,0))","v":390.02}]
["Rohre und Formteile","ABUV2A","ABUV2A180","Ausblasbogen       ABU V2A     180","Edelstahl W. Nr. 1.4301","60",448,{"$f":"G19*(1-VLOOKUP(F19,Konditionen!$B:$D,3,0))","v":448}]
["Rohre und Formteile","ABUV2A","ABUV2A200","Ausblasbogen       ABU V2A     200","Edelstahl W. Nr. 1.4301","60",448,{"$f":"G20*(1-VLOOKUP(F20,Konditionen!$B:$D,3,0))","v":448}]
["Rohre und Formteile","ABUV2A","ABUV2A224","Ausblasbogen       ABU V2A     224","Edelstahl W. Nr. 1.4301","60",575.22,{"$f":"G21*(1-VLOOKUP(F21,Konditionen!$B:$D,3,0))","v":575.22}]
["Rohre und Formteile","ABUV2A","ABUV2A250","Ausblasbogen       ABU V2A     250","Edelstahl W. Nr. 1.4301","60",575.22,{"$f":"G22*(1-VLOOKUP(F22,Konditionen!$B:$D,3,0))","v":575.22}]
["Rohre und Formteile","ABUV2A","ABUV2A280","Ausblasbogen       ABU V2A     280","Edelstahl W.Nr. 1.4301","60",726.72,{"$f":"G23*(1-VLOOKUP(F23,Konditionen!$B:$D,3,0))","v":726.72}]
["Rohre und Formteile","ABUV2A","ABUV2A300","Ausblasbogen       ABU V2A     300","Edelstahl W. Nr. 1.4301","60",726.72,{"$f":"G24*(1-VLOOKUP(F24,Konditionen!$B:$D,3,0))","v":726.72}]
["Rohre und Formteile","ABUV2A","ABUV2A315","Ausblasbogen       ABU V2A     315","Edelstahl W. Nr. 1.4301","60",824.33,{"$f":"G25*(1-VLOOKUP(F25,Konditionen!$B:$D,3,0))","v":824.33}]
["Rohre und Formteile","ABUV2A","ABUV2A355","Ausblasbogen       ABU V2A     355","Edelstahl W. Nr. 1.4301","60",908.77,{"$f":"G26*(1-VLOOKUP(F26,Konditionen!$B:$D,3,0))","v":908.77}]
["Rohre und Formteile","ABUV2A","ABUV2A400","Ausblasbogen       ABU V2A     400","Edelstahl W. Nr. 1.4301","60",1060.5999999999999,{"$f":"G27*(1-VLOOKUP(F27,Konditionen!$B:$D,3,0))","v":1060.5999999999999}]
["Rohre und Formteile","ABUV2A","ABUV2A450","Ausblasbogen       ABU V2A     450","Edelstahl W. Nr. 1.4301","60",1225.17,{"$f":"G28*(1-VLOOKUP(F28,Konditionen!$B:$D,3,0))","v":1225.17}]
["Rohre und Formteile","ABUV2A","ABUV2A500","Ausblasbogen       ABU V2A     500","Edelstahl W. Nr. 1.4301","60",1439.6,{"$f":"G29*(1-VLOOKUP(F29,Konditionen!$B:$D,3,0))","v":1439.6}]
["Rohre und Formteile","ABUV2A","ABUV2A560","Ausblasbogen       ABU V2A     560","Edelstahl W. Nr. 1.4301","60",1797.77,{"$f":"G30*(1-VLOOKUP(F30,Konditionen!$B:$D,3,0))","v":1797.77}]
["Rohre und Formteile","ABUV2A","ABUV2A600","Ausblasbogen       ABU V2A     600","Edelstahl W. Nr. 1.4301","60",2200.4899999999998,{"$f":"G31*(1-VLOOKUP(F31,Konditionen!$B:$D,3,0))","v":2200.4899999999998}]
["Rohre und Formteile","ABUV2A","ABUV2A630","Ausblasbogen       ABU V2A     630","Edelstahl W. Nr. 1.4301","60",2507.75,{"$f":"G32*(1-VLOOKUP(F32,Konditionen!$B:$D,3,0))","v":2507.75}]
["Rohre und Formteile","ABUV2A","ABUV2A710","Ausblasbogen       ABU V2A     710","Edelstahl W. Nr. 1.4301","60",3090.06,{"$f":"G33*(1-VLOOKUP(F33,Konditionen!$B:$D,3,0))","v":3090.06}]
["Rohre und Formteile","ABUV2A","ABUV2A800","Ausblasbogen       ABU V2A     800","Edelstahl W. Nr. 1.4301","60",3651.54,{"$f":"G34*(1-VLOOKUP(F34,Konditionen!$B:$D,3,0))","v":3651.54}]
["Rohre und Formteile","ABUV2A","ABUV2A900","Ausblasbogen       ABU V2A     900","Edelstahl W. Nr. 1.4301","60",4531.24,{"$f":"G35*(1-VLOOKUP(F35,Konditionen!$B:$D,3,0))","v":4531.24}]
["Rohre und Formteile","ABU","ABU100","Ausblasbogen     ABU  90       100",null,"53",45.97,{"$f":"G36*(1-VLOOKUP(F36,Konditionen!$B:$D,3,0))","v":45.97}]
["Rohre und Formteile","ABU","ABU1000","Ausblasbogen     ABFU 90      1000",null,"53",1090.51,{"$f":"G37*(1-VLOOKUP(F37,Konditionen!$B:$D,3,0))","v":1090.51}]
["Rohre und Formteile","ABU","ABU1000135","Ausblasbogen     ABFU  135    1000",null,"53",1875.28,{"$f":"G38*(1-VLOOKUP(F38,Konditionen!$B:$D,3,0))","v":1875.28}]
["Rohre und Formteile","ABU","ABU112","Ausblasbogen     ABU  90       112",null,"53",54.15,{"$f":"G39*(1-VLOOKUP(F39,Konditionen!$B:$D,3,0))","v":54.15}]
["Rohre und Formteile","ABU","ABU1120","Ausblasbogen   ABFU 90      1120",null,"53",1380.71,{"$f":"G40*(1-VLOOKUP(F40,Konditionen!$B:$D,3,0))","v":1380.71}]
["Rohre und Formteile","ABU","ABU1120135","Ausblasbogen     ABFU  135    1120",null,"53",2383.8000000000002,{"$f":"G41*(1-VLOOKUP(F41,Konditionen!$B:$D,3,0))","v":2383.8000000000002}]
["Rohre und Formteile","ABU","ABU125","Ausblasbogen    ABU  90       125",null,"53",54.15,{"$f":"G42*(1-VLOOKUP(F42,Konditionen!$B:$D,3,0))","v":54.15}]
["Rohre und Formteile","ABU","ABU1250","Ausblasbogen     ABFU 90      1250",null,"53",1652.03,{"$f":"G43*(1-VLOOKUP(F43,Konditionen!$B:$D,3,0))","v":1652.03}]
["Rohre und Formteile","ABU","ABU1250135","Ausblasbogen     ABFU  135    1250",null,"53",2882.66,{"$f":"G44*(1-VLOOKUP(F44,Konditionen!$B:$D,3,0))","v":2882.66}]
["Rohre und Formteile","ABU","ABU140","Ausblasbogen     ABU  90       140",null,"53",61.39,{"$f":"G45*(1-VLOOKUP(F45,Konditionen!$B:$D,3,0))","v":61.39}]
["Rohre und Formteile","ABU","ABU150","Ausblasbogen     ABU  90       150",null,"53",61.39,{"$f":"G46*(1-VLOOKUP(F46,Konditionen!$B:$D,3,0))","v":61.39}]
["Rohre und Formteile","ABU","ABU150135","Ausblasbogen     ABFU  135°    150",null,"53",97.82,{"$f":"G47*(1-VLOOKUP(F47,Konditionen!$B:$D,3,0))","v":97.82}]
["Rohre und Formteile","ABU","ABU160","Ausblasbogen     ABU  90       160",null,"53",61.39,{"$f":"G48*(1-VLOOKUP(F48,Konditionen!$B:$D,3,0))","v":61.39}]
["Rohre und Formteile","ABU","ABU160135","Ausblasbogen     ABFU  135°    160",null,"53",97.82,{"$f":"G49*(1-VLOOKUP(F49,Konditionen!$B:$D,3,0))","v":97.82}]
["Rohre und Formteile","ABU","ABU180","Ausblasbogen     ABU  90       180",null,"53",74.41,{"$f":"G50*(1-VLOOKUP(F50,Konditionen!$B:$D,3,0))","v":74.41}]
["Rohre und Formteile","ABU","ABU180135","Ausblasbogen     ABFU  135     180",null,"53",115.34,{"$f":"G51*(1-VLOOKUP(F51,Konditionen!$B:$D,3,0))","v":115.34}]
["Rohre und Formteile","ABU","ABU200","Ausblasbogen     ABU  90       200",null,"53",74.41,{"$f":"G52*(1-VLOOKUP(F52,Konditionen!$B:$D,3,0))","v":74.41}]
["Rohre und Formteile","ABU","ABU200135","Ausblasbogen     ABFU  135      200",null,"53",115.34,{"$f":"G53*(1-VLOOKUP(F53,Konditionen!$B:$D,3,0))","v":115.34}]
["Rohre und Formteile","ABU","ABU224","Ausblasbogen     ABFU 90       224",null,"53",95.3,{"$f":"G54*(1-VLOOKUP(F54,Konditionen!$B:$D,3,0))","v":95.3}]
["Rohre und Formteile","ABU","ABU224135","Ausblasbogen     ABFU  135     224",null,"53",149.35,{"$f":"G55*(1-VLOOKUP(F55,Konditionen!$B:$D,3,0))","v":149.35}]
["Rohre und Formteile","ABU","ABU250","Ausblasbogen     ABFU 90       250",null,"53",95.3,{"$f":"G56*(1-VLOOKUP(F56,Konditionen!$B:$D,3,0))","v":95.3}]
["Rohre und Formteile","ABU","ABU250135","Ausblasbogen     ABFU  135     250",null,"53",149.35,{"$f":"G57*(1-VLOOKUP(F57,Konditionen!$B:$D,3,0))","v":149.35}]
["Rohre und Formteile","ABU","ABU280","Ausblasbogen     ABFU 90       280",null,"53",115.56,{"$f":"G58*(1-VLOOKUP(F58,Konditionen!$B:$D,3,0))","v":115.56}]
["Rohre und Formteile","ABU","ABU280135","Ausblasbogen     ABFU  135     280",null,"53",181.37,{"$f":"G59*(1-VLOOKUP(F59,Konditionen!$B:$D,3,0))","v":181.37}]
["Rohre und Formteile","ABU","ABU300","Ausblasbogen     ABFU 90       300",null,"53",115.56,{"$f":"G60*(1-VLOOKUP(F60,Konditionen!$B:$D,3,0))","v":115.56}]
["Rohre und Formteile","ABU","ABU300135","Ausblasbogen     ABFU  135     300",null,"53",181.37,{"$f":"G61*(1-VLOOKUP(F61,Konditionen!$B:$D,3,0))","v":181.37}]
["Rohre und Formteile","ABU","ABU315","Ausblasbogen     ABFU 90       315",null,"53",123.53,{"$f":"G62*(1-VLOOKUP(F62,Konditionen!$B:$D,3,0))","v":123.53}]
["Rohre und Formteile","ABU","ABU315135","Ausblasbogen     ABFU  135     315",null,"53",195.42,{"$f":"G63*(1-VLOOKUP(F63,Konditionen!$B:$D,3,0))","v":195.42}]
["Rohre und Formteile","ABU","ABU355","Ausblasbogen     ABFU 90       355",null,"53",143.06,{"$f":"G64*(1-VLOOKUP(F64,Konditionen!$B:$D,3,0))","v":143.06}]
["Rohre und Formteile","ABU","ABU355135","Ausblasbogen     ABFU  135     355",null,"53",219.57,{"$f":"G65*(1-VLOOKUP(F65,Konditionen!$B:$D,3,0))","v":219.57}]
["Rohre und Formteile","ABU","ABU400","Ausblasbogen     ABFU 90       400",null,"53",164.78,{"$f":"G66*(1-VLOOKUP(F66,Konditionen!$B:$D,3,0))","v":164.78}]
["Rohre und Formteile","ABU","ABU400135","Ausblasbogen     ABFU 135°     400",null,"53",248.12,{"$f":"G67*(1-VLOOKUP(F67,Konditionen!$B:$D,3,0))","v":248.12}]
["Rohre und Formteile","ABU","ABU450","Ausblasbogen     ABFU 90       450",null,"53",186.71,{"$f":"G68*(1-VLOOKUP(F68,Konditionen!$B:$D,3,0))","v":186.71}]
["Rohre und Formteile","ABU","ABU450135","Ausblasbogen     ABFU  135     450",null,"53",286.52999999999997,{"$f":"G69*(1-VLOOKUP(F69,Konditionen!$B:$D,3,0))","v":286.52999999999997}]
["Rohre und Formteile","ABU","ABU500","Ausblasbogen   ABFU 90       500",null,"53",210.44,{"$f":"G70*(1-VLOOKUP(F70,Konditionen!$B:$D,3,0))","v":210.44}]
["Rohre und Formteile","ABU","ABU500135","Ausblasbogen     ABFU  135     500",null,"53",343.94,{"$f":"G71*(1-VLOOKUP(F71,Konditionen!$B:$D,3,0))","v":343.94}]
["Rohre und Formteile","ABU","ABU560","Ausblasbogen     ABFU 90       560",null,"53",256.08999999999997,{"$f":"G72*(1-VLOOKUP(F72,Konditionen!$B:$D,3,0))","v":256.08999999999997}]
["Rohre und Formteile","ABU","ABU560135","Ausblasbogen     ABFU  135     560",null,"53",423.61,{"$f":"G73*(1-VLOOKUP(F73,Konditionen!$B:$D,3,0))","v":423.61}]
["Rohre und Formteile","ABU","ABU600","Ausblasbogen     ABFU 90       600",null,"53",291.25,{"$f":"G74*(1-VLOOKUP(F74,Konditionen!$B:$D,3,0))","v":291.25}]
["Rohre und Formteile","ABU","ABU600135","Ausblasbogen     ABFU  135     600",null,"53",499.07,{"$f":"G75*(1-VLOOKUP(F75,Konditionen!$B:$D,3,0))","v":499.07}]
["Rohre und Formteile","ABU","ABU630","Ausblasbogen     ABFU 90       630",null,"53",322.42,{"$f":"G76*(1-VLOOKUP(F76,Konditionen!$B:$D,3,0))","v":322.42}]
["Rohre und Formteile","ABU","ABU630135","Ausblasbogen     ABFU  135     630",null,"53",576.84,{"$f":"G77*(1-VLOOKUP(F77,Konditionen!$B:$D,3,0))","v":576.84}]
["Rohre und Formteile","ABU","ABU710","Ausblasbogen    ABFU 90       710",null,"53",458.03,{"$f":"G78*(1-VLOOKUP(F78,Konditionen!$B:$D,3,0))","v":458.03}]
["Rohre und Formteile","ABU","ABU710135","Ausblasbogen     ABFU  135     710",null,"53",774.06,{"$f":"G79*(1-VLOOKUP(F79,Konditionen!$B:$D,3,0))","v":774.06}]
["Rohre und Formteile","ABU","ABU80","Ausblasbogen     ABU 90         80",null,"53",41.77,{"$f":"G80*(1-VLOOKUP(F80,Konditionen!$B:$D,3,0))","v":41.77}]
["Rohre und Formteile","ABU","ABU800","Ausblasbogen     ABFU 90       800",null,"53",609.49,{"$f":"G81*(1-VLOOKUP(F81,Konditionen!$B:$D,3,0))","v":609.49}]
["Rohre und Formteile","ABU","ABU800135","Ausblasbogen     ABFU  135     800",null,"53",1004.55,{"$f":"G82*(1-VLOOKUP(F82,Konditionen!$B:$D,3,0))","v":1004.55}]
["Rohre und Formteile","ABU","ABU900","Ausblasbogen     ABFU 90       900",null,"53",826.85,{"$f":"G83*(1-VLOOKUP(F83,Konditionen!$B:$D,3,0))","v":826.85}]
["Rohre und Formteile","ABU","ABU900135","Ausblasbogen     ABFU  135     900",null,"53",1436.24,{"$f":"G84*(1-VLOOKUP(F84,Konditionen!$B:$D,3,0))","v":1436.24}]
["Rohre und Formteile","AEWT","AEWT160LNRLACK","Aussenlufteinheit AEWT 160.280.1180","Ausführung LNR lackiert RAL ????","90",562.28,{"$f":"G85*(1-VLOOKUP(F85,Konditionen!$B:$D,3,0))","v":562.28}]
["Rohre und Formteile","AEWT","AEWT160LNRVZ","Aussenlufteinheit AEWT 160.280.1180","Ausführung LNR verzinkt","90",337.42,{"$f":"G86*(1-VLOOKUP(F86,Konditionen!$B:$D,3,0))","v":337.42}]
["Rohre und Formteile","AEWT","AEWT200LNRLACK","Aussenlufteinheit AEWT 200.315.1250","Ausführung LNR lackiert RAL ????","90",724.51,{"$f":"G87*(1-VLOOKUP(F87,Konditionen!$B:$D,3,0))","v":724.51}]
["Rohre und Formteile","AEWT","AEWT200LNRVZ","Aussenlufteinheit AEWT 200.315.1250","Ausführung LNR verzinkt","90",434.72,{"$f":"G88*(1-VLOOKUP(F88,Konditionen!$B:$D,3,0))","v":434.72}]
["Rohre und Formteile","AEWT","AEWT250LNRLACK","Aussenlufteinheit AEWT 250.400.1250","Ausführung LNR lackiert RAL ????","90",771.63,{"$f":"G89*(1-VLOOKUP(F89,Konditionen!$B:$D,3,0))","v":771.63}]
["Rohre und Formteile","AEWT","AEWT250LNRVZ","Aussenlufteinheit AEWT 250.400.1250","Ausführung LNR verzinkt","90",463.08,{"$f":"G90*(1-VLOOKUP(F90,Konditionen!$B:$D,3,0))","v":463.08}]
["Rohre und Formteile","AEWT","AEWT315LNRVZ","Aussenlufteinheit AEWT 315.450.1790","Ausführung LNR verzinkt","90",653.05999999999995,{"$f":"G91*(1-VLOOKUP(F91,Konditionen!$B:$D,3,0))","v":653.05999999999995}]
["Rohre und Formteile","AEWT","AEWT315SRLACK","Aussenlufteinheit AEWT 315.450.1790","Ausführung SREN lackiert RAL ????","90",946.71,{"$f":"G92*(1-VLOOKUP(F92,Konditionen!$B:$D,3,0))","v":946.71}]
["Rohre und Formteile","AEWT","AEWT400LNRLACK","Aussenlufteinheit AEWT 400.560.1870","Ausführung LNR lackiert RAL ????","90",1088.19,{"$f":"G93*(1-VLOOKUP(F93,Konditionen!$B:$D,3,0))","v":1088.19}]
["Rohre und Formteile","AEWT","AEWT400LNRVZ","Aussenlufteinheit AEWT 400.560.1870","Ausführung LNR verzinkt","90",755.16,{"$f":"G94*(1-VLOOKUP(F94,Konditionen!$B:$D,3,0))","v":755.16}]
["Rohre und Formteile","AEWT","AEWT400SRLACK","Aussenlufteinheit AEWT 400.560.1870","Ausführung SREN lackiert RAL ????","90",1088.19,{"$f":"G95*(1-VLOOKUP(F95,Konditionen!$B:$D,3,0))","v":1088.19}]
["Rohre und Formteile","AEWT","AEWT400SRVZ","Aussenlufteinheit AEWT 400.560.1870","Ausführung SREN verzinkt","90",755.16,{"$f":"G96*(1-VLOOKUP(F96,Konditionen!$B:$D,3,0))","v":755.16}]
["Montagezubehör","AFV2A","AFV2A100","Rohrflansch AF 100 V2A** 1000 mm",null,"14.MS",44.47,{"$f":"G97*(1-VLOOKUP(F97,Konditionen!$B:$D,3,0))","v":44.47}]
["Montagezubehör","AFV2A","AFV2A112","Rohrflansch AF 112 V2A 1120 mm",null,"14.MS",95.12,{"$f":"G98*(1-VLOOKUP(F98,Konditionen!$B:$D,3,0))","v":95.12}]
["Montagezubehör","AFV2A","AFV2A125","Rohrflansch AF 125 V2A 1250 mm",null,"14.MS",104.66,{"$f":"G99*(1-VLOOKUP(F99,Konditionen!$B:$D,3,0))","v":104.66}]
["Montagezubehör","AFV2A","AFV2A140","Rohrflansch AF 140 V2A 1400 mm",null,"14.MS",115.63,{"$f":"G100*(1-VLOOKUP(F100,Konditionen!$B:$D,3,0))","v":115.63}]
["Montagezubehör","AFV2A","AFV2A160","Rohrflansch AF 160 V2A 1600 mm",null,"14.MS",131.13,{"$f":"G101*(1-VLOOKUP(F101,Konditionen!$B:$D,3,0))","v":131.13}]
["Montagezubehör","AFV2A","AFV2A20","Rohrflansch AF   20 V2A 200 mm",null,"14.MS",8.1199999999999992,{"$f":"G102*(1-VLOOKUP(F102,Konditionen!$B:$D,3,0))","v":8.1199999999999992}]
["Montagezubehör","AFV2A","AFV2A22","Rohrflansch AF   22 V2A 224 mm",null,"14.MS",8.59,{"$f":"G103*(1-VLOOKUP(F103,Konditionen!$B:$D,3,0))","v":8.59}]
["Montagezubehör","AFV2A","AFV2A25","Rohrflansch AF   25 V2A 250 mm",null,"14.MS",9.5299999999999994,{"$f":"G104*(1-VLOOKUP(F104,Konditionen!$B:$D,3,0))","v":9.5299999999999994}]
["Montagezubehör","AFV2A","AFV2A28","Rohrflansch AF   28 V2A 280 mm",null,"14.MS",10.130000000000001,{"$f":"G105*(1-VLOOKUP(F105,Konditionen!$B:$D,3,0))","v":10.130000000000001}]
["Montagezubehör","AFV2A","AFV2A30","Rohrflansch AF   30 V2A 300 mm",null,"14.MS",10.49,{"$f":"G106*(1-VLOOKUP(F106,Konditionen!$B:$D,3,0))","v":10.49}]
["Montagezubehör","AFV2A","AFV2A31","Rohrflansch AF   31 V2A 315 mm",null,"14.MS",10.73,{"$f":"G107*(1-VLOOKUP(F107,Konditionen!$B:$D,3,0))","v":10.73}]
["Montagezubehör","AFV2A","AFV2A35","Rohrflansch AF   35 V2A 355 mm",null,"14.MS",11.32,{"$f":"G108*(1-VLOOKUP(F108,Konditionen!$B:$D,3,0))","v":11.32}]
["Montagezubehör","AFV2A","AFV2A40","Rohrflansch AF   40 V2A 400 mm",null,"14.MS",12.04,{"$f":"G109*(1-VLOOKUP(F109,Konditionen!$B:$D,3,0))","v":12.04}]
["Montagezubehör","AFV2A","AFV2A45","Rohrflansch AF   45 V2A 450 mm",null,"14.MS",13.11,{"$f":"G110*(1-VLOOKUP(F110,Konditionen!$B:$D,3,0))","v":13.11}]
["Montagezubehör","AFV2A","AFV2A50","Rohrflansch AF   50 V2A 500 mm",null,"14.MS",22.05,{"$f":"G111*(1-VLOOKUP(F111,Konditionen!$B:$D,3,0))","v":22.05}]
["Montagezubehör","AFV2A","AFV2A56","Rohrflansch AF   56 V2A 560 mm",null,"14.MS",24.69,{"$f":"G112*(1-VLOOKUP(F112,Konditionen!$B:$D,3,0))","v":24.69}]
["Montagezubehör","AFV2A","AFV2A60","Rohrflansch AF   60 V2A 600 mm",null,"14.MS",26.23,{"$f":"G113*(1-VLOOKUP(F113,Konditionen!$B:$D,3,0))","v":26.23}]
["Montagezubehör","AFV2A","AFV2A63","Rohrflansch AF   63 V2A 630 mm",null,"14.MS",27.43,{"$f":"G114*(1-VLOOKUP(F114,Konditionen!$B:$D,3,0))","v":27.43}]
["Montagezubehör","AFV2A","AFV2A71","Rohrflansch AF   71 V2A 710 mm",null,"14.MS",30.4,{"$f":"G115*(1-VLOOKUP(F115,Konditionen!$B:$D,3,0))","v":30.4}]
["Montagezubehör","AFV2A","AFV2A80","Rohrflansch AF   80 V2A 800 mm",null,"14.MS",34.58,{"$f":"G116*(1-VLOOKUP(F116,Konditionen!$B:$D,3,0))","v":34.58}]
["Montagezubehör","AFV2A","AFV2A90","Rohrflansch AF   90 V2A 900 mm",null,"14.MS",38.159999999999997,{"$f":"G117*(1-VLOOKUP(F117,Konditionen!$B:$D,3,0))","v":38.159999999999997}]
["Montagezubehör","AF","AF100","Rohrflansch AF 100 verz 1000 mm",null,"14.MS",15.69,{"$f":"G118*(1-VLOOKUP(F118,Konditionen!$B:$D,3,0))","v":15.69}]
["Montagezubehör","AF","AF112","Rohrflansch AF 112 verz 1120 mm",null,"14.MS",17.649999999999999,{"$f":"G119*(1-VLOOKUP(F119,Konditionen!$B:$D,3,0))","v":17.649999999999999}]
["Montagezubehör","AF","AF125","Rohrflansch AF 125 verz 1250 mm",null,"14.MS",19.07,{"$f":"G120*(1-VLOOKUP(F120,Konditionen!$B:$D,3,0))","v":19.07}]
["Montagezubehör","AF","AF140","Rohrflansch AF 140 verz 1400 mm",null,"14.MS",21.46,{"$f":"G121*(1-VLOOKUP(F121,Konditionen!$B:$D,3,0))","v":21.46}]
["Montagezubehör","AF","AF160","Rohrflansch AF 160 verz 1600 mm",null,"14.MS",23.96,{"$f":"G122*(1-VLOOKUP(F122,Konditionen!$B:$D,3,0))","v":23.96}]
["Montagezubehör","AF","AF20","Rohrflansch AF   20 verz 200 mm",null,"14.MS",2.25,{"$f":"G123*(1-VLOOKUP(F123,Konditionen!$B:$D,3,0))","v":2.25}]
["Montagezubehör","AF","AF22","Rohrflansch AF   22 verz 224 mm",null,"14.MS",2.38,{"$f":"G124*(1-VLOOKUP(F124,Konditionen!$B:$D,3,0))","v":2.38}]
["Montagezubehör","AF","AF25","Rohrflansch AF   25 verz 250 mm",null,"14.MS",2.4700000000000002,{"$f":"G125*(1-VLOOKUP(F125,Konditionen!$B:$D,3,0))","v":2.4700000000000002}]
["Montagezubehör","AF","AF28","Rohrflansch AF   28 verz 280 mm",null,"14.MS",2.61,{"$f":"G126*(1-VLOOKUP(F126,Konditionen!$B:$D,3,0))","v":2.61}]
["Montagezubehör","AF","AF30","Rohrflansch AF   30 verz 300 mm",null,"14.MS",2.64,{"$f":"G127*(1-VLOOKUP(F127,Konditionen!$B:$D,3,0))","v":2.64}]
["Montagezubehör","AF","AF31","Rohrflansch AF   31 verz 315 mm",null,"14.MS",2.75,{"$f":"G128*(1-VLOOKUP(F128,Konditionen!$B:$D,3,0))","v":2.75}]
["Montagezubehör","AF","AF35","Rohrflansch AF   35 verz 355 mm",null,"14.MS",3.05,{"$f":"G129*(1-VLOOKUP(F129,Konditionen!$B:$D,3,0))","v":3.05}]
["Montagezubehör","AF","AF40","Rohrflansch AF   40 verz 400 mm",null,"14.MS",3.21,{"$f":"G130*(1-VLOOKUP(F130,Konditionen!$B:$D,3,0))","v":3.21}]
["Montagezubehör","AF","AF45","Rohrflansch AF   45 verz 450 mm",null,"14.MS",3.34,{"$f":"G131*(1-VLOOKUP(F131,Konditionen!$B:$D,3,0))","v":3.34}]
["Montagezubehör","AF","AF50","Rohrflansch AF   50 verz 500 mm",null,"14.MS",5.18,{"$f":"G132*(1-VLOOKUP(F132,Konditionen!$B:$D,3,0))","v":5.18}]
["Montagezubehör","AF","AF56","Rohrflansch AF   56 verz 560 mm",null,"14.MS",5.79,{"$f":"G133*(1-VLOOKUP(F133,Konditionen!$B:$D,3,0))","v":5.79}]
["Montagezubehör","AF","AF60","Rohrflansch AF   60 verz 600 mm",null,"14.MS",6.45,{"$f":"G134*(1-VLOOKUP(F134,Konditionen!$B:$D,3,0))","v":6.45}]
["Montagezubehör","AF","AF63","Rohrflansch AF   63 verz 630 mm",null,"14.MS",6.55,{"$f":"G135*(1-VLOOKUP(F135,Konditionen!$B:$D,3,0))","v":6.55}]
["Montagezubehör","AF","AF71","Rohrflansch AF   71 verz 710 mm",null,"14.MS",6.68,{"$f":"G136*(1-VLOOKUP(F136,Konditionen!$B:$D,3,0))","v":6.68}]
["Montagezubehör","AF","AF80","Rohrflansch AF   80 verz 800 mm",null,"14.MS",7.38,{"$f":"G137*(1-VLOOKUP(F137,Konditionen!$B:$D,3,0))","v":7.38}]
["Montagezubehör","AF","AF90","Rohrflansch AF   90 verz 900 mm",null,"14.MS",8.23,{"$f":"G138*(1-VLOOKUP(F138,Konditionen!$B:$D,3,0))","v":8.23}]
["Rohre und Formteile","AGIS","AGIS100224","Abdeckung    AGIS          100.224","für isoliertes Rohr","53",100.96,{"$f":"G139*(1-VLOOKUP(F139,Konditionen!$B:$D,3,0))","v":100.96}]
["Rohre und Formteile","AGIS","AGIS125250","Abdeckung    AGIS          125.250","für isoliertes Rohr","53",102.12,{"$f":"G140*(1-VLOOKUP(F140,Konditionen!$B:$D,3,0))","v":102.12}]
["Rohre und Formteile","AGIS","AGIS160280","Abdeckung    AGIS          160.280","für isoliertes Rohr","53",102.12,{"$f":"G141*(1-VLOOKUP(F141,Konditionen!$B:$D,3,0))","v":102.12}]
["Rohre und Formteile","AGIS","AGIS200315","Abdeckung    AGIS          200.315","für isoliertes Rohr","53",104.96,{"$f":"G142*(1-VLOOKUP(F142,Konditionen!$B:$D,3,0))","v":104.96}]
["Rohre und Formteile","AGIS","AGIS250315","Abdeckung   AGIS          250.315","für isoliertes Rohr","53",152.08000000000001,{"$f":"G143*(1-VLOOKUP(F143,Konditionen!$B:$D,3,0))","v":152.08000000000001}]
["Rohre und Formteile","AGIS","AGIS250355","Abdeckung   AGIS          250.355","für isoliertes Rohr","53",152.08000000000001,{"$f":"G144*(1-VLOOKUP(F144,Konditionen!$B:$D,3,0))","v":152.08000000000001}]
["Rohre und Formteile","AGIS","AGIS250400","Abdeckung    AGIS          250.400","für isoliertes Rohr","53",152.08000000000001,{"$f":"G145*(1-VLOOKUP(F145,Konditionen!$B:$D,3,0))","v":152.08000000000001}]
["Rohre und Formteile","AGIS","AGIS315400","Abdeckung    AGIS          315.400","für isoliertes Rohr","53",152.08000000000001,{"$f":"G146*(1-VLOOKUP(F146,Konditionen!$B:$D,3,0))","v":152.08000000000001}]
["Rohre und Formteile","AGIS","AGIS315450","Abdeckung    AGIS          315.450","für isoliertes Rohr","53",159.32,{"$f":"G147*(1-VLOOKUP(F147,Konditionen!$B:$D,3,0))","v":159.32}]
["Rohre und Formteile","AGIS","AGIS315500","Abdeckung    AGIS          315.500","für isoliertes Rohr","53",162.68,{"$f":"G148*(1-VLOOKUP(F148,Konditionen!$B:$D,3,0))","v":162.68}]
["Rohre und Formteile","AGIS","AGIS355500","Abdeckung    AGIS          355.500","für isoliertes Rohr","53",166.04,{"$f":"G149*(1-VLOOKUP(F149,Konditionen!$B:$D,3,0))","v":166.04}]
["Rohre und Formteile","AGIS","AGIS400500","Abdeckung    AGIS          400.500","für isoliertes Rohr","53",166.04,{"$f":"G150*(1-VLOOKUP(F150,Konditionen!$B:$D,3,0))","v":166.04}]
["Rohre und Formteile","AGIS","AGIS400560","Abdeckung    AGIS          400.560","für isoliertes Rohr","53",187.45,{"$f":"G151*(1-VLOOKUP(F151,Konditionen!$B:$D,3,0))","v":187.45}]
["Rohre und Formteile","AGIS","AGIS400630","Abdeckung    AGIS          400.630","für isoliertes Rohr","53",210.96,{"$f":"G152*(1-VLOOKUP(F152,Konditionen!$B:$D,3,0))","v":210.96}]
["Rohre und Formteile","AGIS","AGIS450630","Abdeckung    AGIS          450.630","für isoliertes Rohr","53",237.3,{"$f":"G153*(1-VLOOKUP(F153,Konditionen!$B:$D,3,0))","v":237.3}]
["Rohre und Formteile","AGIS","AGIS500630","Abdeckung    AGIS          500.630","für isoliertes Rohr","53",263.64999999999998,{"$f":"G154*(1-VLOOKUP(F154,Konditionen!$B:$D,3,0))","v":263.64999999999998}]
["Rohre und Formteile","AGIS","AGIS500710","Abdeckung    AGIS          500.710","für isoliertes Rohr","53",295.14,{"$f":"G155*(1-VLOOKUP(F155,Konditionen!$B:$D,3,0))","v":295.14}]
["Rohre und Formteile","AGIS","AGIS630800","Abdeckung    AGIS          630.800","für isoliertes Rohr","53",349.5,{"$f":"G156*(1-VLOOKUP(F156,Konditionen!$B:$D,3,0))","v":349.5}]
["Rohre und Formteile","AGUV2A","AGUV2A100","Ausblasstutzen AGU V2A        100","Edelstahl W,Nr. 1.4301","60",93.41,{"$f":"G157*(1-VLOOKUP(F157,Konditionen!$B:$D,3,0))","v":93.41}]
["Rohre und Formteile","AGUV2A","AGUV2A112","Ausblasstutzen AGU V2A        112","Edelstahl W.Nr. 1.4301","60",95.67,{"$f":"G158*(1-VLOOKUP(F158,Konditionen!$B:$D,3,0))","v":95.67}]
["Rohre und Formteile","AGUV2A","AGUV2A125","Ausblasstutzeh AGU V2A        125","Edelstahl W.Nr. 1.4301","60",95.67,{"$f":"G159*(1-VLOOKUP(F159,Konditionen!$B:$D,3,0))","v":95.67}]
["Rohre und Formteile","AGUV2A","AGUV2A140","Ausblasstutzen AGU V2A        140","Edelstahl W.Nr. 1.4301","60",116.24,{"$f":"G160*(1-VLOOKUP(F160,Konditionen!$B:$D,3,0))","v":116.24}]
["Rohre und Formteile","AGUV2A","AGUV2A150","Ausblasstutzen AGU V2A        150","Edelstahl W.Nr. 1.4301","60",116.24,{"$f":"G161*(1-VLOOKUP(F161,Konditionen!$B:$D,3,0))","v":116.24}]
["Rohre und Formteile","AGUV2A","AGUV2A160","Ausblasstutzen AGU V2A        160","Edelstahl W.Nr. 1.4301","60",116.24,{"$f":"G162*(1-VLOOKUP(F162,Konditionen!$B:$D,3,0))","v":116.24}]
["Rohre und Formteile","AGUV2A","AGUV2A180","Ausblasstutzen AGU V2A        180","Edelstahl W.Nr. 1.4301","60",124.27,{"$f":"G163*(1-VLOOKUP(F163,Konditionen!$B:$D,3,0))","v":124.27}]
["Rohre und Formteile","AGUV2A","AGUV2A200","Ausblasstutzen AGU V2A        200","Edelstahl W.Nr. 1.4301","60",124.27,{"$f":"G164*(1-VLOOKUP(F164,Konditionen!$B:$D,3,0))","v":124.27}]
["Rohre und Formteile","AGUV2A","AGUV2A224","Ausblasstutzen AGU V2A        224","Edelstahl W.Nr. 1.4301","60",149.97999999999999,{"$f":"G165*(1-VLOOKUP(F165,Konditionen!$B:$D,3,0))","v":149.97999999999999}]
["Rohre und Formteile","AGUV2A","AGUV2A250","Ausblasstutzen AGU V2A        250","Edelstahl W.Nr. 1.4301","60",149.97999999999999,{"$f":"G166*(1-VLOOKUP(F166,Konditionen!$B:$D,3,0))","v":149.97999999999999}]
["Rohre und Formteile","AGUV2A","AGUV2A280","Ausblasstutzen AGU V2A        280","Edelstahl W.Nr. 1.4301","60",179.05,{"$f":"G167*(1-VLOOKUP(F167,Konditionen!$B:$D,3,0))","v":179.05}]
["Rohre und Formteile","AGUV2A","AGUV2A300","Ausblasstutzen AGU V2A        300","Edelstahl W.Nr. 1.4301","60",179.05,{"$f":"G168*(1-VLOOKUP(F168,Konditionen!$B:$D,3,0))","v":179.05}]
["Rohre und Formteile","AGUV2A","AGUV2A315","Ausblasstutzen AGU V2A        315","Edelstahl W.Nr. 1.4301","60",191.65,{"$f":"G169*(1-VLOOKUP(F169,Konditionen!$B:$D,3,0))","v":191.65}]
["Rohre und Formteile","AGUV2A","AGUV2A355","Ausblasstutzen AGU V2A        355","Edelstahl W.Nr. 1.4301","60",194.17,{"$f":"G170*(1-VLOOKUP(F170,Konditionen!$B:$D,3,0))","v":194.17}]
["Rohre und Formteile","AGUV2A","AGUV2A400","Ausblasstutzen AGU V2A        400","Edelstahl W.Nr. 1.4301","60",216.36,{"$f":"G171*(1-VLOOKUP(F171,Konditionen!$B:$D,3,0))","v":216.36}]
["Rohre und Formteile","AGUV2A","AGUV2A450","Ausblasstutzen AGU V2A        450","Edelstahl W.Nr. 1.4301","60",246.28,{"$f":"G172*(1-VLOOKUP(F172,Konditionen!$B:$D,3,0))","v":246.28}]
["Rohre und Formteile","AGUV2A","AGUV2A500","Ausblasstutzen AGU V2A        500","Edelstahl W.Nr. 1.4301","60",266.95,{"$f":"G173*(1-VLOOKUP(F173,Konditionen!$B:$D,3,0))","v":266.95}]
["Rohre und Formteile","AGUV2A","AGUV2A560","Ausblasstutzen AGU V2A        560","Edelstahl W.Nr. 1.4301","60",428.33,{"$f":"G174*(1-VLOOKUP(F174,Konditionen!$B:$D,3,0))","v":428.33}]
["Rohre und Formteile","AGUV2A","AGUV2A600","Ausblasstutzen AGU V2A        600","Edelstahl W.Nr. 1.4301","60",466.91,{"$f":"G175*(1-VLOOKUP(F175,Konditionen!$B:$D,3,0))","v":466.91}]
["Rohre und Formteile","AGUV2A","AGUV2A630","Ausblasstutzen AGU V2A        630","Edelstahl W.Nr. 1.4301","60",494.98,{"$f":"G176*(1-VLOOKUP(F176,Konditionen!$B:$D,3,0))","v":494.98}]
["Rohre und Formteile","AGUV2A","AGUV2A710","Ausblasstutzen AGU V2A        710","Edelstahl W.Nr. 1.4301","60",588.07000000000005,{"$f":"G177*(1-VLOOKUP(F177,Konditionen!$B:$D,3,0))","v":588.07000000000005}]
["Rohre und Formteile","AGUV2A","AGUV2A800","Ausblasstutzen AGU V2A        800","Edelstahl W.Nr. 1.4301","60",674.45,{"$f":"G178*(1-VLOOKUP(F178,Konditionen!$B:$D,3,0))","v":674.45}]
["Rohre und Formteile","AGUV2A","AGUV2A900","Ausblasstutzen AGU V2A        900","Edelstahl W.Nr. 1.4301","60",796.42,{"$f":"G179*(1-VLOOKUP(F179,Konditionen!$B:$D,3,0))","v":796.42}]
["Rohre und Formteile","AGU","AGU100","Ausblasstutzen   AGU           100",null,"53",21.93,{"$f":"G180*(1-VLOOKUP(F180,Konditionen!$B:$D,3,0))","v":21.93}]
["Rohre und Formteile","AGU","AGU1000","Ausblasstutzen   AGU          1000",null,"53",153.44,{"$f":"G181*(1-VLOOKUP(F181,Konditionen!$B:$D,3,0))","v":153.44}]
["Rohre und Formteile","AGU","AGU112","Ausblasstutzen   AGU           112",null,"53",28.34,{"$f":"G182*(1-VLOOKUP(F182,Konditionen!$B:$D,3,0))","v":28.34}]
["Rohre und Formteile","AGU","AGU1120","Ausblasstutzen   AGU          1120",null,"53",177.8,{"$f":"G183*(1-VLOOKUP(F183,Konditionen!$B:$D,3,0))","v":177.8}]
["Rohre und Formteile","AGU","AGU125","Ausblasstutzen   AGU           125",null,"53",28.34,{"$f":"G184*(1-VLOOKUP(F184,Konditionen!$B:$D,3,0))","v":28.34}]
["Rohre und Formteile","AGU","AGU1250","Ausblasstutzen   AGU          1250",null,"53",200.57,{"$f":"G185*(1-VLOOKUP(F185,Konditionen!$B:$D,3,0))","v":200.57}]
["Rohre und Formteile","AGU","AGU140","Ausblasstutzen   AGU           140",null,"53",35.159999999999997,{"$f":"G186*(1-VLOOKUP(F186,Konditionen!$B:$D,3,0))","v":35.159999999999997}]
["Rohre und Formteile","AGU","AGU150","Ausblasstutzen   AGU           150",null,"53",35.159999999999997,{"$f":"G187*(1-VLOOKUP(F187,Konditionen!$B:$D,3,0))","v":35.159999999999997}]
["Rohre und Formteile","AGU","AGU160","Ausblasstutzen   AGU           160",null,"53",35.159999999999997,{"$f":"G188*(1-VLOOKUP(F188,Konditionen!$B:$D,3,0))","v":35.159999999999997}]
["Rohre und Formteile","AGU","AGU180","Ausblasstutzen   AGU           180",null,"53",39.15,{"$f":"G189*(1-VLOOKUP(F189,Konditionen!$B:$D,3,0))","v":39.15}]
["Rohre und Formteile","AGU","AGU200","Ausblasstutzen   AGU           200",null,"53",39.15,{"$f":"G190*(1-VLOOKUP(F190,Konditionen!$B:$D,3,0))","v":39.15}]
["Rohre und Formteile","AGU","AGU224","Ausblasstutzen   AGU           224",null,"53",44.19,{"$f":"G191*(1-VLOOKUP(F191,Konditionen!$B:$D,3,0))","v":44.19}]
["Rohre und Formteile","AGU","AGU250","Ausblasstutzen   AGU           250",null,"53",44.19,{"$f":"G192*(1-VLOOKUP(F192,Konditionen!$B:$D,3,0))","v":44.19}]
["Rohre und Formteile","AGU","AGU280","Ausblasstutzen   AGU           280",null,"53",50.06,{"$f":"G193*(1-VLOOKUP(F193,Konditionen!$B:$D,3,0))","v":50.06}]
["Rohre und Formteile","AGU","AGU300","Ausblasstutzen   AGU           300",null,"53",50.06,{"$f":"G194*(1-VLOOKUP(F194,Konditionen!$B:$D,3,0))","v":50.06}]
["Rohre und Formteile","AGU","AGU315","Ausblasstutzen   AGU           315",null,"53",53.52,{"$f":"G195*(1-VLOOKUP(F195,Konditionen!$B:$D,3,0))","v":53.52}]
["Rohre und Formteile","AGU","AGU355","Ausblasstutzen   AGU           355",null,"53",58.67,{"$f":"G196*(1-VLOOKUP(F196,Konditionen!$B:$D,3,0))","v":58.67}]
["Rohre und Formteile","AGU","AGU400","Ausblasstutzen   AGU           400",null,"53",63.5,{"$f":"G197*(1-VLOOKUP(F197,Konditionen!$B:$D,3,0))","v":63.5}]
["Rohre und Formteile","AGU","AGU450","Ausblasstutzen   AGU           450",null,"53",68.319999999999993,{"$f":"G198*(1-VLOOKUP(F198,Konditionen!$B:$D,3,0))","v":68.319999999999993}]
["Rohre und Formteile","AGU","AGU500","Ausblasstutzen   AGU           500",null,"53",75.67,{"$f":"G199*(1-VLOOKUP(F199,Konditionen!$B:$D,3,0))","v":75.67}]
["Rohre und Formteile","AGU","AGU560","Ausblasstutzen   AGU           560",null,"53",85.44,{"$f":"G200*(1-VLOOKUP(F200,Konditionen!$B:$D,3,0))","v":85.44}]
["Rohre und Formteile","AGU","AGU600","Ausblasstutzen   AGU           600",null,"53",94.25,{"$f":"G201*(1-VLOOKUP(F201,Konditionen!$B:$D,3,0))","v":94.25}]
["Rohre und Formteile","AGU","AGU630","Ausblasstutzen   AGU           630",null,"53",101.7,{"$f":"G202*(1-VLOOKUP(F202,Konditionen!$B:$D,3,0))","v":101.7}]
["Rohre und Formteile","AGU","AGU710","Ausblasstutzen   AGU           710",null,"53",104.96,{"$f":"G203*(1-VLOOKUP(F203,Konditionen!$B:$D,3,0))","v":104.96}]
["Rohre und Formteile","AGU","AGU80","Ausblasstutzen   AGU            80",null,"53",21.93,{"$f":"G204*(1-VLOOKUP(F204,Konditionen!$B:$D,3,0))","v":21.93}]
["Rohre und Formteile","AGU","AGU800","Ausblasstutzen   AGU           800",null,"53",115.66,{"$f":"G205*(1-VLOOKUP(F205,Konditionen!$B:$D,3,0))","v":115.66}]
["Rohre und Formteile","AGU","AGU900","Ausblasstutzen   AGU           900",null,"53",127.94,{"$f":"G206*(1-VLOOKUP(F206,Konditionen!$B:$D,3,0))","v":127.94}]
["Luftdurchlässe","AIRYBP","AIRYBP100","AIRY-BP-100 Luftlenkeinsatz schwarz","aus EPDM-Gummi","70",6.92,{"$f":"G207*(1-VLOOKUP(F207,Konditionen!$B:$D,3,0))","v":6.92}]
["Luftdurchlässe","AIRYBP","AIRYBP125","AIRY-BP-125 Luftlenkeinsatz schwarz","aus EPDM-Gummi","70",8.68,{"$f":"G208*(1-VLOOKUP(F208,Konditionen!$B:$D,3,0))","v":8.68}]
["Luftdurchlässe","AIRYBP","AIRYBP160","AIRY-BP-160 Luftlenkeinsatz schwarz","aus EPDM-Gummi","70",11.88,{"$f":"G209*(1-VLOOKUP(F209,Konditionen!$B:$D,3,0))","v":11.88}]
["Luftdurchlässe","AIRYB","AIRYB1009003","AIRYB Ventilgrundkörper Body 100","Zu- und Abluft             RAL 9003","70",32.119999999999997,{"$f":"G210*(1-VLOOKUP(F210,Konditionen!$B:$D,3,0))","v":32.119999999999997}]
["Luftdurchlässe","AIRYB","AIRYB1009010","AIRYB Ventilgrundkörper Body 100","Zu- und Abluft             RAL 9010","70",32.119999999999997,{"$f":"G211*(1-VLOOKUP(F211,Konditionen!$B:$D,3,0))","v":32.119999999999997}]
["Luftdurchlässe","AIRYB","AIRYB1259003","AIRYB Ventilgrundkörper Body 125","Zu- und Abluft             RAL 9003","70",34.81,{"$f":"G212*(1-VLOOKUP(F212,Konditionen!$B:$D,3,0))","v":34.81}]
["Luftdurchlässe","AIRYB","AIRYB1259010","AIRYB Ventilgrundkörper Body 125","Zu- und Abluft             RAL 9010","70",34.81,{"$f":"G213*(1-VLOOKUP(F213,Konditionen!$B:$D,3,0))","v":34.81}]
["Luftdurchlässe","AIRYB","AIRYB1609003","AIRYB Ventilgrundkörper Body 160","Zu- und Abluft             RAL 9003","70",39.979999999999997,{"$f":"G214*(1-VLOOKUP(F214,Konditionen!$B:$D,3,0))","v":39.979999999999997}]
["Luftdurchlässe","AIRYB","AIRYB1609010","AIRYB Ventilgrundkörper Body 160","Zu- und Abluft             RAL 9010","70",39.979999999999997,{"$f":"G215*(1-VLOOKUP(F215,Konditionen!$B:$D,3,0))","v":39.979999999999997}]
["Luftdurchlässe","AIRYFP","AIRYFP100V2ABOW","AIRY Frontplatte 100 - V2A","rechteckig gerundeten Ecken - BOW","70",23.14,{"$f":"G216*(1-VLOOKUP(F216,Konditionen!$B:$D,3,0))","v":23.14}]
["Luftdurchlässe","AIRYFP","AIRYFP100V2AELL","AIRY Frontplatte 100 - V2A","elliptisch - ELLI","70",23.14,{"$f":"G217*(1-VLOOKUP(F217,Konditionen!$B:$D,3,0))","v":23.14}]
["Luftdurchlässe","AIRYFP","AIRYFP100V2AREC","AIRY Frontplatte 100 - V2A","rechteckig - RECT","70",23.14,{"$f":"G218*(1-VLOOKUP(F218,Konditionen!$B:$D,3,0))","v":23.14}]
["Luftdurchlässe","AIRYFP","AIRYFP100V2AROU","AIRY Frontplatte 100 - V2A","kreisrund - ROUN","70",23.14,{"$f":"G219*(1-VLOOKUP(F219,Konditionen!$B:$D,3,0))","v":23.14}]
["Luftdurchlässe","AIRYFP","AIRYFP100V2ASQU","AIRY Frontplatte 100 - V2A","quadratisch - SQUA","70",23.14,{"$f":"G220*(1-VLOOKUP(F220,Konditionen!$B:$D,3,0))","v":23.14}]
["Luftdurchlässe","AIRYFP","AIRYFP1009003BOW","AIRY Frontplatte 100    RAL 9003","rechteckig gerundeten Ecken - BOW","70",14.46,{"$f":"G221*(1-VLOOKUP(F221,Konditionen!$B:$D,3,0))","v":14.46}]
["Luftdurchlässe","AIRYFP","AIRYFP1009003ELL","AIRY Frontplatte 100    RAL 9003","elliptisch - ELLI","70",14.46,{"$f":"G222*(1-VLOOKUP(F222,Konditionen!$B:$D,3,0))","v":14.46}]
["Luftdurchlässe","AIRYFP","AIRYFP1009003REC","AIRY Frontplatte 100    RAL 9003","rechteckig - RECT","70",14.46,{"$f":"G223*(1-VLOOKUP(F223,Konditionen!$B:$D,3,0))","v":14.46}]
["Luftdurchlässe","AIRYFP","AIRYFP1009003ROU","AIRY Frontplatte 100    RAL 9003","kreisrund - ROUN","70",14.46,{"$f":"G224*(1-VLOOKUP(F224,Konditionen!$B:$D,3,0))","v":14.46}]
["Luftdurchlässe","AIRYFP","AIRYFP1009003SQU","AIRY Frontplatte 100    RAL 9003","quadratisch - SQUA","70",14.46,{"$f":"G225*(1-VLOOKUP(F225,Konditionen!$B:$D,3,0))","v":14.46}]
["Luftdurchlässe","AIRYFP","AIRYFP1009010BOW","AIRY Frontplatte 100    RAL 9010","rechteckig gerundeten Ecken - BOW","70",14.46,{"$f":"G226*(1-VLOOKUP(F226,Konditionen!$B:$D,3,0))","v":14.46}]
["Luftdurchlässe","AIRYFP","AIRYFP1009010ELL","AIRY Frontplatte 100    RAL 9010","elliptisch - ELLI","70",14.46,{"$f":"G227*(1-VLOOKUP(F227,Konditionen!$B:$D,3,0))","v":14.46}]
["Luftdurchlässe","AIRYFP","AIRYFP1009010REC","AIRY Frontplatte 100    RAL 9010","rechteckig - RECT","70",14.46,{"$f":"G228*(1-VLOOKUP(F228,Konditionen!$B:$D,3,0))","v":14.46}]
["Luftdurchlässe","AIRYFP","AIRYFP1009010ROU","AIRY Frontplatte 100    RAL 9010","kreisrund - ROUN","70",14.46,{"$f":"G229*(1-VLOOKUP(F229,Konditionen!$B:$D,3,0))","v":14.46}]
["Luftdurchlässe","AIRYFP","AIRYFP1009010SQU","AIRY Frontplatte 100    RAL 9010","quadratisch - SQUA","70",14.46,{"$f":"G230*(1-VLOOKUP(F230,Konditionen!$B:$D,3,0))","v":14.46}]
["Luftdurchlässe","AIRYFP","AIRYFP125V2ABOW","AIRY Frontplatte 125 - V2A","rechteckig gerundeten Ecken - BOW","70",25.72,{"$f":"G231*(1-VLOOKUP(F231,Konditionen!$B:$D,3,0))","v":25.72}]
["Luftdurchlässe","AIRYFP","AIRYFP125V2AELL","AIRY Frontplatte 125 - V2A","elliptisch - ELLI","70",25.72,{"$f":"G232*(1-VLOOKUP(F232,Konditionen!$B:$D,3,0))","v":25.72}]
["Luftdurchlässe","AIRYFP","AIRYFP125V2AREC","AIRY Frontplatte 125 - V2A","rechteckig - RECT","70",25.72,{"$f":"G233*(1-VLOOKUP(F233,Konditionen!$B:$D,3,0))","v":25.72}]
["Luftdurchlässe","AIRYFP","AIRYFP125V2AROU","AIRY Frontplatte 125 - V2A","kreisrund - ROUN","70",25.72,{"$f":"G234*(1-VLOOKUP(F234,Konditionen!$B:$D,3,0))","v":25.72}]
["Luftdurchlässe","AIRYFP","AIRYFP125V2ASQU","AIRY Frontplatte 125 - V2A","quadratisch - SQUA","70",25.72,{"$f":"G235*(1-VLOOKUP(F235,Konditionen!$B:$D,3,0))","v":25.72}]
["Luftdurchlässe","AIRYFP","AIRYFP1259003BOW","AIRY Frontplatte 125    RAL 9003","rechteckig gerundeten Ecken - BOW","70",16.059999999999999,{"$f":"G236*(1-VLOOKUP(F236,Konditionen!$B:$D,3,0))","v":16.059999999999999}]
["Luftdurchlässe","AIRYFP","AIRYFP1259003ELL","AIRY Frontplatte 125    RAL 9003","elliptisch - ELLI","70",16.059999999999999,{"$f":"G237*(1-VLOOKUP(F237,Konditionen!$B:$D,3,0))","v":16.059999999999999}]
["Luftdurchlässe","AIRYFP","AIRYFP1259003REC","AIRY Frontplatte 125    RAL 9003","rechteckig - RECT","70",16.059999999999999,{"$f":"G238*(1-VLOOKUP(F238,Konditionen!$B:$D,3,0))","v":16.059999999999999}]
["Luftdurchlässe","AIRYFP","AIRYFP1259003ROU","AIRY Frontplatte 125    RAL 9003","kreisrund - ROUN","70",16.059999999999999,{"$f":"G239*(1-VLOOKUP(F239,Konditionen!$B:$D,3,0))","v":16.059999999999999}]
["Luftdurchlässe","AIRYFP","AIRYFP1259003SQU","AIRY Frontplatte 125    RAL 9003","quadratisch - SQUA","70",16.059999999999999,{"$f":"G240*(1-VLOOKUP(F240,Konditionen!$B:$D,3,0))","v":16.059999999999999}]
["Luftdurchlässe","AIRYFP","AIRYFP1259010BOW","AIRY Frontplatte 125    RAL 9010","rechteckig gerundeten Ecken - BOW","70",16.059999999999999,{"$f":"G241*(1-VLOOKUP(F241,Konditionen!$B:$D,3,0))","v":16.059999999999999}]
["Luftdurchlässe","AIRYFP","AIRYFP1259010ELL","AIRY Frontplatte 125    RAL 9010","elliptisch - ELLI","70",16.059999999999999,{"$f":"G242*(1-VLOOKUP(F242,Konditionen!$B:$D,3,0))","v":16.059999999999999}]
["Luftdurchlässe","AIRYFP","AIRYFP1259010REC","AIRY Frontplatte 125    RAL 9010","rechteckig - RECT","70",16.059999999999999,{"$f":"G243*(1-VLOOKUP(F243,Konditionen!$B:$D,3,0))","v":16.059999999999999}]
["Luftdurchlässe","AIRYFP","AIRYFP1259010ROU","AIRY Frontplatte 125    RAL 9010","kreisrund - ROUN","70",16.059999999999999,{"$f":"G244*(1-VLOOKUP(F244,Konditionen!$B:$D,3,0))","v":16.059999999999999}]
["Luftdurchlässe","AIRYFP","AIRYFP1259010SQU","AIRY Frontplatte 125    RAL 9010","quadratisch - SQUA","70",16.059999999999999,{"$f":"G245*(1-VLOOKUP(F245,Konditionen!$B:$D,3,0))","v":16.059999999999999}]
["Luftdurchlässe","AIRYFP","AIRYFP160V2ABOW","AIRY Frontplatte 160 - V2A","rechteckig gerundeten Ecken - BOW","70",28.66,{"$f":"G246*(1-VLOOKUP(F246,Konditionen!$B:$D,3,0))","v":28.66}]
["Luftdurchlässe","AIRYFP","AIRYFP160V2AELL","AIRY Frontplatte 160 - V2A","elliptisch - ELLI","70",28.66,{"$f":"G247*(1-VLOOKUP(F247,Konditionen!$B:$D,3,0))","v":28.66}]
["Luftdurchlässe","AIRYFP","AIRYFP160V2AREC","AIRY Frontplatte 160 - V2A","rechteckig - RECT","70",28.66,{"$f":"G248*(1-VLOOKUP(F248,Konditionen!$B:$D,3,0))","v":28.66}]
["Luftdurchlässe","AIRYFP","AIRYFP160V2AROU","AIRY Frontplatte 160 - V2A","kreisrund - ROUN","70",28.66,{"$f":"G249*(1-VLOOKUP(F249,Konditionen!$B:$D,3,0))","v":28.66}]
["Luftdurchlässe","AIRYFP","AIRYFP160V2ASQU","AIRY Frontplatte 160 - V2A","quadratisch - SQUA","70",28.66,{"$f":"G250*(1-VLOOKUP(F250,Konditionen!$B:$D,3,0))","v":28.66}]
["Luftdurchlässe","AIRYFP","AIRYFP1609003BOW","AIRY Frontplatte 160    RAL 9003","rechteckig gerundeten Ecken - BOW","70",17.920000000000002,{"$f":"G251*(1-VLOOKUP(F251,Konditionen!$B:$D,3,0))","v":17.920000000000002}]
["Luftdurchlässe","AIRYFP","AIRYFP1609003ELL","AIRY Frontplatte 160    RAL 9003","elliptisch - ELLI","70",17.920000000000002,{"$f":"G252*(1-VLOOKUP(F252,Konditionen!$B:$D,3,0))","v":17.920000000000002}]
["Luftdurchlässe","AIRYFP","AIRYFP1609003REC","AIRY Frontplatte 160    RAL 9003","rechteckig - RECT","70",17.920000000000002,{"$f":"G253*(1-VLOOKUP(F253,Konditionen!$B:$D,3,0))","v":17.920000000000002}]
["Luftdurchlässe","AIRYFP","AIRYFP1609003ROU","AIRY Frontplatte 160    RAL 9003","kreisrund - ROUN","70",17.920000000000002,{"$f":"G254*(1-VLOOKUP(F254,Konditionen!$B:$D,3,0))","v":17.920000000000002}]
["Luftdurchlässe","AIRYFP","AIRYFP1609003SQU","AIRY Frontplatte 160    RAL 9003","quadratisch - SQUA","70",17.920000000000002,{"$f":"G255*(1-VLOOKUP(F255,Konditionen!$B:$D,3,0))","v":17.920000000000002}]
["Luftdurchlässe","AIRYFP","AIRYFP1609010BOW","AIRY Frontplatte 160    RAL 9010","rechteckig gerundeten Ecken - BOW","70",17.920000000000002,{"$f":"G256*(1-VLOOKUP(F256,Konditionen!$B:$D,3,0))","v":17.920000000000002}]
["Luftdurchlässe","AIRYFP","AIRYFP1609010ELL","AIRY Frontplatte 160    RAL 9010","elliptisch - ELLI","70",17.920000000000002,{"$f":"G257*(1-VLOOKUP(F257,Konditionen!$B:$D,3,0))","v":17.920000000000002}]
["Luftdurchlässe","AIRYFP","AIRYFP1609010REC","AIRY Frontplatte 160    RAL 9010","rechteckig - RECT","70",17.920000000000002,{"$f":"G258*(1-VLOOKUP(F258,Konditionen!$B:$D,3,0))","v":17.920000000000002}]
["Luftdurchlässe","AIRYFP","AIRYFP1609010ROU","AIRY Frontplatte 160    RAL 9010","kreisrund - ROUN","70",17.920000000000002,{"$f":"G259*(1-VLOOKUP(F259,Konditionen!$B:$D,3,0))","v":17.920000000000002}]
["Luftdurchlässe","AIRYFP","AIRYFP1609010SQU","AIRY Frontplatte 160    RAL 9010","quadratisch - SQUA","70",17.920000000000002,{"$f":"G260*(1-VLOOKUP(F260,Konditionen!$B:$D,3,0))","v":17.920000000000002}]
["Ventilatoren","","ALSKBT","ALS-KBT Ablaufstutzen","Kondensatablaufstutzen","7.ALLG",112,{"$f":"G261*(1-VLOOKUP(F261,Konditionen!$B:$D,3,0))","v":112}]
["Montagezubehör","ALUBAND","ALUBAND100","Alu-Klebeband 930 SE B1 100mm","100 Mtr./Rolle","90",19.100000000000001,{"$f":"G262*(1-VLOOKUP(F262,Konditionen!$B:$D,3,0))","v":19.100000000000001}]
["Montagezubehör","ALUBAND","ALUBAND50","Alu-Klebeband 930 SE B1 50mm","100 Mtr./Rolle","90",9.75,{"$f":"G263*(1-VLOOKUP(F263,Konditionen!$B:$D,3,0))","v":9.75}]
["Montagezubehör","ALUBAND","ALUBAND75","Alu-Klebeband 930 SE B1 75mm","100 Mtr./Rolle","90",14.35,{"$f":"G264*(1-VLOOKUP(F264,Konditionen!$B:$D,3,0))","v":14.35}]
["Montagezubehör","ARMATAPE","ARMATAPE","Kautschuk TAPE-B1 15mx50mmx3mm","Band selbstklebend","90",12.85,{"$f":"G265*(1-VLOOKUP(F265,Konditionen!$B:$D,3,0))","v":12.85}]
["Montagezubehör","ASB","ASB7050","Kaltschrumpfband ASB70.50 15m/50mm","Bei Kartonabnahme=24Rol. 14,65/Rol.","90",16.850000000000001,{"$f":"G266*(1-VLOOKUP(F266,Konditionen!$B:$D,3,0))","v":16.850000000000001}]
["Montagezubehör","ASBVPE","ASB7050VPE","Kaltschrumpfband ASB70.50 VPE","### nur Preislisten-Funktion ###","90",351.6,{"$f":"G267*(1-VLOOKUP(F267,Konditionen!$B:$D,3,0))","v":351.6}]
["Montagezubehör","ASB","ASB7075","Kaltschrumpfband ASB70.75 15m/75mm",null,"90",25.6,{"$f":"G268*(1-VLOOKUP(F268,Konditionen!$B:$D,3,0))","v":25.6}]
["Montagezubehör","ASBVPE","ASB7075VPE","Kaltschrumpfband ASB70.75 15m/75mm","### nur Preislisten-Funktion ###","90",356.8,{"$f":"G269*(1-VLOOKUP(F269,Konditionen!$B:$D,3,0))","v":356.8}]
["Ventilatoren","ASF","ASF200KB","Flexibler Ansaugstutzen ASF 200/KB","*** Netto-Preis ***","7.ALLG",36,{"$f":"G270*(1-VLOOKUP(F270,Konditionen!$B:$D,3,0))","v":36}]
["Ventilatoren","ASF","ASF225KB","Flexibler Ansaugstutzen ASF 225/KB","*** Netto-Preis ***","7.ALLG",37,{"$f":"G271*(1-VLOOKUP(F271,Konditionen!$B:$D,3,0))","v":37}]
["Ventilatoren","ASF","ASF250KB","Flexibler Ansaugstutzen ASF 250/KB","*** Netto-Preis ***","7.ALLG",41,{"$f":"G272*(1-VLOOKUP(F272,Konditionen!$B:$D,3,0))","v":41}]
["Ventilatoren","ASF","ASF280KB","Flexibler Ansaugstutzen ASF 280/KB","*** Netto-Preis ***","7.ALLG",42,{"$f":"G273*(1-VLOOKUP(F273,Konditionen!$B:$D,3,0))","v":42}]
["Ventilatoren","ASF","ASF315KB","Flexibler Ansaugstutzen ASF 315/KB","*** Netto-Preis ***","7.ALLG",51,{"$f":"G274*(1-VLOOKUP(F274,Konditionen!$B:$D,3,0))","v":51}]
["Ventilatoren","ASF","ASF355KB","Flexibler Ansaugstutzen ASF 355/KB","*** Netto-Preis ***","7.ALLG",60,{"$f":"G275*(1-VLOOKUP(F275,Konditionen!$B:$D,3,0))","v":60}]
["Rohre und Formteile","AUFVA","AUFVA","Umrüstkosten für SRVA/Alu-Rohre","netto je Durchmesser","90",75,{"$f":"G276*(1-VLOOKUP(F276,Konditionen!$B:$D,3,0))","v":75}]
["Ventilatoren","AVK","AVK100","Aussen-Verschlussklappe AVK 100","Kunststoff, selbsttätig","18.ALLG",9.4,{"$f":"G277*(1-VLOOKUP(F277,Konditionen!$B:$D,3,0))","v":9.4}]
["Ventilatoren","AVK","AVK125","Aussen-Verschlussklappe AVK 125","Kunststoff, selbsttätig","18.ALLG",11.48,{"$f":"G278*(1-VLOOKUP(F278,Konditionen!$B:$D,3,0))","v":11.48}]
["Ventilatoren","AVK","AVK160","Aussen-Verschlussklappe AVK 160","Kunststoff, selbsttätig","18.ALLG",27.15,{"$f":"G279*(1-VLOOKUP(F279,Konditionen!$B:$D,3,0))","v":27.15}]
["Ventilatoren","AVK","AVK200","Aussen-Verschlussklappe AVK 200","Kunststoff, selbsttätig","18.ALLG",33.409999999999997,{"$f":"G280*(1-VLOOKUP(F280,Konditionen!$B:$D,3,0))","v":33.409999999999997}]
["Ventilatoren","AVK","AVK250","Aussen-Verschlussklappe AVK 250","Kunststoff, selbsttätig","18.ALLG",36.549999999999997,{"$f":"G281*(1-VLOOKUP(F281,Konditionen!$B:$D,3,0))","v":36.549999999999997}]
["Ventilatoren","AVK","AVK315","Aussen-Verschlussklappe AVK 315","Kunststoff, selbsttätig","18.ALLG",40.729999999999997,{"$f":"G282*(1-VLOOKUP(F282,Konditionen!$B:$D,3,0))","v":40.729999999999997}]
["Ventilatoren","AVK","AVK355","Aussen-Verschlussklappe AVK 355","Kunststoff, selbsttätig","18.ALLG",42.81,{"$f":"G283*(1-VLOOKUP(F283,Konditionen!$B:$D,3,0))","v":42.81}]
["Ventilatoren","AVK","AVK400","Aussen-Verschlussklappe AVK 400","Kunststoff, selbsttätig","18.ALLG",44.9,{"$f":"G284*(1-VLOOKUP(F284,Konditionen!$B:$D,3,0))","v":44.9}]
["Ventilatoren","AVK","AVK450","Aussen-Verschlussklappe AVK 450","Kunststoff, selbsttätig","18.ALLG",57.44,{"$f":"G285*(1-VLOOKUP(F285,Konditionen!$B:$D,3,0))","v":57.44}]
["Ventilatoren","AVK","AVK500","Aussen-Verschlussklappe AVK 500","Kunststoff, selbsttätig","18.ALLG",72.069999999999993,{"$f":"G286*(1-VLOOKUP(F286,Konditionen!$B:$D,3,0))","v":72.069999999999993}]
["Ventilatoren","AVK","AVK630","Aussen-Verschlussklappe AVK 630","Kunststoff, selbsttätig","18.ALLG",161.88,{"$f":"G287*(1-VLOOKUP(F287,Konditionen!$B:$D,3,0))","v":161.88}]
["Ventilatoren","AVK","AVK710","Aussen-Verschlussklappe AVK 710","Kunststoff, selbsttätig","18.ALLG",276.77,{"$f":"G288*(1-VLOOKUP(F288,Konditionen!$B:$D,3,0))","v":276.77}]
["Ventilatoren","AVK","AVK800","Aussen-Verschlussklappe AVK 800","Kunststoff, selbsttätig","18.ALLG",360.33,{"$f":"G289*(1-VLOOKUP(F289,Konditionen!$B:$D,3,0))","v":360.33}]
["Ventilatoren","AVK","AVK900","Aussen-Verschlussklappe AVK 900","Kunststoff, selbsttätig","18.ALLG",459.55,{"$f":"G290*(1-VLOOKUP(F290,Konditionen!$B:$D,3,0))","v":459.55}]
["Brandschutz","","AVRDN100","AVR DN 100 Decken- und Wandschott","Brandschott DN 100-Ø 134 mm,L208 mm","5.PG01",79.739999999999995,{"$f":"G291*(1-VLOOKUP(F291,Konditionen!$B:$D,3,0))","v":79.739999999999995}]
["Brandschutz","","AVRDN125","AVR DN 125 Decken- und Wandschott","Brandschott DN 125-Ø 159 mm,L221 mm","5.PG01",96.72,{"$f":"G292*(1-VLOOKUP(F292,Konditionen!$B:$D,3,0))","v":96.72}]
["Brandschutz","","AVRDN140","AVR DN 140 Decken- und Wandschott","Brandschott DN 140-Ø 174 mm,L228 mm","5.PG01",113.19,{"$f":"G293*(1-VLOOKUP(F293,Konditionen!$B:$D,3,0))","v":113.19}]
["Brandschutz","","AVRDN150","AVR DN 150 Decken- und Wandschott","Brandschott DN 150-Ø 198 mm,L238 mm","5.PG01",126.05,{"$f":"G294*(1-VLOOKUP(F294,Konditionen!$B:$D,3,0))","v":126.05}]
["Brandschutz","","AVRDN160","AVR DN 160 Decken- und Wandschott","Brandschott DN 160-Ø 198 mm,L238 mm","5.PG01",126.05,{"$f":"G295*(1-VLOOKUP(F295,Konditionen!$B:$D,3,0))","v":126.05}]
["Brandschutz","","AVRDN180","AVR DN 180 Decken- und Wandschott","Brandschott DN 180-Ø 218 mm,L248 mm","5.PG01",154.35,{"$f":"G296*(1-VLOOKUP(F296,Konditionen!$B:$D,3,0))","v":154.35}]
["Brandschutz","","AVRDN200","AVR DN 200 Decken- und Wandschott","Brandschott DN 200-Ø 238 mm,L258 mm","5.PG01",171.84,{"$f":"G297*(1-VLOOKUP(F297,Konditionen!$B:$D,3,0))","v":171.84}]
["Brandschutz","","AVRDN80","AVR DN 80 Decken- und Wandschott","Brandschott DN 80-Ø 114 mm,L 198 mm","5.PG01",79.739999999999995,{"$f":"G298*(1-VLOOKUP(F298,Konditionen!$B:$D,3,0))","v":79.739999999999995}]
["Rohre und Formteile","AVUV2A","AVUV2A100","Ausblasstutzen   AVU V2A       100","Edelstahl W.Nr. 1.4301","60",210.54,{"$f":"G299*(1-VLOOKUP(F299,Konditionen!$B:$D,3,0))","v":210.54}]
["Rohre und Formteile","AVUV2A","AVUV2A112","Ausblasstutzen   AVU V2A       112","Edelstahl W.Nr. 1.4301","60",217.99,{"$f":"G300*(1-VLOOKUP(F300,Konditionen!$B:$D,3,0))","v":217.99}]
["Rohre und Formteile","AVUV2A","AVUV2A125","Ausblasstutzen   AVU V2A       125","Edelstahl W.Nr. 1.4301","60",217.99,{"$f":"G301*(1-VLOOKUP(F301,Konditionen!$B:$D,3,0))","v":217.99}]
["Rohre und Formteile","AVUV2A","AVUV2A140","Ausblasstutzen   AVU V2A       140","Edelstahl W.Nr. 1.4301","60",240.09,{"$f":"G302*(1-VLOOKUP(F302,Konditionen!$B:$D,3,0))","v":240.09}]
["Rohre und Formteile","AVUV2A","AVUV2A150","Ausblasstutzen   AVU V2A      150","Edelstahl W.Nr. 1.4301","60",240.09,{"$f":"G303*(1-VLOOKUP(F303,Konditionen!$B:$D,3,0))","v":240.09}]
["Rohre und Formteile","AVUV2A","AVUV2A160","Ausblasstutzen   AVU V2A       160","Edelstahl W.Nr. 1.4301","60",240.09,{"$f":"G304*(1-VLOOKUP(F304,Konditionen!$B:$D,3,0))","v":240.09}]
["Rohre und Formteile","AVUV2A","AVUV2A180","Ausblasstutzen   AVU V2A       180","Edelstahl W.Nr. 1.4301","60",281.91000000000003,{"$f":"G305*(1-VLOOKUP(F305,Konditionen!$B:$D,3,0))","v":281.91000000000003}]
["Rohre und Formteile","AVUV2A","AVUV2A200","Ausblasstutzen   AVU V2A       200","Edelstahl W.Nr.1.4301","60",281.91000000000003,{"$f":"G306*(1-VLOOKUP(F306,Konditionen!$B:$D,3,0))","v":281.91000000000003}]
["Rohre und Formteile","AVUV2A","AVUV2A224","Ausblasstutzen   AVU V2A       224","Edelstahl W.Nr. 1.4301","60",357.11,{"$f":"G307*(1-VLOOKUP(F307,Konditionen!$B:$D,3,0))","v":357.11}]
["Rohre und Formteile","AVUV2A","AVUV2A250","Ausblasstutzen   AVU V2A       250","Edelstahl W.Nr. 1.4301","60",357.11,{"$f":"G308*(1-VLOOKUP(F308,Konditionen!$B:$D,3,0))","v":357.11}]
["Rohre und Formteile","AVUV2A","AVUV2A280","Ausblasstutzen   AVU V2A       280","Edelstahl W.Nr. 1.4301","60",433.57,{"$f":"G309*(1-VLOOKUP(F309,Konditionen!$B:$D,3,0))","v":433.57}]
["Rohre und Formteile","AVUV2A","AVUV2A300","Ausblasstutzen   AVU V2A       300","Edelstahl W.Nr. 1.4301","60",433.57,{"$f":"G310*(1-VLOOKUP(F310,Konditionen!$B:$D,3,0))","v":433.57}]
["Rohre und Formteile","AVUV2A","AVUV2A315","Ausblasstutzen   AVU V2A       315","Edelstahl W.Nr. 1.4301","60",494.82,{"$f":"G311*(1-VLOOKUP(F311,Konditionen!$B:$D,3,0))","v":494.82}]
["Rohre und Formteile","AVUV2A","AVUV2A355","Ausblasstutzen   AVU V2A       355","Edelstahl W.Nr. 1.4301","60",529.20000000000005,{"$f":"G312*(1-VLOOKUP(F312,Konditionen!$B:$D,3,0))","v":529.20000000000005}]
["Rohre und Formteile","AVUV2A","AVUV2A400","Ausblasstutzen   AVU V2A       400","Edelstahl W.Nr. 1.4301","60",585.35,{"$f":"G313*(1-VLOOKUP(F313,Konditionen!$B:$D,3,0))","v":585.35}]
["Rohre und Formteile","AVUV2A","AVUV2A450","Ausblasstutzen   AVU V2A       450","Edelstahl W.Nr. 1.4301","60",655.72,{"$f":"G314*(1-VLOOKUP(F314,Konditionen!$B:$D,3,0))","v":655.72}]
["Rohre und Formteile","AVUV2A","AVUV2A500","Ausblasstutzen   AVU V2A       500","Edelstahl W.Nr. 1.4301","60",749.5,{"$f":"G315*(1-VLOOKUP(F315,Konditionen!$B:$D,3,0))","v":749.5}]
["Rohre und Formteile","AVUV2A","AVUV2A560","Ausblasstutzen   AVU V2A       560","Edelstahl W.Nr. 1.4301","60",958.68,{"$f":"G316*(1-VLOOKUP(F316,Konditionen!$B:$D,3,0))","v":958.68}]
["Rohre und Formteile","AVUV2A","AVUV2A600","Ausblasstutzen   AVU V2A       600","Edelstahl W.Nr. 1.4301","60",1141.4100000000001,{"$f":"G317*(1-VLOOKUP(F317,Konditionen!$B:$D,3,0))","v":1141.4100000000001}]
["Rohre und Formteile","AVUV2A","AVUV2A630","Ausblasstutzen   AVU V2A      630","Edelstahl W.Nr. 1.4301","60",1315.17,{"$f":"G318*(1-VLOOKUP(F318,Konditionen!$B:$D,3,0))","v":1315.17}]
["Rohre und Formteile","AVUV2A","AVUV2A710","Ausblasstutzen   AVU V2A       710","Edelstahl W.Nr. 1.4301","60",1603.54,{"$f":"G319*(1-VLOOKUP(F319,Konditionen!$B:$D,3,0))","v":1603.54}]
["Rohre und Formteile","AVUV2A","AVUV2A800","Ausblasstutzen   AVU V2A       800","Edelstahl W.Nr. 1.4301","60",1818.13,{"$f":"G320*(1-VLOOKUP(F320,Konditionen!$B:$D,3,0))","v":1818.13}]
["Rohre und Formteile","AVUV2A","AVUV2A900","Ausblasstutzen   AVU V2A       900","Edelstahl W.Nr. 1.4301","60",2156.88,{"$f":"G321*(1-VLOOKUP(F321,Konditionen!$B:$D,3,0))","v":2156.88}]
["Rohre und Formteile","AVU","AVU100","Ausblasstutzen   AVU           100",null,"53",39.35,{"$f":"G322*(1-VLOOKUP(F322,Konditionen!$B:$D,3,0))","v":39.35}]
["Rohre und Formteile","AVU","AVU1000","Ausblasstutzen   AVU          1000",null,"53",410.27,{"$f":"G323*(1-VLOOKUP(F323,Konditionen!$B:$D,3,0))","v":410.27}]
["Rohre und Formteile","AVU","AVU1120","Ausblasstutzen   AVU          1120",null,"53",516.07000000000005,{"$f":"G324*(1-VLOOKUP(F324,Konditionen!$B:$D,3,0))","v":516.07000000000005}]
["Rohre und Formteile","AVU","AVU125","Ausblasstutzen   AVU           125",null,"53",39.35,{"$f":"G325*(1-VLOOKUP(F325,Konditionen!$B:$D,3,0))","v":39.35}]
["Rohre und Formteile","AVU","AVU1250","Ausblasstutzen   AVU          1250",null,"53",642.87,{"$f":"G326*(1-VLOOKUP(F326,Konditionen!$B:$D,3,0))","v":642.87}]
["Rohre und Formteile","AVU","AVU140","Ausblasstutzen   AVU           140",null,"53",45.44,{"$f":"G327*(1-VLOOKUP(F327,Konditionen!$B:$D,3,0))","v":45.44}]
["Rohre und Formteile","AVU","AVU150","Ausblasstutzen   AVU           150",null,"53",45.44,{"$f":"G328*(1-VLOOKUP(F328,Konditionen!$B:$D,3,0))","v":45.44}]
["Rohre und Formteile","AVU","AVU160","Ausblasstutzen   AVU           160",null,"53",45.44,{"$f":"G329*(1-VLOOKUP(F329,Konditionen!$B:$D,3,0))","v":45.44}]
["Rohre und Formteile","AVU","AVU180","Ausblasstutzen  AVU           180",null,"53",50.48,{"$f":"G330*(1-VLOOKUP(F330,Konditionen!$B:$D,3,0))","v":50.48}]
["Rohre und Formteile","AVU","AVU200","Ausblasstutzen   AVU           200",null,"53",50.48,{"$f":"G331*(1-VLOOKUP(F331,Konditionen!$B:$D,3,0))","v":50.48}]
["Rohre und Formteile","AVU","AVU224","Ausblasstutzen   AVU           224",null,"53",63.08,{"$f":"G332*(1-VLOOKUP(F332,Konditionen!$B:$D,3,0))","v":63.08}]
["Rohre und Formteile","AVU","AVU250","Ausblasstutzen   AVU           250",null,"53",63.08,{"$f":"G333*(1-VLOOKUP(F333,Konditionen!$B:$D,3,0))","v":63.08}]
["Rohre und Formteile","AVU","AVU280","Ausblasstutzen   AVU           280",null,"53",74.73,{"$f":"G334*(1-VLOOKUP(F334,Konditionen!$B:$D,3,0))","v":74.73}]
["Rohre und Formteile","AVU","AVU300","Ausblasstutzen   AVU           300",null,"53",74.73,{"$f":"G335*(1-VLOOKUP(F335,Konditionen!$B:$D,3,0))","v":74.73}]
["Rohre und Formteile","AVU","AVU315","Ausblasstutzen   AVU           315",null,"53",81.650000000000006,{"$f":"G336*(1-VLOOKUP(F336,Konditionen!$B:$D,3,0))","v":81.650000000000006}]
["Rohre und Formteile","AVU","AVU355","Ausblasstutzen   AVU           355",null,"53",90.26,{"$f":"G337*(1-VLOOKUP(F337,Konditionen!$B:$D,3,0))","v":90.26}]
["Rohre und Formteile","AVU","AVU400","Ausblasstutzen   AVU           400",null,"53",100.54,{"$f":"G338*(1-VLOOKUP(F338,Konditionen!$B:$D,3,0))","v":100.54}]
["Rohre und Formteile","AVU","AVU450","Ausblasstutzen   AVU           450",null,"53",114.71,{"$f":"G339*(1-VLOOKUP(F339,Konditionen!$B:$D,3,0))","v":114.71}]
["Rohre und Formteile","AVU","AVU500","Ausblasstutzen   AVU           500",null,"53",128.04,{"$f":"G340*(1-VLOOKUP(F340,Konditionen!$B:$D,3,0))","v":128.04}]
["Rohre und Formteile","AVU","AVU560","Ausblasstutzen   AVU           560",null,"53",153.97,{"$f":"G341*(1-VLOOKUP(F341,Konditionen!$B:$D,3,0))","v":153.97}]
["Rohre und Formteile","AVU","AVU600","Ausblasstutzen   AVU           600",null,"53",174.86,{"$f":"G342*(1-VLOOKUP(F342,Konditionen!$B:$D,3,0))","v":174.86}]
["Rohre und Formteile","AVU","AVU630","Ausblasstutzen   AVU           630",null,"53",205.71,{"$f":"G343*(1-VLOOKUP(F343,Konditionen!$B:$D,3,0))","v":205.71}]
["Rohre und Formteile","AVU","AVU710","Ausblasstutzen   AVU           710",null,"53",241.82,{"$f":"G344*(1-VLOOKUP(F344,Konditionen!$B:$D,3,0))","v":241.82}]
["Rohre und Formteile","AVU","AVU80","Ausblasstutzen   AVU            80",null,"53",37.049999999999997,{"$f":"G345*(1-VLOOKUP(F345,Konditionen!$B:$D,3,0))","v":37.049999999999997}]
["Rohre und Formteile","AVU","AVU800","Ausblasstutzen   AVU           800",null,"53",286.63,{"$f":"G346*(1-VLOOKUP(F346,Konditionen!$B:$D,3,0))","v":286.63}]
["Rohre und Formteile","AVU","AVU900","Ausblasstutzen   AVU           900",null,"53",332.4,{"$f":"G347*(1-VLOOKUP(F347,Konditionen!$B:$D,3,0))","v":332.4}]
["Ventilatoren","","AWS250E4","AW sileo 250E4 Axialventilator","370x370mm,230V/50Hz","7.AW",138,{"$f":"G348*(1-VLOOKUP(F348,Konditionen!$B:$D,3,0))","v":138}]
["Luftdurchlässe","A10","A100-100-1000","Gitter Alu            A100-100-1000","Natur eloxiert","70",96.71,{"$f":"G349*(1-VLOOKUP(F349,Konditionen!$B:$D,3,0))","v":96.71}]
["Luftdurchlässe","A10","A100-150-1000","Gitter Alu            A100-150-1000","Natur eloxiert","70",130.22999999999999,{"$f":"G350*(1-VLOOKUP(F350,Konditionen!$B:$D,3,0))","v":130.22999999999999}]
["Luftdurchlässe","A10","A100-200-1000","Gitter Alu            A100-200-1000","Natur eloxiert","70",156.80000000000001,{"$f":"G351*(1-VLOOKUP(F351,Konditionen!$B:$D,3,0))","v":156.80000000000001}]
["Luftdurchlässe","A10","A100-250-1000","Gitter Alu            A100-250-1000","Natur eloxiert","70",178.85,{"$f":"G352*(1-VLOOKUP(F352,Konditionen!$B:$D,3,0))","v":178.85}]
["Luftdurchlässe","A10","A100-300-1000","Gitter Alu            A100-300-1000","Natur eloxiert","70",210.99,{"$f":"G353*(1-VLOOKUP(F353,Konditionen!$B:$D,3,0))","v":210.99}]
["Luftdurchlässe","A10","A100-350-1000","Gitter Alu            A100-350-1000","Natur eloxiert","70",247.05,{"$f":"G354*(1-VLOOKUP(F354,Konditionen!$B:$D,3,0))","v":247.05}]
["Luftdurchlässe","A10","A100-400-1000","Gitter Alu            A100-400-1000","Natur eloxiert","70",271.33,{"$f":"G355*(1-VLOOKUP(F355,Konditionen!$B:$D,3,0))","v":271.33}]
["Luftdurchlässe","A10","A100-450-1000","Gitter Alu            A100-450-1000","Natur eloxiert","70",304.25,{"$f":"G356*(1-VLOOKUP(F356,Konditionen!$B:$D,3,0))","v":304.25}]
["Luftdurchlässe","A10","A100-500-1000","Gitter Alu            A100-500-1000","Natur eloxiert","70",329.19,{"$f":"G357*(1-VLOOKUP(F357,Konditionen!$B:$D,3,0))","v":329.19}]
["Luftdurchlässe","A10","A101-100-1000","Gitter Alu            A101-100-1000","Natur eloxiert","70",147.13,{"$f":"G358*(1-VLOOKUP(F358,Konditionen!$B:$D,3,0))","v":147.13}]
["Luftdurchlässe","A10","A101-150-1000","Gitter Alu            A101-150-1000","Natur eloxiert","70",180.46,{"$f":"G359*(1-VLOOKUP(F359,Konditionen!$B:$D,3,0))","v":180.46}]
["Luftdurchlässe","A10","A101-200-1000","Gitter Alu            A101-200-1000","Natur eloxiert","70",207.01,{"$f":"G360*(1-VLOOKUP(F360,Konditionen!$B:$D,3,0))","v":207.01}]
["Luftdurchlässe","A10","A101-250-1000","Gitter Alu            A101-250-1000","Natur eloxiert","70",229.01,{"$f":"G361*(1-VLOOKUP(F361,Konditionen!$B:$D,3,0))","v":229.01}]
["Luftdurchlässe","A10","A101-300-1000","Gitter Alu            A101-300-1000","Natur eloxiert","70",261.14999999999998,{"$f":"G362*(1-VLOOKUP(F362,Konditionen!$B:$D,3,0))","v":261.14999999999998}]
["Luftdurchlässe","A10","A101-350-1000","Gitter Alu            A101-350-1000","Natur eloxiert","70",297.26,{"$f":"G363*(1-VLOOKUP(F363,Konditionen!$B:$D,3,0))","v":297.26}]
["Luftdurchlässe","A10","A101-400-1000","Gitter Alu            A101-400-1000","Natur eloxiert","70",321.44,{"$f":"G364*(1-VLOOKUP(F364,Konditionen!$B:$D,3,0))","v":321.44}]
["Luftdurchlässe","A10","A101-450-1000","Gitter Alu            A101-450-1000","Natur eloxiert","70",354.2,{"$f":"G365*(1-VLOOKUP(F365,Konditionen!$B:$D,3,0))","v":354.2}]
["Luftdurchlässe","A10","A101-500-1000","Gitter Alu            A101-500-1000","Natur eloxiert","70",379.15,{"$f":"G366*(1-VLOOKUP(F366,Konditionen!$B:$D,3,0))","v":379.15}]
["Luftdurchlässe","A10","A103-100-1000","Gitter Alu            A103-100-1000","Natur eloxiert","70",187.74,{"$f":"G367*(1-VLOOKUP(F367,Konditionen!$B:$D,3,0))","v":187.74}]
["Luftdurchlässe","A10","A103-150-1000","Gitter Alu            A103-150-1000","Natur eloxiert","70",214.92,{"$f":"G368*(1-VLOOKUP(F368,Konditionen!$B:$D,3,0))","v":214.92}]
["Luftdurchlässe","A10","A103-200-1000","Gitter Alu            A103-200-1000","Natur eloxiert","70",242.25,{"$f":"G369*(1-VLOOKUP(F369,Konditionen!$B:$D,3,0))","v":242.25}]
["Luftdurchlässe","A10","A103-250-1000","Gitter Alu            A103-250-1000","Natur eloxiert","70",269.11,{"$f":"G370*(1-VLOOKUP(F370,Konditionen!$B:$D,3,0))","v":269.11}]
["Luftdurchlässe","A10","A103-300-1000","Gitter Alu            A103-300-1000","Natur eloxiert","70",321.44,{"$f":"G371*(1-VLOOKUP(F371,Konditionen!$B:$D,3,0))","v":321.44}]
["Luftdurchlässe","A10","A103-350-1000","Gitter Alu            A103-350-1000","Natur eloxiert","70",333.69,{"$f":"G372*(1-VLOOKUP(F372,Konditionen!$B:$D,3,0))","v":333.69}]
["Luftdurchlässe","A10","A103-400-1000","Gitter Alu            A103-400-1000","Natur eloxiert","70",347.64,{"$f":"G373*(1-VLOOKUP(F373,Konditionen!$B:$D,3,0))","v":347.64}]
["Luftdurchlässe","A10","A103-450-1000","Gitter Alu            A103-450-1000","Natur eloxiert","70",380.34,{"$f":"G374*(1-VLOOKUP(F374,Konditionen!$B:$D,3,0))","v":380.34}]
["Luftdurchlässe","A10","A103-500-1000","Gitter Alu            A103-500-1000","Natur eloxiert","70",407.11,{"$f":"G375*(1-VLOOKUP(F375,Konditionen!$B:$D,3,0))","v":407.11}]
["Kunststoff","BEFFIPPS","BEFFIPPS11045","PPs Bogen 45° DN 110","mit eingespritzter Lippendichtung","17.EFFI",16.3,{"$f":"G376*(1-VLOOKUP(F376,Konditionen!$B:$D,3,0))","v":16.3}]
["Kunststoff","BEFFIPPS","BEFFIPPS11090","PPs Bogen 90° DN 110","mit eingespritzter Lippendichtung","17.EFFI",19.059999999999999,{"$f":"G377*(1-VLOOKUP(F377,Konditionen!$B:$D,3,0))","v":19.059999999999999}]
["Kunststoff","","BEFFIPPS12545","PPs Bogen 45° DN 125","mit eingespritzter Lippendichtung","17.EFFI",21.27,{"$f":"G378*(1-VLOOKUP(F378,Konditionen!$B:$D,3,0))","v":21.27}]
["Kunststoff","BEFFIPPS","BEFFIPPS16045","PPs Bogen 45° DN 160","mit eingespritzter Lippendichtung","17.EFFI",22.68,{"$f":"G379*(1-VLOOKUP(F379,Konditionen!$B:$D,3,0))","v":22.68}]
["Kunststoff","BEFFIPPS","BEFFIPPS16090","PPs Bogen 90° DN 160","mit eingespritzter Lippendichtung","17.EFFI",27.81,{"$f":"G380*(1-VLOOKUP(F380,Konditionen!$B:$D,3,0))","v":27.81}]
["Kunststoff","BEFFIPPS","BEFFIPPS20045","PPs Bogen 45° DN 200","mit eingespritzter Lippendichtung","17.EFFI",26.02,{"$f":"G381*(1-VLOOKUP(F381,Konditionen!$B:$D,3,0))","v":26.02}]
["Kunststoff","BEFFIPPS","BEFFIPPS20090","PPs Bogen 90° DN 200","mit eingespritzter Lippendichtung","17.EFFI",31.21,{"$f":"G382*(1-VLOOKUP(F382,Konditionen!$B:$D,3,0))","v":31.21}]
["Kunststoff","BEFFIPPS","BEFFIPPS25045","PPs Bogen 45° DN 250","mit eingespritzter Lippendichtung","17.EFFI",34.659999999999997,{"$f":"G383*(1-VLOOKUP(F383,Konditionen!$B:$D,3,0))","v":34.659999999999997}]
["Kunststoff","BEFFIPPS","BEFFIPPS25090","PPs Bogen 90° DN 250","mit eingespritzter Lippendichtung","17.EFFI",43.2,{"$f":"G384*(1-VLOOKUP(F384,Konditionen!$B:$D,3,0))","v":43.2}]
["Kunststoff","BEFFIPPS","BEFFIPPS31545","PPs Bogen 45° DN 315","mit eingespritzter Lippendichtung","17.EFFI",90.34,{"$f":"G385*(1-VLOOKUP(F385,Konditionen!$B:$D,3,0))","v":90.34}]
["Kunststoff","BEFFIPPS","BEFFIPPS31590","PPs Bogen 90° DN 315","mit eingespritzter Lippendichtung","17.EFFI",118.15,{"$f":"G386*(1-VLOOKUP(F386,Konditionen!$B:$D,3,0))","v":118.15}]
["Kunststoff","BEFFIPPS","BEFFIPPS5045","PPs Bogen 45° DN 50","mit eingespritzter Lippendichtung","17.EFFI",12.2,{"$f":"G387*(1-VLOOKUP(F387,Konditionen!$B:$D,3,0))","v":12.2}]
["Kunststoff","BEFFIPPS","BEFFIPPS5090","PPs Bogen 90° DN 50","mit eingespritzter Lippendichtung","17.EFFI",15.66,{"$f":"G388*(1-VLOOKUP(F388,Konditionen!$B:$D,3,0))","v":15.66}]
["Kunststoff","BEFFIPPS","BEFFIPPS6345","PPs Bogen 45° DN 63","mit eingespritzter Lippendichtung","17.EFFI",12.9,{"$f":"G389*(1-VLOOKUP(F389,Konditionen!$B:$D,3,0))","v":12.9}]
["Kunststoff","BEFFIPPS","BEFFIPPS6390","PPs Bogen 90° DN 63","mit eingespritzter Lippendichtung","17.EFFI",16.3,{"$f":"G390*(1-VLOOKUP(F390,Konditionen!$B:$D,3,0))","v":16.3}]
["Kunststoff","BEFFIPPS","BEFFIPPS7545","PPs Bogen 45° DN 75","mit eingespritzter Lippendichtung","17.EFFI",13.6,{"$f":"G391*(1-VLOOKUP(F391,Konditionen!$B:$D,3,0))","v":13.6}]
["Kunststoff","BEFFIPPS","BEFFIPPS7590","PPs Bogen 90° DN 75","mit eingespritzter Lippendichtung","17.EFFI",16.95,{"$f":"G392*(1-VLOOKUP(F392,Konditionen!$B:$D,3,0))","v":16.95}]
["Kunststoff","BEFFIPPS","BEFFIPPS9045","PPs Bogen 45° DN 90","mit eingespritzter Lippendichtung","17.EFFI",14.31,{"$f":"G393*(1-VLOOKUP(F393,Konditionen!$B:$D,3,0))","v":14.31}]
["Kunststoff","BEFFIPPS","BEFFIPPS9090","PPs Bogen 90° DN 90","mit eingespritzter Lippendichtung","17.EFFI",17.55,{"$f":"G394*(1-VLOOKUP(F394,Konditionen!$B:$D,3,0))","v":17.55}]
["Brandschutz","BEKSCHM","BEKSCHMELZLOT","Ersatz-Schmelzlot für BEK-K90  72°C",null,"9.BS",8.82,{"$f":"G395*(1-VLOOKUP(F395,Konditionen!$B:$D,3,0))","v":8.82}]
["Brandschutz","BEK","BEK100","Absperrvorrichtung BEK-K90 + ED/100","mit Einbaurahmen","9.BS",147.41999999999999,{"$f":"G396*(1-VLOOKUP(F396,Konditionen!$B:$D,3,0))","v":147.41999999999999}]
["Brandschutz","BEK","BEK125","Absperrvorrichtung BEK-K90 + ED/125","mit Einbaurahmen","9.BS",154.35,{"$f":"G397*(1-VLOOKUP(F397,Konditionen!$B:$D,3,0))","v":154.35}]
["Brandschutz","BEK","BEK160","Absperrvorrichtung BEK-K90 + ED/160","mit Einbaurahmen","9.BS",163.69999999999999,{"$f":"G398*(1-VLOOKUP(F398,Konditionen!$B:$D,3,0))","v":163.69999999999999}]
["Brandschutz","BEK","BEK200","Absperrvorrichtung BEK-K90 + ED/200","mit Einbaurahmen","9.BS",172.52,{"$f":"G399*(1-VLOOKUP(F399,Konditionen!$B:$D,3,0))","v":172.52}]
["Rohre und Formteile","BFBKCU","BFBKCU28025090","Reinigungsbogen BFBKCU 280.250.90",null,"30",339.54,{"$f":"G400*(1-VLOOKUP(F400,Konditionen!$B:$D,3,0))","v":339.54}]
["Rohre und Formteile","BFBKCU","BFBKCU30025090","Reinigungsbogen BFBKCU 300.250.90",null,"30",339.54,{"$f":"G401*(1-VLOOKUP(F401,Konditionen!$B:$D,3,0))","v":339.54}]
["Rohre und Formteile","BFBKCU","BFBKCU31525090","Reinigungsbogen BFBKCU 315.250.90",null,"30",339.54,{"$f":"G402*(1-VLOOKUP(F402,Konditionen!$B:$D,3,0))","v":339.54}]
["Rohre und Formteile","BFBKCU","BFBKCU31531590","Reinigungsbogen BFBKCU 315.315.90",null,"30",339.54,{"$f":"G403*(1-VLOOKUP(F403,Konditionen!$B:$D,3,0))","v":339.54}]
["Rohre und Formteile","BFBKCU","BFBKCU40031590","Reinigungsbogen BFBKCU 400.315.90",null,"30",557.42999999999995,{"$f":"G404*(1-VLOOKUP(F404,Konditionen!$B:$D,3,0))","v":557.42999999999995}]
["Rohre und Formteile","BFBKCU","BFBKCU40040090","Reinigungsbogen BFBKCU 400.400.90",null,"30",557.42999999999995,{"$f":"G405*(1-VLOOKUP(F405,Konditionen!$B:$D,3,0))","v":557.42999999999995}]
["Brandschutz","","BFH","BFH Befestigungssatz","für Holzbalkendecke","5.PG01",14.61,{"$f":"G406*(1-VLOOKUP(F406,Konditionen!$B:$D,3,0))","v":14.61}]
["Kunststoff","BFLNPPS","BFLNPPS110","Blindflansch mit Nut in PPs 110","für Dichtung aus PVC-P o. EPDM","17.ALLG",21.38,{"$f":"G407*(1-VLOOKUP(F407,Konditionen!$B:$D,3,0))","v":21.38}]
["Kunststoff","BFLNPPS","BFLNPPS125","Blindflansch mit Nut in PPs 125","für Dichtung aus PVC-P o. EPDM","17.ALLG",22.68,{"$f":"G408*(1-VLOOKUP(F408,Konditionen!$B:$D,3,0))","v":22.68}]
["Kunststoff","BFLNPPS","BFLNPPS140","Blindflansch mit Nut in PPs 140","für Dichtung aus PVC-P o. EPDM","17.ALLG",24.08,{"$f":"G409*(1-VLOOKUP(F409,Konditionen!$B:$D,3,0))","v":24.08}]
["Kunststoff","BFLNPPS","BFLNPPS160","Blindflansch mit Nut in PPs 160","für Dichtung aus PVC-P o. EPDM","17.ALLG",25.27,{"$f":"G410*(1-VLOOKUP(F410,Konditionen!$B:$D,3,0))","v":25.27}]
["Kunststoff","BFLNPPS","BFLNPPS180","Blindflansch mit Nut in PPs 180","für Dichtung aus PVC-P o. EPDM","17.ALLG",28.08,{"$f":"G411*(1-VLOOKUP(F411,Konditionen!$B:$D,3,0))","v":28.08}]
["Kunststoff","BFLNPPS","BFLNPPS200","Blindflansch mit Nut in PPs 200","für Dichtung aus PVC-P o. EPDM","17.ALLG",29.26,{"$f":"G412*(1-VLOOKUP(F412,Konditionen!$B:$D,3,0))","v":29.26}]
["Kunststoff","BFLNPPS","BFLNPPS225","Blindflansch mit Nut in PPs 225","für Dichtung aus PVC-P o. EPDM","17.ALLG",32.07,{"$f":"G413*(1-VLOOKUP(F413,Konditionen!$B:$D,3,0))","v":32.07}]
["Kunststoff","BFLNPPS","BFLNPPS250","Blindflansch mit Nut in PPs 250","für Dichtung aus PVC-P o. EPDM","17.ALLG",33.26,{"$f":"G414*(1-VLOOKUP(F414,Konditionen!$B:$D,3,0))","v":33.26}]
["Kunststoff","BFLNPPS","BFLNPPS280","Blindflansch mit Nut in PPs 280","für Dichtung aus PVC-P o. EPDM","17.ALLG",41.36,{"$f":"G415*(1-VLOOKUP(F415,Konditionen!$B:$D,3,0))","v":41.36}]
["Kunststoff","BFLNPPS","BFLNPPS315","Blindflansch mit Nut in PPs 315","für Dichtung aus PVC-P o. EPDM","17.ALLG",42.66,{"$f":"G416*(1-VLOOKUP(F416,Konditionen!$B:$D,3,0))","v":42.66}]
["Kunststoff","BFLNPPS","BFLNPPS355","Blindflansch mit Nut in PPs 355","für Dichtung aus PVC-P o. EPDM","17.ALLG",46.65,{"$f":"G417*(1-VLOOKUP(F417,Konditionen!$B:$D,3,0))","v":46.65}]
["Kunststoff","BFLNPPS","BFLNPPS400","Blindflansch mit Nut in PPs 400","für Dichtung aus PVC-P o. EPDM","17.ALLG",53.46,{"$f":"G418*(1-VLOOKUP(F418,Konditionen!$B:$D,3,0))","v":53.46}]
["Kunststoff","BFLNPPS","BFLNPPS450","Blindflansch mit Nut in PPs 450","für Dichtung aus PVC-P o. EPDM","17.ALLG",109.4,{"$f":"G419*(1-VLOOKUP(F419,Konditionen!$B:$D,3,0))","v":109.4}]
["Kunststoff","BFLNPPS","BFLNPPS50","Blindflansch mit Nut in PPs 50","für Dichtung aus PVC-P o. EPDM","17.ALLG",21.38,{"$f":"G420*(1-VLOOKUP(F420,Konditionen!$B:$D,3,0))","v":21.38}]
["Kunststoff","BFLNPPS","BFLNPPS500","Blindflansch mit Nut in PPs 500","für Dichtung aus PVC-P o. EPDM","17.ALLG",149.25,{"$f":"G421*(1-VLOOKUP(F421,Konditionen!$B:$D,3,0))","v":149.25}]
["Kunststoff","BFLNPPS","BFLNPPS560","Blindflansch mit Nut in PPs 560","für Dichtung aus PVC-P o. EPDM","17.ALLG",167.5,{"$f":"G422*(1-VLOOKUP(F422,Konditionen!$B:$D,3,0))","v":167.5}]
["Kunststoff","BFLNPPS","BFLNPPS600","Blindflansch mit Nut in PPs 600","für Dichtung aus PVC-P o. EPDM","17.ALLG",214.05,{"$f":"G423*(1-VLOOKUP(F423,Konditionen!$B:$D,3,0))","v":214.05}]
["Kunststoff","BFLNPPS","BFLNPPS63","Blindflansch mit Nut in PPs 63","für Dichtung aus PVC-P o. EPDM","17.ALLG",21.38,{"$f":"G424*(1-VLOOKUP(F424,Konditionen!$B:$D,3,0))","v":21.38}]
["Kunststoff","BFLNPPS","BFLNPPS630","Blindflansch mit Nut in PPs 630","für Dichtung aus PVC-P o. EPDM","17.ALLG",214.05,{"$f":"G425*(1-VLOOKUP(F425,Konditionen!$B:$D,3,0))","v":214.05}]
["Kunststoff","BFLNPPS","BFLNPPS75","Blindflansch mit Nut in PPs 75","für Dichtung aus PVC-P o. EPDM","17.ALLG",21.38,{"$f":"G426*(1-VLOOKUP(F426,Konditionen!$B:$D,3,0))","v":21.38}]
["Kunststoff","BFLNPPS","BFLNPPS90","Blindflansch mit Nut in PPs 90","für Dichtung aus PVC-P o. EPDM","17.ALLG",21.38,{"$f":"G427*(1-VLOOKUP(F427,Konditionen!$B:$D,3,0))","v":21.38}]
["Kunststoff","BFPPS","BFPPS120030","PPs Segmentbogen 30°  DN 1200",null,"17.ALLG",1214.78,{"$f":"G428*(1-VLOOKUP(F428,Konditionen!$B:$D,3,0))","v":1214.78}]
["Kunststoff","BFPPS","BFPPS120045","PPs Segmentbogen 45°  DN 1200",null,"17.ALLG",1548.5,{"$f":"G429*(1-VLOOKUP(F429,Konditionen!$B:$D,3,0))","v":1548.5}]
["Kunststoff","BFPPS","BFPPS120060","PPs Segmentbogen 60°  DN 1200",null,"17.ALLG",2419.63,{"$f":"G430*(1-VLOOKUP(F430,Konditionen!$B:$D,3,0))","v":2419.63}]
["Kunststoff","BFPPS","BFPPS120090","PPs Segmentbogen 90°  DN 1200",null,"17.ALLG",2420.92,{"$f":"G431*(1-VLOOKUP(F431,Konditionen!$B:$D,3,0))","v":2420.92}]
["Kunststoff","BFPPS","BFPPS125030","PPs Segmentbogen 30°  DN 1250",null,"17.ALLG",1214.78,{"$f":"G432*(1-VLOOKUP(F432,Konditionen!$B:$D,3,0))","v":1214.78}]
["Kunststoff","BFPPS","BFPPS125045","PPs Segmentbogen 45°  DN 1250",null,"17.ALLG",1548.5,{"$f":"G433*(1-VLOOKUP(F433,Konditionen!$B:$D,3,0))","v":1548.5}]
["Kunststoff","BFPPS","BFPPS125060","PPs Segmentbogen 60°  DN 1250",null,"17.ALLG",2419.63,{"$f":"G434*(1-VLOOKUP(F434,Konditionen!$B:$D,3,0))","v":2419.63}]
["Kunststoff","BFPPS","BFPPS125090","PPs Segmentbogen 90°  DN 1250",null,"17.ALLG",2948.72,{"$f":"G435*(1-VLOOKUP(F435,Konditionen!$B:$D,3,0))","v":2948.72}]
["Rohre und Formteile","BFUFP","BFUFP100015","Bogen Segment   BFUFP   1000.15","Lindab FireProtect Rund","80",1040.76,{"$f":"G436*(1-VLOOKUP(F436,Konditionen!$B:$D,3,0))","v":1040.76}]
["Rohre und Formteile","BFUFP","BFUFP100030","Bogen Segment   BFUFP   1000.30","Lindab FireProtect Rund","80",1075.83,{"$f":"G437*(1-VLOOKUP(F437,Konditionen!$B:$D,3,0))","v":1075.83}]
["Rohre und Formteile","BFUFP","BFUFP100045","Bogen Segment   BFUFP   1000.45","Lindab FireProtect Rund","80",1334.03,{"$f":"G438*(1-VLOOKUP(F438,Konditionen!$B:$D,3,0))","v":1334.03}]
["Rohre und Formteile","BFUFP","BFUFP100060","Bogen Segment   BFUFP   1000.60","Lindab FireProtect Rund","80",1485.86,{"$f":"G439*(1-VLOOKUP(F439,Konditionen!$B:$D,3,0))","v":1485.86}]
["Rohre und Formteile","BFUFP","BFUFP100090","Bogen Segment   BFUFP   1000.90","Lindab FireProtect Rund","80",1540.98,{"$f":"G440*(1-VLOOKUP(F440,Konditionen!$B:$D,3,0))","v":1540.98}]
["Rohre und Formteile","BFUFP","BFUFP10015","Bogen Segment   BFUFP   100.15","Lindab FireProtect Rund","80",48.62,{"$f":"G441*(1-VLOOKUP(F441,Konditionen!$B:$D,3,0))","v":48.62}]
["Rohre und Formteile","BFUFP","BFUFP10030","Bogen Segment   BFUFP   100.30","Lindab FireProtect Rund","80",48.62,{"$f":"G442*(1-VLOOKUP(F442,Konditionen!$B:$D,3,0))","v":48.62}]
["Rohre und Formteile","BFUFP","BFUFP10045","Bogen Segment   BFUFP   100.45","Lindab FireProtect Rund","80",53.34,{"$f":"G443*(1-VLOOKUP(F443,Konditionen!$B:$D,3,0))","v":53.34}]
["Rohre und Formteile","BFUFP","BFUFP10060","Bogen Segment   BFUFP   100.60","Lindab FireProtect Rund","80",61.37,{"$f":"G444*(1-VLOOKUP(F444,Konditionen!$B:$D,3,0))","v":61.37}]
["Rohre und Formteile","BFUFP","BFUFP10090","Bogen Segment   BFUFP   100.90","Lindab FireProtect Rund","80",77.489999999999995,{"$f":"G445*(1-VLOOKUP(F445,Konditionen!$B:$D,3,0))","v":77.489999999999995}]
["Rohre und Formteile","BFUFP","BFUFP11215","Bogen Segment   BFUFP   112.15","Lindab FireProtect Rund","80",49.72,{"$f":"G446*(1-VLOOKUP(F446,Konditionen!$B:$D,3,0))","v":49.72}]
["Rohre und Formteile","BFUFP","BFUFP11230","Bogen Segment   BFUFP   112.30","Lindab FireProtect Rund","80",49.72,{"$f":"G447*(1-VLOOKUP(F447,Konditionen!$B:$D,3,0))","v":49.72}]
["Rohre und Formteile","BFUFP","BFUFP11245","Bogen Segment   BFUFP   112.45","Lindab FireProtect Rund","80",57.86,{"$f":"G448*(1-VLOOKUP(F448,Konditionen!$B:$D,3,0))","v":57.86}]
["Rohre und Formteile","BFUFP","BFUFP11260","Bogen Segment   BFUFP   112.60","Lindab FireProtect Rund","80",65.94,{"$f":"G449*(1-VLOOKUP(F449,Konditionen!$B:$D,3,0))","v":65.94}]
["Rohre und Formteile","BFUFP","BFUFP11290","Bogen Segment   BFUFP   112.90","Lindab FireProtect Rund","80",82.32,{"$f":"G450*(1-VLOOKUP(F450,Konditionen!$B:$D,3,0))","v":82.32}]
["Rohre und Formteile","BFUFP","BFUFP12515","Bogen Segment   BFUFP   125.15","Lindab FireProtect Rund","80",49.72,{"$f":"G451*(1-VLOOKUP(F451,Konditionen!$B:$D,3,0))","v":49.72}]
["Rohre und Formteile","BFUFP","BFUFP12530","Bogen Segment   BFUFP   125.30","Lindab FireProtect Rund","80",49.72,{"$f":"G452*(1-VLOOKUP(F452,Konditionen!$B:$D,3,0))","v":49.72}]
["Rohre und Formteile","BFUFP","BFUFP12545","Bogen Segment   BFUFP   125.45","Lindab FireProtect Rund","80",57.86,{"$f":"G453*(1-VLOOKUP(F453,Konditionen!$B:$D,3,0))","v":57.86}]
["Rohre und Formteile","BFUFP","BFUFP12560","Bogen Segment   BFUFP   125.60","Lindab FireProtect Rund","80",65.94,{"$f":"G454*(1-VLOOKUP(F454,Konditionen!$B:$D,3,0))","v":65.94}]
["Rohre und Formteile","BFUFP","BFUFP12590","Bogen Segment   BFUFP   125.90","Lindab FireProtect Rund","80",82.32,{"$f":"G455*(1-VLOOKUP(F455,Konditionen!$B:$D,3,0))","v":82.32}]
["Rohre und Formteile","BFUFP","BFUFP14015","Bogen Segment   BFUFP   140.15","Lindab FireProtect Rund","80",60.32,{"$f":"G456*(1-VLOOKUP(F456,Konditionen!$B:$D,3,0))","v":60.32}]
["Rohre und Formteile","BFUFP","BFUFP14030","Bogen Segment   BFUFP   140.30","Lindab FireProtect Rund","80",60.32,{"$f":"G457*(1-VLOOKUP(F457,Konditionen!$B:$D,3,0))","v":60.32}]
["Rohre und Formteile","BFUFP","BFUFP14045","Bogen Segment   BFUFP   140.45","Lindab FireProtect Rund","80",65.150000000000006,{"$f":"G458*(1-VLOOKUP(F458,Konditionen!$B:$D,3,0))","v":65.150000000000006}]
["Rohre und Formteile","BFUFP","BFUFP14060","Bogen Segment   BFUFP   140.60","Lindab FireProtect Rund","80",77.75,{"$f":"G459*(1-VLOOKUP(F459,Konditionen!$B:$D,3,0))","v":77.75}]
["Rohre und Formteile","BFUFP","BFUFP14090","Bogen Segment   BFUFP   140.90","Lindab FireProtect Rund","80",93.98,{"$f":"G460*(1-VLOOKUP(F460,Konditionen!$B:$D,3,0))","v":93.98}]
["Rohre und Formteile","BFUFP","BFUFP15015","Bogen Segment   BFUFP   150.15","Lindab FireProtect Rund","80",60.32,{"$f":"G461*(1-VLOOKUP(F461,Konditionen!$B:$D,3,0))","v":60.32}]
["Rohre und Formteile","BFUFP","BFUFP15030","Bogen Segment   BFUFP   150.30","Lindab FireProtect Rund","80",60.32,{"$f":"G462*(1-VLOOKUP(F462,Konditionen!$B:$D,3,0))","v":60.32}]
["Rohre und Formteile","BFUFP","BFUFP15045","Bogen Segment   BFUFP   150.45","Lindab FireProtect Rund","80",65.150000000000006,{"$f":"G463*(1-VLOOKUP(F463,Konditionen!$B:$D,3,0))","v":65.150000000000006}]
["Rohre und Formteile","BFUFP","BFUFP15060","Bogen Segment   BFUFP   150.60","Lindab FireProtect Rund","80",77.75,{"$f":"G464*(1-VLOOKUP(F464,Konditionen!$B:$D,3,0))","v":77.75}]
["Rohre und Formteile","BFUFP","BFUFP15090","Bogen Segment   BFUFP   150.90","Lindab FireProtect Rund","80",93.98,{"$f":"G465*(1-VLOOKUP(F465,Konditionen!$B:$D,3,0))","v":93.98}]
["Rohre und Formteile","BFUFP","BFUFP16015","Bogen Segment   BFUFP   160.15","Lindab FireProtect Rund","80",60.32,{"$f":"G466*(1-VLOOKUP(F466,Konditionen!$B:$D,3,0))","v":60.32}]
["Rohre und Formteile","BFUFP","BFUFP16030","Bogen Segment   BFUFP   160.30","Lindab FireProtect Rund","80",60.32,{"$f":"G467*(1-VLOOKUP(F467,Konditionen!$B:$D,3,0))","v":60.32}]
["Rohre und Formteile","BFUFP","BFUFP16045","Bogen Segment   BFUFP   160.45","Lindab FireProtect Rund","80",65.150000000000006,{"$f":"G468*(1-VLOOKUP(F468,Konditionen!$B:$D,3,0))","v":65.150000000000006}]
["Rohre und Formteile","BFUFP","BFUFP16060","Bogen Segment   BFUFP   160.60","Lindab FireProtect Rund","80",77.75,{"$f":"G469*(1-VLOOKUP(F469,Konditionen!$B:$D,3,0))","v":77.75}]
["Rohre und Formteile","BFUFP","BFUFP16090","Bogen Segment   BFUFP   160.90","Lindab FireProtect Rund","80",93.98,{"$f":"G470*(1-VLOOKUP(F470,Konditionen!$B:$D,3,0))","v":93.98}]
["Rohre und Formteile","BFUFP","BFUFP18015","Bogen Segment   BFUFP   180.15","Lindab FireProtect Rund","80",68.2,{"$f":"G471*(1-VLOOKUP(F471,Konditionen!$B:$D,3,0))","v":68.2}]
["Rohre und Formteile","BFUFP","BFUFP18030","Bogen Segment   BFUFP   180.30","Lindab FireProtect Rund","80",68.2,{"$f":"G472*(1-VLOOKUP(F472,Konditionen!$B:$D,3,0))","v":68.2}]
["Rohre und Formteile","BFUFP","BFUFP18045","Bogen Segment   BFUFP   180.45","Lindab FireProtect Rund","80",76.28,{"$f":"G473*(1-VLOOKUP(F473,Konditionen!$B:$D,3,0))","v":76.28}]
["Rohre und Formteile","BFUFP","BFUFP18060","Bogen Segment   BFUFP   180.60","Lindab FireProtect Rund","80",89.09,{"$f":"G474*(1-VLOOKUP(F474,Konditionen!$B:$D,3,0))","v":89.09}]
["Rohre und Formteile","BFUFP","BFUFP18090","Bogen Segment   BFUFP   180.90","Lindab FireProtect Rund","80",110.09,{"$f":"G475*(1-VLOOKUP(F475,Konditionen!$B:$D,3,0))","v":110.09}]
["Rohre und Formteile","BFUFP","BFUFP20015","Bogen Segment   BFUFP   200.15","Lindab FireProtect Rund","80",68.2,{"$f":"G476*(1-VLOOKUP(F476,Konditionen!$B:$D,3,0))","v":68.2}]
["Rohre und Formteile","BFUFP","BFUFP20030","Bogen Segment   BFUFP   200.30","Lindab FireProtect Rund","80",68.2,{"$f":"G477*(1-VLOOKUP(F477,Konditionen!$B:$D,3,0))","v":68.2}]
["Rohre und Formteile","BFUFP","BFUFP20045","Bogen Segment   BFUFP   200.45","Lindab FireProtect Rund","80",76.28,{"$f":"G478*(1-VLOOKUP(F478,Konditionen!$B:$D,3,0))","v":76.28}]
["Rohre und Formteile","BFUFP","BFUFP20060","Bogen Segment   BFUFP   200.60","Lindab FireProtect Rund","80",89.09,{"$f":"G479*(1-VLOOKUP(F479,Konditionen!$B:$D,3,0))","v":89.09}]
["Rohre und Formteile","BFUFP","BFUFP20090","Bogen Segment   BFUFP   200.90","Lindab FireProtect Rund","80",110.09,{"$f":"G480*(1-VLOOKUP(F480,Konditionen!$B:$D,3,0))","v":110.09}]
["Rohre und Formteile","BFUFP","BFUFP22415","Bogen Segment   BFUFP   224.15","Lindab FireProtect Rund","80",88.31,{"$f":"G481*(1-VLOOKUP(F481,Konditionen!$B:$D,3,0))","v":88.31}]
["Rohre und Formteile","BFUFP","BFUFP22430","Bogen Segment   BFUFP   224.30","Lindab FireProtect Rund","80",88.31,{"$f":"G482*(1-VLOOKUP(F482,Konditionen!$B:$D,3,0))","v":88.31}]
["Rohre und Formteile","BFUFP","BFUFP22445","Bogen Segment   BFUFP   224.45","Lindab FireProtect Rund","80",97.39,{"$f":"G483*(1-VLOOKUP(F483,Konditionen!$B:$D,3,0))","v":97.39}]
["Rohre und Formteile","BFUFP","BFUFP22460","Bogen Segment   BFUFP   224.60","Lindab FireProtect Rund","80",119.54,{"$f":"G484*(1-VLOOKUP(F484,Konditionen!$B:$D,3,0))","v":119.54}]
["Rohre und Formteile","BFUFP","BFUFP22490","Bogen Segment   BFUFP   224.90","Lindab FireProtect Rund","80",141.44,{"$f":"G485*(1-VLOOKUP(F485,Konditionen!$B:$D,3,0))","v":141.44}]
["Rohre und Formteile","BFUFP","BFUFP25015","Bogen Segment   BFUFP   250.15","Lindab FireProtect Rund","80",88.31,{"$f":"G486*(1-VLOOKUP(F486,Konditionen!$B:$D,3,0))","v":88.31}]
["Rohre und Formteile","BFUFP","BFUFP25030","Bogen Segment   BFUFP   250.30","Lindab FireProtect Rund","80",88.31,{"$f":"G487*(1-VLOOKUP(F487,Konditionen!$B:$D,3,0))","v":88.31}]
["Rohre und Formteile","BFUFP","BFUFP25045","Bogen Segment   BFUFP   250.45","Lindab FireProtect Rund","80",97.39,{"$f":"G488*(1-VLOOKUP(F488,Konditionen!$B:$D,3,0))","v":97.39}]
["Rohre und Formteile","BFUFP","BFUFP25060","Bogen Segment   BFUFP   250.60","Lindab FireProtect Rund","80",119.54,{"$f":"G489*(1-VLOOKUP(F489,Konditionen!$B:$D,3,0))","v":119.54}]
["Rohre und Formteile","BFUFP","BFUFP25090","Bogen Segment   BFUFP   250.90","Lindab FireProtect Rund","80",141.44,{"$f":"G490*(1-VLOOKUP(F490,Konditionen!$B:$D,3,0))","v":141.44}]
["Rohre und Formteile","BFUFP","BFUFP28015","Bogen Segment   BFUFP   280.15","Lindab FireProtect Rund","80",111.04,{"$f":"G491*(1-VLOOKUP(F491,Konditionen!$B:$D,3,0))","v":111.04}]
["Rohre und Formteile","BFUFP","BFUFP28030","Bogen Segment   BFUFP   280.30","Lindab FireProtect Rund","80",111.04,{"$f":"G492*(1-VLOOKUP(F492,Konditionen!$B:$D,3,0))","v":111.04}]
["Rohre und Formteile","BFUFP","BFUFP28045","Bogen Segment   BFUFP   280.45","Lindab FireProtect Rund","80",121.49,{"$f":"G493*(1-VLOOKUP(F493,Konditionen!$B:$D,3,0))","v":121.49}]
["Rohre und Formteile","BFUFP","BFUFP28060","Bogen Segment   BFUFP   280.60","Lindab FireProtect Rund","80",150.57,{"$f":"G494*(1-VLOOKUP(F494,Konditionen!$B:$D,3,0))","v":150.57}]
["Rohre und Formteile","BFUFP","BFUFP28090","Bogen Segment   BFUFP   280.90","Lindab FireProtect Rund","80",175.98,{"$f":"G495*(1-VLOOKUP(F495,Konditionen!$B:$D,3,0))","v":175.98}]
["Rohre und Formteile","BFUFP","BFUFP30015","Bogen Segment   BFUFP   300.15","Lindab FireProtect Rund","80",111.04,{"$f":"G496*(1-VLOOKUP(F496,Konditionen!$B:$D,3,0))","v":111.04}]
["Rohre und Formteile","BFUFP","BFUFP30030","Bogen Segment   BFUFP   300.30","Lindab FireProtect Rund","80",111.04,{"$f":"G497*(1-VLOOKUP(F497,Konditionen!$B:$D,3,0))","v":111.04}]
["Rohre und Formteile","BFUFP","BFUFP30045","Bogen Segment   BFUFP   300.45","Lindab FireProtect Rund","80",121.49,{"$f":"G498*(1-VLOOKUP(F498,Konditionen!$B:$D,3,0))","v":121.49}]
["Rohre und Formteile","BFUFP","BFUFP30060","Bogen Segment   BFUFP   300.60","Lindab FireProtect Rund","80",150.57,{"$f":"G499*(1-VLOOKUP(F499,Konditionen!$B:$D,3,0))","v":150.57}]
["Rohre und Formteile","BFUFP","BFUFP30090","Bogen Segment   BFUFP   300.90","Lindab FireProtect Rund","80",175.98,{"$f":"G500*(1-VLOOKUP(F500,Konditionen!$B:$D,3,0))","v":175.98}]
["Rohre und Formteile","BFUFP","BFUFP31515","Bogen Segment   BFUFP   315.15","Lindab FireProtect Rund","80",118.13,{"$f":"G501*(1-VLOOKUP(F501,Konditionen!$B:$D,3,0))","v":118.13}]
["Rohre und Formteile","BFUFP","BFUFP31530","Bogen Segment   BFUFP   315.30","Lindab FireProtect Rund","80",120.49,{"$f":"G502*(1-VLOOKUP(F502,Konditionen!$B:$D,3,0))","v":120.49}]
["Rohre und Formteile","BFUFP","BFUFP31545","Bogen Segment   BFUFP   315.45","Lindab FireProtect Rund","80",131.25,{"$f":"G503*(1-VLOOKUP(F503,Konditionen!$B:$D,3,0))","v":131.25}]
["Rohre und Formteile","BFUFP","BFUFP31560","Bogen Segment   BFUFP   315.60","Lindab FireProtect Rund","80",157.87,{"$f":"G504*(1-VLOOKUP(F504,Konditionen!$B:$D,3,0))","v":157.87}]
["Rohre und Formteile","BFUFP","BFUFP31590","Bogen Segment   BFUFP   315.90","Lindab FireProtect Rund","80",190.63,{"$f":"G505*(1-VLOOKUP(F505,Konditionen!$B:$D,3,0))","v":190.63}]
["Rohre und Formteile","BFUFP","BFUFP35515","Bogen Segment   BFUFP   355.15","Lindab FireProtect Rund","80",123.74,{"$f":"G506*(1-VLOOKUP(F506,Konditionen!$B:$D,3,0))","v":123.74}]
["Rohre und Formteile","BFUFP","BFUFP35530","Bogen Segment   BFUFP   355.30","Lindab FireProtect Rund","80",133.30000000000001,{"$f":"G507*(1-VLOOKUP(F507,Konditionen!$B:$D,3,0))","v":133.30000000000001}]
["Rohre und Formteile","BFUFP","BFUFP35545","Bogen Segment   BFUFP   355.45","Lindab FireProtect Rund","80",139.81,{"$f":"G508*(1-VLOOKUP(F508,Konditionen!$B:$D,3,0))","v":139.81}]
["Rohre und Formteile","BFUFP","BFUFP35560","Bogen Segment   BFUFP   355.60","Lindab FireProtect Rund","80",174.04,{"$f":"G509*(1-VLOOKUP(F509,Konditionen!$B:$D,3,0))","v":174.04}]
["Rohre und Formteile","BFUFP","BFUFP35590","Bogen Segment   BFUFP   355.90","Lindab FireProtect Rund","80",204.86,{"$f":"G510*(1-VLOOKUP(F510,Konditionen!$B:$D,3,0))","v":204.86}]
["Rohre und Formteile","BFUFP","BFUFP40015","Bogen Segment   BFUFP   400.15","Lindab FireProtect Rund","80",140.69999999999999,{"$f":"G511*(1-VLOOKUP(F511,Konditionen!$B:$D,3,0))","v":140.69999999999999}]
["Rohre und Formteile","BFUFP","BFUFP40030","Bogen Segment   BFUFP   400.30","Lindab FireProtect Rund","80",141.75,{"$f":"G512*(1-VLOOKUP(F512,Konditionen!$B:$D,3,0))","v":141.75}]
["Rohre und Formteile","BFUFP","BFUFP40045","Bogen Segment   BFUFP   400.45","Lindab FireProtect Rund","80",153.19999999999999,{"$f":"G513*(1-VLOOKUP(F513,Konditionen!$B:$D,3,0))","v":153.19999999999999}]
["Rohre und Formteile","BFUFP","BFUFP40060","Bogen Segment   BFUFP   400.60","Lindab FireProtect Rund","80",185.22,{"$f":"G514*(1-VLOOKUP(F514,Konditionen!$B:$D,3,0))","v":185.22}]
["Rohre und Formteile","BFUFP","BFUFP40090","Bogen Segment   BFUFP   400.90","Lindab FireProtect Rund","80",226.43,{"$f":"G515*(1-VLOOKUP(F515,Konditionen!$B:$D,3,0))","v":226.43}]
["Rohre und Formteile","BFUFP","BFUFP45015","Bogen Segment   BFUFP   450.15","Lindab FireProtect Rund","80",161.91,{"$f":"G516*(1-VLOOKUP(F516,Konditionen!$B:$D,3,0))","v":161.91}]
["Rohre und Formteile","BFUFP","BFUFP45030","Bogen Segment   BFUFP   450.30","Lindab FireProtect Rund","80",167.21,{"$f":"G517*(1-VLOOKUP(F517,Konditionen!$B:$D,3,0))","v":167.21}]
["Rohre und Formteile","BFUFP","BFUFP45045","Bogen Segment   BFUFP   450.45","Lindab FireProtect Rund","80",182.28,{"$f":"G518*(1-VLOOKUP(F518,Konditionen!$B:$D,3,0))","v":182.28}]
["Rohre und Formteile","BFUFP","BFUFP45060","Bogen Segment   BFUFP   450.60","Lindab FireProtect Rund","80",214.83,{"$f":"G519*(1-VLOOKUP(F519,Konditionen!$B:$D,3,0))","v":214.83}]
["Rohre und Formteile","BFUFP","BFUFP45090","Bogen Segment   BFUFP   450.90","Lindab FireProtect Rund","80",262.70999999999998,{"$f":"G520*(1-VLOOKUP(F520,Konditionen!$B:$D,3,0))","v":262.70999999999998}]
["Rohre und Formteile","BFUFP","BFUFP50015","Bogen Segment   BFUFP   500.15","Lindab FireProtect Rund","80",203.33,{"$f":"G521*(1-VLOOKUP(F521,Konditionen!$B:$D,3,0))","v":203.33}]
["Rohre und Formteile","BFUFP","BFUFP50030","Bogen Segment   BFUFP   500.30","Lindab FireProtect Rund","80",206.64,{"$f":"G522*(1-VLOOKUP(F522,Konditionen!$B:$D,3,0))","v":206.64}]
["Rohre und Formteile","BFUFP","BFUFP50045","Bogen Segment   BFUFP   500.45","Lindab FireProtect Rund","80",235.15,{"$f":"G523*(1-VLOOKUP(F523,Konditionen!$B:$D,3,0))","v":235.15}]
["Rohre und Formteile","BFUFP","BFUFP50060","Bogen Segment   BFUFP   500.60","Lindab FireProtect Rund","80",264.86,{"$f":"G524*(1-VLOOKUP(F524,Konditionen!$B:$D,3,0))","v":264.86}]
["Rohre und Formteile","BFUFP","BFUFP50090","Bogen Segment   BFUFP   500.90","Lindab FireProtect Rund","80",323.39999999999998,{"$f":"G525*(1-VLOOKUP(F525,Konditionen!$B:$D,3,0))","v":323.39999999999998}]
["Rohre und Formteile","BFUFP","BFUFP56015","Bogen Segment   BFUFP   560.15","Lindab FireProtect Rund","80",268.22000000000003,{"$f":"G526*(1-VLOOKUP(F526,Konditionen!$B:$D,3,0))","v":268.22000000000003}]
["Rohre und Formteile","BFUFP","BFUFP56030","Bogen Segment   BFUFP   560.30","Lindab FireProtect Rund","80",275.63,{"$f":"G527*(1-VLOOKUP(F527,Konditionen!$B:$D,3,0))","v":275.63}]
["Rohre und Formteile","BFUFP","BFUFP56045","Bogen Segment   BFUFP   560.45","Lindab FireProtect Rund","80",311.85000000000002,{"$f":"G528*(1-VLOOKUP(F528,Konditionen!$B:$D,3,0))","v":311.85000000000002}]
["Rohre und Formteile","BFUFP","BFUFP56060","Bogen Segment   BFUFP   560.60","Lindab FireProtect Rund","80",346.76,{"$f":"G529*(1-VLOOKUP(F529,Konditionen!$B:$D,3,0))","v":346.76}]
["Rohre und Formteile","BFUFP","BFUFP56090","Bogen Segment   BFUFP   560.90","Lindab FireProtect Rund","80",418.74,{"$f":"G530*(1-VLOOKUP(F530,Konditionen!$B:$D,3,0))","v":418.74}]
["Rohre und Formteile","BFUFP","BFUFP60015","Bogen Segment   BFUFP   600.15","Lindab FireProtect Rund","80",326.24,{"$f":"G531*(1-VLOOKUP(F531,Konditionen!$B:$D,3,0))","v":326.24}]
["Rohre und Formteile","BFUFP","BFUFP60030","Bogen Segment   BFUFP   600.30","Lindab FireProtect Rund","80",332.64,{"$f":"G532*(1-VLOOKUP(F532,Konditionen!$B:$D,3,0))","v":332.64}]
["Rohre und Formteile","BFUFP","BFUFP60045","Bogen Segment   BFUFP   600.45","Lindab FireProtect Rund","80",377.21,{"$f":"G533*(1-VLOOKUP(F533,Konditionen!$B:$D,3,0))","v":377.21}]
["Rohre und Formteile","BFUFP","BFUFP60060","Bogen Segment   BFUFP   600.60","Lindab FireProtect Rund","80",421.58,{"$f":"G534*(1-VLOOKUP(F534,Konditionen!$B:$D,3,0))","v":421.58}]
["Rohre und Formteile","BFUFP","BFUFP60090","Bogen Segment   BFUFP   600.90","Lindab FireProtect Rund","80",509.88,{"$f":"G535*(1-VLOOKUP(F535,Konditionen!$B:$D,3,0))","v":509.88}]
["Rohre und Formteile","BFUFP","BFUFP63015","Bogen Segment   BFUFP   630.15","Lindab FireProtect Rund","80",383.25,{"$f":"G536*(1-VLOOKUP(F536,Konditionen!$B:$D,3,0))","v":383.25}]
["Rohre und Formteile","BFUFP","BFUFP63030","Bogen Segment   BFUFP   630.30","Lindab FireProtect Rund","80",393.8,{"$f":"G537*(1-VLOOKUP(F537,Konditionen!$B:$D,3,0))","v":393.8}]
["Rohre und Formteile","BFUFP","BFUFP63045","Bogen Segment   BFUFP   630.45","Lindab FireProtect Rund","80",449.14,{"$f":"G538*(1-VLOOKUP(F538,Konditionen!$B:$D,3,0))","v":449.14}]
["Rohre und Formteile","BFUFP","BFUFP63060","Bogen Segment   BFUFP   630.60","Lindab FireProtect Rund","80",505.58,{"$f":"G539*(1-VLOOKUP(F539,Konditionen!$B:$D,3,0))","v":505.58}]
["Rohre und Formteile","BFUFP","BFUFP63090","Bogen Segment   BFUFP   630.90","Lindab FireProtect Rund","80",613.78,{"$f":"G540*(1-VLOOKUP(F540,Konditionen!$B:$D,3,0))","v":613.78}]
["Rohre und Formteile","BFUFP","BFUFP71015","Bogen Segment   BFUFP   710.15","Lindab FireProtect Rund","80",465.57,{"$f":"G541*(1-VLOOKUP(F541,Konditionen!$B:$D,3,0))","v":465.57}]
["Rohre und Formteile","BFUFP","BFUFP71030","Bogen Segment   BFUFP   710.30","Lindab FireProtect Rund","80",479.38,{"$f":"G542*(1-VLOOKUP(F542,Konditionen!$B:$D,3,0))","v":479.38}]
["Rohre und Formteile","BFUFP","BFUFP71045","Bogen Segment   BFUFP   710.45","Lindab FireProtect Rund","80",546.26,{"$f":"G543*(1-VLOOKUP(F543,Konditionen!$B:$D,3,0))","v":546.26}]
["Rohre und Formteile","BFUFP","BFUFP71060","Bogen Segment   BFUFP   710.60","Lindab FireProtect Rund","80",613.15,{"$f":"G544*(1-VLOOKUP(F544,Konditionen!$B:$D,3,0))","v":613.15}]
["Rohre und Formteile","BFUFP","BFUFP71090","Bogen Segment   BFUFP   710.90","Lindab FireProtect Rund","80",750.07,{"$f":"G545*(1-VLOOKUP(F545,Konditionen!$B:$D,3,0))","v":750.07}]
["Rohre und Formteile","BFUFP","BFUFP80015","Bogen Segment   BFUFP   800.15","Lindab FireProtect Rund","80",572.66999999999996,{"$f":"G546*(1-VLOOKUP(F546,Konditionen!$B:$D,3,0))","v":572.66999999999996}]
["Rohre und Formteile","BFUFP","BFUFP80030","Bogen Segment   BFUFP   800.30","Lindab FireProtect Rund","80",589.41999999999996,{"$f":"G547*(1-VLOOKUP(F547,Konditionen!$B:$D,3,0))","v":589.41999999999996}]
["Rohre und Formteile","BFUFP","BFUFP80045","Bogen Segment   BFUFP   800.45","Lindab FireProtect Rund","80",674.63,{"$f":"G548*(1-VLOOKUP(F548,Konditionen!$B:$D,3,0))","v":674.63}]
["Rohre und Formteile","BFUFP","BFUFP80060","Bogen Segment   BFUFP   800.60","Lindab FireProtect Rund","80",764.72,{"$f":"G549*(1-VLOOKUP(F549,Konditionen!$B:$D,3,0))","v":764.72}]
["Rohre und Formteile","BFUFP","BFUFP80090","Bogen Segment   BFUFP   800.90","Lindab FireProtect Rund","80",931.19,{"$f":"G550*(1-VLOOKUP(F550,Konditionen!$B:$D,3,0))","v":931.19}]
["Rohre und Formteile","BFUFP","BFUFP90015","Bogen Segment   BFUFP   900.15","Lindab FireProtect Rund","80",900.48,{"$f":"G551*(1-VLOOKUP(F551,Konditionen!$B:$D,3,0))","v":900.48}]
["Rohre und Formteile","BFUFP","BFUFP90030","Bogen Segment   BFUFP   900.30","Lindab FireProtect Rund","80",932.35,{"$f":"G552*(1-VLOOKUP(F552,Konditionen!$B:$D,3,0))","v":932.35}]
["Rohre und Formteile","BFUFP","BFUFP90045","Bogen Segment   BFUFP   900.45","Lindab FireProtect Rund","80",1005.64,{"$f":"G553*(1-VLOOKUP(F553,Konditionen!$B:$D,3,0))","v":1005.64}]
["Rohre und Formteile","BFUFP","BFUFP90060","Bogen Segment   BFUFP   900.60","Lindab FireProtect Rund","80",1016.14,{"$f":"G554*(1-VLOOKUP(F554,Konditionen!$B:$D,3,0))","v":1016.14}]
["Rohre und Formteile","BFUFP","BFUFP90090","Bogen Segment   BFUFP   900.90","Lindab FireProtect Rund","80",1123.4000000000001,{"$f":"G555*(1-VLOOKUP(F555,Konditionen!$B:$D,3,0))","v":1123.4000000000001}]
["Rohre und Formteile","BFUV2A","BFUV2A10030","Bogen Segment    BFU V2A    100.30","Edelstahl W.Nr. 1.4301","60",101.59,{"$f":"G556*(1-VLOOKUP(F556,Konditionen!$B:$D,3,0))","v":101.59}]
["Rohre und Formteile","BFUV2A","BFUV2A10045","Bogen Segment    BFU V2A    100.45","Edelstahl W.Nr. 1.4301","60",109.31,{"$f":"G557*(1-VLOOKUP(F557,Konditionen!$B:$D,3,0))","v":109.31}]
["Rohre und Formteile","BFUV2A","BFUV2A10060","Bogen Segment    BFU V2A    100.60","Edelstahl W.Nr. 1.4301","60",119.7,{"$f":"G558*(1-VLOOKUP(F558,Konditionen!$B:$D,3,0))","v":119.7}]
["Rohre und Formteile","BFUV2A","BFUV2A10090","Bogen Segment    BFU V2A    100.90","Edelstahl W.Nr. 1.4301","60",151.03,{"$f":"G559*(1-VLOOKUP(F559,Konditionen!$B:$D,3,0))","v":151.03}]
["Rohre und Formteile","BFUV2A","BFUV2A11230","Bogen Segment    BFU V2A    112.30","Edelstahl W.Nr. 1.4301","60",105.43,{"$f":"G560*(1-VLOOKUP(F560,Konditionen!$B:$D,3,0))","v":105.43}]
["Rohre und Formteile","BFUV2A","BFUV2A11245","Bogen Segment    BFU V2A    112.45","Edelstahl W.Nr. 1.4301","60",115.92,{"$f":"G561*(1-VLOOKUP(F561,Konditionen!$B:$D,3,0))","v":115.92}]
["Rohre und Formteile","BFUV2A","BFUV2A11260","Bogen Segment    BFU V2A    112.60","Edelstahl W.Nr. 1.4301","60",131.46,{"$f":"G562*(1-VLOOKUP(F562,Konditionen!$B:$D,3,0))","v":131.46}]
["Rohre und Formteile","BFUV2A","BFUV2A11290","Bogen Segment    BFU V2A    112.90","Edelstahl W.Nr. 1.4301","60",158.47999999999999,{"$f":"G563*(1-VLOOKUP(F563,Konditionen!$B:$D,3,0))","v":158.47999999999999}]
["Rohre und Formteile","BFUV2A","BFUV2A12530","Bogen Segment    BFU V2A    125.30","Edelstahl W.Nr. 1.4301","60",105.43,{"$f":"G564*(1-VLOOKUP(F564,Konditionen!$B:$D,3,0))","v":105.43}]
["Rohre und Formteile","BFUV2A","BFUV2A12545","Bogen Segment    BFU V2A    125.45","Edelstahl W.Nr. 1.4301","60",115.92,{"$f":"G565*(1-VLOOKUP(F565,Konditionen!$B:$D,3,0))","v":115.92}]
["Rohre und Formteile","BFUV2A","BFUV2A12560","Bogen Segment    BFU V2A    125.60","Edelstahl W.Nr. 1.4301","60",131.46,{"$f":"G566*(1-VLOOKUP(F566,Konditionen!$B:$D,3,0))","v":131.46}]
["Rohre und Formteile","BFUV2A","BFUV2A12590","Bogen Segment    BFU V2A    125.90","Edelstahl W.Nr. 1.4301","60",158.47999999999999,{"$f":"G567*(1-VLOOKUP(F567,Konditionen!$B:$D,3,0))","v":158.47999999999999}]
["Rohre und Formteile","BFUV2A","BFUV2A14030","Bogen Segment    BFU V2A    140.30","Edelstahl W.Nr. 1.4301","60",122.22,{"$f":"G568*(1-VLOOKUP(F568,Konditionen!$B:$D,3,0))","v":122.22}]
["Rohre und Formteile","BFUV2A","BFUV2A14045","Bogen Segment    BFU V2A    140.45","Edelstahl W.Nr. 1.4301","60",129.99,{"$f":"G569*(1-VLOOKUP(F569,Konditionen!$B:$D,3,0))","v":129.99}]
["Rohre und Formteile","BFUV2A","BFUV2A14060","Bogen Segment    BFU V2A    140.60","Edelstahl W.Nr. 1.4301","60",152.4,{"$f":"G570*(1-VLOOKUP(F570,Konditionen!$B:$D,3,0))","v":152.4}]
["Rohre und Formteile","BFUV2A","BFUV2A14090","Bogen Segment    BFU V2A    140.90","Edelstahl W.Nr. 1.4301","60",179.47,{"$f":"G571*(1-VLOOKUP(F571,Konditionen!$B:$D,3,0))","v":179.47}]
["Rohre und Formteile","BFUV2A","BFUV2A15030","Bogen Segment    BFU V2A    150.30","Edelstahl W.Nr. 1.4301","60",122.22,{"$f":"G572*(1-VLOOKUP(F572,Konditionen!$B:$D,3,0))","v":122.22}]
["Rohre und Formteile","BFUV2A","BFUV2A15045","Bogen Segment    BFU V2A    150.45","Edelstahl W.Nr. 1.4301","60",129.99,{"$f":"G573*(1-VLOOKUP(F573,Konditionen!$B:$D,3,0))","v":129.99}]
["Rohre und Formteile","BFUV2A","BFUV2A15060","Bogen Segment    BFU V2A    150.60","Edelstahl W.Nr. 1.4301","60",152.4,{"$f":"G574*(1-VLOOKUP(F574,Konditionen!$B:$D,3,0))","v":152.4}]
["Rohre und Formteile","BFUV2A","BFUV2A15090","Bogen Segment    BFU V2A    150.90","Edelstahl W.Nr. 1.4301","60",179.47,{"$f":"G575*(1-VLOOKUP(F575,Konditionen!$B:$D,3,0))","v":179.47}]
["Rohre und Formteile","BFUV2A","BFUV2A16030","Bogen Segment    BFU V2A    160.30","Edelstahl W.Nr. 1.4301","60",122.22,{"$f":"G576*(1-VLOOKUP(F576,Konditionen!$B:$D,3,0))","v":122.22}]
["Rohre und Formteile","BFUV2A","BFUV2A16045","Bogen Segment    BFU V2A    160.45","Edelstahl W.Nr. 1.4301","60",129.99,{"$f":"G577*(1-VLOOKUP(F577,Konditionen!$B:$D,3,0))","v":129.99}]
["Rohre und Formteile","BFUV2A","BFUV2A16060","Bogen Segment    BFU V2A    160.60","Edelstahl W.Nr. 1.4301","60",152.4,{"$f":"G578*(1-VLOOKUP(F578,Konditionen!$B:$D,3,0))","v":152.4}]
["Rohre und Formteile","BFUV2A","BFUV2A16090","Bogen Segment    BFU V2A    160.90","Edelstahl W.Nr. 1.4301","60",179.47,{"$f":"G579*(1-VLOOKUP(F579,Konditionen!$B:$D,3,0))","v":179.47}]
["Rohre und Formteile","BFUV2A","BFUV2A18030","Bogen Segment    BFU V2A    180.30","Edelstahl W.Nr. 1.4301","60",132.97999999999999,{"$f":"G580*(1-VLOOKUP(F580,Konditionen!$B:$D,3,0))","v":132.97999999999999}]
["Rohre und Formteile","BFUV2A","BFUV2A18045","Bogen Segment    BFU V2A    180.45","Edelstahl W.Nr. 1.4301","60",145.16,{"$f":"G581*(1-VLOOKUP(F581,Konditionen!$B:$D,3,0))","v":145.16}]
["Rohre und Formteile","BFUV2A","BFUV2A18060","Bogen Segment    BFU V2A    180.60","Edelstahl W.Nr. 1.4301","60",167.45,{"$f":"G582*(1-VLOOKUP(F582,Konditionen!$B:$D,3,0))","v":167.45}]
["Rohre und Formteile","BFUV2A","BFUV2A18090","Bogen Segment    BFU V2A    180.90","Edelstahl W.Nr. 1.4301","60",200.78,{"$f":"G583*(1-VLOOKUP(F583,Konditionen!$B:$D,3,0))","v":200.78}]
["Rohre und Formteile","BFUV2A","BFUV2A20030","Bogen Segment    BFU V2A    200.30","Edelstahl W.Nr. 1.4301","60",132.97999999999999,{"$f":"G584*(1-VLOOKUP(F584,Konditionen!$B:$D,3,0))","v":132.97999999999999}]
["Rohre und Formteile","BFUV2A","BFUV2A20045","Bogen Segment    BFU V2A    200.45","Edelstahl W.Nr. 1.4301","60",145.16,{"$f":"G585*(1-VLOOKUP(F585,Konditionen!$B:$D,3,0))","v":145.16}]
["Rohre und Formteile","BFUV2A","BFUV2A20060","Bogen Segment    BFU V2A    200.60","Edelstahl W.Nr. 1.4301","60",167.45,{"$f":"G586*(1-VLOOKUP(F586,Konditionen!$B:$D,3,0))","v":167.45}]
["Rohre und Formteile","BFUV2A","BFUV2A20090","Bogen Segment    BFU V2A    200.90","Edelstahl W.Nr. 1.4301","60",200.78,{"$f":"G587*(1-VLOOKUP(F587,Konditionen!$B:$D,3,0))","v":200.78}]
["Rohre und Formteile","BFUV2A","BFUV2A22430","Bogen Segment    BFU V2A    224.30","Edelstahl W.Nr. 1.4301","60",194.27,{"$f":"G588*(1-VLOOKUP(F588,Konditionen!$B:$D,3,0))","v":194.27}]
["Rohre und Formteile","BFUV2A","BFUV2A22445","Bogen Segment    BFU V2A    224.45","Edelstahl W.Nr. 1.4301","60",205.24,{"$f":"G589*(1-VLOOKUP(F589,Konditionen!$B:$D,3,0))","v":205.24}]
["Rohre und Formteile","BFUV2A","BFUV2A22460","Bogen Segment    BFU V2A    224.60","Edelstahl W.Nr. 1.4301","60",237.04,{"$f":"G590*(1-VLOOKUP(F590,Konditionen!$B:$D,3,0))","v":237.04}]
["Rohre und Formteile","BFUV2A","BFUV2A22490","Bogen Segment    BFU V2A    224.90","Edelstahl W.Nr. 1.4301","60",269.79000000000002,{"$f":"G591*(1-VLOOKUP(F591,Konditionen!$B:$D,3,0))","v":269.79000000000002}]
["Rohre und Formteile","BFUV2A","BFUV2A25030","Bogen Segment    BFU V2A    250.30","Edelstahl W.Nr. 1.4301","60",194.27,{"$f":"G592*(1-VLOOKUP(F592,Konditionen!$B:$D,3,0))","v":194.27}]
["Rohre und Formteile","BFUV2A","BFUV2A25045","Bogen Segment    BFU V2A    250.45","Edelstahl W.Nr. 1.4301","60",205.24,{"$f":"G593*(1-VLOOKUP(F593,Konditionen!$B:$D,3,0))","v":205.24}]
["Rohre und Formteile","BFUV2A","BFUV2A25060","Bogen Segment    BFU V2A    250.60","Edelstahl W.Nr. 1.4301","60",237.04,{"$f":"G594*(1-VLOOKUP(F594,Konditionen!$B:$D,3,0))","v":237.04}]
["Rohre und Formteile","BFUV2A","BFUV2A25090","Bogen Segment    BFU V2A    250.90","Edelstahl W.Nr. 1.4301","60",269.79000000000002,{"$f":"G595*(1-VLOOKUP(F595,Konditionen!$B:$D,3,0))","v":269.79000000000002}]
["Rohre und Formteile","BFUV2A","BFUV2A28030","Bogen Segment    BFU V2A    280.30","Edelstahl W.Nr. 1.4301","60",273.31,{"$f":"G596*(1-VLOOKUP(F596,Konditionen!$B:$D,3,0))","v":273.31}]
["Rohre und Formteile","BFUV2A","BFUV2A28045","Bogen Segment    BFU V2A    280.45","Edelstahl W.Nr. 1.4301","60",280.5,{"$f":"G597*(1-VLOOKUP(F597,Konditionen!$B:$D,3,0))","v":280.5}]
["Rohre und Formteile","BFUV2A","BFUV2A28060","Bogen Segment    BFU V2A   280.60","Edelstahl W.Nr. 1.4301","60",323.22000000000003,{"$f":"G598*(1-VLOOKUP(F598,Konditionen!$B:$D,3,0))","v":323.22000000000003}]
["Rohre und Formteile","BFUV2A","BFUV2A28090","Bogen Segment    BFU V2A     280.90","Edelstahl W.Nr. 1.4301","60",366.98,{"$f":"G599*(1-VLOOKUP(F599,Konditionen!$B:$D,3,0))","v":366.98}]
["Rohre und Formteile","BFUV2A","BFUV2A30030","Bogen Segment    BFU V2A   300.30","Edelstahl W.Nr. 1.4301","60",273.31,{"$f":"G600*(1-VLOOKUP(F600,Konditionen!$B:$D,3,0))","v":273.31}]
["Rohre und Formteile","BFUV2A","BFUV2A30045","Bogen Segment    BFU V2A    300.45","Edelstahl W.Nr. 1.4301","60",280.5,{"$f":"G601*(1-VLOOKUP(F601,Konditionen!$B:$D,3,0))","v":280.5}]
["Rohre und Formteile","BFUV2A","BFUV2A30060","Bogen Segment    BFU V2A    300.60","Edelstahl W.Nr. 1.4301","60",323.22000000000003,{"$f":"G602*(1-VLOOKUP(F602,Konditionen!$B:$D,3,0))","v":323.22000000000003}]
["Rohre und Formteile","BFUV2A","BFUV2A30090","Bogen Segment    BFU V2A    300.90","Edelstahl W.Nr. 1.4301","60",366.98,{"$f":"G603*(1-VLOOKUP(F603,Konditionen!$B:$D,3,0))","v":366.98}]
["Rohre und Formteile","BFUV2A","BFUV2A31530","Bogen Segment    BFU V2A    315.30","Edelstahl W.Nr. 1.4301","60",295.29000000000002,{"$f":"G604*(1-VLOOKUP(F604,Konditionen!$B:$D,3,0))","v":295.29000000000002}]
["Rohre und Formteile","BFUV2A","BFUV2A31545","Bogen Segment    BFU V2A    315.45","Edelstahl W.Nr. 1.4301","60",299.49,{"$f":"G605*(1-VLOOKUP(F605,Konditionen!$B:$D,3,0))","v":299.49}]
["Rohre und Formteile","BFUV2A","BFUV2A31560","Bogen Segment    BFU V2A    315.60","Edelstahl W.Nr. 1.4301","60",347.4,{"$f":"G606*(1-VLOOKUP(F606,Konditionen!$B:$D,3,0))","v":347.4}]
["Rohre und Formteile","BFUV2A","BFUV2A31590","Bogen Segment    BFU V2A    315.90","Edelstahl W.Nr. 1.4301","60",398.26,{"$f":"G607*(1-VLOOKUP(F607,Konditionen!$B:$D,3,0))","v":398.26}]
["Rohre und Formteile","BFUV2A","BFUV2A35530","Bogen Segment    BFU V2A    355.30","Edelstahl W.Nr. 1.4301","60",346.15,{"$f":"G608*(1-VLOOKUP(F608,Konditionen!$B:$D,3,0))","v":346.15}]
["Rohre und Formteile","BFUV2A","BFUV2A35545","Bogen Segment    BFU V2A    355.45","Edelstahl W.Nr. 1.4301","60",349.72,{"$f":"G609*(1-VLOOKUP(F609,Konditionen!$B:$D,3,0))","v":349.72}]
["Rohre und Formteile","BFUV2A","BFUV2A35560","Bogen Segment    BFU V2A   355.60","Edelstahl W.Nr. 1.4301","60",401.78,{"$f":"G610*(1-VLOOKUP(F610,Konditionen!$B:$D,3,0))","v":401.78}]
["Rohre und Formteile","BFUV2A","BFUV2A35590","Bogen Segment    BFU V2A    355.90","Edelstahl W.Nr. 1.4301","60",454.83,{"$f":"G611*(1-VLOOKUP(F611,Konditionen!$B:$D,3,0))","v":454.83}]
["Rohre und Formteile","BFUV2A","BFUV2A40030","Bogen Segment    BFU V2A    400.30","Edelstahl W.Nr. 1.4301","60",423.71,{"$f":"G612*(1-VLOOKUP(F612,Konditionen!$B:$D,3,0))","v":423.71}]
["Rohre und Formteile","BFUV2A","BFUV2A40045","Bogen Segment    BFU V2A    400.45","Edelstahl W.Nr. 1.4301","60",430.95,{"$f":"G613*(1-VLOOKUP(F613,Konditionen!$B:$D,3,0))","v":430.95}]
["Rohre und Formteile","BFUV2A","BFUV2A40060","Bogen Segment    BFU V2A    400.60","Edelstahl W.Nr. 1.4301","60",500.28,{"$f":"G614*(1-VLOOKUP(F614,Konditionen!$B:$D,3,0))","v":500.28}]
["Rohre und Formteile","BFUV2A","BFUV2A40090","Bogen Segment    BFU V2A    400.90","Edelstahl W.Nr. 1.4301","60",567.92999999999995,{"$f":"G615*(1-VLOOKUP(F615,Konditionen!$B:$D,3,0))","v":567.92999999999995}]
["Rohre und Formteile","BFUV2A","BFUV2A45030","Bogen Segment    BFU V2A    450.30","Edelstahl W.Nr. 1.4301","60",518.33000000000004,{"$f":"G616*(1-VLOOKUP(F616,Konditionen!$B:$D,3,0))","v":518.33000000000004}]
["Rohre und Formteile","BFUV2A","BFUV2A45045","Bogen Segment    BFU V2A    450.45","Edelstahl W.Nr. 1.4301","60",528.25,{"$f":"G617*(1-VLOOKUP(F617,Konditionen!$B:$D,3,0))","v":528.25}]
["Rohre und Formteile","BFUV2A","BFUV2A45060","Bogen Segment    BFU V2A    450.60","Edelstahl W.Nr. 1.4301","60",635.04,{"$f":"G618*(1-VLOOKUP(F618,Konditionen!$B:$D,3,0))","v":635.04}]
["Rohre und Formteile","BFUV2A","BFUV2A45090","Bogen Segment    BFU V2A    450.90","Edelstahl W.Nr. 1.4301","60",690.62,{"$f":"G619*(1-VLOOKUP(F619,Konditionen!$B:$D,3,0))","v":690.62}]
["Rohre und Formteile","BFUV2A","BFUV2A50030","Bogen Segment    BFU V2A    500.30","Edelstahl W.Nr. 1.4301","60",609.42999999999995,{"$f":"G620*(1-VLOOKUP(F620,Konditionen!$B:$D,3,0))","v":609.42999999999995}]
["Rohre und Formteile","BFUV2A","BFUV2A50045","Bogen Segment    BFU V2A    500.45","Edelstahl W.Nr. 1.4301","60",625.13,{"$f":"G621*(1-VLOOKUP(F621,Konditionen!$B:$D,3,0))","v":625.13}]
["Rohre und Formteile","BFUV2A","BFUV2A50060","Bogen Segment   BFU V2A    500.60","Edelstahl W.Nr. 1.4301","60",721.89,{"$f":"G622*(1-VLOOKUP(F622,Konditionen!$B:$D,3,0))","v":721.89}]
["Rohre und Formteile","BFUV2A","BFUV2A50090","Bogen Segment    BFU V2A    500.90","Edelstahl W.Nr. 1.4301","60",813.84,{"$f":"G623*(1-VLOOKUP(F623,Konditionen!$B:$D,3,0))","v":813.84}]
["Rohre und Formteile","BFUV2A","BFUV2A56030","Bogen Segment    BFU V2A    560.30","Edelstahl W.Nr. 1.4301","60",750.5,{"$f":"G624*(1-VLOOKUP(F624,Konditionen!$B:$D,3,0))","v":750.5}]
["Rohre und Formteile","BFUV2A","BFUV2A56045","Bogen Segment    BFU V2A    560.45","Edelstahl W.Nr. 1.4301","60",773.44,{"$f":"G625*(1-VLOOKUP(F625,Konditionen!$B:$D,3,0))","v":773.44}]
["Rohre und Formteile","BFUV2A","BFUV2A56060","Bogen Segment    BFU V2A   560.60","Edelstahl W.Nr. 1.4301","60",894.71,{"$f":"G626*(1-VLOOKUP(F626,Konditionen!$B:$D,3,0))","v":894.71}]
["Rohre und Formteile","BFUV2A","BFUV2A56090","Bogen Segment    BFU V2A    560.90","Edelstahl W.Nr. 1.4301","60",1001.34,{"$f":"G627*(1-VLOOKUP(F627,Konditionen!$B:$D,3,0))","v":1001.34}]
["Rohre und Formteile","BFUV2A","BFUV2A60030","Bogen Segment    BFU V2A    600.30","Edelstahl W.Nr. 1.4301","60",920.16,{"$f":"G628*(1-VLOOKUP(F628,Konditionen!$B:$D,3,0))","v":920.16}]
["Rohre und Formteile","BFUV2A","BFUV2A60045","Bogen Segment    BFU V2A    600.45","Edelstahl W.NR. 1.4301","60",954.59,{"$f":"G629*(1-VLOOKUP(F629,Konditionen!$B:$D,3,0))","v":954.59}]
["Rohre und Formteile","BFUV2A","BFUV2A60060","Bogen Segment    BFU V2A    600.60","Edelstahl W.Nr. 1.4301","60",1104.3599999999999,{"$f":"G630*(1-VLOOKUP(F630,Konditionen!$B:$D,3,0))","v":1104.3599999999999}]
["Rohre und Formteile","BFUV2A","BFUV2A60090","Bogen Segment    BFU V2A    600.90","Edelstahl W.Nr. 1.4301","60",1238.08,{"$f":"G631*(1-VLOOKUP(F631,Konditionen!$B:$D,3,0))","v":1238.08}]
["Rohre und Formteile","BFUV2A","BFUV2A63030","Bogen Segment    BFU V2A    630.30","Edelstahl W.Nr. 1.4301","60",1031.0999999999999,{"$f":"G632*(1-VLOOKUP(F632,Konditionen!$B:$D,3,0))","v":1031.0999999999999}]
["Rohre und Formteile","BFUV2A","BFUV2A63045","Bogen Segment    BFU V2A    630.45","Edelstahl W.Nr. 1.4301","60",1054.46,{"$f":"G633*(1-VLOOKUP(F633,Konditionen!$B:$D,3,0))","v":1054.46}]
["Rohre und Formteile","BFUV2A","BFUV2A63060","Bogen Segment    BFU V2A    630.60","Edelstahl W.Nr. 1.4301","60",1221.3900000000001,{"$f":"G634*(1-VLOOKUP(F634,Konditionen!$B:$D,3,0))","v":1221.3900000000001}]
["Rohre und Formteile","BFUV2A","BFUV2A63090","Bogen Segment    BFU V2A    630.90","Edelstahl W.Nr. 1.4301","60",1371.43,{"$f":"G635*(1-VLOOKUP(F635,Konditionen!$B:$D,3,0))","v":1371.43}]
["Rohre und Formteile","BFUV2A","BFUV2A71030","Bogen Segment    BFU V2A    710.30","Edelstahl W.Nr. 1.4301","60",1291.82,{"$f":"G636*(1-VLOOKUP(F636,Konditionen!$B:$D,3,0))","v":1291.82}]
["Rohre und Formteile","BFUV2A","BFUV2A71045","Bogen Segment    BFU V2A   710.45","Edelstahl W.Nr. 1.4301","60",1337.53,{"$f":"G637*(1-VLOOKUP(F637,Konditionen!$B:$D,3,0))","v":1337.53}]
["Rohre und Formteile","BFUV2A","BFUV2A71060","Bogen Segment    BFU V2A    710.60","Edelstahl W.Nr. 1.4301","60",1584.87,{"$f":"G638*(1-VLOOKUP(F638,Konditionen!$B:$D,3,0))","v":1584.87}]
["Rohre und Formteile","BFUV2A","BFUV2A71090","Bogen Segment    BFU V2A    710.90","Edelstahl W.Nr. 1.4301","60",1736.21,{"$f":"G639*(1-VLOOKUP(F639,Konditionen!$B:$D,3,0))","v":1736.21}]
["Rohre und Formteile","BFUV2A","BFUV2A80030","Bogen Segment    BFU V2A    800.30","Edelstahl W.Nr. 1.4301","60",1569.59,{"$f":"G640*(1-VLOOKUP(F640,Konditionen!$B:$D,3,0))","v":1569.59}]
["Rohre und Formteile","BFUV2A","BFUV2A80045","Bogen Segment    BFU V2A    800.45","Edelstahl W.Nr. 1.4301","60",1602.39,{"$f":"G641*(1-VLOOKUP(F641,Konditionen!$B:$D,3,0))","v":1602.39}]
["Rohre und Formteile","BFUV2A","BFUV2A80060","Bogen Segment    BFU V2A    800.60","Edelstahl W.Nr. 1.4301","60",1909.07,{"$f":"G642*(1-VLOOKUP(F642,Konditionen!$B:$D,3,0))","v":1909.07}]
["Rohre und Formteile","BFUV2A","BFUV2A80090","Bogen Segment    BFU V2A    800.90","Edelstahl W.Nr. 1.4301","60",2113.11,{"$f":"G643*(1-VLOOKUP(F643,Konditionen!$B:$D,3,0))","v":2113.11}]
["Rohre und Formteile","BFUV2A","BFUV2A90030","Bogen Segment   BFU V2A   900.30","Edelstahl W.Nr. 1.4301","60",2226.15,{"$f":"G644*(1-VLOOKUP(F644,Konditionen!$B:$D,3,0))","v":2226.15}]
["Rohre und Formteile","BFUV2A","BFUV2A90045","Bogen Segment   BFU V2A    900.45","Edelstahl W.Nr. 1.4301","60",2258.9499999999998,{"$f":"G645*(1-VLOOKUP(F645,Konditionen!$B:$D,3,0))","v":2258.9499999999998}]
["Rohre und Formteile","BFUV2A","BFUV2A90060","Bogen Segment    BFU V2A    900.60","Edelstahl W.Nr. 1.4301","60",2721.66,{"$f":"G646*(1-VLOOKUP(F646,Konditionen!$B:$D,3,0))","v":2721.66}]
["Rohre und Formteile","BFUV2A","BFUV2A90090","Bogen Segment    BFU V2A    900.90","Edelstahl W.Nr. 1.4301","60",2773.25,{"$f":"G647*(1-VLOOKUP(F647,Konditionen!$B:$D,3,0))","v":2773.25}]
["Rohre und Formteile","BFU","BFU100015","Bogen Segment    BFU      1000.15",null,"30",693.03,{"$f":"G648*(1-VLOOKUP(F648,Konditionen!$B:$D,3,0))","v":693.03}]
["Rohre und Formteile","BFU","BFU100030","Bogen Segment    BFU      1000.30",null,"30",716.22,{"$f":"G649*(1-VLOOKUP(F649,Konditionen!$B:$D,3,0))","v":716.22}]
["Rohre und Formteile","BFU","BFU100045","Bogen Segment    BFU      1000.45",null,"30",888.26,{"$f":"G650*(1-VLOOKUP(F650,Konditionen!$B:$D,3,0))","v":888.26}]
["Rohre und Formteile","BFU","BFU100060","Bogen Segment    BFU      1000.60",null,"30",989.43,{"$f":"G651*(1-VLOOKUP(F651,Konditionen!$B:$D,3,0))","v":989.43}]
["Rohre und Formteile","BFU","BFU100090","Bogen Segment    BFU      1000.90",null,"30",1025.96,{"$f":"G652*(1-VLOOKUP(F652,Konditionen!$B:$D,3,0))","v":1025.96}]
["Rohre und Formteile","BFU","BFU10015","Bogen Segment    BFU       100.15",null,"30",33.06,{"$f":"G653*(1-VLOOKUP(F653,Konditionen!$B:$D,3,0))","v":33.06}]
["Rohre und Formteile","BFU","BFU10030","Bogen Segment    BFU       100.30",null,"30",33.06,{"$f":"G654*(1-VLOOKUP(F654,Konditionen!$B:$D,3,0))","v":33.06}]
["Rohre und Formteile","BFU","BFU10045","Bogen Segment    BFU       100.45",null,"30",36.1,{"$f":"G655*(1-VLOOKUP(F655,Konditionen!$B:$D,3,0))","v":36.1}]
["Rohre und Formteile","BFU","BFU10060","Bogen Segment   BFU       100.60",null,"30",41.77,{"$f":"G656*(1-VLOOKUP(F656,Konditionen!$B:$D,3,0))","v":41.77}]
["Rohre und Formteile","BFU","BFU10090","Bogen Segment    BFU       100.90",null,"30",52.58,{"$f":"G657*(1-VLOOKUP(F657,Konditionen!$B:$D,3,0))","v":52.58}]
["Rohre und Formteile","BFU","BFU112015","Bogen Segment    BFU      1120.15",null,"30",814.79,{"$f":"G658*(1-VLOOKUP(F658,Konditionen!$B:$D,3,0))","v":814.79}]
["Rohre und Formteile","BFU","BFU112030","Bogen Segment    BFU      1120.30",null,"30",898.22,{"$f":"G659*(1-VLOOKUP(F659,Konditionen!$B:$D,3,0))","v":898.22}]
["Rohre und Formteile","BFU","BFU112045","Bogen Segment    BFU      1120.45",null,"30",1117.3800000000001,{"$f":"G660*(1-VLOOKUP(F660,Konditionen!$B:$D,3,0))","v":1117.3800000000001}]
["Rohre und Formteile","BFU","BFU112060","Bogen Segment    BFU      1120.60",null,"30",1245.22,{"$f":"G661*(1-VLOOKUP(F661,Konditionen!$B:$D,3,0))","v":1245.22}]
["Rohre und Formteile","BFU","BFU112090","Bogen Segment    BFU      1120.90",null,"30",1312.6,{"$f":"G662*(1-VLOOKUP(F662,Konditionen!$B:$D,3,0))","v":1312.6}]
["Rohre und Formteile","BFU","BFU11215","Bogen Segment   BFU       112.15",null,"30",33.79,{"$f":"G663*(1-VLOOKUP(F663,Konditionen!$B:$D,3,0))","v":33.79}]
["Rohre und Formteile","BFU","BFU11230","Bogen Segment    BFU       112.30",null,"30",33.79,{"$f":"G664*(1-VLOOKUP(F664,Konditionen!$B:$D,3,0))","v":33.79}]
["Rohre und Formteile","BFU","BFU11245","Bogen Segment    BFU       112.45",null,"30",39.35,{"$f":"G665*(1-VLOOKUP(F665,Konditionen!$B:$D,3,0))","v":39.35}]
["Rohre und Formteile","BFU","BFU11260","Bogen Segment    BFU       112.60",null,"30",44.71,{"$f":"G666*(1-VLOOKUP(F666,Konditionen!$B:$D,3,0))","v":44.71}]
["Rohre und Formteile","BFU","BFU11290","Bogen Segment    BFU       112.90",null,"30",55.83,{"$f":"G667*(1-VLOOKUP(F667,Konditionen!$B:$D,3,0))","v":55.83}]
["Rohre und Formteile","BFU","BFU125015","Bogen Segment    BFU      1250.15",null,"30",1041.49,{"$f":"G668*(1-VLOOKUP(F668,Konditionen!$B:$D,3,0))","v":1041.49}]
["Rohre und Formteile","BFU","BFU125030","Bogen Segment    BFU      1250.30",null,"30",1084.21,{"$f":"G669*(1-VLOOKUP(F669,Konditionen!$B:$D,3,0))","v":1084.21}]
["Rohre und Formteile","BFU","BFU125045","Bogen Segment    BFU      1250.45",null,"30",1354.26,{"$f":"G670*(1-VLOOKUP(F670,Konditionen!$B:$D,3,0))","v":1354.26}]
["Rohre und Formteile","BFU","BFU125060","Bogen Segment      BFU      1250.60",null,"30",1507.61,{"$f":"G671*(1-VLOOKUP(F671,Konditionen!$B:$D,3,0))","v":1507.61}]
["Rohre und Formteile","BFU","BFU125090","Bogen Segment    BFU      1250.90",null,"30",1592.31,{"$f":"G672*(1-VLOOKUP(F672,Konditionen!$B:$D,3,0))","v":1592.31}]
["Rohre und Formteile","BFU","BFU12515","Bogen Segment    BFU       125.15",null,"30",33.79,{"$f":"G673*(1-VLOOKUP(F673,Konditionen!$B:$D,3,0))","v":33.79}]
["Rohre und Formteile","BFU","BFU12530","Bogen Segment    BFU       125.30",null,"30",33.79,{"$f":"G674*(1-VLOOKUP(F674,Konditionen!$B:$D,3,0))","v":33.79}]
["Rohre und Formteile","BFU","BFU12545","Bogen Segment    BFU       125.45",null,"30",39.35,{"$f":"G675*(1-VLOOKUP(F675,Konditionen!$B:$D,3,0))","v":39.35}]
["Rohre und Formteile","BFU","BFU12560","Bogen Segment    BFU       125.60",null,"30",44.71,{"$f":"G676*(1-VLOOKUP(F676,Konditionen!$B:$D,3,0))","v":44.71}]
["Rohre und Formteile","BFU","BFU12590","Bogen Segment    BFU       125.90",null,"30",55.83,{"$f":"G677*(1-VLOOKUP(F677,Konditionen!$B:$D,3,0))","v":55.83}]
["Rohre und Formteile","BFU","BFU14015","Bogen Segment    BFU       140.15",null,"30",40.93,{"$f":"G678*(1-VLOOKUP(F678,Konditionen!$B:$D,3,0))","v":40.93}]
["Rohre und Formteile","BFU","BFU14030","Bogen Segment    BFU       140.30",null,"30",40.93,{"$f":"G679*(1-VLOOKUP(F679,Konditionen!$B:$D,3,0))","v":40.93}]
["Rohre und Formteile","BFU","BFU14045","Bogen Segment    BFU       140.45",null,"30",44.29,{"$f":"G680*(1-VLOOKUP(F680,Konditionen!$B:$D,3,0))","v":44.29}]
["Rohre und Formteile","BFU","BFU14060","Bogen Segment    BFU       140.60",null,"30",52.79,{"$f":"G681*(1-VLOOKUP(F681,Konditionen!$B:$D,3,0))","v":52.79}]
["Rohre und Formteile","BFU","BFU14090","Bogen Segment    BFU       140.90",null,"30",63.81,{"$f":"G682*(1-VLOOKUP(F682,Konditionen!$B:$D,3,0))","v":63.81}]
["Rohre und Formteile","BFU","BFU15015","Bogen Segment   BFU       150.15",null,"30",40.93,{"$f":"G683*(1-VLOOKUP(F683,Konditionen!$B:$D,3,0))","v":40.93}]
["Rohre und Formteile","BFU","BFU15030","Bogen Segment    BFU       150.30",null,"30",40.93,{"$f":"G684*(1-VLOOKUP(F684,Konditionen!$B:$D,3,0))","v":40.93}]
["Rohre und Formteile","BFU","BFU15045","Bogen Segment    BFU       150.45",null,"30",44.29,{"$f":"G685*(1-VLOOKUP(F685,Konditionen!$B:$D,3,0))","v":44.29}]
["Rohre und Formteile","BFU","BFU15060","Bogen Segment    BFU       150.60",null,"30",52.79,{"$f":"G686*(1-VLOOKUP(F686,Konditionen!$B:$D,3,0))","v":52.79}]
["Rohre und Formteile","BFU","BFU15090","Bogen Segment    BFU       150.90",null,"30",63.81,{"$f":"G687*(1-VLOOKUP(F687,Konditionen!$B:$D,3,0))","v":63.81}]
["Rohre und Formteile","BFU","BFU16015","Bogen Segment    BFU       160.15",null,"30",40.93,{"$f":"G688*(1-VLOOKUP(F688,Konditionen!$B:$D,3,0))","v":40.93}]
["Rohre und Formteile","BFU","BFU16030","Bogen Segment    BFU       160.30",null,"30",40.93,{"$f":"G689*(1-VLOOKUP(F689,Konditionen!$B:$D,3,0))","v":40.93}]
["Rohre und Formteile","BFU","BFU16045","Bogen Segment    BFU       160.45",null,"30",44.29,{"$f":"G690*(1-VLOOKUP(F690,Konditionen!$B:$D,3,0))","v":44.29}]
["Rohre und Formteile","BFU","BFU16060","Bogen Segment    BFU       160.60",null,"30",52.79,{"$f":"G691*(1-VLOOKUP(F691,Konditionen!$B:$D,3,0))","v":52.79}]
["Rohre und Formteile","BFU","BFU16090","Bogen Segment    BFU       160.90",null,"30",63.81,{"$f":"G692*(1-VLOOKUP(F692,Konditionen!$B:$D,3,0))","v":63.81}]
["Rohre und Formteile","BFU","BFU18015","Bogen Segment    BFU       180.15",null,"30",46.39,{"$f":"G693*(1-VLOOKUP(F693,Konditionen!$B:$D,3,0))","v":46.39}]
["Rohre und Formteile","BFU","BFU18030","Bogen Segment    BFU       180.30",null,"30",46.39,{"$f":"G694*(1-VLOOKUP(F694,Konditionen!$B:$D,3,0))","v":46.39}]
["Rohre und Formteile","BFU","BFU18045","Bogen Segment    BFU       180.45",null,"30",51.85,{"$f":"G695*(1-VLOOKUP(F695,Konditionen!$B:$D,3,0))","v":51.85}]
["Rohre und Formteile","BFU","BFU18060","Bogen Segment    BFU       180.60",null,"30",60.56,{"$f":"G696*(1-VLOOKUP(F696,Konditionen!$B:$D,3,0))","v":60.56}]
["Rohre und Formteile","BFU","BFU18090","Bogen Segment    BFU       180.90",null,"30",83.22,{"$f":"G697*(1-VLOOKUP(F697,Konditionen!$B:$D,3,0))","v":83.22}]
["Rohre und Formteile","BFU","BFU20015","Bogen Segment    BFU       200.15",null,"30",46.39,{"$f":"G698*(1-VLOOKUP(F698,Konditionen!$B:$D,3,0))","v":46.39}]
["Rohre und Formteile","BFU","BFU20030","Bogen Segment    BFU       200.30",null,"30",46.39,{"$f":"G699*(1-VLOOKUP(F699,Konditionen!$B:$D,3,0))","v":46.39}]
["Rohre und Formteile","BFU","BFU20045","Bogen Segment    BFU       200.45",null,"30",51.85,{"$f":"G700*(1-VLOOKUP(F700,Konditionen!$B:$D,3,0))","v":51.85}]
["Rohre und Formteile","BFU","BFU20060","Bogen Segment    BFU       200.60",null,"30",60.56,{"$f":"G701*(1-VLOOKUP(F701,Konditionen!$B:$D,3,0))","v":60.56}]
["Rohre und Formteile","BFU","BFU20090","Bogen Segment    BFU       200.90",null,"30",83.22,{"$f":"G702*(1-VLOOKUP(F702,Konditionen!$B:$D,3,0))","v":83.22}]
["Rohre und Formteile","BFU","BFU22415","Bogen Segment    BFU       224.15",null,"30",59.93,{"$f":"G703*(1-VLOOKUP(F703,Konditionen!$B:$D,3,0))","v":59.93}]
["Rohre und Formteile","BFU","BFU22430","Bogen Segment    BFU       224.30","** Produktionsumstellung ab 15.10.:","30",59.93,{"$f":"G704*(1-VLOOKUP(F704,Konditionen!$B:$D,3,0))","v":59.93}]
["Rohre und Formteile","BFU","BFU22445","Bogen Segment    BFU       224.45","** Produktionsumstellung ab 15.10.:","30",63.91,{"$f":"G705*(1-VLOOKUP(F705,Konditionen!$B:$D,3,0))","v":63.91}]
["Rohre und Formteile","BFU","BFU22460","Bogen Segment    BFU       224.60","** Produktionsumstellung ab 15.10.:","30",81.23,{"$f":"G706*(1-VLOOKUP(F706,Konditionen!$B:$D,3,0))","v":81.23}]
["Rohre und Formteile","BFU","BFU22490","Bogen Segment    BFU       224.90","** Produktionsumstellung ab 15.10.:","30",93.62,{"$f":"G707*(1-VLOOKUP(F707,Konditionen!$B:$D,3,0))","v":93.62}]
["Rohre und Formteile","BFU","BFU25015","Bogen Segment    BFU       250.15",null,"30",59.93,{"$f":"G708*(1-VLOOKUP(F708,Konditionen!$B:$D,3,0))","v":59.93}]
["Rohre und Formteile","BFU","BFU25030","Bogen Segment    BFU       250.30","** Produktionsumstellung ab 15.10.:","30",59.93,{"$f":"G709*(1-VLOOKUP(F709,Konditionen!$B:$D,3,0))","v":59.93}]
["Rohre und Formteile","BFU","BFU25045","Bogen Segment    BFU       250.45","** Produktionsumstellung ab 15.10.:","30",63.91,{"$f":"G710*(1-VLOOKUP(F710,Konditionen!$B:$D,3,0))","v":63.91}]
["Rohre und Formteile","BFU","BFU25060","Bogen Segment    BFU       250.60","** Produktionsumstellung ab 15.10.:","30",81.23,{"$f":"G711*(1-VLOOKUP(F711,Konditionen!$B:$D,3,0))","v":81.23}]
["Rohre und Formteile","BFU","BFU25090","Bogen Segment    BFU       250.90","** Produktionsumstellung ab 15.10.:","30",93.62,{"$f":"G712*(1-VLOOKUP(F712,Konditionen!$B:$D,3,0))","v":93.62}]
["Rohre und Formteile","BFU","BFU28015","Bogen Segment    BFU       280.15",null,"30",75.459999999999994,{"$f":"G713*(1-VLOOKUP(F713,Konditionen!$B:$D,3,0))","v":75.459999999999994}]
["Rohre und Formteile","BFU","BFU28030","Bogen Segment    BFU       280.30",null,"30",75.459999999999994,{"$f":"G714*(1-VLOOKUP(F714,Konditionen!$B:$D,3,0))","v":75.459999999999994}]
["Rohre und Formteile","BFU","BFU28045","Bogen Segment    BFU       280.45",null,"30",82.6,{"$f":"G715*(1-VLOOKUP(F715,Konditionen!$B:$D,3,0))","v":82.6}]
["Rohre und Formteile","BFU","BFU28060","Bogen Segment    BFU       280.60",null,"30",102.22,{"$f":"G716*(1-VLOOKUP(F716,Konditionen!$B:$D,3,0))","v":102.22}]
["Rohre und Formteile","BFU","BFU28090","Bogen Segment    BFU       280.90",null,"30",119.54,{"$f":"G717*(1-VLOOKUP(F717,Konditionen!$B:$D,3,0))","v":119.54}]
["Rohre und Formteile","BFU","BFU30015","Bogen Segment    BFU       300.15",null,"30",75.459999999999994,{"$f":"G718*(1-VLOOKUP(F718,Konditionen!$B:$D,3,0))","v":75.459999999999994}]
["Rohre und Formteile","BFU","BFU30030","Bogen Segment    BFU       300.30",null,"30",75.459999999999994,{"$f":"G719*(1-VLOOKUP(F719,Konditionen!$B:$D,3,0))","v":75.459999999999994}]
["Rohre und Formteile","BFU","BFU30045","Bogen Segment    BFU       300.45",null,"30",82.6,{"$f":"G720*(1-VLOOKUP(F720,Konditionen!$B:$D,3,0))","v":82.6}]
["Rohre und Formteile","BFU","BFU30060","Bogen Segment    BFU       300.60",null,"30",102.22,{"$f":"G721*(1-VLOOKUP(F721,Konditionen!$B:$D,3,0))","v":102.22}]
["Rohre und Formteile","BFU","BFU30090","Bogen Segment    BFU       300.90",null,"30",119.54,{"$f":"G722*(1-VLOOKUP(F722,Konditionen!$B:$D,3,0))","v":119.54}]
["Rohre und Formteile","BFU","BFU31515","Bogen Segment    BFU       315.15",null,"30",80.08,{"$f":"G723*(1-VLOOKUP(F723,Konditionen!$B:$D,3,0))","v":80.08}]
["Rohre und Formteile","BFU","BFU31530","Bogen Segment    BFU       315.30",null,"30",81.75,{"$f":"G724*(1-VLOOKUP(F724,Konditionen!$B:$D,3,0))","v":81.75}]
["Rohre und Formteile","BFU","BFU31545","Bogen Segment    BFU       315.45",null,"30",89,{"$f":"G725*(1-VLOOKUP(F725,Konditionen!$B:$D,3,0))","v":89}]
["Rohre und Formteile","BFU","BFU31560","Bogen Segment    BFU       315.60",null,"30",107.16,{"$f":"G726*(1-VLOOKUP(F726,Konditionen!$B:$D,3,0))","v":107.16}]
["Rohre und Formteile","BFU","BFU31590","Bogen Segment    BFU       315.90",null,"30",129.41,{"$f":"G727*(1-VLOOKUP(F727,Konditionen!$B:$D,3,0))","v":129.41}]
["Rohre und Formteile","BFU","BFU35515","Bogen Segment    BFU       355.15",null,"30",82.39,{"$f":"G728*(1-VLOOKUP(F728,Konditionen!$B:$D,3,0))","v":82.39}]
["Rohre und Formteile","BFU","BFU35530","Bogen Segment    BFU       355.30",null,"30",88.79,{"$f":"G729*(1-VLOOKUP(F729,Konditionen!$B:$D,3,0))","v":88.79}]
["Rohre und Formteile","BFU","BFU35545","Bogen Segment    BFU       355.45",null,"30",93.2,{"$f":"G730*(1-VLOOKUP(F730,Konditionen!$B:$D,3,0))","v":93.2}]
["Rohre und Formteile","BFU","BFU35560","Bogen Segment    BFU       355.60",null,"30",115.76,{"$f":"G731*(1-VLOOKUP(F731,Konditionen!$B:$D,3,0))","v":115.76}]
["Rohre und Formteile","BFU","BFU35590","Bogen Segment    BFU       355.90",null,"30",136.33000000000001,{"$f":"G732*(1-VLOOKUP(F732,Konditionen!$B:$D,3,0))","v":136.33000000000001}]
["Rohre und Formteile","BFU","BFU40015","Bogen Segment    BFU       400.15",null,"30",93.62,{"$f":"G733*(1-VLOOKUP(F733,Konditionen!$B:$D,3,0))","v":93.62}]
["Rohre und Formteile","BFU","BFU40030","Bogen Segment    BFU       400.30",null,"30",94.35,{"$f":"G734*(1-VLOOKUP(F734,Konditionen!$B:$D,3,0))","v":94.35}]
["Rohre und Formteile","BFU","BFU40045","Bogen Segment    BFU       400.45",null,"30",102.01,{"$f":"G735*(1-VLOOKUP(F735,Konditionen!$B:$D,3,0))","v":102.01}]
["Rohre und Formteile","BFU","BFU40060","Bogen Segment    BFU       400.60",null,"30",123.32,{"$f":"G736*(1-VLOOKUP(F736,Konditionen!$B:$D,3,0))","v":123.32}]
["Rohre und Formteile","BFU","BFU40090","Bogen Segment    BFU       400.90",null,"30",150.82,{"$f":"G737*(1-VLOOKUP(F737,Konditionen!$B:$D,3,0))","v":150.82}]
["Rohre und Formteile","BFU","BFU45015","Bogen Segment    BFU       450.15",null,"30",108,{"$f":"G738*(1-VLOOKUP(F738,Konditionen!$B:$D,3,0))","v":108}]
["Rohre und Formteile","BFU","BFU45030","Bogen Segment    BFU       450.30",null,"30",111.35,{"$f":"G739*(1-VLOOKUP(F739,Konditionen!$B:$D,3,0))","v":111.35}]
["Rohre und Formteile","BFU","BFU45045","Bogen Segment    BFU       450.45",null,"30",121.33,{"$f":"G740*(1-VLOOKUP(F740,Konditionen!$B:$D,3,0))","v":121.33}]
["Rohre und Formteile","BFU","BFU45060","Bogen Segment    BFU       450.60",null,"30",143.06,{"$f":"G741*(1-VLOOKUP(F741,Konditionen!$B:$D,3,0))","v":143.06}]
["Rohre und Formteile","BFU","BFU45090","Bogen Segment    BFU       450.90",null,"30",175.06,{"$f":"G742*(1-VLOOKUP(F742,Konditionen!$B:$D,3,0))","v":175.06}]
["Rohre und Formteile","BFU","BFU50015","Bogen Segment    BFU       500.15",null,"30",135.38999999999999,{"$f":"G743*(1-VLOOKUP(F743,Konditionen!$B:$D,3,0))","v":135.38999999999999}]
["Rohre und Formteile","BFU","BFU50030","Bogen Segment    BFU       500.30",null,"30",137.6,{"$f":"G744*(1-VLOOKUP(F744,Konditionen!$B:$D,3,0))","v":137.6}]
["Rohre und Formteile","BFU","BFU50045","Bogen Segment    BFU       500.45",null,"30",156.49,{"$f":"G745*(1-VLOOKUP(F745,Konditionen!$B:$D,3,0))","v":156.49}]
["Rohre und Formteile","BFU","BFU50060","Bogen Segment    BFU       500.60",null,"30",176.33,{"$f":"G746*(1-VLOOKUP(F746,Konditionen!$B:$D,3,0))","v":176.33}]
["Rohre und Formteile","BFU","BFU50090","Bogen Segment    BFU       500.90",null,"30",215.26,{"$f":"G747*(1-VLOOKUP(F747,Konditionen!$B:$D,3,0))","v":215.26}]
["Rohre und Formteile","BFU","BFU56015","Bogen Segment    BFU       560.15",null,"30",178.53,{"$f":"G748*(1-VLOOKUP(F748,Konditionen!$B:$D,3,0))","v":178.53}]
["Rohre und Formteile","BFU","BFU56030","Bogen Segment    BFU       560.30",null,"30",183.57,{"$f":"G749*(1-VLOOKUP(F749,Konditionen!$B:$D,3,0))","v":183.57}]
["Rohre und Formteile","BFU","BFU56045","Bogen Segment    BFU       560.45",null,"30",207.7,{"$f":"G750*(1-VLOOKUP(F750,Konditionen!$B:$D,3,0))","v":207.7}]
["Rohre und Formteile","BFU","BFU56060","Bogen Segment    BFU       560.60",null,"30",230.91,{"$f":"G751*(1-VLOOKUP(F751,Konditionen!$B:$D,3,0))","v":230.91}]
["Rohre und Formteile","BFU","BFU56090","Bogen Segment    BFU       560.90",null,"30",278.77,{"$f":"G752*(1-VLOOKUP(F752,Konditionen!$B:$D,3,0))","v":278.77}]
["Rohre und Formteile","BFU","BFU60015","Bogen Segment    BFU       600.15",null,"30",217.16,{"$f":"G753*(1-VLOOKUP(F753,Konditionen!$B:$D,3,0))","v":217.16}]
["Rohre und Formteile","BFU","BFU60030","Bogen Segment    BFU       600.30",null,"30",221.67,{"$f":"G754*(1-VLOOKUP(F754,Konditionen!$B:$D,3,0))","v":221.67}]
["Rohre und Formteile","BFU","BFU60045","Bogen Segment    BFU       600.45",null,"30",251.15,{"$f":"G755*(1-VLOOKUP(F755,Konditionen!$B:$D,3,0))","v":251.15}]
["Rohre und Formteile","BFU","BFU60060","Bogen Segment   BFU       600.60",null,"30",280.76,{"$f":"G756*(1-VLOOKUP(F756,Konditionen!$B:$D,3,0))","v":280.76}]
["Rohre und Formteile","BFU","BFU60090","Bogen Segment    BFU       600.90",null,"30",339.54,{"$f":"G757*(1-VLOOKUP(F757,Konditionen!$B:$D,3,0))","v":339.54}]
["Rohre und Formteile","BFU","BFU63015","Bogen Segment    BFU       630.15",null,"30",255.26,{"$f":"G758*(1-VLOOKUP(F758,Konditionen!$B:$D,3,0))","v":255.26}]
["Rohre und Formteile","BFU","BFU63030","Bogen Segment    BFU       630.30",null,"30",262.18,{"$f":"G759*(1-VLOOKUP(F759,Konditionen!$B:$D,3,0))","v":262.18}]
["Rohre und Formteile","BFU","BFU63045","Bogen Segment    BFU       630.45",null,"30",298.91000000000003,{"$f":"G760*(1-VLOOKUP(F760,Konditionen!$B:$D,3,0))","v":298.91000000000003}]
["Rohre und Formteile","BFU","BFU63060","Bogen Segment    BFU       630.60",null,"30",336.6,{"$f":"G761*(1-VLOOKUP(F761,Konditionen!$B:$D,3,0))","v":336.6}]
["Rohre und Formteile","BFU","BFU63090","Bogen Segment    BFU       630.90",null,"30",408.81,{"$f":"G762*(1-VLOOKUP(F762,Konditionen!$B:$D,3,0))","v":408.81}]
["Rohre und Formteile","BFU","BFU71015","Bogen Segment    BFU       710.15",null,"30",309.72000000000003,{"$f":"G763*(1-VLOOKUP(F763,Konditionen!$B:$D,3,0))","v":309.72000000000003}]
["Rohre und Formteile","BFU","BFU71030","Bogen Segment    BFU       710.30",null,"30",319.17,{"$f":"G764*(1-VLOOKUP(F764,Konditionen!$B:$D,3,0))","v":319.17}]
["Rohre und Formteile","BFU","BFU71045","Bogen Segment    BFU       710.45",null,"30",363.67,{"$f":"G765*(1-VLOOKUP(F765,Konditionen!$B:$D,3,0))","v":363.67}]
["Rohre und Formteile","BFU","BFU71060","Bogen Segment    BFU       710.60",null,"30",408.17,{"$f":"G766*(1-VLOOKUP(F766,Konditionen!$B:$D,3,0))","v":408.17}]
["Rohre und Formteile","BFU","BFU71090","Bogen Segment    BFU       710.90",null,"30",499.49,{"$f":"G767*(1-VLOOKUP(F767,Konditionen!$B:$D,3,0))","v":499.49}]
["Rohre und Formteile","BFU","BFU80015","Bogen Segment    BFU       800.15",null,"30",381.31,{"$f":"G768*(1-VLOOKUP(F768,Konditionen!$B:$D,3,0))","v":381.31}]
["Rohre und Formteile","BFU","BFU80030","Bogen Segment   BFU       800.30",null,"30",392.54,{"$f":"G769*(1-VLOOKUP(F769,Konditionen!$B:$D,3,0))","v":392.54}]
["Rohre und Formteile","BFU","BFU80045","Bogen Segment    BFU       800.45",null,"30",449.11,{"$f":"G770*(1-VLOOKUP(F770,Konditionen!$B:$D,3,0))","v":449.11}]
["Rohre und Formteile","BFU","BFU80060","Bogen Segment   BFU       800.60",null,"30",509.14,{"$f":"G771*(1-VLOOKUP(F771,Konditionen!$B:$D,3,0))","v":509.14}]
["Rohre und Formteile","BFU","BFU80090","Bogen Segment    BFU       800.90",null,"30",620.09,{"$f":"G772*(1-VLOOKUP(F772,Konditionen!$B:$D,3,0))","v":620.09}]
["Rohre und Formteile","BFU","BFU8015","Bogen Segment    BFU        80.15",null,"30",31.27,{"$f":"G773*(1-VLOOKUP(F773,Konditionen!$B:$D,3,0))","v":31.27}]
["Rohre und Formteile","BFU","BFU8030","Bogen Segment    BFU        80.30",null,"30",31.27,{"$f":"G774*(1-VLOOKUP(F774,Konditionen!$B:$D,3,0))","v":31.27}]
["Rohre und Formteile","BFU","BFU8045","Bogen Segment    BFU        80.45",null,"30",35.36,{"$f":"G775*(1-VLOOKUP(F775,Konditionen!$B:$D,3,0))","v":35.36}]
["Rohre und Formteile","BFU","BFU8060","Bogen Segment    BFU        80.60",null,"30",40.200000000000003,{"$f":"G776*(1-VLOOKUP(F776,Konditionen!$B:$D,3,0))","v":40.200000000000003}]
["Rohre und Formteile","BFU","BFU8090","Bogen Segment    BFU        80.90",null,"30",51.11,{"$f":"G777*(1-VLOOKUP(F777,Konditionen!$B:$D,3,0))","v":51.11}]
["Rohre und Formteile","BFU","BFU90015","Bogen Segment     BFU       900.15",null,"30",599.52,{"$f":"G778*(1-VLOOKUP(F778,Konditionen!$B:$D,3,0))","v":599.52}]
["Rohre und Formteile","BFU","BFU90030","Bogen Segment    BFU        900.30",null,"30",620.82000000000005,{"$f":"G779*(1-VLOOKUP(F779,Konditionen!$B:$D,3,0))","v":620.82000000000005}]
["Rohre und Formteile","BFU","BFU90045","Bogen Segment   BFU       900.45",null,"30",669.52,{"$f":"G780*(1-VLOOKUP(F780,Konditionen!$B:$D,3,0))","v":669.52}]
["Rohre und Formteile","BFU","BFU90060","Bogen Segment    BFU       900.60",null,"30",676.56,{"$f":"G781*(1-VLOOKUP(F781,Konditionen!$B:$D,3,0))","v":676.56}]
["Rohre und Formteile","BFU","BFU90090","Bogen Segment    BFU        900.90",null,"30",748.03,{"$f":"G782*(1-VLOOKUP(F782,Konditionen!$B:$D,3,0))","v":748.03}]
["Brandschutz","","BFW","BFW Befestigungssatz","für Schachtwand","5.PG01",8.33,{"$f":"G783*(1-VLOOKUP(F783,Konditionen!$B:$D,3,0))","v":8.33}]
["Montagezubehör","BF","BF100","Rohrflansch BF100 verz","für Rohr-Innen-Ø 1000 mm geschweißt","14.MS",27.91,{"$f":"G784*(1-VLOOKUP(F784,Konditionen!$B:$D,3,0))","v":27.91}]
["Montagezubehör","BF","BF112","Rohrflansch BF 112 verz","für Rohr-Innen-Ø 1120 mm geschweißt","14.MS",30.56,{"$f":"G785*(1-VLOOKUP(F785,Konditionen!$B:$D,3,0))","v":30.56}]
["Montagezubehör","BF","BF125","Rohrflansch BF 125 verz","für Rohr-Innen-Ø 1250 mm geschweißt","14.MS",33.18,{"$f":"G786*(1-VLOOKUP(F786,Konditionen!$B:$D,3,0))","v":33.18}]
["Montagezubehör","BF","BF140","Rohrflansch BF 140 verz","für Rohr-Innen-Ø 1400 mm geschweißt","14.MS",36.06,{"$f":"G787*(1-VLOOKUP(F787,Konditionen!$B:$D,3,0))","v":36.06}]
["Montagezubehör","BF","BF160","Rohrflansch BF 160 verz","für Rohr-Innen-Ø 1600 mm geschweißt","14.MS",39.94,{"$f":"G788*(1-VLOOKUP(F788,Konditionen!$B:$D,3,0))","v":39.94}]
["Montagezubehör","BF","BF20","Rohrflansch BF 20 verz","für Rohr-Innen-Ø 200 mm geschweißt","14.MS",6.13,{"$f":"G789*(1-VLOOKUP(F789,Konditionen!$B:$D,3,0))","v":6.13}]
["Montagezubehör","BF","BF22","Rohrflansch BF 22 verz","für Rohr-Innen-Ø 224 mm geschweißt","14.MS",6.27,{"$f":"G790*(1-VLOOKUP(F790,Konditionen!$B:$D,3,0))","v":6.27}]
["Montagezubehör","BF","BF25","Rohrflansch BF 25 verz","für Rohr-Innen-Ø 250 mm geschweißt","14.MS",6.45,{"$f":"G791*(1-VLOOKUP(F791,Konditionen!$B:$D,3,0))","v":6.45}]
["Montagezubehör","BF","BF28","Rohrflansch BF 28 verz","für Rohr-Innen-Ø 280 mm geschweißt","14.MS",7.01,{"$f":"G792*(1-VLOOKUP(F792,Konditionen!$B:$D,3,0))","v":7.01}]
["Montagezubehör","BF","BF30","Rohrflansch BF 30 verz","für Rohr-Innen-Ø 300 mm geschweißt","14.MS",7.07,{"$f":"G793*(1-VLOOKUP(F793,Konditionen!$B:$D,3,0))","v":7.07}]
["Montagezubehör","BF","BF31","Rohrflansch BF 31 verz","für Rohr-Innen-Ø 315 mm geschweißt","14.MS",7.26,{"$f":"G794*(1-VLOOKUP(F794,Konditionen!$B:$D,3,0))","v":7.26}]
["Montagezubehör","BF","BF35","Rohrflansch BF 35 verz","für Rohr-Innen-Ø 355 mm geschweißt","14.MS",7.52,{"$f":"G795*(1-VLOOKUP(F795,Konditionen!$B:$D,3,0))","v":7.52}]
["Montagezubehör","BF","BF40","Rohrflansch BF 40 verz","für Rohr-Innen-Ø 400 mm geschweißt","14.MS",7.77,{"$f":"G796*(1-VLOOKUP(F796,Konditionen!$B:$D,3,0))","v":7.77}]
["Montagezubehör","BF","BF45","Rohrflansch BF 45 verz","für Rohr-Innen-Ø 450 mm geschweißt","14.MS",8.14,{"$f":"G797*(1-VLOOKUP(F797,Konditionen!$B:$D,3,0))","v":8.14}]
["Montagezubehör","BF","BF50","Rohrflansch BF   50 verz","für Rohr-Innen-Ø 500 mm geschweißt","14.MS",12.02,{"$f":"G798*(1-VLOOKUP(F798,Konditionen!$B:$D,3,0))","v":12.02}]
["Montagezubehör","BF","BF56","Rohrflansch BF   56 verz","für Rohr-Innen-Ø 560 mm geschweißt","14.MS",12.26,{"$f":"G799*(1-VLOOKUP(F799,Konditionen!$B:$D,3,0))","v":12.26}]
["Montagezubehör","BF","BF60","Rohrflansch BF   60 verz","für Rohr-Innen-Ø 600 mm geschweißt","14.MS",12.9,{"$f":"G800*(1-VLOOKUP(F800,Konditionen!$B:$D,3,0))","v":12.9}]
["Montagezubehör","BF","BF63","Rohrflansch BF   63 verz","für Rohr-Innen-Ø 630 mm geschweißt","14.MS",13.4,{"$f":"G801*(1-VLOOKUP(F801,Konditionen!$B:$D,3,0))","v":13.4}]
["Montagezubehör","BF","BF71","Rohrflansch BF   71 verz","für Rohr-Innen-Ø 710 mm geschweißt","14.MS",14.41,{"$f":"G802*(1-VLOOKUP(F802,Konditionen!$B:$D,3,0))","v":14.41}]
["Montagezubehör","BF","BF80","Rohrflansch BF   80 verz","für Rohr-Innen-Ø 800 mm geschweißt","14.MS",14.91,{"$f":"G803*(1-VLOOKUP(F803,Konditionen!$B:$D,3,0))","v":14.91}]
["Montagezubehör","BF","BF90","Rohrflansch BF   90 verz","für Rohr-Innen-Ø 900 mm geschweißt","14.MS",16.399999999999999,{"$f":"G804*(1-VLOOKUP(F804,Konditionen!$B:$D,3,0))","v":16.399999999999999}]
["Rohre und Formteile","BITSET","BITSET","Bit Set 16 teilig           BITSET","im praktischen Holster","90",20.65,{"$f":"G805*(1-VLOOKUP(F805,Konditionen!$B:$D,3,0))","v":20.65}]
["Rohre und Formteile","BKCU","BKCU10010090","Bogen gepresst BKCU   100.100.90",null,"30",98.02,{"$f":"G806*(1-VLOOKUP(F806,Konditionen!$B:$D,3,0))","v":98.02}]
["Rohre und Formteile","BKCU","BKCU11210090","Bogen gepresst   BKCU   112.100.90",null,"30",105.26,{"$f":"G807*(1-VLOOKUP(F807,Konditionen!$B:$D,3,0))","v":105.26}]
["Rohre und Formteile","BKCU","BKCU12510090","Bogen gepresst   BKCU   125.100.90",null,"30",105.26,{"$f":"G808*(1-VLOOKUP(F808,Konditionen!$B:$D,3,0))","v":105.26}]
["Rohre und Formteile","BKCU","BKCU12512590","Bogen gepresst   BKCU   125.125.90",null,"30",105.26,{"$f":"G809*(1-VLOOKUP(F809,Konditionen!$B:$D,3,0))","v":105.26}]
["Rohre und Formteile","BKCU","BKCU14012590","Bogen gepresst   BKCU   140.125.90",null,"30",133.19,{"$f":"G810*(1-VLOOKUP(F810,Konditionen!$B:$D,3,0))","v":133.19}]
["Rohre und Formteile","BKCU","BKCU15012590","Bogen gepresst   BKCU   150.125.90",null,"30",133.19,{"$f":"G811*(1-VLOOKUP(F811,Konditionen!$B:$D,3,0))","v":133.19}]
["Rohre und Formteile","BKCU","BKCU16012590","Bogen gepresst   BKCU   160.125.90",null,"30",133.19,{"$f":"G812*(1-VLOOKUP(F812,Konditionen!$B:$D,3,0))","v":133.19}]
["Rohre und Formteile","BKCU","BKCU16016090","Bogen gepresst   BKCU   160.160.90",null,"30",133.19,{"$f":"G813*(1-VLOOKUP(F813,Konditionen!$B:$D,3,0))","v":133.19}]
["Rohre und Formteile","BKCU","BKCU18016090","Bogen gepresst   BKCU   180.160.90",null,"30",171.39,{"$f":"G814*(1-VLOOKUP(F814,Konditionen!$B:$D,3,0))","v":171.39}]
["Rohre und Formteile","BKCU","BKCU20016090","Bogen gepresst   BKCU   200.160.90",null,"30",171.39,{"$f":"G815*(1-VLOOKUP(F815,Konditionen!$B:$D,3,0))","v":171.39}]
["Rohre und Formteile","BKCU","BKCU20020090","Bogen gepresst   BKCU   200.200.90",null,"30",171.39,{"$f":"G816*(1-VLOOKUP(F816,Konditionen!$B:$D,3,0))","v":171.39}]
["Rohre und Formteile","BKCU","BKCU22420090","Bogen gepresst   BKCU   224.200.90",null,"30",271.73,{"$f":"G817*(1-VLOOKUP(F817,Konditionen!$B:$D,3,0))","v":271.73}]
["Rohre und Formteile","BKCU","BKCU25020090","Bogen gepresst   BKCU   250.200.90",null,"30",271.73,{"$f":"G818*(1-VLOOKUP(F818,Konditionen!$B:$D,3,0))","v":271.73}]
["Rohre und Formteile","BKCU","BKCU25025090","Bogen gepresst   BKCU   250.250.90",null,"30",271.73,{"$f":"G819*(1-VLOOKUP(F819,Konditionen!$B:$D,3,0))","v":271.73}]
["Rohre und Formteile","BKFU","BKFU20090","Bogen Segment kurz BKFU    200.90",null,"30",247.9,{"$f":"G820*(1-VLOOKUP(F820,Konditionen!$B:$D,3,0))","v":247.9}]
["Rohre und Formteile","BKFU","BKFU25090","Bogen Segment kurz BKFU    250.90",null,"30",287.89999999999998,{"$f":"G821*(1-VLOOKUP(F821,Konditionen!$B:$D,3,0))","v":287.89999999999998}]
["Rohre und Formteile","BKFU","BKFU31590","Bogen Segment kurz BKFU    315.90",null,"30",371.86,{"$f":"G822*(1-VLOOKUP(F822,Konditionen!$B:$D,3,0))","v":371.86}]
["Rohre und Formteile","BKFU","BKFU40045","Bogen Segment kurz BKFU    400.45",null,"30",358.01,{"$f":"G823*(1-VLOOKUP(F823,Konditionen!$B:$D,3,0))","v":358.01}]
["Rohre und Formteile","BKFU","BKFU40090","Bogen Segment kurz BKFU    400.90",null,"30",491.41,{"$f":"G824*(1-VLOOKUP(F824,Konditionen!$B:$D,3,0))","v":491.41}]
["Rohre und Formteile","BKFU","BKFU45090","Bogen Segment kurz BKFU    450.90",null,"30",568.66,{"$f":"G825*(1-VLOOKUP(F825,Konditionen!$B:$D,3,0))","v":568.66}]
["Rohre und Formteile","BKFU","BKFU50090","Bogen Segment kurz BKFU    500.90",null,"30",606.54,{"$f":"G826*(1-VLOOKUP(F826,Konditionen!$B:$D,3,0))","v":606.54}]
["Rohre und Formteile","BKFU","BKFU56045","Bogen Segment kurz BKFU    560.45",null,"30",490.47,{"$f":"G827*(1-VLOOKUP(F827,Konditionen!$B:$D,3,0))","v":490.47}]
["Rohre und Formteile","BKFU","BKFU56090","Bogen Segment kurz BKFU    560.90",null,"30",671.94,{"$f":"G828*(1-VLOOKUP(F828,Konditionen!$B:$D,3,0))","v":671.94}]
["Rohre und Formteile","BKFU","BKFU60090","Bogen Segment kurz BKFU    600.90",null,"30",1111.29,{"$f":"G829*(1-VLOOKUP(F829,Konditionen!$B:$D,3,0))","v":1111.29}]
["Rohre und Formteile","BKFU","BKFU63090","Bogen Segment kurz BKFU    630.90",null,"30",1111.29,{"$f":"G830*(1-VLOOKUP(F830,Konditionen!$B:$D,3,0))","v":1111.29}]
["Rohre und Formteile","","BKFU71090","Bogen Segment kurz BKFU    710.90",null,"30",1160.0999999999999,{"$f":"G831*(1-VLOOKUP(F831,Konditionen!$B:$D,3,0))","v":1160.0999999999999}]
["Rohre und Formteile","BKFU","BKFU80090","Bogen Segment kurz BKFU    800.90",null,"30",1220.55,{"$f":"G832*(1-VLOOKUP(F832,Konditionen!$B:$D,3,0))","v":1220.55}]
["Rohre und Formteile","","BKFU90090","Bogen Segment kurz BKFU    900.90",null,"30",1391.84,{"$f":"G833*(1-VLOOKUP(F833,Konditionen!$B:$D,3,0))","v":1391.84}]
["Rohre und Formteile","BKMU","BKMU10090","Bogen kurz       BKMU      100.90","1 Seite MF-Maß, 1 Seite NP-Maß","30",53.1,{"$f":"G834*(1-VLOOKUP(F834,Konditionen!$B:$D,3,0))","v":53.1}]
["Rohre und Formteile","BKMU","BKMU12590","Bogen kurz       BKMU      125.90","1 Seite MF-Maß, 1 Seite NP-Maß","30",73.260000000000005,{"$f":"G835*(1-VLOOKUP(F835,Konditionen!$B:$D,3,0))","v":73.260000000000005}]
["Rohre und Formteile","BKMU","BKMU16090","Bogen kurz       BKMU      160.90","1 Seite MF-Maß, 1 Seite NP-Maß","30",84.17,{"$f":"G836*(1-VLOOKUP(F836,Konditionen!$B:$D,3,0))","v":84.17}]
["Rohre und Formteile","BKMU","BKMU8090","Bogen kurz       BKMU       80.90","1 Seite MF-Maß, 1 Seite NP-Maß","30",53.1,{"$f":"G837*(1-VLOOKUP(F837,Konditionen!$B:$D,3,0))","v":53.1}]
["Rohre und Formteile","BKU","BKU10090","Bogen kurz       BKU       100.90",null,"30",54.47,{"$f":"G838*(1-VLOOKUP(F838,Konditionen!$B:$D,3,0))","v":54.47}]
["Rohre und Formteile","BKU","BKU12590","Bogen kurz       BKU       125.90",null,"30",59.29,{"$f":"G839*(1-VLOOKUP(F839,Konditionen!$B:$D,3,0))","v":59.29}]
["Rohre und Formteile","BKU","BKU16090","Bogen kurz       BKU       160.90",null,"30",75.459999999999994,{"$f":"G840*(1-VLOOKUP(F840,Konditionen!$B:$D,3,0))","v":75.459999999999994}]
["Rohre und Formteile","BKU","BKU8090","Bogen kurz       BKU        80.90",null,"30",38.409999999999997,{"$f":"G841*(1-VLOOKUP(F841,Konditionen!$B:$D,3,0))","v":38.409999999999997}]
["Montagezubehör","BN","BN3295","Blindniete Alu BN 3,2 x 9,5","druckdichte Ausführung","90",21.6,{"$f":"G842*(1-VLOOKUP(F842,Konditionen!$B:$D,3,0))","v":21.6}]
["Montagezubehör","BN","BN4095","Blindniete Alu BN 4,0 x 9,5","druckdichte Ausführung","90",29.65,{"$f":"G843*(1-VLOOKUP(F843,Konditionen!$B:$D,3,0))","v":29.65}]
["Kunststoff","BPPS","BPPS100015","PPs Bogen 15°  DN 1000","Segmentfrei","17.ALLG",951.37,{"$f":"G844*(1-VLOOKUP(F844,Konditionen!$B:$D,3,0))","v":951.37}]
["Kunststoff","BPPS","BPPS100030","PPs Bogen 30°  DN 1000","Segmentfrei","17.ALLG",951.37,{"$f":"G845*(1-VLOOKUP(F845,Konditionen!$B:$D,3,0))","v":951.37}]
["Kunststoff","BPPS","BPPS100045","PPs Bogen 45°  DN 1000","Segmentfrei","17.ALLG",1011.96,{"$f":"G846*(1-VLOOKUP(F846,Konditionen!$B:$D,3,0))","v":1011.96}]
["Kunststoff","BPPS","BPPS100060","PPs Bogen 60°  DN 1000","Segmentfrei","17.ALLG",1646.67,{"$f":"G847*(1-VLOOKUP(F847,Konditionen!$B:$D,3,0))","v":1646.67}]
["Kunststoff","BPPS","BPPS100075","PPs Bogen 75°  DN 1000","Segmentfrei","17.ALLG",1742.58,{"$f":"G848*(1-VLOOKUP(F848,Konditionen!$B:$D,3,0))","v":1742.58}]
["Kunststoff","BPPS","BPPS100090","PPs Bogen 90°  DN 1000","Segmentfrei","17.ALLG",1742.58,{"$f":"G849*(1-VLOOKUP(F849,Konditionen!$B:$D,3,0))","v":1742.58}]
["Kunststoff","BPPS","BPPS11015","PPs Bogen 15°  DN 110","Segmentfrei","17.ALLG",9.39,{"$f":"G850*(1-VLOOKUP(F850,Konditionen!$B:$D,3,0))","v":9.39}]
["Kunststoff","BPPS","BPPS11030","PPs Bogen 30°  DN 110","Segmentfrei","17.ALLG",9.39,{"$f":"G851*(1-VLOOKUP(F851,Konditionen!$B:$D,3,0))","v":9.39}]
["Kunststoff","BPPS","BPPS11045","PPs Bogen 45°  DN 110","Segmentfrei","17.ALLG",9.39,{"$f":"G852*(1-VLOOKUP(F852,Konditionen!$B:$D,3,0))","v":9.39}]
["Kunststoff","BPPS","BPPS11060","PPs Bogen 60°  DN 110","Segmentfrei","17.ALLG",14.68,{"$f":"G853*(1-VLOOKUP(F853,Konditionen!$B:$D,3,0))","v":14.68}]
["Kunststoff","BPPS","BPPS11075","PPs Bogen 75°  DN 110","Segmentfrei","17.ALLG",14.68,{"$f":"G854*(1-VLOOKUP(F854,Konditionen!$B:$D,3,0))","v":14.68}]
["Kunststoff","BPPS","BPPS11090","PPs Bogen 90°  DN 110","Segmentfrei","17.ALLG",14.68,{"$f":"G855*(1-VLOOKUP(F855,Konditionen!$B:$D,3,0))","v":14.68}]
["Kunststoff","BPPS","BPPS12515","PPs Bogen 15°  DN 125","Segmentfrei","17.ALLG",9.39,{"$f":"G856*(1-VLOOKUP(F856,Konditionen!$B:$D,3,0))","v":9.39}]
["Kunststoff","BPPS","BPPS12530","PPs Bogen 30°  DN 125","Segmentfrei","17.ALLG",9.39,{"$f":"G857*(1-VLOOKUP(F857,Konditionen!$B:$D,3,0))","v":9.39}]
["Kunststoff","BPPS","BPPS12545","PPs Bogen 45°  DN 125","Segmentfrei","17.ALLG",10.69,{"$f":"G858*(1-VLOOKUP(F858,Konditionen!$B:$D,3,0))","v":10.69}]
["Kunststoff","BPPS","BPPS12560","PPs Bogen 60°  DN 125","Segmentfrei","17.ALLG",15.98,{"$f":"G859*(1-VLOOKUP(F859,Konditionen!$B:$D,3,0))","v":15.98}]
["Kunststoff","BPPS","BPPS12575","PPs Bogen 75°  DN 125","Segmentfrei","17.ALLG",15.98,{"$f":"G860*(1-VLOOKUP(F860,Konditionen!$B:$D,3,0))","v":15.98}]
["Kunststoff","BPPS","BPPS12590","PPs Bogen 90°  DN 125","Segmentfrei","17.ALLG",15.98,{"$f":"G861*(1-VLOOKUP(F861,Konditionen!$B:$D,3,0))","v":15.98}]
["Kunststoff","BPPS","BPPS14015","PPs Bogen 15°  DN 140","Segmentfrei","17.ALLG",14.68,{"$f":"G862*(1-VLOOKUP(F862,Konditionen!$B:$D,3,0))","v":14.68}]
["Kunststoff","BPPS","BPPS14030","PPs Bogen 30°  DN 140","Segmentfrei","17.ALLG",14.68,{"$f":"G863*(1-VLOOKUP(F863,Konditionen!$B:$D,3,0))","v":14.68}]
["Kunststoff","BPPS","BPPS14045","PPs Bogen 45°  DN 140","Segmentfrei","17.ALLG",14.68,{"$f":"G864*(1-VLOOKUP(F864,Konditionen!$B:$D,3,0))","v":14.68}]
["Kunststoff","BPPS","BPPS14060","PPs Bogen 60°  DN 140","Segmentfrei","17.ALLG",18.68,{"$f":"G865*(1-VLOOKUP(F865,Konditionen!$B:$D,3,0))","v":18.68}]
["Kunststoff","BPPS","BPPS14075","PPs Bogen 75°  DN 140","Segmentfrei","17.ALLG",18.68,{"$f":"G866*(1-VLOOKUP(F866,Konditionen!$B:$D,3,0))","v":18.68}]
["Kunststoff","BPPS","BPPS14090","PPs Bogen 90°  DN 140","Segmentfrei","17.ALLG",18.68,{"$f":"G867*(1-VLOOKUP(F867,Konditionen!$B:$D,3,0))","v":18.68}]
["Kunststoff","BPPS","BPPS16015","PPs Bogen 15°  DN 160","Segmentfrei","17.ALLG",15.98,{"$f":"G868*(1-VLOOKUP(F868,Konditionen!$B:$D,3,0))","v":15.98}]
["Kunststoff","BPPS","BPPS16030","PPs Bogen 30°  DN 160","Segmentfrei","17.ALLG",15.98,{"$f":"G869*(1-VLOOKUP(F869,Konditionen!$B:$D,3,0))","v":15.98}]
["Kunststoff","BPPS","BPPS16045","PPs Bogen 45°  DN 160","Segmentfrei","17.ALLG",17.38,{"$f":"G870*(1-VLOOKUP(F870,Konditionen!$B:$D,3,0))","v":17.38}]
["Kunststoff","BPPS","BPPS16060","PPs Bogen 60°  DN 160","Segmentfrei","17.ALLG",21.38,{"$f":"G871*(1-VLOOKUP(F871,Konditionen!$B:$D,3,0))","v":21.38}]
["Kunststoff","BPPS","BPPS16075","PPs Bogen 75°  DN 160","Segmentfrei","17.ALLG",21.38,{"$f":"G872*(1-VLOOKUP(F872,Konditionen!$B:$D,3,0))","v":21.38}]
["Kunststoff","BPPS","BPPS16090","PPs Bogen 90°  DN 160","Segmentfrei","17.ALLG",21.38,{"$f":"G873*(1-VLOOKUP(F873,Konditionen!$B:$D,3,0))","v":21.38}]
["Kunststoff","BPPS","BPPS18015","PPs Bogen 15°  DN 180","Segmentfrei","17.ALLG",17.38,{"$f":"G874*(1-VLOOKUP(F874,Konditionen!$B:$D,3,0))","v":17.38}]
["Kunststoff","BPPS","BPPS18030","PPs Bogen 30°  DN 180","Segmentfrei","17.ALLG",17.38,{"$f":"G875*(1-VLOOKUP(F875,Konditionen!$B:$D,3,0))","v":17.38}]
["Kunststoff","BPPS","BPPS18045","PPs Bogen 45°  DN 180","Segmentfrei","17.ALLG",18.68,{"$f":"G876*(1-VLOOKUP(F876,Konditionen!$B:$D,3,0))","v":18.68}]
["Kunststoff","BPPS","BPPS18060","PPs Bogen 60°  DN 180","Segmentfrei","17.ALLG",22.68,{"$f":"G877*(1-VLOOKUP(F877,Konditionen!$B:$D,3,0))","v":22.68}]
["Kunststoff","BPPS","BPPS18075","PPs Bogen 75°  DN 180","Segmentfrei","17.ALLG",22.68,{"$f":"G878*(1-VLOOKUP(F878,Konditionen!$B:$D,3,0))","v":22.68}]
["Kunststoff","BPPS","BPPS18090","PPs Bogen 90°  DN 180","Segmentfrei","17.ALLG",22.68,{"$f":"G879*(1-VLOOKUP(F879,Konditionen!$B:$D,3,0))","v":22.68}]
["Kunststoff","BPPS","BPPS20015","PPs Bogen 15°  DN 200","Segmentfrei","17.ALLG",20.079999999999998,{"$f":"G880*(1-VLOOKUP(F880,Konditionen!$B:$D,3,0))","v":20.079999999999998}]
["Kunststoff","BPPS","BPPS20030","PPs Bogen 30°  DN 200","Segmentfrei","17.ALLG",20.079999999999998,{"$f":"G881*(1-VLOOKUP(F881,Konditionen!$B:$D,3,0))","v":20.079999999999998}]
["Kunststoff","BPPS","BPPS20045","PPs Bogen 45°  DN 200","Segmentfrei","17.ALLG",20.079999999999998,{"$f":"G882*(1-VLOOKUP(F882,Konditionen!$B:$D,3,0))","v":20.079999999999998}]
["Kunststoff","BPPS","BPPS20060","PPs Bogen 60°  DN 200","Segmentfrei","17.ALLG",24.08,{"$f":"G883*(1-VLOOKUP(F883,Konditionen!$B:$D,3,0))","v":24.08}]
["Kunststoff","BPPS","BPPS20075","PPs Bogen 75°  DN 200","Segmentfrei","17.ALLG",24.08,{"$f":"G884*(1-VLOOKUP(F884,Konditionen!$B:$D,3,0))","v":24.08}]
["Kunststoff","BPPS","BPPS20090","PPs Bogen 90°  DN 200","Segmentfrei","17.ALLG",24.08,{"$f":"G885*(1-VLOOKUP(F885,Konditionen!$B:$D,3,0))","v":24.08}]
["Kunststoff","BPPS","BPPS22515","PPs Bogen 15°  DN 225","Segmentfrei","17.ALLG",22.68,{"$f":"G886*(1-VLOOKUP(F886,Konditionen!$B:$D,3,0))","v":22.68}]
["Kunststoff","BPPS","BPPS22530","PPs Bogen 30°  DN 225","Segmentfrei","17.ALLG",22.68,{"$f":"G887*(1-VLOOKUP(F887,Konditionen!$B:$D,3,0))","v":22.68}]
["Kunststoff","BPPS","BPPS22545","PPs Bogen 45°  DN 225","Segmentfrei","17.ALLG",24.08,{"$f":"G888*(1-VLOOKUP(F888,Konditionen!$B:$D,3,0))","v":24.08}]
["Kunststoff","BPPS","BPPS22560","PPs Bogen 60°  DN 225","Segmentfrei","17.ALLG",32.07,{"$f":"G889*(1-VLOOKUP(F889,Konditionen!$B:$D,3,0))","v":32.07}]
["Kunststoff","BPPS","BPPS22575","PPs Bogen 75°  DN 225","Segmentfrei","17.ALLG",32.07,{"$f":"G890*(1-VLOOKUP(F890,Konditionen!$B:$D,3,0))","v":32.07}]
["Kunststoff","BPPS","BPPS22590","PPs Bogen 90°  DN 225","Segmentfrei","17.ALLG",32.07,{"$f":"G891*(1-VLOOKUP(F891,Konditionen!$B:$D,3,0))","v":32.07}]
["Kunststoff","BPPS","BPPS25015","PPs Bogen 15°  DN 250","Segmentfrei","17.ALLG",24.08,{"$f":"G892*(1-VLOOKUP(F892,Konditionen!$B:$D,3,0))","v":24.08}]
["Kunststoff","BPPS","BPPS25030","PPs Bogen 30°  DN 250","Segmentfrei","17.ALLG",24.08,{"$f":"G893*(1-VLOOKUP(F893,Konditionen!$B:$D,3,0))","v":24.08}]
["Kunststoff","BPPS","BPPS25045","PPs Bogen 45°  DN 250","Segmentfrei","17.ALLG",26.67,{"$f":"G894*(1-VLOOKUP(F894,Konditionen!$B:$D,3,0))","v":26.67}]
["Kunststoff","BPPS","BPPS25060","PPs Bogen 60°  DN 250","Segmentfrei","17.ALLG",33.26,{"$f":"G895*(1-VLOOKUP(F895,Konditionen!$B:$D,3,0))","v":33.26}]
["Kunststoff","BPPS","BPPS25075","PPs Bogen 75°  DN 250","Segmentfrei","17.ALLG",33.26,{"$f":"G896*(1-VLOOKUP(F896,Konditionen!$B:$D,3,0))","v":33.26}]
["Kunststoff","BPPS","BPPS25090","PPs Bogen 90°  DN 250","Segmentfrei","17.ALLG",33.26,{"$f":"G897*(1-VLOOKUP(F897,Konditionen!$B:$D,3,0))","v":33.26}]
["Kunststoff","BPPS","BPPS28015","PPs Bogen 15°  DN 280","Segmentfrei","17.ALLG",33.26,{"$f":"G898*(1-VLOOKUP(F898,Konditionen!$B:$D,3,0))","v":33.26}]
["Kunststoff","BPPS","BPPS28030","PPs Bogen 30°  DN 280","Segmentfrei","17.ALLG",33.26,{"$f":"G899*(1-VLOOKUP(F899,Konditionen!$B:$D,3,0))","v":33.26}]
["Kunststoff","BPPS","BPPS28045","PPs Bogen 45°  DN 280","Segmentfrei","17.ALLG",60.26,{"$f":"G900*(1-VLOOKUP(F900,Konditionen!$B:$D,3,0))","v":60.26}]
["Kunststoff","BPPS","BPPS28060","PPs Bogen 60°  DN 280","Segmentfrei","17.ALLG",76.239999999999995,{"$f":"G901*(1-VLOOKUP(F901,Konditionen!$B:$D,3,0))","v":76.239999999999995}]
["Kunststoff","BPPS","BPPS28075","PPs Bogen 75°  DN 280","Segmentfrei","17.ALLG",76.239999999999995,{"$f":"G902*(1-VLOOKUP(F902,Konditionen!$B:$D,3,0))","v":76.239999999999995}]
["Kunststoff","BPPS","BPPS28090","PPs Bogen 90°  DN 280","Segmentfrei","17.ALLG",76.239999999999995,{"$f":"G903*(1-VLOOKUP(F903,Konditionen!$B:$D,3,0))","v":76.239999999999995}]
["Kunststoff","BPPS","BPPS31515","PPs Bogen 15°  DN 315","Segmentfrei","17.ALLG",68.25,{"$f":"G904*(1-VLOOKUP(F904,Konditionen!$B:$D,3,0))","v":68.25}]
["Kunststoff","BPPS","BPPS31530","PPs Bogen 30°  DN 315","Segmentfrei","17.ALLG",68.25,{"$f":"G905*(1-VLOOKUP(F905,Konditionen!$B:$D,3,0))","v":68.25}]
["Kunststoff","BPPS","BPPS31545","PPs Bogen 45°  DN 315","Segmentfrei","17.ALLG",69.44,{"$f":"G906*(1-VLOOKUP(F906,Konditionen!$B:$D,3,0))","v":69.44}]
["Kunststoff","BPPS","BPPS31560","PPs Bogen 60°  DN 315","Segmentfrei","17.ALLG",90.93,{"$f":"G907*(1-VLOOKUP(F907,Konditionen!$B:$D,3,0))","v":90.93}]
["Kunststoff","BPPS","BPPS31575","PPs Bogen 75°  DN 315","Segmentfrei","17.ALLG",90.93,{"$f":"G908*(1-VLOOKUP(F908,Konditionen!$B:$D,3,0))","v":90.93}]
["Kunststoff","BPPS","BPPS31590","PPs Bogen 90°  DN 315","Segmentfrei","17.ALLG",90.93,{"$f":"G909*(1-VLOOKUP(F909,Konditionen!$B:$D,3,0))","v":90.93}]
["Kunststoff","BPPS","BPPS35515","PPs Bogen 15°  DN 355","Segmentfrei","17.ALLG",76.239999999999995,{"$f":"G910*(1-VLOOKUP(F910,Konditionen!$B:$D,3,0))","v":76.239999999999995}]
["Kunststoff","BPPS","BPPS35530","PPs Bogen 30°  DN 355","Segmentfrei","17.ALLG",76.239999999999995,{"$f":"G911*(1-VLOOKUP(F911,Konditionen!$B:$D,3,0))","v":76.239999999999995}]
["Kunststoff","BPPS","BPPS35545","PPs Bogen 45°  DN 355","Segmentfrei","17.ALLG",81.540000000000006,{"$f":"G912*(1-VLOOKUP(F912,Konditionen!$B:$D,3,0))","v":81.540000000000006}]
["Kunststoff","BPPS","BPPS35560","PPs Bogen 60°  DN 355","Segmentfrei","17.ALLG",105.51,{"$f":"G913*(1-VLOOKUP(F913,Konditionen!$B:$D,3,0))","v":105.51}]
["Kunststoff","BPPS","BPPS35575","PPs Bogen 75°  DN 355","Segmentfrei","17.ALLG",105.51,{"$f":"G914*(1-VLOOKUP(F914,Konditionen!$B:$D,3,0))","v":105.51}]
["Kunststoff","BPPS","BPPS35590","PPs Bogen 90°  DN 355","Segmentfrei","17.ALLG",105.51,{"$f":"G915*(1-VLOOKUP(F915,Konditionen!$B:$D,3,0))","v":105.51}]
["Kunststoff","BPPS","BPPS40015","PPs Bogen 15°  DN 400","Segmentfrei","17.ALLG",78.84,{"$f":"G916*(1-VLOOKUP(F916,Konditionen!$B:$D,3,0))","v":78.84}]
["Kunststoff","BPPS","BPPS40030","PPs Bogen 30°  DN 400","Segmentfrei","17.ALLG",78.84,{"$f":"G917*(1-VLOOKUP(F917,Konditionen!$B:$D,3,0))","v":78.84}]
["Kunststoff","BPPS","BPPS40045","PPs Bogen 45°  DN 400","Segmentfrei","17.ALLG",88.23,{"$f":"G918*(1-VLOOKUP(F918,Konditionen!$B:$D,3,0))","v":88.23}]
["Kunststoff","BPPS","BPPS40060","PPs Bogen 60°  DN 400","Segmentfrei","17.ALLG",112.42,{"$f":"G919*(1-VLOOKUP(F919,Konditionen!$B:$D,3,0))","v":112.42}]
["Kunststoff","BPPS","BPPS40075","PPs Bogen 75°  DN 400","Segmentfrei","17.ALLG",112.42,{"$f":"G920*(1-VLOOKUP(F920,Konditionen!$B:$D,3,0))","v":112.42}]
["Kunststoff","BPPS","BPPS40090","PPs Bogen 90°  DN 400","Segmentfrei","17.ALLG",112.42,{"$f":"G921*(1-VLOOKUP(F921,Konditionen!$B:$D,3,0))","v":112.42}]
["Kunststoff","BPPS","BPPS45015","PPs Bogen 15°  DN 450","Segmentfrei","17.ALLG",151.63,{"$f":"G922*(1-VLOOKUP(F922,Konditionen!$B:$D,3,0))","v":151.63}]
["Kunststoff","BPPS","BPPS45030","PPs Bogen 30°  DN 450","Segmentfrei","17.ALLG",151.63,{"$f":"G923*(1-VLOOKUP(F923,Konditionen!$B:$D,3,0))","v":151.63}]
["Kunststoff","BPPS","BPPS45045","PPs Bogen 45°  DN 450","Segmentfrei","17.ALLG",185.65,{"$f":"G924*(1-VLOOKUP(F924,Konditionen!$B:$D,3,0))","v":185.65}]
["Kunststoff","BPPS","BPPS45060","PPs Bogen 60°  DN 450","Segmentfrei","17.ALLG",274.32,{"$f":"G925*(1-VLOOKUP(F925,Konditionen!$B:$D,3,0))","v":274.32}]
["Kunststoff","BPPS","BPPS45075","PPs Bogen 75°  DN 450","Segmentfrei","17.ALLG",275.39999999999998,{"$f":"G926*(1-VLOOKUP(F926,Konditionen!$B:$D,3,0))","v":275.39999999999998}]
["Kunststoff","BPPS","BPPS45090","PPs Bogen 90°  DN 450","Segmentfrei","17.ALLG",275.39999999999998,{"$f":"G927*(1-VLOOKUP(F927,Konditionen!$B:$D,3,0))","v":275.39999999999998}]
["Kunststoff","BPPS","BPPS50015","PPs Bogen 15°  DN 500","Segmentfrei","17.ALLG",218.37,{"$f":"G928*(1-VLOOKUP(F928,Konditionen!$B:$D,3,0))","v":218.37}]
["Kunststoff","BPPS","BPPS50030","PPs Bogen 30°  DN 500","Segmentfrei","17.ALLG",218.37,{"$f":"G929*(1-VLOOKUP(F929,Konditionen!$B:$D,3,0))","v":218.37}]
["Kunststoff","BPPS","BPPS50045","PPs Bogen 45°  DN 500","Segmentfrei","17.ALLG",235.33,{"$f":"G930*(1-VLOOKUP(F930,Konditionen!$B:$D,3,0))","v":235.33}]
["Kunststoff","BPPS","BPPS50060","PPs Bogen 60°  DN 500","Segmentfrei","17.ALLG",293.64999999999998,{"$f":"G931*(1-VLOOKUP(F931,Konditionen!$B:$D,3,0))","v":293.64999999999998}]
["Kunststoff","BPPS","BPPS50075","PPs Bogen 75°  DN 500","Segmentfrei","17.ALLG",331.34,{"$f":"G932*(1-VLOOKUP(F932,Konditionen!$B:$D,3,0))","v":331.34}]
["Kunststoff","BPPS","BPPS50090","PPs Bogen 90°  DN 500","Segmentfrei","17.ALLG",331.34,{"$f":"G933*(1-VLOOKUP(F933,Konditionen!$B:$D,3,0))","v":331.34}]
["Kunststoff","BPPS","BPPS5015","PPs Bogen 15°  DN 50","Segmentfrei","17.ALLG",9.39,{"$f":"G934*(1-VLOOKUP(F934,Konditionen!$B:$D,3,0))","v":9.39}]
["Kunststoff","BPPS","BPPS5030","PPs Bogen 30°  DN 50","Segmentfrei","17.ALLG",9.39,{"$f":"G935*(1-VLOOKUP(F935,Konditionen!$B:$D,3,0))","v":9.39}]
["Kunststoff","BPPS","BPPS5045","PPs Bogen 45°  DN 50","Segmentfrei","17.ALLG",9.39,{"$f":"G936*(1-VLOOKUP(F936,Konditionen!$B:$D,3,0))","v":9.39}]
["Kunststoff","BPPS","BPPS5060","PPs Bogen 60°  DN 50","Segmentfrei","17.ALLG",11.98,{"$f":"G937*(1-VLOOKUP(F937,Konditionen!$B:$D,3,0))","v":11.98}]
["Kunststoff","BPPS","BPPS5075","PPs Bogen 75°  DN 50","Segmentfrei","17.ALLG",11.98,{"$f":"G938*(1-VLOOKUP(F938,Konditionen!$B:$D,3,0))","v":11.98}]
["Kunststoff","BPPS","BPPS5090","PPs Bogen 90°  DN 50","Segmentfrei","17.ALLG",11.98,{"$f":"G939*(1-VLOOKUP(F939,Konditionen!$B:$D,3,0))","v":11.98}]
["Kunststoff","BPPS","BPPS56015","PPs Bogen 15°  DN 560","Segmentfrei","17.ALLG",251.2,{"$f":"G940*(1-VLOOKUP(F940,Konditionen!$B:$D,3,0))","v":251.2}]
["Kunststoff","BPPS","BPPS56030","PPs Bogen 30°  DN 560","Segmentfrei","17.ALLG",251.2,{"$f":"G941*(1-VLOOKUP(F941,Konditionen!$B:$D,3,0))","v":251.2}]
["Kunststoff","BPPS","BPPS56045","PPs Bogen 45°  DN 560","Segmentfrei","17.ALLG",311.79000000000002,{"$f":"G942*(1-VLOOKUP(F942,Konditionen!$B:$D,3,0))","v":311.79000000000002}]
["Kunststoff","BPPS","BPPS56060","PPs Bogen 60°  DN 560","Segmentfrei","17.ALLG",411.37,{"$f":"G943*(1-VLOOKUP(F943,Konditionen!$B:$D,3,0))","v":411.37}]
["Kunststoff","BPPS","BPPS56075","PPs Bogen 75°  DN 560","Segmentfrei","17.ALLG",481.68,{"$f":"G944*(1-VLOOKUP(F944,Konditionen!$B:$D,3,0))","v":481.68}]
["Kunststoff","BPPS","BPPS56090","PPs Bogen 90°  DN 560","Segmentfrei","17.ALLG",481.68,{"$f":"G945*(1-VLOOKUP(F945,Konditionen!$B:$D,3,0))","v":481.68}]
["Kunststoff","BPPS","BPPS60015","PPs Bogen 15°  DN 600","Segmentfrei","17.ALLG",256.06,{"$f":"G946*(1-VLOOKUP(F946,Konditionen!$B:$D,3,0))","v":256.06}]
["Kunststoff","BPPS","BPPS60030","PPs Bogen 30°  DN 600","Segmentfrei","17.ALLG",256.06,{"$f":"G947*(1-VLOOKUP(F947,Konditionen!$B:$D,3,0))","v":256.06}]
["Kunststoff","BPPS","BPPS60045","PPs Bogen 45°  DN 600","Segmentfrei","17.ALLG",349.48,{"$f":"G948*(1-VLOOKUP(F948,Konditionen!$B:$D,3,0))","v":349.48}]
["Kunststoff","BPPS","BPPS60060","PPs Bogen 60°  DN 600","Segmentfrei","17.ALLG",451.44,{"$f":"G949*(1-VLOOKUP(F949,Konditionen!$B:$D,3,0))","v":451.44}]
["Kunststoff","BPPS","BPPS60075","PPs Bogen 75°  DN 600","Segmentfrei","17.ALLG",523.04,{"$f":"G950*(1-VLOOKUP(F950,Konditionen!$B:$D,3,0))","v":523.04}]
["Kunststoff","BPPS","BPPS60090","PPs Bogen 90°  DN 600","Segmentfrei","17.ALLG",523.04,{"$f":"G951*(1-VLOOKUP(F951,Konditionen!$B:$D,3,0))","v":523.04}]
["Kunststoff","BPPS","BPPS63015","PPs Bogen 15°  DN 630","Segmentfrei","17.ALLG",289.98,{"$f":"G952*(1-VLOOKUP(F952,Konditionen!$B:$D,3,0))","v":289.98}]
["Kunststoff","BPPS","BPPS63030","PPs Bogen 30°  DN 630","Segmentfrei","17.ALLG",289.98,{"$f":"G953*(1-VLOOKUP(F953,Konditionen!$B:$D,3,0))","v":289.98}]
["Kunststoff","BPPS","BPPS63045","PPs Bogen 45°  DN 630","Segmentfrei","17.ALLG",360.39,{"$f":"G954*(1-VLOOKUP(F954,Konditionen!$B:$D,3,0))","v":360.39}]
["Kunststoff","BPPS","BPPS63060","PPs Bogen 60°  DN 630","Segmentfrei","17.ALLG",501.22,{"$f":"G955*(1-VLOOKUP(F955,Konditionen!$B:$D,3,0))","v":501.22}]
["Kunststoff","BPPS","BPPS63075","PPs Bogen 75°  DN 630","Segmentfrei","17.ALLG",523.04,{"$f":"G956*(1-VLOOKUP(F956,Konditionen!$B:$D,3,0))","v":523.04}]
["Kunststoff","BPPS","BPPS63090","PPs Bogen 90°  DN 630","Segmentfrei","17.ALLG",523.04,{"$f":"G957*(1-VLOOKUP(F957,Konditionen!$B:$D,3,0))","v":523.04}]
["Kunststoff","BPPS","BPPS6315","PPs Bogen 15°  DN 63","Segmentfrei","17.ALLG",9.39,{"$f":"G958*(1-VLOOKUP(F958,Konditionen!$B:$D,3,0))","v":9.39}]
["Kunststoff","BPPS","BPPS6330","PPs Bogen 30°  DN 63","Segmentfrei","17.ALLG",9.39,{"$f":"G959*(1-VLOOKUP(F959,Konditionen!$B:$D,3,0))","v":9.39}]
["Kunststoff","BPPS","BPPS6345","PPs Bogen 45°  DN 63","Segmentfrei","17.ALLG",9.39,{"$f":"G960*(1-VLOOKUP(F960,Konditionen!$B:$D,3,0))","v":9.39}]
["Kunststoff","BPPS","BPPS6360","PPs Bogen 60°  DN 63","Segmentfrei","17.ALLG",11.98,{"$f":"G961*(1-VLOOKUP(F961,Konditionen!$B:$D,3,0))","v":11.98}]
["Kunststoff","BPPS","BPPS6375","PPs Bogen 75°  DN 63","Segmentfrei","17.ALLG",11.98,{"$f":"G962*(1-VLOOKUP(F962,Konditionen!$B:$D,3,0))","v":11.98}]
["Kunststoff","BPPS","BPPS6390","PPs Bogen 90°  DN 63","Segmentfrei","17.ALLG",11.98,{"$f":"G963*(1-VLOOKUP(F963,Konditionen!$B:$D,3,0))","v":11.98}]
["Kunststoff","BPPS","BPPS70015","PPs Bogen 15°  DN 700","Segmentfrei","17.ALLG",503.6,{"$f":"G964*(1-VLOOKUP(F964,Konditionen!$B:$D,3,0))","v":503.6}]
["Kunststoff","BPPS","BPPS70030","PPs Bogen 30°  DN 700","Segmentfrei","17.ALLG",503.6,{"$f":"G965*(1-VLOOKUP(F965,Konditionen!$B:$D,3,0))","v":503.6}]
["Kunststoff","BPPS","BPPS70045","PPs Bogen 45°  DN 700","Segmentfrei","17.ALLG",556.95000000000005,{"$f":"G966*(1-VLOOKUP(F966,Konditionen!$B:$D,3,0))","v":556.95000000000005}]
["Kunststoff","BPPS","BPPS70060","PPs Bogen 60°  DN 700","Segmentfrei","17.ALLG",838.51,{"$f":"G967*(1-VLOOKUP(F967,Konditionen!$B:$D,3,0))","v":838.51}]
["Kunststoff","BPPS","BPPS70075","PPs Bogen 75°  DN 700","Segmentfrei","17.ALLG",853.09,{"$f":"G968*(1-VLOOKUP(F968,Konditionen!$B:$D,3,0))","v":853.09}]
["Kunststoff","BPPS","BPPS70090","PPs Bogen 90°  DN 700","Segmentfrei","17.ALLG",1058.94,{"$f":"G969*(1-VLOOKUP(F969,Konditionen!$B:$D,3,0))","v":1058.94}]
["Kunststoff","BPPS","BPPS71015","PPs Bogen 15°  DN 710","Segmentfrei","17.ALLG",514.51,{"$f":"G970*(1-VLOOKUP(F970,Konditionen!$B:$D,3,0))","v":514.51}]
["Kunststoff","BPPS","BPPS71030","PPs Bogen 30°  DN 710","Segmentfrei","17.ALLG",514.51,{"$f":"G971*(1-VLOOKUP(F971,Konditionen!$B:$D,3,0))","v":514.51}]
["Kunststoff","BPPS","BPPS71045","PPs Bogen 45°  DN 710","Segmentfrei","17.ALLG",570.34,{"$f":"G972*(1-VLOOKUP(F972,Konditionen!$B:$D,3,0))","v":570.34}]
["Kunststoff","BPPS","BPPS71060","PPs Bogen 60°  DN 710","Segmentfrei","17.ALLG",838.51,{"$f":"G973*(1-VLOOKUP(F973,Konditionen!$B:$D,3,0))","v":838.51}]
["Kunststoff","BPPS","BPPS71075","PPs Bogen 75°  DN 710","Segmentfrei","17.ALLG",853.09,{"$f":"G974*(1-VLOOKUP(F974,Konditionen!$B:$D,3,0))","v":853.09}]
["Kunststoff","BPPS","BPPS71090","PPs Bogen 90°  DN 710","Segmentfrei","17.ALLG",853.09,{"$f":"G975*(1-VLOOKUP(F975,Konditionen!$B:$D,3,0))","v":853.09}]
["Kunststoff","BPPS","BPPS7515","PPs Bogen 15°  DN 75","Segmentfrei","17.ALLG",9.39,{"$f":"G976*(1-VLOOKUP(F976,Konditionen!$B:$D,3,0))","v":9.39}]
["Kunststoff","BPPS","BPPS7530","PPs Bogen 30°  DN 75","Segmentfrei","17.ALLG",9.39,{"$f":"G977*(1-VLOOKUP(F977,Konditionen!$B:$D,3,0))","v":9.39}]
["Kunststoff","BPPS","BPPS7545","PPs Bogen 45°  DN 75","Segmentfrei","17.ALLG",9.39,{"$f":"G978*(1-VLOOKUP(F978,Konditionen!$B:$D,3,0))","v":9.39}]
["Kunststoff","BPPS","BPPS7560","PPs Bogen 60°  DN 75","Segmentfrei","17.ALLG",11.98,{"$f":"G979*(1-VLOOKUP(F979,Konditionen!$B:$D,3,0))","v":11.98}]
["Kunststoff","BPPS","BPPS7575","PPs Bogen 75°  DN 75","Segmentfrei","17.ALLG",11.98,{"$f":"G980*(1-VLOOKUP(F980,Konditionen!$B:$D,3,0))","v":11.98}]
["Kunststoff","BPPS","BPPS7590","PPs Bogen 90°  DN 75","Segmentfrei","17.ALLG",11.98,{"$f":"G981*(1-VLOOKUP(F981,Konditionen!$B:$D,3,0))","v":11.98}]
["Kunststoff","BPPS","BPPS80015","PPs Bogen 15°  DN 800","Segmentfrei","17.ALLG",688.06,{"$f":"G982*(1-VLOOKUP(F982,Konditionen!$B:$D,3,0))","v":688.06}]
["Kunststoff","BPPS","BPPS80030","PPs Bogen 30°  DN 800","Segmentfrei","17.ALLG",688.06,{"$f":"G983*(1-VLOOKUP(F983,Konditionen!$B:$D,3,0))","v":688.06}]
["Kunststoff","BPPS","BPPS80045","PPs Bogen 45°  DN 800","Segmentfrei","17.ALLG",719.6,{"$f":"G984*(1-VLOOKUP(F984,Konditionen!$B:$D,3,0))","v":719.6}]
["Kunststoff","BPPS","BPPS80060","PPs Bogen 60°  DN 800","Segmentfrei","17.ALLG",1106.67,{"$f":"G985*(1-VLOOKUP(F985,Konditionen!$B:$D,3,0))","v":1106.67}]
["Kunststoff","BPPS","BPPS80075","PPs Bogen 75°  DN 800","Segmentfrei","17.ALLG",1114.02,{"$f":"G986*(1-VLOOKUP(F986,Konditionen!$B:$D,3,0))","v":1114.02}]
["Kunststoff","BPPS","BPPS80090","PPs Bogen 90°  DN 800","Segmentfrei","17.ALLG",1114.02,{"$f":"G987*(1-VLOOKUP(F987,Konditionen!$B:$D,3,0))","v":1114.02}]
["Kunststoff","BPPS","BPPS90015","PPs Bogen 15°  DN 900","Segmentfrei","17.ALLG",793.58,{"$f":"G988*(1-VLOOKUP(F988,Konditionen!$B:$D,3,0))","v":793.58}]
["Kunststoff","BPPS","BPPS90030","PPs Bogen 30°  DN 900","Segmentfrei","17.ALLG",793.58,{"$f":"G989*(1-VLOOKUP(F989,Konditionen!$B:$D,3,0))","v":793.58}]
["Kunststoff","BPPS","BPPS90045","PPs Bogen 45°  DN 900","Segmentfrei","17.ALLG",836.02,{"$f":"G990*(1-VLOOKUP(F990,Konditionen!$B:$D,3,0))","v":836.02}]
["Kunststoff","BPPS","BPPS90060","PPs Bogen 60°  DN 900","Segmentfrei","17.ALLG",1391.79,{"$f":"G991*(1-VLOOKUP(F991,Konditionen!$B:$D,3,0))","v":1391.79}]
["Kunststoff","BPPS","BPPS90075","PPs Bogen 75°  DN 900","Segmentfrei","17.ALLG",1421.06,{"$f":"G992*(1-VLOOKUP(F992,Konditionen!$B:$D,3,0))","v":1421.06}]
["Kunststoff","BPPS","BPPS90090","PPs Bogen 90°  DN 900","Segmentfrei","17.ALLG",1421.06,{"$f":"G993*(1-VLOOKUP(F993,Konditionen!$B:$D,3,0))","v":1421.06}]
["Kunststoff","BPPS","BPPS9015","PPs Bogen 15°  DN 90","Segmentfrei","17.ALLG",9.39,{"$f":"G994*(1-VLOOKUP(F994,Konditionen!$B:$D,3,0))","v":9.39}]
["Kunststoff","BPPS","BPPS9030","PPs Bogen 30°  DN 90","Segmentfrei","17.ALLG",9.39,{"$f":"G995*(1-VLOOKUP(F995,Konditionen!$B:$D,3,0))","v":9.39}]
["Kunststoff","BPPS","BPPS9045","PPs Bogen 45°  DN 90","Segmentfrei","17.ALLG",9.39,{"$f":"G996*(1-VLOOKUP(F996,Konditionen!$B:$D,3,0))","v":9.39}]
["Kunststoff","BPPS","BPPS9060","PPs Bogen 60°  DN 90","Segmentfrei","17.ALLG",13.39,{"$f":"G997*(1-VLOOKUP(F997,Konditionen!$B:$D,3,0))","v":13.39}]
["Kunststoff","BPPS","BPPS9075","PPs Bogen 75°  DN 90","Segmentfrei","17.ALLG",13.39,{"$f":"G998*(1-VLOOKUP(F998,Konditionen!$B:$D,3,0))","v":13.39}]
["Kunststoff","BPPS","BPPS9090","PPs Bogen 90°  DN 90","Segmentfrei","17.ALLG",13.39,{"$f":"G999*(1-VLOOKUP(F999,Konditionen!$B:$D,3,0))","v":13.39}]
["Smarttools","BRUSH","BRUSH180","Perlon-Bürstenkopf 180mm  BRUSH180","Gewinde M10 *** Netto-Preis ***","90",16.3,{"$f":"G1000*(1-VLOOKUP(F1000,Konditionen!$B:$D,3,0))","v":16.3}]
["Smarttools","BRUSH","BRUSH250","Perlon-Bürstenkopf 250mm BRUSH250","Gewinde M10 *** Netto-Preis ***","90",18.5,{"$f":"G1001*(1-VLOOKUP(F1001,Konditionen!$B:$D,3,0))","v":18.5}]
["Rohre und Formteile","BSFTR","BSFTR20015","Transfer Bogen Segment BSFTR 200.15","r = 1,5xd","35",54.15,{"$f":"G1002*(1-VLOOKUP(F1002,Konditionen!$B:$D,3,0))","v":54.15}]
["Rohre und Formteile","BSFTR","BSFTR20030","Transfer Bogen Segment BSFTR 200.30","r = 1,5xd","35",57.2,{"$f":"G1003*(1-VLOOKUP(F1003,Konditionen!$B:$D,3,0))","v":57.2}]
["Rohre und Formteile","BSFTR","BSFTR20045","Transfer Bogen Segment BSFTR 200.45","r = 1,5xd","35",72.47,{"$f":"G1004*(1-VLOOKUP(F1004,Konditionen!$B:$D,3,0))","v":72.47}]
["Rohre und Formteile","BSFTR","BSFTR20060","Transfer Bogen Segment BSFTR 200.60","r = 1,5xd","35",97.97,{"$f":"G1005*(1-VLOOKUP(F1005,Konditionen!$B:$D,3,0))","v":97.97}]
["Rohre und Formteile","BSFTR","BSFTR20090","Transfer Bogen Segment BSFTR 200.90","r = 1,5xd","35",114.45,{"$f":"G1006*(1-VLOOKUP(F1006,Konditionen!$B:$D,3,0))","v":114.45}]
["Rohre und Formteile","BSFTR","BSFTR22415","Transfer Bogen Segment BSFTR 224.15","r = 1,5xd","35",69.05,{"$f":"G1007*(1-VLOOKUP(F1007,Konditionen!$B:$D,3,0))","v":69.05}]
["Rohre und Formteile","BSFTR","BSFTR22430","Transfer Bogen Segment BSFTR 224.30","r = 1,5xd","35",72.47,{"$f":"G1008*(1-VLOOKUP(F1008,Konditionen!$B:$D,3,0))","v":72.47}]
["Rohre und Formteile","BSFTR","BSFTR22445","Transfer Bogen Segment BSFTR 224.45","r = 1,5xd","35",90.94,{"$f":"G1009*(1-VLOOKUP(F1009,Konditionen!$B:$D,3,0))","v":90.94}]
["Rohre und Formteile","BSFTR","BSFTR22460","Transfer Bogen Segment BSFTR 224.60","r = 1,5xd","35",110.99,{"$f":"G1010*(1-VLOOKUP(F1010,Konditionen!$B:$D,3,0))","v":110.99}]
["Rohre und Formteile","BSFTR","BSFTR22490","Transfer Bogen Segment BSFTR 224.90","r = 1,5xd","35",144.11000000000001,{"$f":"G1011*(1-VLOOKUP(F1011,Konditionen!$B:$D,3,0))","v":144.11000000000001}]
["Rohre und Formteile","BSFTR","BSFTR25015","Transfer Bogen Segment BSFTR 250.15","r = 1,5xd","35",69.05,{"$f":"G1012*(1-VLOOKUP(F1012,Konditionen!$B:$D,3,0))","v":69.05}]
["Rohre und Formteile","BSFTR","BSFTR25030","Transfer Bogen Segment BSFTR 250.30","r = 1,5xd","35",72.47,{"$f":"G1013*(1-VLOOKUP(F1013,Konditionen!$B:$D,3,0))","v":72.47}]
["Rohre und Formteile","BSFTR","BSFTR25045","Transfer Bogen Segment BSFTR 250.45","r = 1,5xd","35",90.94,{"$f":"G1014*(1-VLOOKUP(F1014,Konditionen!$B:$D,3,0))","v":90.94}]
["Rohre und Formteile","BSFTR","BSFTR25060","Transfer Bogen Segment BSFTR 250.60","r = 1,5xd","35",110.99,{"$f":"G1015*(1-VLOOKUP(F1015,Konditionen!$B:$D,3,0))","v":110.99}]
["Rohre und Formteile","BSFTR","BSFTR25090","Transfer Bogen Segment BSFTR 250.90","r = 1,5xd","35",144.11000000000001,{"$f":"G1016*(1-VLOOKUP(F1016,Konditionen!$B:$D,3,0))","v":144.11000000000001}]
["Rohre und Formteile","BSFTR","BSFTR30015","Transfer Bogen Segment BSFTR 300.15","r = 1,5xd","35",86.22,{"$f":"G1017*(1-VLOOKUP(F1017,Konditionen!$B:$D,3,0))","v":86.22}]
["Rohre und Formteile","BSFTR","BSFTR30030","Transfer Bogen Segment BSFTR 300.30","r = 1,5xd","35",91.68,{"$f":"G1018*(1-VLOOKUP(F1018,Konditionen!$B:$D,3,0))","v":91.68}]
["Rohre und Formteile","BSFTR","BSFTR30045","Transfer Bogen Segment BSFTR 300.45","r = 1,5xd","35",117.29,{"$f":"G1019*(1-VLOOKUP(F1019,Konditionen!$B:$D,3,0))","v":117.29}]
["Rohre und Formteile","BSFTR","BSFTR30060","Transfer Bogen Segment BSFTR 300.60","r = 1,5xd","35",157.86000000000001,{"$f":"G1020*(1-VLOOKUP(F1020,Konditionen!$B:$D,3,0))","v":157.86000000000001}]
["Rohre und Formteile","BSFTR","BSFTR30090","Transfer Bogen Segment BSFTR 300.90","r = 1,5xd","35",181.47,{"$f":"G1021*(1-VLOOKUP(F1021,Konditionen!$B:$D,3,0))","v":181.47}]
["Rohre und Formteile","BSFTR","BSFTR31515","Transfer Bogen Segment BSFTR 315.15","r = 1,5xd","35",95.2,{"$f":"G1022*(1-VLOOKUP(F1022,Konditionen!$B:$D,3,0))","v":95.2}]
["Rohre und Formteile","BSFTR","BSFTR31530","Transfer Bogen Segment BSFTR 315.30","r = 1,5xd","35",101.28,{"$f":"G1023*(1-VLOOKUP(F1023,Konditionen!$B:$D,3,0))","v":101.28}]
["Rohre und Formteile","BSFTR","BSFTR31545","Transfer Bogen Segment BSFTR 315.45","r = 1,5xd","35",129.57,{"$f":"G1024*(1-VLOOKUP(F1024,Konditionen!$B:$D,3,0))","v":129.57}]
["Rohre und Formteile","BSFTR","BSFTR31560","Transfer Bogen Segment BSFTR 315.60","r = 1,5xd","35",181.99,{"$f":"G1025*(1-VLOOKUP(F1025,Konditionen!$B:$D,3,0))","v":181.99}]
["Rohre und Formteile","BSFTR","BSFTR31590","Transfer Bogen Segment BSFTR 315.90","r = 1,5xd","35",200.62,{"$f":"G1026*(1-VLOOKUP(F1026,Konditionen!$B:$D,3,0))","v":200.62}]
["Rohre und Formteile","BSFTR","BSFTR35015","Transfer Bogen Segment BSFTR 350.15","r = 1,5xd","35",110.42,{"$f":"G1027*(1-VLOOKUP(F1027,Konditionen!$B:$D,3,0))","v":110.42}]
["Rohre und Formteile","BSFTR","BSFTR35030","Transfer Bogen Segment BSFTR 350.30","r = 1,5xd","35",117.86,{"$f":"G1028*(1-VLOOKUP(F1028,Konditionen!$B:$D,3,0))","v":117.86}]
["Rohre und Formteile","BSFTR","BSFTR35045","Transfer Bogen Segment BSFTR 350.45","r = 1,5xd","35",154.02000000000001,{"$f":"G1029*(1-VLOOKUP(F1029,Konditionen!$B:$D,3,0))","v":154.02000000000001}]
["Rohre und Formteile","BSFTR","BSFTR35060","Transfer Bogen Segment BSFTR 350.60","r = 1,5xd","35",217.94,{"$f":"G1030*(1-VLOOKUP(F1030,Konditionen!$B:$D,3,0))","v":217.94}]
["Rohre und Formteile","BSFTR","BSFTR35090","Transfer Bogen Segment BSFTR 350.90","r = 1,5xd","35",239.19,{"$f":"G1031*(1-VLOOKUP(F1031,Konditionen!$B:$D,3,0))","v":239.19}]
["Rohre und Formteile","BSFTR","BSFTR40015","Transfer Bogen Segment BSFTR 400.15","r = 1,5xd","35",151.03,{"$f":"G1032*(1-VLOOKUP(F1032,Konditionen!$B:$D,3,0))","v":151.03}]
["Rohre und Formteile","BSFTR","BSFTR40030","Transfer Bogen Segment BSFTR 400.30","r = 1,5xd","35",156.69,{"$f":"G1033*(1-VLOOKUP(F1033,Konditionen!$B:$D,3,0))","v":156.69}]
["Rohre und Formteile","BSFTR","BSFTR40045","Transfer Bogen Segment BSFTR 400.45","r = 1,5xd","35",200.15,{"$f":"G1034*(1-VLOOKUP(F1034,Konditionen!$B:$D,3,0))","v":200.15}]
["Rohre und Formteile","BSFTR","BSFTR40060","Transfer Bogen Segment BSFTR 400.60","r = 1,5xd","35",241.34,{"$f":"G1035*(1-VLOOKUP(F1035,Konditionen!$B:$D,3,0))","v":241.34}]
["Rohre und Formteile","BSFTR","BSFTR40090","Transfer Bogen Segment BSFTR 400.90","r = 1,5xd","35",324,{"$f":"G1036*(1-VLOOKUP(F1036,Konditionen!$B:$D,3,0))","v":324}]
["Rohre und Formteile","BSFTR","BSFTR45015","Transfer Bogen Segment BSFTR 450.15","r = 1,5xd","35",175.8,{"$f":"G1037*(1-VLOOKUP(F1037,Konditionen!$B:$D,3,0))","v":175.8}]
["Rohre und Formteile","BSFTR","BSFTR45030","Transfer Bogen Segment BSFTR 450.30","r = 1,5xd","35",184.14,{"$f":"G1038*(1-VLOOKUP(F1038,Konditionen!$B:$D,3,0))","v":184.14}]
["Rohre und Formteile","BSFTR","BSFTR45045","Transfer Bogen Segment BSFTR 450.45","r = 1,5xd","35",231.58,{"$f":"G1039*(1-VLOOKUP(F1039,Konditionen!$B:$D,3,0))","v":231.58}]
["Rohre und Formteile","BSFTR","BSFTR45060","Transfer Bogen Segment BSFTR 450.60","r = 1,5xd","35",284.74,{"$f":"G1040*(1-VLOOKUP(F1040,Konditionen!$B:$D,3,0))","v":284.74}]
["Rohre und Formteile","BSFTR","BSFTR45090","Transfer Bogen Segment BSFTR 450.90","r = 1,5xd","35",391.02,{"$f":"G1041*(1-VLOOKUP(F1041,Konditionen!$B:$D,3,0))","v":391.02}]
["Rohre und Formteile","BSFTR","BSFTR50015","Transfer Bogen Segment BSFTR 500.15","r = 1,5xd","35",204.19,{"$f":"G1042*(1-VLOOKUP(F1042,Konditionen!$B:$D,3,0))","v":204.19}]
["Rohre und Formteile","BSFTR","BSFTR50030","Transfer Bogen Segment BSFTR 500.30","r = 1,5xd","35",211.02,{"$f":"G1043*(1-VLOOKUP(F1043,Konditionen!$B:$D,3,0))","v":211.02}]
["Rohre und Formteile","BSFTR","BSFTR50045","Transfer Bogen Segment BSFTR 500.45","r = 1,5xd","35",264.8,{"$f":"G1044*(1-VLOOKUP(F1044,Konditionen!$B:$D,3,0))","v":264.8}]
["Rohre und Formteile","BSFTR","BSFTR50060","Transfer Bogen Segment BSFTR 500.60","r = 1,5xd","35",328.25,{"$f":"G1045*(1-VLOOKUP(F1045,Konditionen!$B:$D,3,0))","v":328.25}]
["Rohre und Formteile","BSFTR","BSFTR50090","Transfer Bogen Segment BSFTR 500.90","r = 1,5xd","35",462.7,{"$f":"G1046*(1-VLOOKUP(F1046,Konditionen!$B:$D,3,0))","v":462.7}]
["Rohre und Formteile","BSFUFP","BSFUFP100045","Bogen Segment   BSFUFP   1000.45","Lindab FireProtect Rund","80",1686.51,{"$f":"G1047*(1-VLOOKUP(F1047,Konditionen!$B:$D,3,0))","v":1686.51}]
["Rohre und Formteile","BSFUFP","BSFUFP100060","Bogen Segment   BSFUFP   1000.60","Lindab FireProtect Rund","80",1884.7,{"$f":"G1048*(1-VLOOKUP(F1048,Konditionen!$B:$D,3,0))","v":1884.7}]
["Rohre und Formteile","BSFUFP","BSFUFP100090","Bogen Segment   BSFUFP   1000.90","Lindab FireProtect Rund","80",1954.94,{"$f":"G1049*(1-VLOOKUP(F1049,Konditionen!$B:$D,3,0))","v":1954.94}]
["Rohre und Formteile","BSFUFP","BSFUFP10045","Bogen Segment   BSFUFP   100.45","Lindab FireProtect Rund","80",67.2,{"$f":"G1050*(1-VLOOKUP(F1050,Konditionen!$B:$D,3,0))","v":67.2}]
["Rohre und Formteile","BSFUFP","BSFUFP10060","Bogen Segment   BSFUFP   100.60","Lindab FireProtect Rund","80",77.489999999999995,{"$f":"G1051*(1-VLOOKUP(F1051,Konditionen!$B:$D,3,0))","v":77.489999999999995}]
["Rohre und Formteile","BSFUFP","BSFUFP10090","Bogen Segment   BSFUFP   100.90","Lindab FireProtect Rund","80",97.28,{"$f":"G1052*(1-VLOOKUP(F1052,Konditionen!$B:$D,3,0))","v":97.28}]
["Rohre und Formteile","BSFUFP","BSFUFP11245","Bogen Segment   BSFUFP   112.45","Lindab FireProtect Rund","80",75.13,{"$f":"G1053*(1-VLOOKUP(F1053,Konditionen!$B:$D,3,0))","v":75.13}]
["Rohre und Formteile","BSFUFP","BSFUFP11260","Bogen Segment   BSFUFP   112.60","Lindab FireProtect Rund","80",83.32,{"$f":"G1054*(1-VLOOKUP(F1054,Konditionen!$B:$D,3,0))","v":83.32}]
["Rohre und Formteile","BSFUFP","BSFUFP11290","Bogen Segment   BSFUFP   112.90","Lindab FireProtect Rund","80",103.27,{"$f":"G1055*(1-VLOOKUP(F1055,Konditionen!$B:$D,3,0))","v":103.27}]
["Rohre und Formteile","BSFUFP","BSFUFP12545","Bogen Segment   BSFUFP   125.45","Lindab FireProtect Rund","80",75.13,{"$f":"G1056*(1-VLOOKUP(F1056,Konditionen!$B:$D,3,0))","v":75.13}]
["Rohre und Formteile","BSFUFP","BSFUFP12560","Bogen Segment   BSFUFP   125.60","Lindab FireProtect Rund","80",83.32,{"$f":"G1057*(1-VLOOKUP(F1057,Konditionen!$B:$D,3,0))","v":83.32}]
["Rohre und Formteile","BSFUFP","BSFUFP12590","Bogen Segment   BSFUFP   125.90","Lindab FireProtect Rund","80",103.27,{"$f":"G1058*(1-VLOOKUP(F1058,Konditionen!$B:$D,3,0))","v":103.27}]
["Rohre und Formteile","BSFUFP","BSFUFP14045","Bogen Segment   BSFUFP   140.45","Lindab FireProtect Rund","80",81.22,{"$f":"G1059*(1-VLOOKUP(F1059,Konditionen!$B:$D,3,0))","v":81.22}]
["Rohre und Formteile","BSFUFP","BSFUFP14060","Bogen Segment   BSFUFP   140.60","Lindab FireProtect Rund","80",98.75,{"$f":"G1060*(1-VLOOKUP(F1060,Konditionen!$B:$D,3,0))","v":98.75}]
["Rohre und Formteile","BSFUFP","BSFUFP14090","Bogen Segment   BSFUFP   140.90","Lindab FireProtect Rund","80",120.96,{"$f":"G1061*(1-VLOOKUP(F1061,Konditionen!$B:$D,3,0))","v":120.96}]
["Rohre und Formteile","BSFUFP","BSFUFP15045","Bogen Segment   BSFUFP   150.45","Lindab FireProtect Rund","80",81.22,{"$f":"G1062*(1-VLOOKUP(F1062,Konditionen!$B:$D,3,0))","v":81.22}]
["Rohre und Formteile","BSFUFP","BSFUFP15060","Bogen Segment   BSFUFP   150.60","Lindab FireProtect Rund","80",98.75,{"$f":"G1063*(1-VLOOKUP(F1063,Konditionen!$B:$D,3,0))","v":98.75}]
["Rohre und Formteile","BSFUFP","BSFUFP15090","Bogen Segment   BSFUFP   150.90","Lindab FireProtect Rund","80",120.96,{"$f":"G1064*(1-VLOOKUP(F1064,Konditionen!$B:$D,3,0))","v":120.96}]
["Rohre und Formteile","BSFUFP","BSFUFP16045","Bogen Segment   BSFUFP   160.45","Lindab FireProtect Rund","80",81.22,{"$f":"G1065*(1-VLOOKUP(F1065,Konditionen!$B:$D,3,0))","v":81.22}]
["Rohre und Formteile","BSFUFP","BSFUFP16060","Bogen Segment   BSFUFP   160.60","Lindab FireProtect Rund","80",98.75,{"$f":"G1066*(1-VLOOKUP(F1066,Konditionen!$B:$D,3,0))","v":98.75}]
["Rohre und Formteile","BSFUFP","BSFUFP16090","Bogen Segment   BSFUFP   160.90","Lindab FireProtect Rund","80",120.96,{"$f":"G1067*(1-VLOOKUP(F1067,Konditionen!$B:$D,3,0))","v":120.96}]
["Rohre und Formteile","BSFUFP","BSFUFP18045","Bogen Segment   BSFUFP   180.45","Lindab FireProtect Rund","80",94.87,{"$f":"G1068*(1-VLOOKUP(F1068,Konditionen!$B:$D,3,0))","v":94.87}]
["Rohre und Formteile","BSFUFP","BSFUFP18060","Bogen Segment   BSFUFP   180.60","Lindab FireProtect Rund","80",111.3,{"$f":"G1069*(1-VLOOKUP(F1069,Konditionen!$B:$D,3,0))","v":111.3}]
["Rohre und Formteile","BSFUFP","BSFUFP18090","Bogen Segment   BSFUFP   180.90","Lindab FireProtect Rund","80",139.28,{"$f":"G1070*(1-VLOOKUP(F1070,Konditionen!$B:$D,3,0))","v":139.28}]
["Rohre und Formteile","BSFUFP","BSFUFP20045","Bogen Segment   BSFUFP   200.45","Lindab FireProtect Rund","80",94.87,{"$f":"G1071*(1-VLOOKUP(F1071,Konditionen!$B:$D,3,0))","v":94.87}]
["Rohre und Formteile","BSFUFP","BSFUFP20060","Bogen Segment   BSFUFP   200.60","Lindab FireProtect Rund","80",111.3,{"$f":"G1072*(1-VLOOKUP(F1072,Konditionen!$B:$D,3,0))","v":111.3}]
["Rohre und Formteile","BSFUFP","BSFUFP20090","Bogen Segment   BSFUFP   200.90","Lindab FireProtect Rund","80",139.28,{"$f":"G1073*(1-VLOOKUP(F1073,Konditionen!$B:$D,3,0))","v":139.28}]
["Rohre und Formteile","BSFUFP","BSFUFP22445","Bogen Segment   BSFUFP   224.45","Lindab FireProtect Rund","80",120.49,{"$f":"G1074*(1-VLOOKUP(F1074,Konditionen!$B:$D,3,0))","v":120.49}]
["Rohre und Formteile","BSFUFP","BSFUFP22460","Bogen Segment   BSFUFP   224.60","Lindab FireProtect Rund","80",151.1,{"$f":"G1075*(1-VLOOKUP(F1075,Konditionen!$B:$D,3,0))","v":151.1}]
["Rohre und Formteile","BSFUFP","BSFUFP22490","Bogen Segment   BSFUFP   224.90","Lindab FireProtect Rund","80",180.76,{"$f":"G1076*(1-VLOOKUP(F1076,Konditionen!$B:$D,3,0))","v":180.76}]
["Rohre und Formteile","BSFUFP","BSFUFP25045","Bogen Segment   BSFUFP   250.45","Lindab FireProtect Rund","80",120.49,{"$f":"G1077*(1-VLOOKUP(F1077,Konditionen!$B:$D,3,0))","v":120.49}]
["Rohre und Formteile","BSFUFP","BSFUFP25060","Bogen Segment   BSFUFP   250.60","Lindab FireProtect Rund","80",151.1,{"$f":"G1078*(1-VLOOKUP(F1078,Konditionen!$B:$D,3,0))","v":151.1}]
["Rohre und Formteile","BSFUFP","BSFUFP25090","Bogen Segment   BSFUFP   250.90","Lindab FireProtect Rund","80",180.76,{"$f":"G1079*(1-VLOOKUP(F1079,Konditionen!$B:$D,3,0))","v":180.76}]
["Rohre und Formteile","BSFUFP","BSFUFP28045","Bogen Segment   BSFUFP   280.45","Lindab FireProtect Rund","80",151.36000000000001,{"$f":"G1080*(1-VLOOKUP(F1080,Konditionen!$B:$D,3,0))","v":151.36000000000001}]
["Rohre und Formteile","BSFUFP","BSFUFP28060","Bogen Segment   BSFUFP   280.60","Lindab FireProtect Rund","80",188.53,{"$f":"G1081*(1-VLOOKUP(F1081,Konditionen!$B:$D,3,0))","v":188.53}]
["Rohre und Formteile","BSFUFP","BSFUFP28090","Bogen Segment   BSFUFP   280.90","Lindab FireProtect Rund","80",222.6,{"$f":"G1082*(1-VLOOKUP(F1082,Konditionen!$B:$D,3,0))","v":222.6}]
["Rohre und Formteile","BSFUFP","BSFUFP30045","Bogen Segment   BSFUFP   300.45","Lindab FireProtect Rund","80",151.36000000000001,{"$f":"G1083*(1-VLOOKUP(F1083,Konditionen!$B:$D,3,0))","v":151.36000000000001}]
["Rohre und Formteile","BSFUFP","BSFUFP30060","Bogen Segment   BSFUFP   300.60","Lindab FireProtect Rund","80",188.53,{"$f":"G1084*(1-VLOOKUP(F1084,Konditionen!$B:$D,3,0))","v":188.53}]
["Rohre und Formteile","BSFUFP","BSFUFP30090","Bogen Segment   BSFUFP   300.90","Lindab FireProtect Rund","80",222.6,{"$f":"G1085*(1-VLOOKUP(F1085,Konditionen!$B:$D,3,0))","v":222.6}]
["Rohre und Formteile","BSFUFP","BSFUFP31545","Bogen Segment   BSFUFP   315.45","Lindab FireProtect Rund","80",164.17,{"$f":"G1086*(1-VLOOKUP(F1086,Konditionen!$B:$D,3,0))","v":164.17}]
["Rohre und Formteile","BSFUFP","BSFUFP31560","Bogen Segment   BSFUFP   315.60","Lindab FireProtect Rund","80",197.3,{"$f":"G1087*(1-VLOOKUP(F1087,Konditionen!$B:$D,3,0))","v":197.3}]
["Rohre und Formteile","BSFUFP","BSFUFP31590","Bogen Segment   BSFUFP   315.90","Lindab FireProtect Rund","80",238.61,{"$f":"G1088*(1-VLOOKUP(F1088,Konditionen!$B:$D,3,0))","v":238.61}]
["Rohre und Formteile","BSFUFP","BSFUFP35545","Bogen Segment   BSFUFP   355.45","Lindab FireProtect Rund","80",174.98,{"$f":"G1089*(1-VLOOKUP(F1089,Konditionen!$B:$D,3,0))","v":174.98}]
["Rohre und Formteile","BSFUFP","BSFUFP35560","Bogen Segment   BSFUFP   355.60","Lindab FireProtect Rund","80",218.4,{"$f":"G1090*(1-VLOOKUP(F1090,Konditionen!$B:$D,3,0))","v":218.4}]
["Rohre und Formteile","BSFUFP","BSFUFP35590","Bogen Segment   BSFUFP   355.90","Lindab FireProtect Rund","80",262.02999999999997,{"$f":"G1091*(1-VLOOKUP(F1091,Konditionen!$B:$D,3,0))","v":262.02999999999997}]
["Rohre und Formteile","BSFUFP","BSFUFP40045","Bogen Segment   BSFUFP   400.45","Lindab FireProtect Rund","80",192.73,{"$f":"G1092*(1-VLOOKUP(F1092,Konditionen!$B:$D,3,0))","v":192.73}]
["Rohre und Formteile","BSFUFP","BSFUFP40060","Bogen Segment   BSFUFP   400.60","Lindab FireProtect Rund","80",234.1,{"$f":"G1093*(1-VLOOKUP(F1093,Konditionen!$B:$D,3,0))","v":234.1}]
["Rohre und Formteile","BSFUFP","BSFUFP40090","Bogen Segment   BSFUFP   400.90","Lindab FireProtect Rund","80",287.02,{"$f":"G1094*(1-VLOOKUP(F1094,Konditionen!$B:$D,3,0))","v":287.02}]
["Rohre und Formteile","BSFUFP","BSFUFP45045","Bogen Segment   BSFUFP   450.45","Lindab FireProtect Rund","80",227.54,{"$f":"G1095*(1-VLOOKUP(F1095,Konditionen!$B:$D,3,0))","v":227.54}]
["Rohre und Formteile","BSFUFP","BSFUFP45060","Bogen Segment   BSFUFP   450.60","Lindab FireProtect Rund","80",273.47000000000003,{"$f":"G1096*(1-VLOOKUP(F1096,Konditionen!$B:$D,3,0))","v":273.47000000000003}]
["Rohre und Formteile","BSFUFP","BSFUFP45090","Bogen Segment   BSFUFP   450.90","Lindab FireProtect Rund","80",329.6,{"$f":"G1097*(1-VLOOKUP(F1097,Konditionen!$B:$D,3,0))","v":329.6}]
["Rohre und Formteile","BSFUFP","BSFUFP50045","Bogen Segment   BSFUFP   500.45","Lindab FireProtect Rund","80",297.77999999999997,{"$f":"G1098*(1-VLOOKUP(F1098,Konditionen!$B:$D,3,0))","v":297.77999999999997}]
["Rohre und Formteile","BSFUFP","BSFUFP50060","Bogen Segment   BSFUFP   500.60","Lindab FireProtect Rund","80",334.16,{"$f":"G1099*(1-VLOOKUP(F1099,Konditionen!$B:$D,3,0))","v":334.16}]
["Rohre und Formteile","BSFUFP","BSFUFP50090","Bogen Segment   BSFUFP   500.90","Lindab FireProtect Rund","80",409.4,{"$f":"G1100*(1-VLOOKUP(F1100,Konditionen!$B:$D,3,0))","v":409.4}]
["Rohre und Formteile","BSFUFP","BSFUFP56045","Bogen Segment   BSFUFP   560.45","Lindab FireProtect Rund","80",388.19,{"$f":"G1101*(1-VLOOKUP(F1101,Konditionen!$B:$D,3,0))","v":388.19}]
["Rohre und Formteile","BSFUFP","BSFUFP56060","Bogen Segment   BSFUFP   560.60","Lindab FireProtect Rund","80",430.82,{"$f":"G1102*(1-VLOOKUP(F1102,Konditionen!$B:$D,3,0))","v":430.82}]
["Rohre und Formteile","BSFUFP","BSFUFP56090","Bogen Segment   BSFUFP   560.90","Lindab FireProtect Rund","80",601.65,{"$f":"G1103*(1-VLOOKUP(F1103,Konditionen!$B:$D,3,0))","v":601.65}]
["Rohre und Formteile","BSFUFP","BSFUFP60045","Bogen Segment   BSFUFP   600.45","Lindab FireProtect Rund","80",468.62,{"$f":"G1104*(1-VLOOKUP(F1104,Konditionen!$B:$D,3,0))","v":468.62}]
["Rohre und Formteile","BSFUFP","BSFUFP60060","Bogen Segment   BSFUFP   600.60","Lindab FireProtect Rund","80",531.04,{"$f":"G1105*(1-VLOOKUP(F1105,Konditionen!$B:$D,3,0))","v":531.04}]
["Rohre und Formteile","BSFUFP","BSFUFP60090","Bogen Segment   BSFUFP   600.90","Lindab FireProtect Rund","80",642.6,{"$f":"G1106*(1-VLOOKUP(F1106,Konditionen!$B:$D,3,0))","v":642.6}]
["Rohre und Formteile","BSFUFP","BSFUFP63045","Bogen Segment   BSFUFP   630.45","Lindab FireProtect Rund","80",560.54,{"$f":"G1107*(1-VLOOKUP(F1107,Konditionen!$B:$D,3,0))","v":560.54}]
["Rohre und Formteile","BSFUFP","BSFUFP63060","Bogen Segment   BSFUFP   630.60","Lindab FireProtect Rund","80",633.99,{"$f":"G1108*(1-VLOOKUP(F1108,Konditionen!$B:$D,3,0))","v":633.99}]
["Rohre und Formteile","BSFUFP","BSFUFP63090","Bogen Segment   BSFUFP   630.90","Lindab FireProtect Rund","80",781.46,{"$f":"G1109*(1-VLOOKUP(F1109,Konditionen!$B:$D,3,0))","v":781.46}]
["Rohre und Formteile","BSFUFP","BSFUFP71045","Bogen Segment   BSFUFP   710.45","Lindab FireProtect Rund","80",686.33,{"$f":"G1110*(1-VLOOKUP(F1110,Konditionen!$B:$D,3,0))","v":686.33}]
["Rohre und Formteile","BSFUFP","BSFUFP71060","Bogen Segment   BSFUFP   710.60","Lindab FireProtect Rund","80",777.63,{"$f":"G1111*(1-VLOOKUP(F1111,Konditionen!$B:$D,3,0))","v":777.63}]
["Rohre und Formteile","BSFUFP","BSFUFP71090","Bogen Segment   BSFUFP   710.90","Lindab FireProtect Rund","80",957.97,{"$f":"G1112*(1-VLOOKUP(F1112,Konditionen!$B:$D,3,0))","v":957.97}]
["Rohre und Formteile","BSFUFP","BSFUFP80045","Bogen Segment   BSFUFP   800.45","Lindab FireProtect Rund","80",854.91,{"$f":"G1113*(1-VLOOKUP(F1113,Konditionen!$B:$D,3,0))","v":854.91}]
["Rohre und Formteile","BSFUFP","BSFUFP80060","Bogen Segment   BSFUFP   800.60","Lindab FireProtect Rund","80",961.96,{"$f":"G1114*(1-VLOOKUP(F1114,Konditionen!$B:$D,3,0))","v":961.96}]
["Rohre und Formteile","BSFUFP","BSFUFP80090","Bogen Segment   BSFUFP   800.90","Lindab FireProtect Rund","80",1192.5899999999999,{"$f":"G1115*(1-VLOOKUP(F1115,Konditionen!$B:$D,3,0))","v":1192.5899999999999}]
["Rohre und Formteile","BSFUFP","BSFUFP90045","Bogen Segment   BSFUFP   900.45","Lindab FireProtect Rund","80",1278.3800000000001,{"$f":"G1116*(1-VLOOKUP(F1116,Konditionen!$B:$D,3,0))","v":1278.3800000000001}]
["Rohre und Formteile","BSFUFP","BSFUFP90060","Bogen Segment   BSFUFP   900.60","Lindab FireProtect Rund","80",1289.03,{"$f":"G1117*(1-VLOOKUP(F1117,Konditionen!$B:$D,3,0))","v":1289.03}]
["Rohre und Formteile","BSFUFP","BSFUFP90090","Bogen Segment   BSFUFP   900.90","Lindab FireProtect Rund","80",1430.15,{"$f":"G1118*(1-VLOOKUP(F1118,Konditionen!$B:$D,3,0))","v":1430.15}]
["Rohre und Formteile","BSFU","BSFU100045","Bogen Segment    BSFU     1000.45","r = 1,5xd","30",1122.8399999999999,{"$f":"G1119*(1-VLOOKUP(F1119,Konditionen!$B:$D,3,0))","v":1122.8399999999999}]
["Rohre und Formteile","BSFU","BSFU100060","Bogen Segment    BSFU     1000.60","r = 1,5xd","30",1254.98,{"$f":"G1120*(1-VLOOKUP(F1120,Konditionen!$B:$D,3,0))","v":1254.98}]
["Rohre und Formteile","BSFU","BSFU100090","Bogen Segment    BSFU     1000.90","r = 1,5xd","30",1301.9000000000001,{"$f":"G1121*(1-VLOOKUP(F1121,Konditionen!$B:$D,3,0))","v":1301.9000000000001}]
["Rohre und Formteile","BSFU","BSFU10045","Bogen Segment    BSFU      100.45","r = 1,5xd","30",45.66,{"$f":"G1122*(1-VLOOKUP(F1122,Konditionen!$B:$D,3,0))","v":45.66}]
["Rohre und Formteile","BSFU","BSFU10060","Bogen Segment    BSFU      100.60","r = 1,5xd","30",52.58,{"$f":"G1123*(1-VLOOKUP(F1123,Konditionen!$B:$D,3,0))","v":52.58}]
["Rohre und Formteile","BSFU","BSFU10090","Bogen Segment    BSFU      100.90","r = 1,5xd","30",66.010000000000005,{"$f":"G1124*(1-VLOOKUP(F1124,Konditionen!$B:$D,3,0))","v":66.010000000000005}]
["Rohre und Formteile","BSFU","BSFU112045","Bogen Segment    BSFU     1120.45","r = 1,5xd","30",1419.24,{"$f":"G1125*(1-VLOOKUP(F1125,Konditionen!$B:$D,3,0))","v":1419.24}]
["Rohre und Formteile","BSFU","BSFU112060","Bogen Segment    BSFU     1120.60","r = 1,5xd","30",1583.28,{"$f":"G1126*(1-VLOOKUP(F1126,Konditionen!$B:$D,3,0))","v":1583.28}]
["Rohre und Formteile","BSFU","BSFU112090","Bogen Segment    BSFU     1120.90","r = 1,5xd","30",1673.02,{"$f":"G1127*(1-VLOOKUP(F1127,Konditionen!$B:$D,3,0))","v":1673.02}]
["Rohre und Formteile","BSFU","BSFU11245","Bogen Segment    BSFU      112.45","r = 1,5xd","30",51.11,{"$f":"G1128*(1-VLOOKUP(F1128,Konditionen!$B:$D,3,0))","v":51.11}]
["Rohre und Formteile","BSFU","BSFU11260","Bogen Segment    BSFU      112.60","r = 1,5xd","30",56.57,{"$f":"G1129*(1-VLOOKUP(F1129,Konditionen!$B:$D,3,0))","v":56.57}]
["Rohre und Formteile","BSFU","BSFU11290","Bogen Segment    BSFU      112.90","r = 1,5xd","30",70,{"$f":"G1130*(1-VLOOKUP(F1130,Konditionen!$B:$D,3,0))","v":70}]
["Rohre und Formteile","BSFU","BSFU125045","Bogen Segment    BSFU     1250.45","r = 1,5xd","30",1721,{"$f":"G1131*(1-VLOOKUP(F1131,Konditionen!$B:$D,3,0))","v":1721}]
["Rohre und Formteile","BSFU","BSFU125060","Bogen Segment    BSFU     1250.60","r = 1,5xd","30",1920.83,{"$f":"G1132*(1-VLOOKUP(F1132,Konditionen!$B:$D,3,0))","v":1920.83}]
["Rohre und Formteile","BSFU","BSFU125090","Bogen Segment    BSFU     1250.90","r = 1,5xd","30",2033.55,{"$f":"G1133*(1-VLOOKUP(F1133,Konditionen!$B:$D,3,0))","v":2033.55}]
["Rohre und Formteile","BSFU","BSFU12545","Bogen Segment    BSFU      125.45","r = 1,5xd","30",51.11,{"$f":"G1134*(1-VLOOKUP(F1134,Konditionen!$B:$D,3,0))","v":51.11}]
["Rohre und Formteile","BSFU","BSFU12560","Bogen Segment    BSFU      125.60","r = 1,5xd","30",56.57,{"$f":"G1135*(1-VLOOKUP(F1135,Konditionen!$B:$D,3,0))","v":56.57}]
["Rohre und Formteile","BSFU","BSFU12590","Bogen Segment    BSFU      125.90","r = 1,5xd","30",70,{"$f":"G1136*(1-VLOOKUP(F1136,Konditionen!$B:$D,3,0))","v":70}]
["Rohre und Formteile","BSFU","BSFU14045","Bogen Segment    BSFU      140.45","r = 1,5xd","30",55.2,{"$f":"G1137*(1-VLOOKUP(F1137,Konditionen!$B:$D,3,0))","v":55.2}]
["Rohre und Formteile","BSFU","BSFU14060","Bogen Segment    BSFU      140.60","r = 1,5xd","30",66.959999999999994,{"$f":"G1138*(1-VLOOKUP(F1138,Konditionen!$B:$D,3,0))","v":66.959999999999994}]
["Rohre und Formteile","BSFU","BSFU14090","Bogen Segment    BSFU      140.90","r = 1,5xd","30",82.07,{"$f":"G1139*(1-VLOOKUP(F1139,Konditionen!$B:$D,3,0))","v":82.07}]
["Rohre und Formteile","BSFU","BSFU15045","Bogen Segment    BSFU      150.45","r = 1,5xd","30",55.2,{"$f":"G1140*(1-VLOOKUP(F1140,Konditionen!$B:$D,3,0))","v":55.2}]
["Rohre und Formteile","BSFU","BSFU15060","Bogen Segment    BSFU      150.60","r = 1,5xd","30",66.959999999999994,{"$f":"G1141*(1-VLOOKUP(F1141,Konditionen!$B:$D,3,0))","v":66.959999999999994}]
["Rohre und Formteile","BSFU","BSFU15090","Bogen Segment    BSFU      150.90","r = 1,5xd","30",82.07,{"$f":"G1142*(1-VLOOKUP(F1142,Konditionen!$B:$D,3,0))","v":82.07}]
["Rohre und Formteile","BSFU","BSFU16045","Bogen Segment    BSFU      160.45","r = 1,5xd","30",55.2,{"$f":"G1143*(1-VLOOKUP(F1143,Konditionen!$B:$D,3,0))","v":55.2}]
["Rohre und Formteile","BSFU","BSFU16060","Bogen Segment    BSFU      160.60","r = 1,5xd","30",66.959999999999994,{"$f":"G1144*(1-VLOOKUP(F1144,Konditionen!$B:$D,3,0))","v":66.959999999999994}]
["Rohre und Formteile","BSFU","BSFU16090","Bogen Segment    BSFU      160.90","r = 1,5xd","30",82.07,{"$f":"G1145*(1-VLOOKUP(F1145,Konditionen!$B:$D,3,0))","v":82.07}]
["Rohre und Formteile","BSFU","BSFU18045","Bogen Segment    BSFU      180.45","r = 1,5xd","30",64.55,{"$f":"G1146*(1-VLOOKUP(F1146,Konditionen!$B:$D,3,0))","v":64.55}]
["Rohre und Formteile","BSFU","BSFU18060","Bogen Segment    BSFU      180.60","r = 1,5xd","30",75.67,{"$f":"G1147*(1-VLOOKUP(F1147,Konditionen!$B:$D,3,0))","v":75.67}]
["Rohre und Formteile","BSFU","BSFU18090","Bogen Segment    BSFU      180.90","r = 1,5xd","30",94.56,{"$f":"G1148*(1-VLOOKUP(F1148,Konditionen!$B:$D,3,0))","v":94.56}]
["Rohre und Formteile","BSFU","BSFU20045","Bogen Segment    BSFU      200.45","r = 1,5xd","30",64.55,{"$f":"G1149*(1-VLOOKUP(F1149,Konditionen!$B:$D,3,0))","v":64.55}]
["Rohre und Formteile","BSFU","BSFU20060","Bogen Segment    BSFU      200.60","r = 1,5xd","30",75.67,{"$f":"G1150*(1-VLOOKUP(F1150,Konditionen!$B:$D,3,0))","v":75.67}]
["Rohre und Formteile","BSFU","BSFU20090","Bogen Segment    BSFU      200.90","r = 1,5xd","30",94.56,{"$f":"G1151*(1-VLOOKUP(F1151,Konditionen!$B:$D,3,0))","v":94.56}]
["Rohre und Formteile","BSFU","BSFU22445","Bogen Segment    BSFU      224.45","r = 1,5xd","30",81.75,{"$f":"G1152*(1-VLOOKUP(F1152,Konditionen!$B:$D,3,0))","v":81.75}]
["Rohre und Formteile","BSFU","BSFU22460","Bogen Segment    BSFU      224.60","r = 1,5xd","30",102.44,{"$f":"G1153*(1-VLOOKUP(F1153,Konditionen!$B:$D,3,0))","v":102.44}]
["Rohre und Formteile","BSFU","BSFU22490","Bogen Segment    BSFU      224.90","r = 1,5xd","30",122.7,{"$f":"G1154*(1-VLOOKUP(F1154,Konditionen!$B:$D,3,0))","v":122.7}]
["Rohre und Formteile","BSFU","BSFU25045","Bogen Segment    BSFU      250.45","r = 1,5xd","30",81.75,{"$f":"G1155*(1-VLOOKUP(F1155,Konditionen!$B:$D,3,0))","v":81.75}]
["Rohre und Formteile","BSFU","BSFU25060","Bogen Segment    BSFU      250.60","r = 1,5xd","30",102.44,{"$f":"G1156*(1-VLOOKUP(F1156,Konditionen!$B:$D,3,0))","v":102.44}]
["Rohre und Formteile","BSFU","BSFU25090","Bogen Segment    BSFU      250.90","r = 1,5xd","30",122.7,{"$f":"G1157*(1-VLOOKUP(F1157,Konditionen!$B:$D,3,0))","v":122.7}]
["Rohre und Formteile","BSFU","BSFU28045","Bogen Segment    BSFU      280.45","r = 1,5xd","30",102.86,{"$f":"G1158*(1-VLOOKUP(F1158,Konditionen!$B:$D,3,0))","v":102.86}]
["Rohre und Formteile","BSFU","BSFU28060","Bogen Segment    BSFU      280.60","r = 1,5xd","30",128.04,{"$f":"G1159*(1-VLOOKUP(F1159,Konditionen!$B:$D,3,0))","v":128.04}]
["Rohre und Formteile","BSFU","BSFU28090","Bogen Segment    BSFU      280.90","r = 1,5xd","30",151.03,{"$f":"G1160*(1-VLOOKUP(F1160,Konditionen!$B:$D,3,0))","v":151.03}]
["Rohre und Formteile","BSFU","BSFU30045","Bogen Segment    BSFU      300.45","r = 1,5xd","30",102.86,{"$f":"G1161*(1-VLOOKUP(F1161,Konditionen!$B:$D,3,0))","v":102.86}]
["Rohre und Formteile","BSFU","BSFU30060","Bogen Segment    BSFU      300.60","r = 1,5xd","30",128.04,{"$f":"G1162*(1-VLOOKUP(F1162,Konditionen!$B:$D,3,0))","v":128.04}]
["Rohre und Formteile","BSFU","BSFU30090","Bogen Segment    BSFU      300.90","r = 1,5xd","30",151.03,{"$f":"G1163*(1-VLOOKUP(F1163,Konditionen!$B:$D,3,0))","v":151.03}]
["Rohre und Formteile","BSFU","BSFU31545","Bogen Segment    BSFU      315.45","r = 1,5xd","30",111.46,{"$f":"G1164*(1-VLOOKUP(F1164,Konditionen!$B:$D,3,0))","v":111.46}]
["Rohre und Formteile","BSFU","BSFU31560","Bogen Segment    BSFU      315.60","r = 1,5xd","30",133.93,{"$f":"G1165*(1-VLOOKUP(F1165,Konditionen!$B:$D,3,0))","v":133.93}]
["Rohre und Formteile","BSFU","BSFU31590","Bogen Segment    BSFU      315.90","r = 1,5xd","30",161.94999999999999,{"$f":"G1166*(1-VLOOKUP(F1166,Konditionen!$B:$D,3,0))","v":161.94999999999999}]
["Rohre und Formteile","BSFU","BSFU35545","Bogen Segment    BSFU      355.45","r = 1,5xd","30",116.49,{"$f":"G1167*(1-VLOOKUP(F1167,Konditionen!$B:$D,3,0))","v":116.49}]
["Rohre und Formteile","BSFU","BSFU35560","Bogen Segment    BSFU      355.60","r = 1,5xd","30",145.36000000000001,{"$f":"G1168*(1-VLOOKUP(F1168,Konditionen!$B:$D,3,0))","v":145.36000000000001}]
["Rohre und Formteile","BSFU","BSFU35590","Bogen Segment    BSFU      355.90","r = 1,5xd","30",174.64,{"$f":"G1169*(1-VLOOKUP(F1169,Konditionen!$B:$D,3,0))","v":174.64}]
["Rohre und Formteile","BSFU","BSFU40045","Bogen Segment    BSFU      400.45","r = 1,5xd","30",128.36000000000001,{"$f":"G1170*(1-VLOOKUP(F1170,Konditionen!$B:$D,3,0))","v":128.36000000000001}]
["Rohre und Formteile","BSFU","BSFU40060","Bogen Segment    BSFU      400.60","r = 1,5xd","30",155.86000000000001,{"$f":"G1171*(1-VLOOKUP(F1171,Konditionen!$B:$D,3,0))","v":155.86000000000001}]
["Rohre und Formteile","BSFU","BSFU40090","Bogen Segment    BSFU      400.90","r = 1,5xd","30",191.23,{"$f":"G1172*(1-VLOOKUP(F1172,Konditionen!$B:$D,3,0))","v":191.23}]
["Rohre und Formteile","BSFU","BSFU45045","Bogen Segment    BSFU      450.45","r = 1,5xd","30",151.44999999999999,{"$f":"G1173*(1-VLOOKUP(F1173,Konditionen!$B:$D,3,0))","v":151.44999999999999}]
["Rohre und Formteile","BSFU","BSFU45060","Bogen Segment    BSFU      450.60","r = 1,5xd","30",182.1,{"$f":"G1174*(1-VLOOKUP(F1174,Konditionen!$B:$D,3,0))","v":182.1}]
["Rohre und Formteile","BSFU","BSFU45090","Bogen Segment    BSFU      450.90","r = 1,5xd","30",219.36,{"$f":"G1175*(1-VLOOKUP(F1175,Konditionen!$B:$D,3,0))","v":219.36}]
["Rohre und Formteile","BSFU","BSFU50045","Bogen Segment    BSFU      500.45","r = 1,5xd","30",198.26,{"$f":"G1176*(1-VLOOKUP(F1176,Konditionen!$B:$D,3,0))","v":198.26}]
["Rohre und Formteile","BSFU","BSFU50060","Bogen Segment    BSFU      500.60","r = 1,5xd","30",222.4,{"$f":"G1177*(1-VLOOKUP(F1177,Konditionen!$B:$D,3,0))","v":222.4}]
["Rohre und Formteile","BSFU","BSFU50090","Bogen Segment    BSFU      500.90","r = 1,5xd","30",272.57,{"$f":"G1178*(1-VLOOKUP(F1178,Konditionen!$B:$D,3,0))","v":272.57}]
["Rohre und Formteile","BSFU","BSFU56045","Bogen Segment    BSFU      560.45","r = 1,5xd","30",258.51,{"$f":"G1179*(1-VLOOKUP(F1179,Konditionen!$B:$D,3,0))","v":258.51}]
["Rohre und Formteile","BSFU","BSFU56060","Bogen Segment    BSFU      560.60","r = 1,5xd","30",286.74,{"$f":"G1180*(1-VLOOKUP(F1180,Konditionen!$B:$D,3,0))","v":286.74}]
["Rohre und Formteile","BSFU","BSFU56090","Bogen Segment    BSFU      560.90","r = 1,5xd","30",400.62,{"$f":"G1181*(1-VLOOKUP(F1181,Konditionen!$B:$D,3,0))","v":400.62}]
["Rohre und Formteile","BSFU","BSFU60045","Bogen Segment    BSFU      600.45","r = 1,5xd","30",312.04000000000002,{"$f":"G1182*(1-VLOOKUP(F1182,Konditionen!$B:$D,3,0))","v":312.04000000000002}]
["Rohre und Formteile","BSFU","BSFU60060","Bogen Segment    BSFU      600.60","r = 1,5xd","30",353.6,{"$f":"G1183*(1-VLOOKUP(F1183,Konditionen!$B:$D,3,0))","v":353.6}]
["Rohre und Formteile","BSFU","BSFU60090","Bogen Segment    BSFU      600.90","r = 1,5xd","30",428.01,{"$f":"G1184*(1-VLOOKUP(F1184,Konditionen!$B:$D,3,0))","v":428.01}]
["Rohre und Formteile","BSFU","BSFU63045","Bogen Segment    BSFU      630.45","r = 1,5xd","30",373.23,{"$f":"G1185*(1-VLOOKUP(F1185,Konditionen!$B:$D,3,0))","v":373.23}]
["Rohre und Formteile","BSFU","BSFU63060","Bogen Segment    BSFU      630.60","r = 1,5xd","30",422.24,{"$f":"G1186*(1-VLOOKUP(F1186,Konditionen!$B:$D,3,0))","v":422.24}]
["Rohre und Formteile","BSFU","BSFU63090","Bogen Segment    BSFU      630.90","r = 1,5xd","30",520.16999999999996,{"$f":"G1187*(1-VLOOKUP(F1187,Konditionen!$B:$D,3,0))","v":520.16999999999996}]
["Rohre und Formteile","BSFU","BSFU71045","Bogen Segment    BSFU      710.45","r = 1,5xd","30",456.98,{"$f":"G1188*(1-VLOOKUP(F1188,Konditionen!$B:$D,3,0))","v":456.98}]
["Rohre und Formteile","BSFU","BSFU71060","Bogen Segment    BSFU      710.60","r = 1,5xd","30",517.85,{"$f":"G1189*(1-VLOOKUP(F1189,Konditionen!$B:$D,3,0))","v":517.85}]
["Rohre und Formteile","BSFU","BSFU71090","Bogen Segment    BSFU      710.90","r = 1,5xd","30",637.92999999999995,{"$f":"G1190*(1-VLOOKUP(F1190,Konditionen!$B:$D,3,0))","v":637.92999999999995}]
["Rohre und Formteile","BSFU","BSFU80045","Bogen Segment    BSFU      800.45","r = 1,5xd","30",569.28,{"$f":"G1191*(1-VLOOKUP(F1191,Konditionen!$B:$D,3,0))","v":569.28}]
["Rohre und Formteile","BSFU","BSFU80060","Bogen Segment    BSFU      800.60","r = 1,5xd","30",640.45000000000005,{"$f":"G1192*(1-VLOOKUP(F1192,Konditionen!$B:$D,3,0))","v":640.45000000000005}]
["Rohre und Formteile","BSFU","BSFU80090","Bogen Segment    BSFU      800.90","r = 1,5xd","30",794.11,{"$f":"G1193*(1-VLOOKUP(F1193,Konditionen!$B:$D,3,0))","v":794.11}]
["Rohre und Formteile","BSFU","BSFU8045","Bogen Segment    BSFU       80.45","r = 1,5xd","30",44.71,{"$f":"G1194*(1-VLOOKUP(F1194,Konditionen!$B:$D,3,0))","v":44.71}]
["Rohre und Formteile","BSFU","BSFU8060","Bogen Segment    BSFU       80.60","r = 1,5xd","30",51.95,{"$f":"G1195*(1-VLOOKUP(F1195,Konditionen!$B:$D,3,0))","v":51.95}]
["Rohre und Formteile","BSFU","BSFU8090","Bogen Segment    BSFU       80.90","r = 1,5xd","30",64.650000000000006,{"$f":"G1196*(1-VLOOKUP(F1196,Konditionen!$B:$D,3,0))","v":64.650000000000006}]
["Rohre und Formteile","BSFU","BSFU90045","Bogen Segment    BSFU      900.45","r = 1,5xd","30",851.1,{"$f":"G1197*(1-VLOOKUP(F1197,Konditionen!$B:$D,3,0))","v":851.1}]
["Rohre und Formteile","BSFU","BSFU90060","Bogen Segment    BSFU      900.60","r = 1,5xd","30",858.24,{"$f":"G1198*(1-VLOOKUP(F1198,Konditionen!$B:$D,3,0))","v":858.24}]
["Rohre und Formteile","BSFU","BSFU90090","Bogen Segment    BSFU      900.90","r = 1,5xd","30",952.28,{"$f":"G1199*(1-VLOOKUP(F1199,Konditionen!$B:$D,3,0))","v":952.28}]
["Rohre und Formteile","BSIU","BSIU10090GJUT","Bogen kurz    BSIU 100.90-GJUT","für direkten Ventileinbau, passend","30",121.53,{"$f":"G1200*(1-VLOOKUP(F1200,Konditionen!$B:$D,3,0))","v":121.53}]
["Rohre und Formteile","BSIU","BSIU12590GJUT","Bogen kurz    BSIU 125.90-GJUT","für direkten Ventileinbau, passend","30",204.77,{"$f":"G1201*(1-VLOOKUP(F1201,Konditionen!$B:$D,3,0))","v":204.77}]
["Rohre und Formteile","BSIU","BSIU16090GJUT","Bogen kurz    BSIU 160.90-GJUT","für direkten Ventileinbau, passend","30",246.33,{"$f":"G1202*(1-VLOOKUP(F1202,Konditionen!$B:$D,3,0))","v":246.33}]
["Rohre und Formteile","BSLU","BSLU1012590","Bogenschalldämpfer  BSLU100 125.90","mit 100 mm Isolierung","30",480.59,{"$f":"G1203*(1-VLOOKUP(F1203,Konditionen!$B:$D,3,0))","v":480.59}]
["Rohre und Formteile","BSLU","BSLU1016090","Bogenschalldämpfer BSLU100 160.90","mit 100 mm Isolierung","30",578,{"$f":"G1204*(1-VLOOKUP(F1204,Konditionen!$B:$D,3,0))","v":578}]
["Rohre und Formteile","BSLU","BSLU1020090","Bogenschalldämpfer  BSLU100 200.90","mit 100 mm Isolierung","30",674.56,{"$f":"G1205*(1-VLOOKUP(F1205,Konditionen!$B:$D,3,0))","v":674.56}]
["Rohre und Formteile","BSLU","BSLU1025090","Bogenschalldämpfer  BSLU100 250.90","mit 100 mm Isolierung","30",802.82,{"$f":"G1206*(1-VLOOKUP(F1206,Konditionen!$B:$D,3,0))","v":802.82}]
["Rohre und Formteile","BSLU","BSLU1031590","Bogenschalldämpfer  BSLU100 315.90","mit 100 mm Isolierung","30",994.58,{"$f":"G1207*(1-VLOOKUP(F1207,Konditionen!$B:$D,3,0))","v":994.58}]
["Rohre und Formteile","BSLU","BSLU1040090","Bogenschalldämpfer  BSLU100 400.90","mit 100 mm Isolierung","30",1436.34,{"$f":"G1208*(1-VLOOKUP(F1208,Konditionen!$B:$D,3,0))","v":1436.34}]
["Rohre und Formteile","BSLU","BSLU1050090","Bogenschalldämpfer  BSLU100 500.90","mit 100 mm Isolierung","30",2045.63,{"$f":"G1209*(1-VLOOKUP(F1209,Konditionen!$B:$D,3,0))","v":2045.63}]
["Rohre und Formteile","BSLU","BSLU1063090","Bogenschalldämpfer  BSLU100 630.90","mit 100 mm Isolierung","30",2783.69,{"$f":"G1210*(1-VLOOKUP(F1210,Konditionen!$B:$D,3,0))","v":2783.69}]
["Rohre und Formteile","BSLU","BSLU5012590","Bogenschalldämpfer  BSLU50  125.90","mit 50 mm Isolierung","30",284.22000000000003,{"$f":"G1211*(1-VLOOKUP(F1211,Konditionen!$B:$D,3,0))","v":284.22000000000003}]
["Rohre und Formteile","BSLU","BSLU5016090","Bogenschalldämpfer  BSLU50  160.90","mit  50 mm Isolierung","30",332.08,{"$f":"G1212*(1-VLOOKUP(F1212,Konditionen!$B:$D,3,0))","v":332.08}]
["Rohre und Formteile","BSLU","BSLU5020090","Bogenschalldämpfer  BSLU50  200.90","mit 50 mm Isolierung","30",401.15,{"$f":"G1213*(1-VLOOKUP(F1213,Konditionen!$B:$D,3,0))","v":401.15}]
["Rohre und Formteile","BSLU","BSLU5025090","Bogenschalldämpfer  BSLU50  250.90","mit 50 mm Isolierung","30",456.25,{"$f":"G1214*(1-VLOOKUP(F1214,Konditionen!$B:$D,3,0))","v":456.25}]
["Rohre und Formteile","BSLU","BSLU5031590","Bogenschalldämpfer BSLU50  315.90","mit 50 mm Isolierung","30",652.1,{"$f":"G1215*(1-VLOOKUP(F1215,Konditionen!$B:$D,3,0))","v":652.1}]
["Rohre und Formteile","BSTR","BSTR10015","Transfer Bogen gepresst BSTR 100.15",null,"35",51.16,{"$f":"G1216*(1-VLOOKUP(F1216,Konditionen!$B:$D,3,0))","v":51.16}]
["Rohre und Formteile","BSTR","BSTR10030","Transfer Bogen gepresst BSTR 100.30",null,"35",51.16,{"$f":"G1217*(1-VLOOKUP(F1217,Konditionen!$B:$D,3,0))","v":51.16}]
["Rohre und Formteile","BSTR","BSTR10045","Transfer Bogen gepresst BSTR 100.45",null,"35",51.16,{"$f":"G1218*(1-VLOOKUP(F1218,Konditionen!$B:$D,3,0))","v":51.16}]
["Rohre und Formteile","BSTR","BSTR10060","Transfer Bogen gepresst BSTR 100.60",null,"35",51.16,{"$f":"G1219*(1-VLOOKUP(F1219,Konditionen!$B:$D,3,0))","v":51.16}]
["Rohre und Formteile","BSTR","BSTR10090","Transfer Bogen gepresst BSTR 100.90",null,"35",51.16,{"$f":"G1220*(1-VLOOKUP(F1220,Konditionen!$B:$D,3,0))","v":51.16}]
["Rohre und Formteile","BSTR","BSTR12515","Transfer Bogen gepresst BSTR 125.15",null,"35",63.18,{"$f":"G1221*(1-VLOOKUP(F1221,Konditionen!$B:$D,3,0))","v":63.18}]
["Rohre und Formteile","BSTR","BSTR12530","Transfer Bogen gepresst BSTR 125.30",null,"35",63.18,{"$f":"G1222*(1-VLOOKUP(F1222,Konditionen!$B:$D,3,0))","v":63.18}]
["Rohre und Formteile","BSTR","BSTR12545","Transfer Bogen gepresst BSTR 125.45",null,"35",63.18,{"$f":"G1223*(1-VLOOKUP(F1223,Konditionen!$B:$D,3,0))","v":63.18}]
["Rohre und Formteile","BSTR","BSTR12560","Transfer Bogen gepresst BSTR 125.60",null,"35",63.18,{"$f":"G1224*(1-VLOOKUP(F1224,Konditionen!$B:$D,3,0))","v":63.18}]
["Rohre und Formteile","BSTR","BSTR12590","Transfer Bogen gepresst BSTR 125.90",null,"35",63.18,{"$f":"G1225*(1-VLOOKUP(F1225,Konditionen!$B:$D,3,0))","v":63.18}]
["Rohre und Formteile","BSTR","BSTR15015","Transfer Bogen gepresst BSTR 150.15",null,"35",91.68,{"$f":"G1226*(1-VLOOKUP(F1226,Konditionen!$B:$D,3,0))","v":91.68}]
["Rohre und Formteile","BSTR","BSTR15030","Transfer Bogen gepresst BSTR 150.30",null,"35",91.68,{"$f":"G1227*(1-VLOOKUP(F1227,Konditionen!$B:$D,3,0))","v":91.68}]
["Rohre und Formteile","BSTR","BSTR15045","Transfer Bogen gepresst BSTR 150.45",null,"35",91.68,{"$f":"G1228*(1-VLOOKUP(F1228,Konditionen!$B:$D,3,0))","v":91.68}]
["Rohre und Formteile","BSTR","BSTR15060","Transfer Bogen gepresst BSTR 150.60",null,"35",91.68,{"$f":"G1229*(1-VLOOKUP(F1229,Konditionen!$B:$D,3,0))","v":91.68}]
["Rohre und Formteile","BSTR","BSTR15090","Transfer Bogen gepresst BSTR 150.90",null,"35",91.68,{"$f":"G1230*(1-VLOOKUP(F1230,Konditionen!$B:$D,3,0))","v":91.68}]
["Rohre und Formteile","BSTR","BSTR16015","Transfer Bogen gepresst BSTR 160.15",null,"35",91.68,{"$f":"G1231*(1-VLOOKUP(F1231,Konditionen!$B:$D,3,0))","v":91.68}]
["Rohre und Formteile","BSTR","BSTR16030","Transfer Bogen gepresst BSTR 160.30",null,"35",91.68,{"$f":"G1232*(1-VLOOKUP(F1232,Konditionen!$B:$D,3,0))","v":91.68}]
["Rohre und Formteile","BSTR","BSTR16045","Transfer Bogen gepresst BSTR 160.45",null,"35",91.68,{"$f":"G1233*(1-VLOOKUP(F1233,Konditionen!$B:$D,3,0))","v":91.68}]
["Rohre und Formteile","BSTR","BSTR16060","Transfer Bogen gepresst BSTR 160.60",null,"35",91.68,{"$f":"G1234*(1-VLOOKUP(F1234,Konditionen!$B:$D,3,0))","v":91.68}]
["Rohre und Formteile","BSTR","BSTR16090","Transfer Bogen gepresst BSTR 160.90",null,"35",91.68,{"$f":"G1235*(1-VLOOKUP(F1235,Konditionen!$B:$D,3,0))","v":91.68}]
["Rohre und Formteile","BSTR","BSTR18015","Transfer Bogen gepresst BSTR 180.15",null,"35",104.06,{"$f":"G1236*(1-VLOOKUP(F1236,Konditionen!$B:$D,3,0))","v":104.06}]
["Rohre und Formteile","BSTR","BSTR18030","Transfer Bogen gepresst BSTR 180.30",null,"35",104.06,{"$f":"G1237*(1-VLOOKUP(F1237,Konditionen!$B:$D,3,0))","v":104.06}]
["Rohre und Formteile","BSTR","BSTR18045","Transfer Bogen gepresst BSTR 180.45",null,"35",104.06,{"$f":"G1238*(1-VLOOKUP(F1238,Konditionen!$B:$D,3,0))","v":104.06}]
["Rohre und Formteile","BSTR","BSTR18060","Transfer Bogen gepresst BSTR 180.60",null,"35",104.06,{"$f":"G1239*(1-VLOOKUP(F1239,Konditionen!$B:$D,3,0))","v":104.06}]
["Rohre und Formteile","BSTR","BSTR18090","Transfer Bogen gepresst BSTR 180.90",null,"35",104.06,{"$f":"G1240*(1-VLOOKUP(F1240,Konditionen!$B:$D,3,0))","v":104.06}]
["Ventilatoren","BSV","BSV100","Schutzgitter BSV 100",null,"18.ALLG",9.4,{"$f":"G1241*(1-VLOOKUP(F1241,Konditionen!$B:$D,3,0))","v":9.4}]
["Ventilatoren","BSV","BSV125","Schutzgitter BSV 125",null,"18.ALLG",9.4,{"$f":"G1242*(1-VLOOKUP(F1242,Konditionen!$B:$D,3,0))","v":9.4}]
["Ventilatoren","BSV","BSV160","Schutzgitter BSV 160",null,"18.ALLG",10.44,{"$f":"G1243*(1-VLOOKUP(F1243,Konditionen!$B:$D,3,0))","v":10.44}]
["Ventilatoren","BSV","BSV200","Schutzgitter BSV 200",null,"18.ALLG",13.57,{"$f":"G1244*(1-VLOOKUP(F1244,Konditionen!$B:$D,3,0))","v":13.57}]
["Ventilatoren","BSV","BSV250","Schutzgitter BSV 250",null,"18.ALLG",16.71,{"$f":"G1245*(1-VLOOKUP(F1245,Konditionen!$B:$D,3,0))","v":16.71}]
["Ventilatoren","BSV","BSV315","Schutzgitter BSV 315",null,"18.ALLG",21.92,{"$f":"G1246*(1-VLOOKUP(F1246,Konditionen!$B:$D,3,0))","v":21.92}]
["Ventilatoren","BSV","BSV355","Schutzgitter BSV 355",null,"18.ALLG",28.2,{"$f":"G1247*(1-VLOOKUP(F1247,Konditionen!$B:$D,3,0))","v":28.2}]
["Ventilatoren","BSV","BSV400","Schutzgitter BSV 400",null,"18.ALLG",34.46,{"$f":"G1248*(1-VLOOKUP(F1248,Konditionen!$B:$D,3,0))","v":34.46}]
["Ventilatoren","BSV","BSV450","Schutzgitter BSV 450",null,"18.ALLG",40.729999999999997,{"$f":"G1249*(1-VLOOKUP(F1249,Konditionen!$B:$D,3,0))","v":40.729999999999997}]
["Ventilatoren","BSV","BSV500","Schutzgitter BSV 500",null,"18.ALLG",45.95,{"$f":"G1250*(1-VLOOKUP(F1250,Konditionen!$B:$D,3,0))","v":45.95}]
["Ventilatoren","BSV","BSV560","Schutzgitter BSV 560",null,"18.ALLG",48.04,{"$f":"G1251*(1-VLOOKUP(F1251,Konditionen!$B:$D,3,0))","v":48.04}]
["Ventilatoren","BSV","BSV630","Schutzgitter BSV 630",null,"18.ALLG",53.26,{"$f":"G1252*(1-VLOOKUP(F1252,Konditionen!$B:$D,3,0))","v":53.26}]
["Ventilatoren","BSV","BSV710","Schutzgitter BSV 710",null,"18.ALLG",61.62,{"$f":"G1253*(1-VLOOKUP(F1253,Konditionen!$B:$D,3,0))","v":61.62}]
["Ventilatoren","BSV","BSV80","Schutzgitter BSV 80",null,"18.ALLG",8.4499999999999993,{"$f":"G1254*(1-VLOOKUP(F1254,Konditionen!$B:$D,3,0))","v":8.4499999999999993}]
["Ventilatoren","BSV","BSV800","Schutzgitter BSV 800",null,"18.ALLG",66.84,{"$f":"G1255*(1-VLOOKUP(F1255,Konditionen!$B:$D,3,0))","v":66.84}]
["Rohre und Formteile","BTR","BTR10015","Transfer Bogen gepresst BTR  100.15",null,"35",39.15,{"$f":"G1256*(1-VLOOKUP(F1256,Konditionen!$B:$D,3,0))","v":39.15}]
["Rohre und Formteile","BTR","BTR10030","Transfer Bogen gepresst BTR  100.30",null,"35",36.1,{"$f":"G1257*(1-VLOOKUP(F1257,Konditionen!$B:$D,3,0))","v":36.1}]
["Rohre und Formteile","BTR","BTR10045","Transfer Bogen gepresst BTR  100.45",null,"35",36.1,{"$f":"G1258*(1-VLOOKUP(F1258,Konditionen!$B:$D,3,0))","v":36.1}]
["Rohre und Formteile","BTR","BTR10060","Transfer Bogen gepresst BTR  100.60",null,"35",38.35,{"$f":"G1259*(1-VLOOKUP(F1259,Konditionen!$B:$D,3,0))","v":38.35}]
["Rohre und Formteile","BTR","BTR10090","Transfer Bogen gepresst BTR  100.90",null,"35",38.35,{"$f":"G1260*(1-VLOOKUP(F1260,Konditionen!$B:$D,3,0))","v":38.35}]
["Rohre und Formteile","BTR","BTR12515","Transfer Bogen gepresst BTR  125.15",null,"35",45.07,{"$f":"G1261*(1-VLOOKUP(F1261,Konditionen!$B:$D,3,0))","v":45.07}]
["Rohre und Formteile","BTR","BTR12530","Transfer Bogen gepresst BTR  125.30",null,"35",39.15,{"$f":"G1262*(1-VLOOKUP(F1262,Konditionen!$B:$D,3,0))","v":39.15}]
["Rohre und Formteile","BTR","BTR12545","Transfer Bogen gepresst BTR  125.45",null,"35",39.15,{"$f":"G1263*(1-VLOOKUP(F1263,Konditionen!$B:$D,3,0))","v":39.15}]
["Rohre und Formteile","BTR","BTR12560","Transfer Bogen gepresst BTR  125.60",null,"35",45.07,{"$f":"G1264*(1-VLOOKUP(F1264,Konditionen!$B:$D,3,0))","v":45.07}]
["Rohre und Formteile","BTR","BTR12590","Transfer Bogen gepresst BTR  125.90",null,"35",45.07,{"$f":"G1265*(1-VLOOKUP(F1265,Konditionen!$B:$D,3,0))","v":45.07}]
["Rohre und Formteile","BTR","BTR14015","Transfer Bogen gepresst BTR  140.15",null,"35",54.99,{"$f":"G1266*(1-VLOOKUP(F1266,Konditionen!$B:$D,3,0))","v":54.99}]
["Rohre und Formteile","BTR","BTR14030","Transfer Bogen gepresst BTR  140.30",null,"35",49.69,{"$f":"G1267*(1-VLOOKUP(F1267,Konditionen!$B:$D,3,0))","v":49.69}]
["Rohre und Formteile","BTR","BTR14045","Transfer Bogen gepresst BTR  140.45",null,"35",49.69,{"$f":"G1268*(1-VLOOKUP(F1268,Konditionen!$B:$D,3,0))","v":49.69}]
["Rohre und Formteile","BTR","BTR14060","Transfer Bogen gepresst BTR  140.60",null,"35",61.81,{"$f":"G1269*(1-VLOOKUP(F1269,Konditionen!$B:$D,3,0))","v":61.81}]
["Rohre und Formteile","BTR","BTR14090","Transfer Bogen gepresst BTR  140.90",null,"35",61.81,{"$f":"G1270*(1-VLOOKUP(F1270,Konditionen!$B:$D,3,0))","v":61.81}]
["Rohre und Formteile","BTR","BTR15015","Transfer Bogen gepresst BTR  150.15",null,"35",54.99,{"$f":"G1271*(1-VLOOKUP(F1271,Konditionen!$B:$D,3,0))","v":54.99}]
["Rohre und Formteile","BTR","BTR15030","Transfer Bogen gepresst BTR  150.30",null,"35",49.69,{"$f":"G1272*(1-VLOOKUP(F1272,Konditionen!$B:$D,3,0))","v":49.69}]
["Rohre und Formteile","BTR","BTR15045","Transfer Bogen gepresst BTR  150.45",null,"35",49.69,{"$f":"G1273*(1-VLOOKUP(F1273,Konditionen!$B:$D,3,0))","v":49.69}]
["Rohre und Formteile","BTR","BTR15060","Transfer Bogen gepresst BTR  150.60",null,"35",61.81,{"$f":"G1274*(1-VLOOKUP(F1274,Konditionen!$B:$D,3,0))","v":61.81}]
["Rohre und Formteile","BTR","BTR15090","Transfer Bogen gepresst BTR  150.90",null,"35",61.81,{"$f":"G1275*(1-VLOOKUP(F1275,Konditionen!$B:$D,3,0))","v":61.81}]
["Rohre und Formteile","BTR","BTR16015","Transfer Bogen gepresst BTR  160.15",null,"35",54.99,{"$f":"G1276*(1-VLOOKUP(F1276,Konditionen!$B:$D,3,0))","v":54.99}]
["Rohre und Formteile","BTR","BTR16030","Transfer Bogen gepresst BTR  160.30",null,"35",49.69,{"$f":"G1277*(1-VLOOKUP(F1277,Konditionen!$B:$D,3,0))","v":49.69}]
["Rohre und Formteile","BTR","BTR16045","Transfer Bogen gepresst BTR  160.45",null,"35",49.69,{"$f":"G1278*(1-VLOOKUP(F1278,Konditionen!$B:$D,3,0))","v":49.69}]
["Rohre und Formteile","BTR","BTR16060","Transfer Bogen gepresst BTR  160.60",null,"35",61.81,{"$f":"G1279*(1-VLOOKUP(F1279,Konditionen!$B:$D,3,0))","v":61.81}]
["Rohre und Formteile","BTR","BTR16090","Transfer Bogen gepresst BTR  160.90",null,"35",61.81,{"$f":"G1280*(1-VLOOKUP(F1280,Konditionen!$B:$D,3,0))","v":61.81}]
["Rohre und Formteile","BTR","BTR18015","Transfer Bogen gepresst BTR  180.15",null,"35",81.92,{"$f":"G1281*(1-VLOOKUP(F1281,Konditionen!$B:$D,3,0))","v":81.92}]
["Rohre und Formteile","BTR","BTR18030","Transfer Bogen gepresst BTR  180.30",null,"35",74.569999999999993,{"$f":"G1282*(1-VLOOKUP(F1282,Konditionen!$B:$D,3,0))","v":74.569999999999993}]
["Rohre und Formteile","BTR","BTR18045","Transfer Bogen gepresst BTR  180.45",null,"35",74.569999999999993,{"$f":"G1283*(1-VLOOKUP(F1283,Konditionen!$B:$D,3,0))","v":74.569999999999993}]
["Rohre und Formteile","BTR","BTR18060","Transfer Bogen gepresst BTR  180.60",null,"35",95.2,{"$f":"G1284*(1-VLOOKUP(F1284,Konditionen!$B:$D,3,0))","v":95.2}]
["Rohre und Formteile","BTR","BTR18090","Transfer Bogen gepresst BTR  180.90",null,"35",95.2,{"$f":"G1285*(1-VLOOKUP(F1285,Konditionen!$B:$D,3,0))","v":95.2}]
["Rohre und Formteile","BTR","BTR20015","Transfer Bogen gepresst BTR  200.15",null,"35",81.92,{"$f":"G1286*(1-VLOOKUP(F1286,Konditionen!$B:$D,3,0))","v":81.92}]
["Rohre und Formteile","BTR","BTR20030","Transfer Bogen gepresst BTR  200.30",null,"35",74.569999999999993,{"$f":"G1287*(1-VLOOKUP(F1287,Konditionen!$B:$D,3,0))","v":74.569999999999993}]
["Rohre und Formteile","BTR","BTR20045","Transfer Bogen gepresst BTR  200.45",null,"35",74.569999999999993,{"$f":"G1288*(1-VLOOKUP(F1288,Konditionen!$B:$D,3,0))","v":74.569999999999993}]
["Rohre und Formteile","BTR","BTR20060","Transfer Bogen gepresst BTR  200.60",null,"35",95.2,{"$f":"G1289*(1-VLOOKUP(F1289,Konditionen!$B:$D,3,0))","v":95.2}]
["Rohre und Formteile","BTR","BTR20090","Transfer Bogen gepresst BTR  200.90",null,"35",95.2,{"$f":"G1290*(1-VLOOKUP(F1290,Konditionen!$B:$D,3,0))","v":95.2}]
["Rohre und Formteile","BTR","BTR22415","Transfer Bogen gepresst BTR  224.15",null,"35",98.08,{"$f":"G1291*(1-VLOOKUP(F1291,Konditionen!$B:$D,3,0))","v":98.08}]
["Rohre und Formteile","BTR","BTR22430","Transfer Bogen gepresst BTR  224.30",null,"35",89.16,{"$f":"G1292*(1-VLOOKUP(F1292,Konditionen!$B:$D,3,0))","v":89.16}]
["Rohre und Formteile","","BTR22445","Transfer Bogen gepresst BTR  224.45",null,"35",89.16,{"$f":"G1293*(1-VLOOKUP(F1293,Konditionen!$B:$D,3,0))","v":89.16}]
["Rohre und Formteile","BTR","BTR22460","Transfer Bogen gepresst BTR  224.60",null,"35",115.5,{"$f":"G1294*(1-VLOOKUP(F1294,Konditionen!$B:$D,3,0))","v":115.5}]
["Rohre und Formteile","BTR","BTR22490","Transfer Bogen gepresst BTR  224.90",null,"35",115.5,{"$f":"G1295*(1-VLOOKUP(F1295,Konditionen!$B:$D,3,0))","v":115.5}]
["Rohre und Formteile","BTR","BTR25015","Transfer Bogen gepresst BTR  250.15",null,"35",98.08,{"$f":"G1296*(1-VLOOKUP(F1296,Konditionen!$B:$D,3,0))","v":98.08}]
["Rohre und Formteile","BTR","BTR25030","Transfer Bogen gepresst BTR  250.30",null,"35",89.16,{"$f":"G1297*(1-VLOOKUP(F1297,Konditionen!$B:$D,3,0))","v":89.16}]
["Rohre und Formteile","BTR","BTR25045","Transfer Bogen gepresst BTR  250.45",null,"35",89.16,{"$f":"G1298*(1-VLOOKUP(F1298,Konditionen!$B:$D,3,0))","v":89.16}]
["Rohre und Formteile","BTR","BTR25060","Transfer Bogen gepresst BTR  250.60",null,"35",115.5,{"$f":"G1299*(1-VLOOKUP(F1299,Konditionen!$B:$D,3,0))","v":115.5}]
["Rohre und Formteile","BTR","BTR25090","Transfer Bogen gepresst BTR  250.90",null,"35",115.5,{"$f":"G1300*(1-VLOOKUP(F1300,Konditionen!$B:$D,3,0))","v":115.5}]
["Rohre und Formteile","BTR","BTR8015","Transfer Bogen gepresst BTR   80.15",null,"35",39.15,{"$f":"G1301*(1-VLOOKUP(F1301,Konditionen!$B:$D,3,0))","v":39.15}]
["Rohre und Formteile","BTR","BTR8030","Transfer Bogen gepresst BTR   80.30",null,"35",36.1,{"$f":"G1302*(1-VLOOKUP(F1302,Konditionen!$B:$D,3,0))","v":36.1}]
["Rohre und Formteile","BTR","BTR8045","Transfer Bogen gepresst BTR   80.45",null,"35",36.1,{"$f":"G1303*(1-VLOOKUP(F1303,Konditionen!$B:$D,3,0))","v":36.1}]
["Rohre und Formteile","BTR","BTR8060","Transfer Bogen gepresst BTR   80.60",null,"35",38.35,{"$f":"G1304*(1-VLOOKUP(F1304,Konditionen!$B:$D,3,0))","v":38.35}]
["Rohre und Formteile","BTR","BTR8090","Transfer Bogen gepresst BTR   80.90",null,"35",38.35,{"$f":"G1305*(1-VLOOKUP(F1305,Konditionen!$B:$D,3,0))","v":38.35}]
["Brandschutz","BTZ2","BTZ2100","Absperrvorrichtung BTZ-2-K90    100","als Brandschutzventil m. Rahmen KKS","9.BS",117.39,{"$f":"G1306*(1-VLOOKUP(F1306,Konditionen!$B:$D,3,0))","v":117.39}]
["Brandschutz","BTZ2","BTZ2125","Absperrvorrichtung BTZ-2-K90    125","als Brandschutzventil m. Rahmen KKS","9.BS",125.27,{"$f":"G1307*(1-VLOOKUP(F1307,Konditionen!$B:$D,3,0))","v":125.27}]
["Brandschutz","BTZ2","BTZ2160","Absperrvorrichtung BTZ-2-K90    160","als Brandschutzventil m. Rahmen KKS","9.BS",152.15,{"$f":"G1308*(1-VLOOKUP(F1308,Konditionen!$B:$D,3,0))","v":152.15}]
["Brandschutz","BTZ2","BTZ2200","Absperrvorrichtung BTZ-2-K90    200","als Brandschutzventil m. Rahmen KKS","9.BS",170.21,{"$f":"G1309*(1-VLOOKUP(F1309,Konditionen!$B:$D,3,0))","v":170.21}]
["Rohre und Formteile","BUFP","BUFP10015","Bogen gepresst   BUFP   100.15","Lindab FireProtect Rund","80",37.07,{"$f":"G1310*(1-VLOOKUP(F1310,Konditionen!$B:$D,3,0))","v":37.07}]
["Rohre und Formteile","BUFP","BUFP10030","Bogen gepresst   BUFP   100.30","Lindab FireProtect Rund","80",29.35,{"$f":"G1311*(1-VLOOKUP(F1311,Konditionen!$B:$D,3,0))","v":29.35}]
["Rohre und Formteile","BUFP","BUFP10045","Bogen gepresst   BUFP   100.45","Lindab FireProtect Rund","80",31.82,{"$f":"G1312*(1-VLOOKUP(F1312,Konditionen!$B:$D,3,0))","v":31.82}]
["Rohre und Formteile","BUFP","BUFP10060","Bogen gepresst   BUFP   100.60","Lindab FireProtect Rund","80",46.41,{"$f":"G1313*(1-VLOOKUP(F1313,Konditionen!$B:$D,3,0))","v":46.41}]
["Rohre und Formteile","BUFP","BUFP10090","Bogen gepresst   BUFP   100.90","Lindab FireProtect Rund","80",36.33,{"$f":"G1314*(1-VLOOKUP(F1314,Konditionen!$B:$D,3,0))","v":36.33}]
["Rohre und Formteile","BUFP","BUFP11230","Bogen gepresst   BUFP   112.30","Lindab FireProtect Rund","80",34.49,{"$f":"G1315*(1-VLOOKUP(F1315,Konditionen!$B:$D,3,0))","v":34.49}]
["Rohre und Formteile","BUFP","BUFP11245","Bogen gepresst   BUFP   112.45","Lindab FireProtect Rund","80",37.380000000000003,{"$f":"G1316*(1-VLOOKUP(F1316,Konditionen!$B:$D,3,0))","v":37.380000000000003}]
["Rohre und Formteile","BUFP","BUFP11260","Bogen gepresst   BUFP   112.60","Lindab FireProtect Rund","80",53.39,{"$f":"G1317*(1-VLOOKUP(F1317,Konditionen!$B:$D,3,0))","v":53.39}]
["Rohre und Formteile","BUFP","BUFP11290","Bogen gepresst   BUFP   112.90","Lindab FireProtect Rund","80",44.1,{"$f":"G1318*(1-VLOOKUP(F1318,Konditionen!$B:$D,3,0))","v":44.1}]
["Rohre und Formteile","BUFP","BUFP12515","Bogen gepresst   BUFP   125.15","Lindab FireProtect Rund","80",40.479999999999997,{"$f":"G1319*(1-VLOOKUP(F1319,Konditionen!$B:$D,3,0))","v":40.479999999999997}]
["Rohre und Formteile","BUFP","BUFP12530","Bogen gepresst   BUFP   125.30","Lindab FireProtect Rund","80",34.49,{"$f":"G1320*(1-VLOOKUP(F1320,Konditionen!$B:$D,3,0))","v":34.49}]
["Rohre und Formteile","BUFP","BUFP12545","Bogen gepresst   BUFP   125.45","Lindab FireProtect Rund","80",37.380000000000003,{"$f":"G1321*(1-VLOOKUP(F1321,Konditionen!$B:$D,3,0))","v":37.380000000000003}]
["Rohre und Formteile","BUFP","BUFP12560","Bogen gepresst   BUFP   125.60","Lindab FireProtect Rund","80",53.39,{"$f":"G1322*(1-VLOOKUP(F1322,Konditionen!$B:$D,3,0))","v":53.39}]
["Rohre und Formteile","BUFP","BUFP12590","Bogen gepresst   BUFP   125.90","Lindab FireProtect Rund","80",44.1,{"$f":"G1323*(1-VLOOKUP(F1323,Konditionen!$B:$D,3,0))","v":44.1}]
["Rohre und Formteile","BUFP","BUFP14015","Bogen gepresst   BUFP   140.15","Lindab FireProtect Rund","80",45.99,{"$f":"G1324*(1-VLOOKUP(F1324,Konditionen!$B:$D,3,0))","v":45.99}]
["Rohre und Formteile","BUFP","BUFP14030","Bogen gepresst   BUFP   140.30","Lindab FireProtect Rund","80",45.99,{"$f":"G1325*(1-VLOOKUP(F1325,Konditionen!$B:$D,3,0))","v":45.99}]
["Rohre und Formteile","BUFP","BUFP14045","Bogen gepresst   BUFP   140.45","Lindab FireProtect Rund","80",48.35,{"$f":"G1326*(1-VLOOKUP(F1326,Konditionen!$B:$D,3,0))","v":48.35}]
["Rohre und Formteile","BUFP","BUFP14060","Bogen gepresst   BUFP   140.60","Lindab FireProtect Rund","80",79.33,{"$f":"G1327*(1-VLOOKUP(F1327,Konditionen!$B:$D,3,0))","v":79.33}]
["Rohre und Formteile","BUFP","BUFP14090","Bogen gepresst   BUFP   140.90","Lindab FireProtect Rund","80",62.21,{"$f":"G1328*(1-VLOOKUP(F1328,Konditionen!$B:$D,3,0))","v":62.21}]
["Rohre und Formteile","BUFP","BUFP15015","Bogen gepresst   BUFP   150.15","Lindab FireProtect Rund","80",45.99,{"$f":"G1329*(1-VLOOKUP(F1329,Konditionen!$B:$D,3,0))","v":45.99}]
["Rohre und Formteile","BUFP","BUFP15030","Bogen gepresst   BUFP   150.30","Lindab FireProtect Rund","80",45.99,{"$f":"G1330*(1-VLOOKUP(F1330,Konditionen!$B:$D,3,0))","v":45.99}]
["Rohre und Formteile","BUFP","BUFP15045","Bogen gepresst   BUFP   150.45","Lindab FireProtect Rund","80",48.35,{"$f":"G1331*(1-VLOOKUP(F1331,Konditionen!$B:$D,3,0))","v":48.35}]
["Rohre und Formteile","BUFP","BUFP15060","Bogen gepresst   BUFP   150.60","Lindab FireProtect Rund","80",79.33,{"$f":"G1332*(1-VLOOKUP(F1332,Konditionen!$B:$D,3,0))","v":79.33}]
["Rohre und Formteile","BUFP","BUFP15090","Bogen gepresst   BUFP   150.90","Lindab FireProtect Rund","80",62.21,{"$f":"G1333*(1-VLOOKUP(F1333,Konditionen!$B:$D,3,0))","v":62.21}]
["Rohre und Formteile","BUFP","BUFP16015","Bogen gepresst   BUFP   160.15","Lindab FireProtect Rund","80",45.99,{"$f":"G1334*(1-VLOOKUP(F1334,Konditionen!$B:$D,3,0))","v":45.99}]
["Rohre und Formteile","BUFP","BUFP16030","Bogen gepresst   BUFP   160.30","Lindab FireProtect Rund","80",45.99,{"$f":"G1335*(1-VLOOKUP(F1335,Konditionen!$B:$D,3,0))","v":45.99}]
["Rohre und Formteile","BUFP","BUFP16045","Bogen gepresst   BUFP   160.45","Lindab FireProtect Rund","80",48.35,{"$f":"G1336*(1-VLOOKUP(F1336,Konditionen!$B:$D,3,0))","v":48.35}]
["Rohre und Formteile","BUFP","BUFP16060","Bogen gepresst   BUFP   160.60","Lindab FireProtect Rund","80",79.33,{"$f":"G1337*(1-VLOOKUP(F1337,Konditionen!$B:$D,3,0))","v":79.33}]
["Rohre und Formteile","BUFP","BUFP16090","Bogen gepresst   BUFP   160.90","Lindab FireProtect Rund","80",62.21,{"$f":"G1338*(1-VLOOKUP(F1338,Konditionen!$B:$D,3,0))","v":62.21}]
["Rohre und Formteile","BUFP","BUFP18015","Bogen gepresst   BUFP   180.15","Lindab FireProtect Rund","80",69.88,{"$f":"G1339*(1-VLOOKUP(F1339,Konditionen!$B:$D,3,0))","v":69.88}]
["Rohre und Formteile","BUFP","BUFP18030","Bogen gepresst   BUFP   180.30","Lindab FireProtect Rund","80",64.89,{"$f":"G1340*(1-VLOOKUP(F1340,Konditionen!$B:$D,3,0))","v":64.89}]
["Rohre und Formteile","BUFP","BUFP18045","Bogen gepresst   BUFP   180.45","Lindab FireProtect Rund","80",64.89,{"$f":"G1341*(1-VLOOKUP(F1341,Konditionen!$B:$D,3,0))","v":64.89}]
["Rohre und Formteile","BUFP","BUFP18060","Bogen gepresst   BUFP   180.60","Lindab FireProtect Rund","80",99.91,{"$f":"G1342*(1-VLOOKUP(F1342,Konditionen!$B:$D,3,0))","v":99.91}]
["Rohre und Formteile","BUFP","BUFP18090","Bogen gepresst   BUFP   180.90","Lindab FireProtect Rund","80",92.45,{"$f":"G1343*(1-VLOOKUP(F1343,Konditionen!$B:$D,3,0))","v":92.45}]
["Rohre und Formteile","BUFP","BUFP20015","Bogen gepresst   BUFP   200.15","Lindab FireProtect Rund","80",69.88,{"$f":"G1344*(1-VLOOKUP(F1344,Konditionen!$B:$D,3,0))","v":69.88}]
["Rohre und Formteile","BUFP","BUFP20030","Bogen gepresst   BUFP   200.30","Lindab FireProtect Rund","80",64.89,{"$f":"G1345*(1-VLOOKUP(F1345,Konditionen!$B:$D,3,0))","v":64.89}]
["Rohre und Formteile","BUFP","BUFP20045","Bogen gepresst   BUFP   200.45","Lindab FireProtect Rund","80",64.89,{"$f":"G1346*(1-VLOOKUP(F1346,Konditionen!$B:$D,3,0))","v":64.89}]
["Rohre und Formteile","BUFP","BUFP20060","Bogen gepresst   BUFP   200.60","Lindab FireProtect Rund","80",99.91,{"$f":"G1347*(1-VLOOKUP(F1347,Konditionen!$B:$D,3,0))","v":99.91}]
["Rohre und Formteile","BUFP","BUFP20090","Bogen gepresst   BUFP   200.90","Lindab FireProtect Rund","80",92.45,{"$f":"G1348*(1-VLOOKUP(F1348,Konditionen!$B:$D,3,0))","v":92.45}]
["Rohre und Formteile","BUFP","BUFP22415","Bogen gepresst   BUFP   224.15","Lindab FireProtect Rund","80",86.89,{"$f":"G1349*(1-VLOOKUP(F1349,Konditionen!$B:$D,3,0))","v":86.89}]
["Rohre und Formteile","BUFP","BUFP22430","Bogen gepresst   BUFP   224.30","Lindab FireProtect Rund","80",91.4,{"$f":"G1350*(1-VLOOKUP(F1350,Konditionen!$B:$D,3,0))","v":91.4}]
["Rohre und Formteile","BUFP","BUFP22445","Bogen gepresst   BUFP   224.45","Lindab FireProtect Rund","80",91.4,{"$f":"G1351*(1-VLOOKUP(F1351,Konditionen!$B:$D,3,0))","v":91.4}]
["Rohre und Formteile","BUFP","BUFP22460","Bogen gepresst   BUFP   224.60","Lindab FireProtect Rund","80",145.9,{"$f":"G1352*(1-VLOOKUP(F1352,Konditionen!$B:$D,3,0))","v":145.9}]
["Rohre und Formteile","BUFP","BUFP22490","Bogen gepresst   BUFP   224.90","Lindab FireProtect Rund","80",133.97999999999999,{"$f":"G1353*(1-VLOOKUP(F1353,Konditionen!$B:$D,3,0))","v":133.97999999999999}]
["Rohre und Formteile","BUFP","BUFP25030","Bogen gepresst   BUFP   250.30","Lindab FireProtect Rund","80",91.4,{"$f":"G1354*(1-VLOOKUP(F1354,Konditionen!$B:$D,3,0))","v":91.4}]
["Rohre und Formteile","BUFP","BUFP25045","Bogen gepresst   BUFP   250.45","Lindab FireProtect Rund","80",91.4,{"$f":"G1355*(1-VLOOKUP(F1355,Konditionen!$B:$D,3,0))","v":91.4}]
["Rohre und Formteile","BUFP","BUFP25060","Bogen gepresst   BUFP   250.60","Lindab FireProtect Rund","80",145.9,{"$f":"G1356*(1-VLOOKUP(F1356,Konditionen!$B:$D,3,0))","v":145.9}]
["Rohre und Formteile","BUFP","BUFP25090","Bogen gepresst   BUFP   250.90","Lindab FireProtect Rund","80",133.97999999999999,{"$f":"G1357*(1-VLOOKUP(F1357,Konditionen!$B:$D,3,0))","v":133.97999999999999}]
["Rohre und Formteile","BUI","BUI2510030","Bogen isoliert   BUI 25   100.30","25mm Isolierung","65",100.44,{"$f":"G1358*(1-VLOOKUP(F1358,Konditionen!$B:$D,3,0))","v":100.44}]
["Rohre und Formteile","BUI","BUI2510045","Bogen isoliert   BUI 25   100.45","25mm Isolierung","65",100.44,{"$f":"G1359*(1-VLOOKUP(F1359,Konditionen!$B:$D,3,0))","v":100.44}]
["Rohre und Formteile","BUI","BUI2510090","Bogen isoliert   BUI 25   100.90","25mm Isolierung","65",114.4,{"$f":"G1360*(1-VLOOKUP(F1360,Konditionen!$B:$D,3,0))","v":114.4}]
["Rohre und Formteile","BUI","BUI2512530","Bogen isoliert   BUI 25   125.30","25mm Isolierung","65",115.97,{"$f":"G1361*(1-VLOOKUP(F1361,Konditionen!$B:$D,3,0))","v":115.97}]
["Rohre und Formteile","BUI","BUI2512545","Bogen isoliert   BUI 25   125.45","25mm Isolierung","65",115.97,{"$f":"G1362*(1-VLOOKUP(F1362,Konditionen!$B:$D,3,0))","v":115.97}]
["Rohre und Formteile","BUI","BUI2512590","Bogen isoliert   BUI 25   125.90","25mm Isolierung","65",142.84,{"$f":"G1363*(1-VLOOKUP(F1363,Konditionen!$B:$D,3,0))","v":142.84}]
["Rohre und Formteile","BUI","BUI2515030","Bogen isoliert   BUI 25   150.30","25mm Isolierung","65",149.77000000000001,{"$f":"G1364*(1-VLOOKUP(F1364,Konditionen!$B:$D,3,0))","v":149.77000000000001}]
["Rohre und Formteile","BUI","BUI2515045","Bogen isoliert   BUI 25   150.45","25mm Isolierung","65",149.77000000000001,{"$f":"G1365*(1-VLOOKUP(F1365,Konditionen!$B:$D,3,0))","v":149.77000000000001}]
["Rohre und Formteile","BUI","BUI2515090","Bogen isoliert   BUI 25   150.90","25mm Isolierung","65",168.97,{"$f":"G1366*(1-VLOOKUP(F1366,Konditionen!$B:$D,3,0))","v":168.97}]
["Rohre und Formteile","BUI","BUI2520030","Bogen isoliert   BUI 25   200.30","25mm Isolierung","65",207.18,{"$f":"G1367*(1-VLOOKUP(F1367,Konditionen!$B:$D,3,0))","v":207.18}]
["Rohre und Formteile","BUI","BUI2520045","Bogen isoliert   BUI 25   200.45","25mm Isolierung","65",207.18,{"$f":"G1368*(1-VLOOKUP(F1368,Konditionen!$B:$D,3,0))","v":207.18}]
["Rohre und Formteile","BUI","BUI2520090","Bogen isoliert   BUI 25   200.90","25mm Isolierung","65",240.35,{"$f":"G1369*(1-VLOOKUP(F1369,Konditionen!$B:$D,3,0))","v":240.35}]
["Rohre und Formteile","BUI","BUI2525030","Bogen isoliert   BFUI 25   250.30","25mm Isolierung","65",239.72,{"$f":"G1370*(1-VLOOKUP(F1370,Konditionen!$B:$D,3,0))","v":239.72}]
["Rohre und Formteile","BUI","BUI2525045","Bogen isoliert   BFUI 25   250.45","25mm Isolierung","65",239.72,{"$f":"G1371*(1-VLOOKUP(F1371,Konditionen!$B:$D,3,0))","v":239.72}]
["Rohre und Formteile","BUI","BUI2525090","Bogen isoliert   BFUI 25   250.90","25mm Isolierung","65",310.36,{"$f":"G1372*(1-VLOOKUP(F1372,Konditionen!$B:$D,3,0))","v":310.36}]
["Rohre und Formteile","BUI","BUI2530030","Bogen isoliert   BFUI 25   300.30","25mm Isolierung","65",265.02,{"$f":"G1373*(1-VLOOKUP(F1373,Konditionen!$B:$D,3,0))","v":265.02}]
["Rohre und Formteile","BUI","BUI2530045","Bogen isoliert   BFUI 25   300.45","25mm Isolierung","65",265.02,{"$f":"G1374*(1-VLOOKUP(F1374,Konditionen!$B:$D,3,0))","v":265.02}]
["Rohre und Formteile","BUI","BUI2530090","Bogen isoliert   BFUI 25   300.90","25mm Isolierung","65",342.06,{"$f":"G1375*(1-VLOOKUP(F1375,Konditionen!$B:$D,3,0))","v":342.06}]
["Rohre und Formteile","BUI","BUI2535530","Bogen isoliert   BFUI 25   355.30","25mm Isolierung","65",296.08999999999997,{"$f":"G1376*(1-VLOOKUP(F1376,Konditionen!$B:$D,3,0))","v":296.08999999999997}]
["Rohre und Formteile","BUI","BUI2535545","Bogen isoliert   BFUI 25   355.45","25mm Isolierung","65",296.08999999999997,{"$f":"G1377*(1-VLOOKUP(F1377,Konditionen!$B:$D,3,0))","v":296.08999999999997}]
["Rohre und Formteile","BUI","BUI2535590","Bogen isoliert   BFUI 25   355.90","25mm Isolierung","65",393.9,{"$f":"G1378*(1-VLOOKUP(F1378,Konditionen!$B:$D,3,0))","v":393.9}]
["Rohre und Formteile","BUI","BUI2540030","Bogen isoliert   BFUI 25   400.30","25mm Isolierung","65",334.92,{"$f":"G1379*(1-VLOOKUP(F1379,Konditionen!$B:$D,3,0))","v":334.92}]
["Rohre und Formteile","BUI","BUI2540045","Bogen isoliert   BFUI 25   400.45","25mm Isolierung","65",334.92,{"$f":"G1380*(1-VLOOKUP(F1380,Konditionen!$B:$D,3,0))","v":334.92}]
["Rohre und Formteile","BUI","BUI2540090","Bogen isoliert   BFUI 25   400.90","25mm Isolierung","65",448.9,{"$f":"G1381*(1-VLOOKUP(F1381,Konditionen!$B:$D,3,0))","v":448.9}]
["Rohre und Formteile","BUI","BUI2545030","Bogen isoliert   BFUI 25   450.30","25mm Isolierung","65",414.26,{"$f":"G1382*(1-VLOOKUP(F1382,Konditionen!$B:$D,3,0))","v":414.26}]
["Rohre und Formteile","BUI","BUI2545045","Bogen isoliert   BFUI 25   450.45","25mm Isolierung","65",414.26,{"$f":"G1383*(1-VLOOKUP(F1383,Konditionen!$B:$D,3,0))","v":414.26}]
["Rohre und Formteile","BUI","BUI2545090","Bogen isoliert   BFUI 25   450.90","25mm Isolierung","65",553.44000000000005,{"$f":"G1384*(1-VLOOKUP(F1384,Konditionen!$B:$D,3,0))","v":553.44000000000005}]
["Rohre und Formteile","BUI","BUI2550030","Bogen isoliert   BFUI 25   500.30","25mm Isolierung","65",478.6,{"$f":"G1385*(1-VLOOKUP(F1385,Konditionen!$B:$D,3,0))","v":478.6}]
["Rohre und Formteile","BUI","BUI2550045","Bogen isoliert   BFUI 25   500.45","25mm Isolierung","65",478.6,{"$f":"G1386*(1-VLOOKUP(F1386,Konditionen!$B:$D,3,0))","v":478.6}]
["Rohre und Formteile","BUI","BUI2550090","Bogen isoliert   BFUI 25   500.90","25mm Isolierung","65",645.9,{"$f":"G1387*(1-VLOOKUP(F1387,Konditionen!$B:$D,3,0))","v":645.9}]
["Rohre und Formteile","BUI","BUI5010030","Bogen isoliert   BUI 50   100.30","50mm Isolierung","65",127.2,{"$f":"G1388*(1-VLOOKUP(F1388,Konditionen!$B:$D,3,0))","v":127.2}]
["Rohre und Formteile","BUI","BUI5010045","Bogen isoliert   BUI 50   100.45","50mm Isolierung","65",127.2,{"$f":"G1389*(1-VLOOKUP(F1389,Konditionen!$B:$D,3,0))","v":127.2}]
["Rohre und Formteile","BUI","BUI5010090","Bogen isoliert   BUI 50   100.90","50mm Isolierung","65",146.19999999999999,{"$f":"G1390*(1-VLOOKUP(F1390,Konditionen!$B:$D,3,0))","v":146.19999999999999}]
["Rohre und Formteile","BUI","BUI5012530","Bogen isoliert   BUI 50   125.30","50mm Isolierung","65",147.25,{"$f":"G1391*(1-VLOOKUP(F1391,Konditionen!$B:$D,3,0))","v":147.25}]
["Rohre und Formteile","BUI","BUI5012545","Bogen isoliert   BUI 50   125.45","50mm Isolierung","65",147.25,{"$f":"G1392*(1-VLOOKUP(F1392,Konditionen!$B:$D,3,0))","v":147.25}]
["Rohre und Formteile","BUI","BUI5012590","Bogen isoliert   BUI 50   125.90","50mm Isolierung","65",182.42,{"$f":"G1393*(1-VLOOKUP(F1393,Konditionen!$B:$D,3,0))","v":182.42}]
["Rohre und Formteile","BUI","BUI5015030","Bogen isoliert   BUI 50   150.30","50mm Isolierung","65",188.08,{"$f":"G1394*(1-VLOOKUP(F1394,Konditionen!$B:$D,3,0))","v":188.08}]
["Rohre und Formteile","BUI","BUI5015045","Bogen isoliert   BUI 50   150.45","50mm Isolierung","65",188.08,{"$f":"G1395*(1-VLOOKUP(F1395,Konditionen!$B:$D,3,0))","v":188.08}]
["Rohre und Formteile","BUI","BUI5015090","Bogen isoliert   BUI 50   150.90","50mm Isolierung","65",213.48,{"$f":"G1396*(1-VLOOKUP(F1396,Konditionen!$B:$D,3,0))","v":213.48}]
["Rohre und Formteile","BUI","BUI5020030","Bogen isoliert   BFUI 50   200.30","50mm Isolierung","65",257.14,{"$f":"G1397*(1-VLOOKUP(F1397,Konditionen!$B:$D,3,0))","v":257.14}]
["Rohre und Formteile","BUI","BUI5020045","Bogen isoliert   BFUI 50   200.45","50mm Isolierung","65",257.14,{"$f":"G1398*(1-VLOOKUP(F1398,Konditionen!$B:$D,3,0))","v":257.14}]
["Rohre und Formteile","BUI","BUI5020090","Bogen isoliert   BFUI 50   200.90","50mm Isolierung","65",334.5,{"$f":"G1399*(1-VLOOKUP(F1399,Konditionen!$B:$D,3,0))","v":334.5}]
["Rohre und Formteile","BUI","BUI5025030","Bogen isoliert   BFUI 50   250.30","50mm Isolierung","65",294.82,{"$f":"G1400*(1-VLOOKUP(F1400,Konditionen!$B:$D,3,0))","v":294.82}]
["Rohre und Formteile","BUI","BUI5025045","Bogen isoliert   BFUI 50   250.45","50mm Isolierung","65",294.82,{"$f":"G1401*(1-VLOOKUP(F1401,Konditionen!$B:$D,3,0))","v":294.82}]
["Rohre und Formteile","BUI","BUI5025090","Bogen isoliert   BFUI 50   250.90","50mm Isolierung","65",386.56,{"$f":"G1402*(1-VLOOKUP(F1402,Konditionen!$B:$D,3,0))","v":386.56}]
["Rohre und Formteile","BUI","BUI5030030","Bogen isoliert   BFUI 50   300.30","50mm Isolierung","65",301.01,{"$f":"G1403*(1-VLOOKUP(F1403,Konditionen!$B:$D,3,0))","v":301.01}]
["Rohre und Formteile","BUI","BUI5030045","Bogen isoliert   BFUI 50   300.45","50mm Isolierung","65",301.01,{"$f":"G1404*(1-VLOOKUP(F1404,Konditionen!$B:$D,3,0))","v":301.01}]
["Rohre und Formteile","BUI","BUI5030090","Bogen isoliert   BFUI 50   300.90","50mm Isolierung","65",391.7,{"$f":"G1405*(1-VLOOKUP(F1405,Konditionen!$B:$D,3,0))","v":391.7}]
["Rohre und Formteile","BUI","BUI5035530","Bogen isoliert   BFUI 50   355.30","50mm Isolierung","65",354.86,{"$f":"G1406*(1-VLOOKUP(F1406,Konditionen!$B:$D,3,0))","v":354.86}]
["Rohre und Formteile","BUI","BUI5035545","Bogen isoliert   BFUI 50   355.45","50mm Isolierung","65",354.86,{"$f":"G1407*(1-VLOOKUP(F1407,Konditionen!$B:$D,3,0))","v":354.86}]
["Rohre und Formteile","BUI","BUI5035590","Bogen isoliert   BFUI 50   355.90","50mm Isolierung","65",473.78,{"$f":"G1408*(1-VLOOKUP(F1408,Konditionen!$B:$D,3,0))","v":473.78}]
["Rohre und Formteile","BUI","BUI5040030","Bogen isoliert   BFUI 50   400.30","50mm Isolierung","65",400.83,{"$f":"G1409*(1-VLOOKUP(F1409,Konditionen!$B:$D,3,0))","v":400.83}]
["Rohre und Formteile","BUI","BUI5040045","Bogen isoliert   BFUI 50   400.45","50mm Isolierung","65",400.83,{"$f":"G1410*(1-VLOOKUP(F1410,Konditionen!$B:$D,3,0))","v":400.83}]
["Rohre und Formteile","BUI","BUI5040090","Bogen isoliert   BFUI 50   400.90","50mm Isolierung","65",536.64,{"$f":"G1411*(1-VLOOKUP(F1411,Konditionen!$B:$D,3,0))","v":536.64}]
["Rohre und Formteile","BUI","BUI5045030","Bogen isoliert   BFUI 50   450.30","50mm Isolierung","65",497.6,{"$f":"G1412*(1-VLOOKUP(F1412,Konditionen!$B:$D,3,0))","v":497.6}]
["Rohre und Formteile","BUI","BUI5045045","Bogen isoliert   BFUI 50   450.45","50mm Isolierung","65",497.6,{"$f":"G1413*(1-VLOOKUP(F1413,Konditionen!$B:$D,3,0))","v":497.6}]
["Rohre und Formteile","BUI","BUI5045090","Bogen isoliert   BFUI 50   450.90","50mm Isolierung","65",663.01,{"$f":"G1414*(1-VLOOKUP(F1414,Konditionen!$B:$D,3,0))","v":663.01}]
["Rohre und Formteile","BUI","BUI5050030","Bogen isoliert   BFUI 50   500.30","50mm Isolierung","65",573.9,{"$f":"G1415*(1-VLOOKUP(F1415,Konditionen!$B:$D,3,0))","v":573.9}]
["Rohre und Formteile","BUI","BUI5050045","Bogen isoliert   BFUI 50   500.45","50mm Isolierung","65",573.9,{"$f":"G1416*(1-VLOOKUP(F1416,Konditionen!$B:$D,3,0))","v":573.9}]
["Rohre und Formteile","","BUI5050060","Bogen isoliert   BFUI 50   500.60","50mm Isolierung","65",573.9,{"$f":"G1417*(1-VLOOKUP(F1417,Konditionen!$B:$D,3,0))","v":573.9}]
["Rohre und Formteile","BUI","BUI5050090","Bogen isoliert   BFUI 50   500.90","50mm Isolierung","65",775.42,{"$f":"G1418*(1-VLOOKUP(F1418,Konditionen!$B:$D,3,0))","v":775.42}]
["Rohre und Formteile","BU","BU10015","Bogen gepreßt    BU        100.15",null,"30",25.18,{"$f":"G1419*(1-VLOOKUP(F1419,Konditionen!$B:$D,3,0))","v":25.18}]
["Rohre und Formteile","BU","BU10030","Bogen gepreßt    BU        100.30",null,"30",19.940000000000001,{"$f":"G1420*(1-VLOOKUP(F1420,Konditionen!$B:$D,3,0))","v":19.940000000000001}]
["Rohre und Formteile","BU","BU10045","Bogen gepreßt    BU        100.45",null,"30",21.73,{"$f":"G1421*(1-VLOOKUP(F1421,Konditionen!$B:$D,3,0))","v":21.73}]
["Rohre und Formteile","BU","BU10060","Bogen gepreßt    BU        100.60",null,"30",31.59,{"$f":"G1422*(1-VLOOKUP(F1422,Konditionen!$B:$D,3,0))","v":31.59}]
["Rohre und Formteile","BU","BU10090","Bogen gepreßt    BU        100.90",null,"30",24.24,{"$f":"G1423*(1-VLOOKUP(F1423,Konditionen!$B:$D,3,0))","v":24.24}]
["Rohre und Formteile","BU","BU10090GJUT","Bogen           BU 100.90-GJUT","einseitig m. Muffe und vorgelochtem","30",117.86,{"$f":"G1424*(1-VLOOKUP(F1424,Konditionen!$B:$D,3,0))","v":117.86}]
["Rohre und Formteile","BU","BU11230","Bogen gepreßt    BU        112.30",null,"30",23.19,{"$f":"G1425*(1-VLOOKUP(F1425,Konditionen!$B:$D,3,0))","v":23.19}]
["Rohre und Formteile","BU","BU11245","Bogen gepreßt    BU        112.45",null,"30",25.29,{"$f":"G1426*(1-VLOOKUP(F1426,Konditionen!$B:$D,3,0))","v":25.29}]
["Rohre und Formteile","BU","BU11260","Bogen gepreßt    BU        112.60",null,"30",36.21,{"$f":"G1427*(1-VLOOKUP(F1427,Konditionen!$B:$D,3,0))","v":36.21}]
["Rohre und Formteile","BU","BU11290","Bogen gepreßt    BU        112.90",null,"30",30.01,{"$f":"G1428*(1-VLOOKUP(F1428,Konditionen!$B:$D,3,0))","v":30.01}]
["Rohre und Formteile","BU","BU12515","Bogen gepreßt    BU        125.15",null,"30",27.49,{"$f":"G1429*(1-VLOOKUP(F1429,Konditionen!$B:$D,3,0))","v":27.49}]
["Rohre und Formteile","BU","BU12530","Bogen gepreßt    BU        125.30",null,"30",23.19,{"$f":"G1430*(1-VLOOKUP(F1430,Konditionen!$B:$D,3,0))","v":23.19}]
["Rohre und Formteile","BU","BU12545","Bogen gepreßt    BU        125.45",null,"30",25.29,{"$f":"G1431*(1-VLOOKUP(F1431,Konditionen!$B:$D,3,0))","v":25.29}]
["Rohre und Formteile","BU","BU12560","Bogen gepreßt    BU        125.60",null,"30",36.21,{"$f":"G1432*(1-VLOOKUP(F1432,Konditionen!$B:$D,3,0))","v":36.21}]
["Rohre und Formteile","BU","BU12590","Bogen gepreßt    BU        125.90",null,"30",30.01,{"$f":"G1433*(1-VLOOKUP(F1433,Konditionen!$B:$D,3,0))","v":30.01}]
["Rohre und Formteile","BU","BU12590GJUT","Bogen           BU 125.90-GJUT","einseitig m. Muffe und vorgelochtem","30",128.99,{"$f":"G1434*(1-VLOOKUP(F1434,Konditionen!$B:$D,3,0))","v":128.99}]
["Rohre und Formteile","BU","BU14015","Bogen gepreßt    BU        140.15",null,"30",31.17,{"$f":"G1435*(1-VLOOKUP(F1435,Konditionen!$B:$D,3,0))","v":31.17}]
["Rohre und Formteile","BU","BU14030","Bogen gepreßt    BU        140.30",null,"30",31.17,{"$f":"G1436*(1-VLOOKUP(F1436,Konditionen!$B:$D,3,0))","v":31.17}]
["Rohre und Formteile","BU","BU14045","Bogen gepreßt    BU        140.45",null,"30",32.74,{"$f":"G1437*(1-VLOOKUP(F1437,Konditionen!$B:$D,3,0))","v":32.74}]
["Rohre und Formteile","BU","BU14060","Bogen gepreßt    BU        140.60",null,"30",53.95,{"$f":"G1438*(1-VLOOKUP(F1438,Konditionen!$B:$D,3,0))","v":53.95}]
["Rohre und Formteile","BU","BU14090","Bogen gepreßt    BU        140.90",null,"30",42.29,{"$f":"G1439*(1-VLOOKUP(F1439,Konditionen!$B:$D,3,0))","v":42.29}]
["Rohre und Formteile","BU","BU15015","Bogen gepreßt    BU        150.15",null,"30",31.17,{"$f":"G1440*(1-VLOOKUP(F1440,Konditionen!$B:$D,3,0))","v":31.17}]
["Rohre und Formteile","BU","BU15030","Bogen gepreßt    BU        150.30",null,"30",31.17,{"$f":"G1441*(1-VLOOKUP(F1441,Konditionen!$B:$D,3,0))","v":31.17}]
["Rohre und Formteile","BU","BU15045","Bogen gepreßt    BU        150.45",null,"30",32.74,{"$f":"G1442*(1-VLOOKUP(F1442,Konditionen!$B:$D,3,0))","v":32.74}]
["Rohre und Formteile","BU","BU15060","Bogen gepreßt    BU        150.60",null,"30",53.95,{"$f":"G1443*(1-VLOOKUP(F1443,Konditionen!$B:$D,3,0))","v":53.95}]
["Rohre und Formteile","BU","BU15090","Bogen gepreßt    BU        150.90",null,"30",42.29,{"$f":"G1444*(1-VLOOKUP(F1444,Konditionen!$B:$D,3,0))","v":42.29}]
["Rohre und Formteile","BU","BU16015","Bogen gepreßt    BU        160.15",null,"30",31.17,{"$f":"G1445*(1-VLOOKUP(F1445,Konditionen!$B:$D,3,0))","v":31.17}]
["Rohre und Formteile","BU","BU16030","Bogen gepreßt    BU        160.30",null,"30",31.17,{"$f":"G1446*(1-VLOOKUP(F1446,Konditionen!$B:$D,3,0))","v":31.17}]
["Rohre und Formteile","BU","BU16045","Bogen gepreßt    BU        160.45",null,"30",32.74,{"$f":"G1447*(1-VLOOKUP(F1447,Konditionen!$B:$D,3,0))","v":32.74}]
["Rohre und Formteile","BU","BU16060","Bogen gepreßt    BU        160.60",null,"30",53.95,{"$f":"G1448*(1-VLOOKUP(F1448,Konditionen!$B:$D,3,0))","v":53.95}]
["Rohre und Formteile","BU","BU16090","Bogen gepreßt    BU        160.90",null,"30",42.29,{"$f":"G1449*(1-VLOOKUP(F1449,Konditionen!$B:$D,3,0))","v":42.29}]
["Rohre und Formteile","BU","BU16090GJUT","Bogen           BU 160.90-GJUT","einseitig m. Muffe und vorgelochtem","30",153.44,{"$f":"G1450*(1-VLOOKUP(F1450,Konditionen!$B:$D,3,0))","v":153.44}]
["Rohre und Formteile","BU","BU18015","Bogen gepreßt    BU        180.15",null,"30",49.33,{"$f":"G1451*(1-VLOOKUP(F1451,Konditionen!$B:$D,3,0))","v":49.33}]
["Rohre und Formteile","BU","BU18030","Bogen gepreßt    BU        180.30",null,"30",49.33,{"$f":"G1452*(1-VLOOKUP(F1452,Konditionen!$B:$D,3,0))","v":49.33}]
["Rohre und Formteile","BU","BU18045","Bogen gepreßt    BU        180.45",null,"30",49.33,{"$f":"G1453*(1-VLOOKUP(F1453,Konditionen!$B:$D,3,0))","v":49.33}]
["Rohre und Formteile","BU","BU18060","Bogen gepreßt    BU        180.60",null,"30",75.88,{"$f":"G1454*(1-VLOOKUP(F1454,Konditionen!$B:$D,3,0))","v":75.88}]
["Rohre und Formteile","BU","BU18090","Bogen gepreßt    BU        180.90",null,"30",70.099999999999994,{"$f":"G1455*(1-VLOOKUP(F1455,Konditionen!$B:$D,3,0))","v":70.099999999999994}]
["Rohre und Formteile","BU","BU20015","Bogen gepreßt    BU        200.15",null,"30",49.33,{"$f":"G1456*(1-VLOOKUP(F1456,Konditionen!$B:$D,3,0))","v":49.33}]
["Rohre und Formteile","BU","BU20030","Bogen gepreßt    BU        200.30",null,"30",49.33,{"$f":"G1457*(1-VLOOKUP(F1457,Konditionen!$B:$D,3,0))","v":49.33}]
["Rohre und Formteile","BU","BU20045","Bogen gepreßt    BU        200.45",null,"30",49.33,{"$f":"G1458*(1-VLOOKUP(F1458,Konditionen!$B:$D,3,0))","v":49.33}]
["Rohre und Formteile","BU","BU20060","Bogen gepreßt    BU        200.60",null,"30",75.88,{"$f":"G1459*(1-VLOOKUP(F1459,Konditionen!$B:$D,3,0))","v":75.88}]
["Rohre und Formteile","BU","BU20090","Bogen gepreßt    BU        200.90",null,"30",70.099999999999994,{"$f":"G1460*(1-VLOOKUP(F1460,Konditionen!$B:$D,3,0))","v":70.099999999999994}]
["Rohre und Formteile","BU","BU22415","Bogen gepreßt    BU        224.15",null,"30",59.09,{"$f":"G1461*(1-VLOOKUP(F1461,Konditionen!$B:$D,3,0))","v":59.09}]
["Rohre und Formteile","BU","BU6315","Bogen gepreßt    BU         63.15",null,"30",31.27,{"$f":"G1462*(1-VLOOKUP(F1462,Konditionen!$B:$D,3,0))","v":31.27}]
["Rohre und Formteile","BU","BU6330","Bogen gepreßt    BU         63.30",null,"30",22.25,{"$f":"G1463*(1-VLOOKUP(F1463,Konditionen!$B:$D,3,0))","v":22.25}]
["Rohre und Formteile","BU","BU6345","Bogen gepreßt    BU         63.45",null,"30",24.24,{"$f":"G1464*(1-VLOOKUP(F1464,Konditionen!$B:$D,3,0))","v":24.24}]
["Rohre und Formteile","BU","BU6360","Bogen gepreßt    BU         63.60",null,"30",35.26,{"$f":"G1465*(1-VLOOKUP(F1465,Konditionen!$B:$D,3,0))","v":35.26}]
["Rohre und Formteile","BU","BU6390","Bogen gepreßt    BU         63.90",null,"30",25.18,{"$f":"G1466*(1-VLOOKUP(F1466,Konditionen!$B:$D,3,0))","v":25.18}]
["Rohre und Formteile","BU","BU8015","Bogen gepreßt    BU         80.15",null,"30",31.27,{"$f":"G1467*(1-VLOOKUP(F1467,Konditionen!$B:$D,3,0))","v":31.27}]
["Rohre und Formteile","BU","BU8030","Bogen gepreßt    BU         80.30",null,"30",22.25,{"$f":"G1468*(1-VLOOKUP(F1468,Konditionen!$B:$D,3,0))","v":22.25}]
["Rohre und Formteile","BU","BU8045","Bogen gepreßt    BU         80.45",null,"30",24.24,{"$f":"G1469*(1-VLOOKUP(F1469,Konditionen!$B:$D,3,0))","v":24.24}]
["Rohre und Formteile","BU","BU8060","Bogen gepreßt    BU         80.60",null,"30",35.26,{"$f":"G1470*(1-VLOOKUP(F1470,Konditionen!$B:$D,3,0))","v":35.26}]
["Rohre und Formteile","BU","BU8090","Bogen gepreßt    BU         80.90",null,"30",25.18,{"$f":"G1471*(1-VLOOKUP(F1471,Konditionen!$B:$D,3,0))","v":25.18}]
["Rohre und Formteile","BU","BU8090GJUT","Bogen           BU  80.90-GJUT","einseitig m. Muffe und vorgelochtem","30",101.07,{"$f":"G1472*(1-VLOOKUP(F1472,Konditionen!$B:$D,3,0))","v":101.07}]
["Luftdurchlässe","B3010","B30101000100","Gitter Alu         B3010-1000x100mm","Rahmen mit Warzenlöchern","70",156.69,{"$f":"G1473*(1-VLOOKUP(F1473,Konditionen!$B:$D,3,0))","v":156.69}]
["Luftdurchlässe","B3010","B30101000150","Gitter Alu         B3010-1000x150mm","Rahmen mit Warzenlöchern","70",196.37,{"$f":"G1474*(1-VLOOKUP(F1474,Konditionen!$B:$D,3,0))","v":196.37}]
["Luftdurchlässe","B3010","B30101000200","Gitter Alu         B3010-1000x200mm","Rahmen mit Warzenlöchern","70",232.59,{"$f":"G1475*(1-VLOOKUP(F1475,Konditionen!$B:$D,3,0))","v":232.59}]
["Luftdurchlässe","B3010","B30101000250","Gitter Alu         B3010-1000x250mm","Rahmen mit Warzenlöchern","70",274.02,{"$f":"G1476*(1-VLOOKUP(F1476,Konditionen!$B:$D,3,0))","v":274.02}]
["Luftdurchlässe","B3010","B30101000300","Gitter Alu         B3010-1000x300mm","Rahmen mit Warzenlöchern","70",310.02999999999997,{"$f":"G1477*(1-VLOOKUP(F1477,Konditionen!$B:$D,3,0))","v":310.02999999999997}]
["Luftdurchlässe","B3010","B30101000400","Gitter Alu         B3010-1000x400mm","Rahmen mit Warzenlöchern","70",389.54,{"$f":"G1478*(1-VLOOKUP(F1478,Konditionen!$B:$D,3,0))","v":389.54}]
["Luftdurchlässe","B3010","B30101000500","Gitter Alu         B3010-1000x500mm","Rahmen mit Warzenlöchern","70",466.31,{"$f":"G1479*(1-VLOOKUP(F1479,Konditionen!$B:$D,3,0))","v":466.31}]
["Luftdurchlässe","B3010","B30101200100","Gitter Alu         B3010-1200x100mm","Rahmen mit Warzenlöchern","70",174.41,{"$f":"G1480*(1-VLOOKUP(F1480,Konditionen!$B:$D,3,0))","v":174.41}]
["Luftdurchlässe","B3010","B30101200150","Gitter Alu         B3010-1200x150mm","Rahmen mit Warzenlöchern","70",220.08,{"$f":"G1481*(1-VLOOKUP(F1481,Konditionen!$B:$D,3,0))","v":220.08}]
["Luftdurchlässe","B3010","B30101200200","Gitter Alu         B3010-1200x200mm","Rahmen mit Warzenlöchern","70",262.55,{"$f":"G1482*(1-VLOOKUP(F1482,Konditionen!$B:$D,3,0))","v":262.55}]
["Luftdurchlässe","B3010","B30101200250","Gitter Alu         B3010-1200x250mm","Rahmen mit Warzenlöchern","70",307.70999999999998,{"$f":"G1483*(1-VLOOKUP(F1483,Konditionen!$B:$D,3,0))","v":307.70999999999998}]
["Luftdurchlässe","B3010","B30101200300","Gitter Alu         B3010-1200x300mm","Rahmen mit Warzenlöchern","70",350.01,{"$f":"G1484*(1-VLOOKUP(F1484,Konditionen!$B:$D,3,0))","v":350.01}]
["Luftdurchlässe","B3010","B30101200400","Gitter Alu         B3010-1200x400mm","Rahmen mit Warzenlöchern","70",439.44,{"$f":"G1485*(1-VLOOKUP(F1485,Konditionen!$B:$D,3,0))","v":439.44}]
["Luftdurchlässe","B3010","B30101200500","Gitter Alu         B3010-1200x500mm","Rahmen mit Warzenlöchern","70",529.13,{"$f":"G1486*(1-VLOOKUP(F1486,Konditionen!$B:$D,3,0))","v":529.13}]
["Luftdurchlässe","B3010","B30101400100","Gitter Alu         B3010-1400x100mm","Rahmen mit Warzenlöchern","70",198.8,{"$f":"G1487*(1-VLOOKUP(F1487,Konditionen!$B:$D,3,0))","v":198.8}]
["Luftdurchlässe","B3010","B30101400150","Gitter Alu         B3010-1400x150mm","Rahmen mit Warzenlöchern","70",249.43,{"$f":"G1488*(1-VLOOKUP(F1488,Konditionen!$B:$D,3,0))","v":249.43}]
["Luftdurchlässe","B3010","B30101400200","Gitter Alu         B3010-1400x200mm","Rahmen mit Warzenlöchern","70",299.27999999999997,{"$f":"G1489*(1-VLOOKUP(F1489,Konditionen!$B:$D,3,0))","v":299.27999999999997}]
["Luftdurchlässe","B3010","B30101400250","Gitter Alu         B3010-1400x250mm","Rahmen mit Warzenlöchern","70",348,{"$f":"G1490*(1-VLOOKUP(F1490,Konditionen!$B:$D,3,0))","v":348}]
["Luftdurchlässe","B3010","B30101400300","Gitter Alu         B3010-1400x300mm","Rahmen mit Warzenlöchern","70",398.88,{"$f":"G1491*(1-VLOOKUP(F1491,Konditionen!$B:$D,3,0))","v":398.88}]
["Luftdurchlässe","B3010","B30101400400","Gitter Alu         B3010-1400x400mm","Rahmen mit Warzenlöchern","70",500.46,{"$f":"G1492*(1-VLOOKUP(F1492,Konditionen!$B:$D,3,0))","v":500.46}]
["Luftdurchlässe","B3010","B30101400500","Gitter Alu         B3010-1400x500mm","Rahmen mit Warzenlöchern","70",599.85,{"$f":"G1493*(1-VLOOKUP(F1493,Konditionen!$B:$D,3,0))","v":599.85}]
["Luftdurchlässe","B3010","B30101600100","Gitter Alu         B3010-1600x100mm","Rahmen mit Warzenlöchern","70",222.46,{"$f":"G1494*(1-VLOOKUP(F1494,Konditionen!$B:$D,3,0))","v":222.46}]
["Luftdurchlässe","B3010","B30101600150","Gitter Alu         B3010-1600x150mm","Rahmen mit Warzenlöchern","70",276.60000000000002,{"$f":"G1495*(1-VLOOKUP(F1495,Konditionen!$B:$D,3,0))","v":276.60000000000002}]
["Luftdurchlässe","B3010","B30101600200","Gitter Alu         B3010-1600x200mm","Rahmen mit Warzenlöchern","70",333.48,{"$f":"G1496*(1-VLOOKUP(F1496,Konditionen!$B:$D,3,0))","v":333.48}]
["Luftdurchlässe","B3010","B30101600250","Gitter Alu         B3010-1600x250mm","Rahmen mit Warzenlöchern","70",389.54,{"$f":"G1497*(1-VLOOKUP(F1497,Konditionen!$B:$D,3,0))","v":389.54}]
["Luftdurchlässe","B3010","B30101600300","Gitter Alu         B3010-1600x300mm","Rahmen mit Warzenlöchern","70",443.84,{"$f":"G1498*(1-VLOOKUP(F1498,Konditionen!$B:$D,3,0))","v":443.84}]
["Luftdurchlässe","B3010","B30101600400","Gitter Alu         B3010-1600x400mm","Rahmen mit Warzenlöchern","70",557.97,{"$f":"G1499*(1-VLOOKUP(F1499,Konditionen!$B:$D,3,0))","v":557.97}]
["Luftdurchlässe","B3010","B30101600500","Gitter Alu         B3010-1600x500mm","Rahmen mit Warzenlöchern","70",668.22,{"$f":"G1500*(1-VLOOKUP(F1500,Konditionen!$B:$D,3,0))","v":668.22}]
["Luftdurchlässe","B3010","B30101800100","Gitter Alu         B3010-1800x100mm","Rahmen mit Warzenlöchern","70",240.18,{"$f":"G1501*(1-VLOOKUP(F1501,Konditionen!$B:$D,3,0))","v":240.18}]
["Luftdurchlässe","B3010","B30101800150","Gitter Alu         B3010-1800x150mm","Rahmen mit Warzenlöchern","70",299.27999999999997,{"$f":"G1502*(1-VLOOKUP(F1502,Konditionen!$B:$D,3,0))","v":299.27999999999997}]
["Luftdurchlässe","B3010","B30101800200","Gitter Alu         B3010-1800x200mm","Rahmen mit Warzenlöchern","70",362.15,{"$f":"G1503*(1-VLOOKUP(F1503,Konditionen!$B:$D,3,0))","v":362.15}]
["Luftdurchlässe","B3010","B30101800250","Gitter Alu         B3010-1800x250mm","Rahmen mit Warzenlöchern","70",423.95,{"$f":"G1504*(1-VLOOKUP(F1504,Konditionen!$B:$D,3,0))","v":423.95}]
["Luftdurchlässe","B3010","B30101800300","Gitter Alu         B3010-1800x300mm","Rahmen mit Warzenlöchern","70",484.44,{"$f":"G1505*(1-VLOOKUP(F1505,Konditionen!$B:$D,3,0))","v":484.44}]
["Luftdurchlässe","B3010","B30101800400","Gitter Alu         B3010-1800x400mm","Rahmen mit Warzenlöchern","70",609.63,{"$f":"G1506*(1-VLOOKUP(F1506,Konditionen!$B:$D,3,0))","v":609.63}]
["Luftdurchlässe","B3010","B30101800500","Gitter Alu         B3010-1800x500mm","Rahmen mit Warzenlöchern","70",730.21,{"$f":"G1507*(1-VLOOKUP(F1507,Konditionen!$B:$D,3,0))","v":730.21}]
["Luftdurchlässe","B3010","B30102000100","Gitter Alu         B3010-2000x100mm","Rahmen mit Warzenlöchern","70",261.88,{"$f":"G1508*(1-VLOOKUP(F1508,Konditionen!$B:$D,3,0))","v":261.88}]
["Luftdurchlässe","B3010","B30102000150","Gitter Alu         B3010-2000x150mm","Rahmen mit Warzenlöchern","70",330.33,{"$f":"G1509*(1-VLOOKUP(F1509,Konditionen!$B:$D,3,0))","v":330.33}]
["Luftdurchlässe","B3010","B30102000200","Gitter Alu         B3010-2000x200mm","Rahmen mit Warzenlöchern","70",395.79,{"$f":"G1510*(1-VLOOKUP(F1510,Konditionen!$B:$D,3,0))","v":395.79}]
["Luftdurchlässe","B3010","B30102000250","Gitter Alu         B3010-2000x250mm","Rahmen mit Warzenlöchern","70",463.83,{"$f":"G1511*(1-VLOOKUP(F1511,Konditionen!$B:$D,3,0))","v":463.83}]
["Luftdurchlässe","B3010","B30102000300","Gitter Alu         B3010-2000x300mm","Rahmen mit Warzenlöchern","70",531,{"$f":"G1512*(1-VLOOKUP(F1512,Konditionen!$B:$D,3,0))","v":531}]
["Luftdurchlässe","B3010","B30102000400","Gitter Alu         B3010-2000x400mm","Rahmen mit Warzenlöchern","70",667.13,{"$f":"G1513*(1-VLOOKUP(F1513,Konditionen!$B:$D,3,0))","v":667.13}]
["Luftdurchlässe","B3010","B30102000500","Gitter Alu         B3010-2000x500mm","Rahmen mit Warzenlöchern","70",801.04,{"$f":"G1514*(1-VLOOKUP(F1514,Konditionen!$B:$D,3,0))","v":801.04}]
["Luftdurchlässe","B3010","B3010200100","Gitter Alu          B3010-200x100mm","Rahmen mit Warzenlöchern","70",65.56,{"$f":"G1515*(1-VLOOKUP(F1515,Konditionen!$B:$D,3,0))","v":65.56}]
["Luftdurchlässe","B3010","B3010200150","Gitter Alu          B3010-200x150mm","Rahmen mit Warzenlöchern","70",77.599999999999994,{"$f":"G1516*(1-VLOOKUP(F1516,Konditionen!$B:$D,3,0))","v":77.599999999999994}]
["Luftdurchlässe","B3010","B3010200200","Gitter Alu          B3010-200x200mm","Rahmen mit Warzenlöchern","70",92.88,{"$f":"G1517*(1-VLOOKUP(F1517,Konditionen!$B:$D,3,0))","v":92.88}]
["Luftdurchlässe","B3010","B3010200250","Gitter Alu          B3010-200x250mm","Rahmen mit Warzenlöchern","70",104.92,{"$f":"G1518*(1-VLOOKUP(F1518,Konditionen!$B:$D,3,0))","v":104.92}]
["Luftdurchlässe","B3010","B3010200300","Gitter Alu          B3010-200x300mm","Rahmen mit Warzenlöchern","70",119.75,{"$f":"G1519*(1-VLOOKUP(F1519,Konditionen!$B:$D,3,0))","v":119.75}]
["Luftdurchlässe","B3010","B3010200400","Gitter Alu          B3010-200x400mm","Rahmen mit Warzenlöchern","70",150.13,{"$f":"G1520*(1-VLOOKUP(F1520,Konditionen!$B:$D,3,0))","v":150.13}]
["Luftdurchlässe","B3010","B3010200500","Gitter Alu          B3010-200x500mm","Rahmen mit Warzenlöchern","70",175.49,{"$f":"G1521*(1-VLOOKUP(F1521,Konditionen!$B:$D,3,0))","v":175.49}]
["Luftdurchlässe","B3010","B3010300100","Gitter Alu          B3010-300x100mm","Rahmen mit Warzenlöchern","70",77.5,{"$f":"G1522*(1-VLOOKUP(F1522,Konditionen!$B:$D,3,0))","v":77.5}]
["Luftdurchlässe","B3010","B3010300150","Gitter Alu          B3010-300x150mm","Rahmen mit Warzenlöchern","70",97.59,{"$f":"G1523*(1-VLOOKUP(F1523,Konditionen!$B:$D,3,0))","v":97.59}]
["Luftdurchlässe","B3010","B3010300200","Gitter Alu          B3010-300x200mm","Rahmen mit Warzenlöchern","70",116.6,{"$f":"G1524*(1-VLOOKUP(F1524,Konditionen!$B:$D,3,0))","v":116.6}]
["Luftdurchlässe","B3010","B3010300250","Gitter Alu          B3010-300x250mm","Rahmen mit Warzenlöchern","70",132.1,{"$f":"G1525*(1-VLOOKUP(F1525,Konditionen!$B:$D,3,0))","v":132.1}]
["Luftdurchlässe","B3010","B3010300300","Gitter Alu          B3010-300x300mm","Rahmen mit Warzenlöchern","70",148.94,{"$f":"G1526*(1-VLOOKUP(F1526,Konditionen!$B:$D,3,0))","v":148.94}]
["Luftdurchlässe","B3010","B3010300400","Gitter Alu          B3010-300x400mm","Rahmen mit Warzenlöchern","70",187.43,{"$f":"G1527*(1-VLOOKUP(F1527,Konditionen!$B:$D,3,0))","v":187.43}]
["Luftdurchlässe","B3010","B3010300500","Gitter Alu          B3010-300x500mm","Rahmen mit Warzenlöchern","70",222.46,{"$f":"G1528*(1-VLOOKUP(F1528,Konditionen!$B:$D,3,0))","v":222.46}]
["Luftdurchlässe","B3010","B3010400100","Gitter Alu          B3010-400x100mm","Rahmen mit Warzenlöchern","70",91.8,{"$f":"G1529*(1-VLOOKUP(F1529,Konditionen!$B:$D,3,0))","v":91.8}]
["Luftdurchlässe","B3010","B3010400150","Gitter Alu          B3010-400x150mm","Rahmen mit Warzenlöchern","70",115,{"$f":"G1530*(1-VLOOKUP(F1530,Konditionen!$B:$D,3,0))","v":115}]
["Luftdurchlässe","B3010","B3010400200","Gitter Alu          B3010-400x200mm","Rahmen mit Warzenlöchern","70",133.59,{"$f":"G1531*(1-VLOOKUP(F1531,Konditionen!$B:$D,3,0))","v":133.59}]
["Luftdurchlässe","B3010","B3010400250","Gitter Alu          B3010-400x250mm","Rahmen mit Warzenlöchern","70",156.69,{"$f":"G1532*(1-VLOOKUP(F1532,Konditionen!$B:$D,3,0))","v":156.69}]
["Luftdurchlässe","B3010","B3010400300","Gitter Alu          B3010-400x300mm","Rahmen mit Warzenlöchern","70",175.49,{"$f":"G1533*(1-VLOOKUP(F1533,Konditionen!$B:$D,3,0))","v":175.49}]
["Luftdurchlässe","B3010","B3010400400","Gitter Alu          B3010-400x400mm","Rahmen mit Warzenlöchern","70",222.46,{"$f":"G1534*(1-VLOOKUP(F1534,Konditionen!$B:$D,3,0))","v":222.46}]
["Luftdurchlässe","B3010","B3010400500","Gitter Alu          B3010-400x500mm","Rahmen mit Warzenlöchern","70",244.93,{"$f":"G1535*(1-VLOOKUP(F1535,Konditionen!$B:$D,3,0))","v":244.93}]
["Luftdurchlässe","B3010","B3010500100","Gitter Alu          B3010-500x100mm","Rahmen mit Warzenlöchern","70",102.86,{"$f":"G1536*(1-VLOOKUP(F1536,Konditionen!$B:$D,3,0))","v":102.86}]
["Luftdurchlässe","B3010","B3010500150","Gitter Alu          B3010-500x150mm","Rahmen mit Warzenlöchern","70",125.54,{"$f":"G1537*(1-VLOOKUP(F1537,Konditionen!$B:$D,3,0))","v":125.54}]
["Luftdurchlässe","B3010","B3010500200","Gitter Alu          B3010-500x200mm","Rahmen mit Warzenlöchern","70",148.94,{"$f":"G1538*(1-VLOOKUP(F1538,Konditionen!$B:$D,3,0))","v":148.94}]
["Luftdurchlässe","B3010","B3010500250","Gitter Alu          B3010-500x250mm","Rahmen mit Warzenlöchern","70",174.41,{"$f":"G1539*(1-VLOOKUP(F1539,Konditionen!$B:$D,3,0))","v":174.41}]
["Luftdurchlässe","B3010","B3010500300","Gitter Alu          B3010-500x300mm","Rahmen mit Warzenlöchern","70",196.37,{"$f":"G1540*(1-VLOOKUP(F1540,Konditionen!$B:$D,3,0))","v":196.37}]
["Luftdurchlässe","B3010","B3010500400","Gitter Alu          B3010-500x400mm","Rahmen mit Warzenlöchern","70",248.44,{"$f":"G1541*(1-VLOOKUP(F1541,Konditionen!$B:$D,3,0))","v":248.44}]
["Luftdurchlässe","B3010","B3010500500","Gitter Alu          B3010-500x500mm","Rahmen mit Warzenlöchern","70",295.41000000000003,{"$f":"G1542*(1-VLOOKUP(F1542,Konditionen!$B:$D,3,0))","v":295.41000000000003}]
["Luftdurchlässe","B3010","B3010600100","Gitter Alu          B3010-600x100mm","Rahmen mit Warzenlöchern","70",111.02,{"$f":"G1543*(1-VLOOKUP(F1543,Konditionen!$B:$D,3,0))","v":111.02}]
["Luftdurchlässe","B3010","B3010600150","Gitter Alu          B3010-600x150mm","Rahmen mit Warzenlöchern","70",137.57,{"$f":"G1544*(1-VLOOKUP(F1544,Konditionen!$B:$D,3,0))","v":137.57}]
["Luftdurchlässe","B3010","B3010600200","Gitter Alu          B3010-600x200mm","Rahmen mit Warzenlöchern","70",162.07,{"$f":"G1545*(1-VLOOKUP(F1545,Konditionen!$B:$D,3,0))","v":162.07}]
["Luftdurchlässe","B3010","B3010600250","Gitter Alu          B3010-600x250mm","Rahmen mit Warzenlöchern","70",191.21,{"$f":"G1546*(1-VLOOKUP(F1546,Konditionen!$B:$D,3,0))","v":191.21}]
["Luftdurchlässe","B3010","B3010600300","Gitter Alu          B3010-600x300mm","Rahmen mit Warzenlöchern","70",216.21,{"$f":"G1547*(1-VLOOKUP(F1547,Konditionen!$B:$D,3,0))","v":216.21}]
["Luftdurchlässe","B3010","B3010600400","Gitter Alu          B3010-600x400mm","Rahmen mit Warzenlöchern","70",274.58999999999997,{"$f":"G1548*(1-VLOOKUP(F1548,Konditionen!$B:$D,3,0))","v":274.58999999999997}]
["Luftdurchlässe","B3010","B3010600500","Gitter Alu          B3010-600x500mm","Rahmen mit Warzenlöchern","70",326.61,{"$f":"G1549*(1-VLOOKUP(F1549,Konditionen!$B:$D,3,0))","v":326.61}]
["Luftdurchlässe","B3010","B3010800100","Gitter Alu          B3010-800x100mm","Rahmen mit Warzenlöchern","70",136.69999999999999,{"$f":"G1550*(1-VLOOKUP(F1550,Konditionen!$B:$D,3,0))","v":136.69999999999999}]
["Luftdurchlässe","B3010","B3010800150","Gitter Alu          B3010-800x150mm","Rahmen mit Warzenlöchern","70",165.73,{"$f":"G1551*(1-VLOOKUP(F1551,Konditionen!$B:$D,3,0))","v":165.73}]
["Luftdurchlässe","B3010","B3010800200","Gitter Alu          B3010-800x200mm","Rahmen mit Warzenlöchern","70",201.64,{"$f":"G1552*(1-VLOOKUP(F1552,Konditionen!$B:$D,3,0))","v":201.64}]
["Luftdurchlässe","B3010","B3010800250","Gitter Alu          B3010-800x250mm","Rahmen mit Warzenlöchern","70",230.83,{"$f":"G1553*(1-VLOOKUP(F1553,Konditionen!$B:$D,3,0))","v":230.83}]
["Luftdurchlässe","B3010","B3010800300","Gitter Alu          B3010-800x300mm","Rahmen mit Warzenlöchern","70",266.20999999999998,{"$f":"G1554*(1-VLOOKUP(F1554,Konditionen!$B:$D,3,0))","v":266.20999999999998}]
["Luftdurchlässe","B3010","B3010800400","Gitter Alu          B3010-800x400mm","Rahmen mit Warzenlöchern","70",333.48,{"$f":"G1555*(1-VLOOKUP(F1555,Konditionen!$B:$D,3,0))","v":333.48}]
["Luftdurchlässe","B3010","B3010800500","Gitter Alu          B3010-800x500mm","Rahmen mit Warzenlöchern","70",397.39,{"$f":"G1556*(1-VLOOKUP(F1556,Konditionen!$B:$D,3,0))","v":397.39}]
["Luftdurchlässe","B3020","B3020200100S","Gitter Alu Standard B3020-200x100mm","Rahmen mit Klemmfedern","70",43.14,{"$f":"G1557*(1-VLOOKUP(F1557,Konditionen!$B:$D,3,0))","v":43.14}]
["Luftdurchlässe","B3020","B3020300100S","Gitter Alu Standard B3020-300x100mm","Rahmen mit Klemmfedern","70",50.93,{"$f":"G1558*(1-VLOOKUP(F1558,Konditionen!$B:$D,3,0))","v":50.93}]
["Luftdurchlässe","B3020","B3020300150S","Gitter Alu Standard B3020-300x150mm","Rahmen mit Klemmfedern","70",65.91,{"$f":"G1559*(1-VLOOKUP(F1559,Konditionen!$B:$D,3,0))","v":65.91}]
["Luftdurchlässe","B3020","B3020400100S","Gitter Alu Standard B3020-400x100mm","Rahmen mit Klemmfedern","70",60.65,{"$f":"G1560*(1-VLOOKUP(F1560,Konditionen!$B:$D,3,0))","v":60.65}]
["Luftdurchlässe","B3020","B3020400150S","Gitter Alu Standard B3020-400x150mm","Rahmen mit Klemmfedern","70",78.27,{"$f":"G1561*(1-VLOOKUP(F1561,Konditionen!$B:$D,3,0))","v":78.27}]
["Luftdurchlässe","B3020","B3020400200S","Gitter Alu Standard B3020-400x200mm","Rahmen mit Klemmfedern","70",97.8,{"$f":"G1562*(1-VLOOKUP(F1562,Konditionen!$B:$D,3,0))","v":97.8}]
["Luftdurchlässe","B3020","B3020500100S","Gitter Alu Standard B3020-500x100mm","Rahmen mit Klemmfedern","70",69.22,{"$f":"G1563*(1-VLOOKUP(F1563,Konditionen!$B:$D,3,0))","v":69.22}]
["Luftdurchlässe","B3020","B3020500150S","Gitter Alu Standard B3020-500x150mm","Rahmen mit Klemmfedern","70",90.2,{"$f":"G1564*(1-VLOOKUP(F1564,Konditionen!$B:$D,3,0))","v":90.2}]
["Luftdurchlässe","B3020","B3020500200S","Gitter Alu Standard B3020-500x200mm","Rahmen mit Klemmfedern","70",113.29,{"$f":"G1565*(1-VLOOKUP(F1565,Konditionen!$B:$D,3,0))","v":113.29}]
["Luftdurchlässe","B3020","B3020500300S","Gitter Alu Standard B3020-500x300mm","Rahmen mit Klemmfedern","70",128.63999999999999,{"$f":"G1566*(1-VLOOKUP(F1566,Konditionen!$B:$D,3,0))","v":128.63999999999999}]
["Luftdurchlässe","B3020","B3020600100S","Gitter Alu Standard B3020-600x100mm","Rahmen mit Klemmfedern","70",69.540000000000006,{"$f":"G1567*(1-VLOOKUP(F1567,Konditionen!$B:$D,3,0))","v":69.540000000000006}]
["Luftdurchlässe","B3020","B3020600150S","Gitter Alu Standard B3020-600x150mm","Rahmen mit Klemmfedern","70",102.24,{"$f":"G1568*(1-VLOOKUP(F1568,Konditionen!$B:$D,3,0))","v":102.24}]
["Luftdurchlässe","B3020","B3020600200S","Gitter Alu Standard B3020-600x200mm","Rahmen mit Klemmfedern","70",128.63999999999999,{"$f":"G1569*(1-VLOOKUP(F1569,Konditionen!$B:$D,3,0))","v":128.63999999999999}]
["Luftdurchlässe","CAZ","CAZ125","Drosseleinheit              CAZ-125","Zubehör für CRL","70",43.54,{"$f":"G1570*(1-VLOOKUP(F1570,Konditionen!$B:$D,3,0))","v":43.54}]
["Luftdurchlässe","CAZ","CAZ160","Drosseleinheit              CAZ-160","Zubehör für CRL","70",44.06,{"$f":"G1571*(1-VLOOKUP(F1571,Konditionen!$B:$D,3,0))","v":44.06}]
["Luftdurchlässe","CAZ","CAZ200","Drosseleinheit              CAZ-200","Zubehör für CRL","70",45.25,{"$f":"G1572*(1-VLOOKUP(F1572,Konditionen!$B:$D,3,0))","v":45.25}]
["Luftdurchlässe","CAZ","CAZ250","Drosseleinheit              CAZ-250","Zubehör für CRL","70",48.61,{"$f":"G1573*(1-VLOOKUP(F1573,Konditionen!$B:$D,3,0))","v":48.61}]
["Luftdurchlässe","CAZ","CAZ315","Drosseleinheit              CAZ-315","Zubehör für CRL","70",50.01,{"$f":"G1574*(1-VLOOKUP(F1574,Konditionen!$B:$D,3,0))","v":50.01}]
["Luftdurchlässe","CBAL","CBAL1200","Niedrigimpulsauslass      CBAL-1200","halbrunde Ausführung  Deckenmontage","70",1524.23,{"$f":"G1575*(1-VLOOKUP(F1575,Konditionen!$B:$D,3,0))","v":1524.23}]
["Luftdurchlässe","CBAL","CBAL1200-OHNEKAS","Niedrigimpulsauslass      CBAL-1200","halbrunde Ausführung, Ohne Kasten","70",1348.47,{"$f":"G1576*(1-VLOOKUP(F1576,Konditionen!$B:$D,3,0))","v":1348.47}]
["Luftdurchlässe","CBAL","CBAL1800","Niedrigimpulsauslass      CBAL-1800","halbrunde Ausführung  Deckenmontage","70",2310.65,{"$f":"G1577*(1-VLOOKUP(F1577,Konditionen!$B:$D,3,0))","v":2310.65}]
["Luftdurchlässe","CBAL","CBAL1800-OHNEKAS","Niedrigimpulsauslass      CBAL-1800","halbrunde Ausführung, Ohne Kasten","70",1969,{"$f":"G1578*(1-VLOOKUP(F1578,Konditionen!$B:$D,3,0))","v":1969}]
["Luftdurchlässe","CBAV","CBAV1200","Niedrigimpulsauslass      CBAV-1200","viertelrund für Deckenmontage","70",1089.8900000000001,{"$f":"G1579*(1-VLOOKUP(F1579,Konditionen!$B:$D,3,0))","v":1089.8900000000001}]
["Luftdurchlässe","CBAV","CBAV1800","Niedrigimpulsauslass      CBAV-1800","viertelrund für Deckenmontage","70",1499.06,{"$f":"G1580*(1-VLOOKUP(F1580,Konditionen!$B:$D,3,0))","v":1499.06}]
["Luftdurchlässe","CBAZ0","CBAZ01207","Rohrverkleidung         CBAZ-0-1207","Zubehör für CBA","70",466.83,{"$f":"G1581*(1-VLOOKUP(F1581,Konditionen!$B:$D,3,0))","v":466.83}]
["Luftdurchlässe","CBAZ0","CBAZ01607","Rohrverkleidung         CBAZ-0-1607","Zubehör für CBA","70",473.08,{"$f":"G1582*(1-VLOOKUP(F1582,Konditionen!$B:$D,3,0))","v":473.08}]
["Luftdurchlässe","CBAZ0","CBAZ02010","Rohrverkleidung         CBAZ-0-2010","Zubehör für CBA","70",600.37,{"$f":"G1583*(1-VLOOKUP(F1583,Konditionen!$B:$D,3,0))","v":600.37}]
["Luftdurchlässe","CBAZ0","CBAZ02510","Rohrverkleidung         CBAZ-0-2510","Zubehör für CBA","70",632.41,{"$f":"G1584*(1-VLOOKUP(F1584,Konditionen!$B:$D,3,0))","v":632.41}]
["Luftdurchlässe","CBAZ0","CBAZ03115","Rohrverkleidung         CBAZ-0-3115","Zubehör für CBA","70",651.11,{"$f":"G1585*(1-VLOOKUP(F1585,Konditionen!$B:$D,3,0))","v":651.11}]
["Luftdurchlässe","CBAZ2","CBAZ21207","Sockel              CBAZ-2-1207","Höhe 80 mm","70",88.45,{"$f":"G1586*(1-VLOOKUP(F1586,Konditionen!$B:$D,3,0))","v":88.45}]
["Luftdurchlässe","CBAZ2","CBAZ21607","Sockel              CBAZ-2-1607","Höhe 80 mm","70",112.11,{"$f":"G1587*(1-VLOOKUP(F1587,Konditionen!$B:$D,3,0))","v":112.11}]
["Luftdurchlässe","CBAZ2","CBAZ22010","Sockel              CBAZ-2-2010","Höhe 80 mm","70",148.63,{"$f":"G1588*(1-VLOOKUP(F1588,Konditionen!$B:$D,3,0))","v":148.63}]
["Luftdurchlässe","CBAZ2","CBAZ22510","Sockel              CBAZ-2-2510","Höhe 80 mm","70",197.66,{"$f":"G1589*(1-VLOOKUP(F1589,Konditionen!$B:$D,3,0))","v":197.66}]
["Luftdurchlässe","CBAZ2","CBAZ23115","Sockel              CBAZ-2-3115","Höhe 80 mm","70",232.99,{"$f":"G1590*(1-VLOOKUP(F1590,Konditionen!$B:$D,3,0))","v":232.99}]
["Luftdurchlässe","CBAZ2","CBAZ24020","Sockel              CBAZ-2-4020","Höhe 80 mm","70",294.37,{"$f":"G1591*(1-VLOOKUP(F1591,Konditionen!$B:$D,3,0))","v":294.37}]
["Luftdurchlässe","CBAZ2","CBAZ25020","Sockel              CBAZ-2-5020","Höhe 80 mm","70",382.67,{"$f":"G1592*(1-VLOOKUP(F1592,Konditionen!$B:$D,3,0))","v":382.67}]
["Luftdurchlässe","CBAZ3","CBAZ31207","Konsolen zur Wandmon.;  CBAZ-3-1207","Zubehör für CBA","70",46.03,{"$f":"G1593*(1-VLOOKUP(F1593,Konditionen!$B:$D,3,0))","v":46.03}]
["Luftdurchlässe","CBAZ3","CBAZ31607","Konsolen zur Wandmon.;  CBAZ-3-1607","Zubehör für CBA","70",46.44,{"$f":"G1594*(1-VLOOKUP(F1594,Konditionen!$B:$D,3,0))","v":46.44}]
["Luftdurchlässe","CBAZ3","CBAZ32010","Konsolen zur Wandmon.;  CBAZ-3-2010","Zubehör für CBA","70",46.85,{"$f":"G1595*(1-VLOOKUP(F1595,Konditionen!$B:$D,3,0))","v":46.85}]
["Luftdurchlässe","CBAZ3","CBAZ32510","Konsolen zur Wandmon.;  CBAZ-3-2510","Zubehör für CBA","70",47.52,{"$f":"G1596*(1-VLOOKUP(F1596,Konditionen!$B:$D,3,0))","v":47.52}]
["Luftdurchlässe","CBAZ3","CBAZ33115","Konsolen zur Wandmon.;  CBAZ-3-3115","Zubehör für CBA","70",48.04,{"$f":"G1597*(1-VLOOKUP(F1597,Konditionen!$B:$D,3,0))","v":48.04}]
["Luftdurchlässe","CBAZ3","CBAZ34020","Konsolen zur Wandmon.;  CBAZ-3-4020","Zubehör für CBA","70",48.92,{"$f":"G1598*(1-VLOOKUP(F1598,Konditionen!$B:$D,3,0))","v":48.92}]
["Luftdurchlässe","CBAZ3","CBAZ35020","Konsolen zur Wandmon.;  CBAZ-3-5020","Zubehör für CBA","70",50.21,{"$f":"G1599*(1-VLOOKUP(F1599,Konditionen!$B:$D,3,0))","v":50.21}]
["Luftdurchlässe","CBA","CBA1207","Verdrängungsauslaß     CBA-1207","halbrunde Ausführung","70",625.75,{"$f":"G1600*(1-VLOOKUP(F1600,Konditionen!$B:$D,3,0))","v":625.75}]
["Luftdurchlässe","CBA","CBA1607","Verdrängungsauslaß     CBA-1607","halbrunde Ausführung","70",662.42,{"$f":"G1601*(1-VLOOKUP(F1601,Konditionen!$B:$D,3,0))","v":662.42}]
["Luftdurchlässe","CBA","CBA2010","Verdrängungsauslaß     CBA-2010","halbrunde Ausführung","70",699.37,{"$f":"G1602*(1-VLOOKUP(F1602,Konditionen!$B:$D,3,0))","v":699.37}]
["Luftdurchlässe","CBA","CBA2510","Verdrängungsauslaß     CBA-2510","halbrunde Ausführung","70",736,{"$f":"G1603*(1-VLOOKUP(F1603,Konditionen!$B:$D,3,0))","v":736}]
["Luftdurchlässe","CBA","CBA3115","Verdrängungsauslaß     CBA-3115","halbrunde Ausführung","70",1471.89,{"$f":"G1604*(1-VLOOKUP(F1604,Konditionen!$B:$D,3,0))","v":1471.89}]
["Luftdurchlässe","CBA","CBA4020","Verdrängungsauslaß     CBA-4020","halbrunde Ausführung","70",2207.89,{"$f":"G1605*(1-VLOOKUP(F1605,Konditionen!$B:$D,3,0))","v":2207.89}]
["Luftdurchlässe","CBA","CBA5020","Verdrängungsauslaß     CBA-5020","halbrunde Ausführung","70",2943.89,{"$f":"G1606*(1-VLOOKUP(F1606,Konditionen!$B:$D,3,0))","v":2943.89}]
["Luftdurchlässe","CCAZ2","CCAZ21207","Sockel              CCAZ-2-1207","Höhe 80 mm","70",88.45,{"$f":"G1607*(1-VLOOKUP(F1607,Konditionen!$B:$D,3,0))","v":88.45}]
["Luftdurchlässe","CCAZ2","CCAZ21607","Sockel              CCAZ-2-1607","Höhe 80 mm","70",112.11,{"$f":"G1608*(1-VLOOKUP(F1608,Konditionen!$B:$D,3,0))","v":112.11}]
["Luftdurchlässe","CCAZ2","CCAZ22010","Sockel              CCAZ-2-2010","Höhe 80 mm","70",148.63,{"$f":"G1609*(1-VLOOKUP(F1609,Konditionen!$B:$D,3,0))","v":148.63}]
["Luftdurchlässe","CCAZ2","CCAZ22510","Sockel              CCAZ-2-2510","Höhe 80 mm","70",197.66,{"$f":"G1610*(1-VLOOKUP(F1610,Konditionen!$B:$D,3,0))","v":197.66}]
["Luftdurchlässe","CCAZ2","CCAZ23115","Sockel              CCAZ-2-3115","Höhe 80 mm","70",232.99,{"$f":"G1611*(1-VLOOKUP(F1611,Konditionen!$B:$D,3,0))","v":232.99}]
["Luftdurchlässe","CCAZ2","CCAZ24020","Sockel              CCAZ-2-4020","Höhe 80 mm","70",294.37,{"$f":"G1612*(1-VLOOKUP(F1612,Konditionen!$B:$D,3,0))","v":294.37}]
["Luftdurchlässe","CCAZ2","CCAZ25020","Sockel              CCAZ-2-5020","Höhe 80 mm","70",382.67,{"$f":"G1613*(1-VLOOKUP(F1613,Konditionen!$B:$D,3,0))","v":382.67}]
["Luftdurchlässe","CCAZ2","CCAZ26320","Sockel              CCAZ-2-6320","Höhe 80 mm","70",423.22,{"$f":"G1614*(1-VLOOKUP(F1614,Konditionen!$B:$D,3,0))","v":423.22}]
["Luftdurchlässe","CCA","CCA1207","Verdrängungsauslaß     CCA-1207","runde Ausführung","70",797.37,{"$f":"G1615*(1-VLOOKUP(F1615,Konditionen!$B:$D,3,0))","v":797.37}]
["Luftdurchlässe","CCA","CCA1607","Verdrängungsauslaß     CCA-1607","runde Ausführung","70",828.31,{"$f":"G1616*(1-VLOOKUP(F1616,Konditionen!$B:$D,3,0))","v":828.31}]
["Luftdurchlässe","CCA","CCA2010","Verdrängungsauslaß     CCA-2010","runde Ausführung","70",1208.0899999999999,{"$f":"G1617*(1-VLOOKUP(F1617,Konditionen!$B:$D,3,0))","v":1208.0899999999999}]
["Luftdurchlässe","CCA","CCA2510","Verdrängungsauslaß     CCA-2510","runde Ausführung","70",1251.5,{"$f":"G1618*(1-VLOOKUP(F1618,Konditionen!$B:$D,3,0))","v":1251.5}]
["Luftdurchlässe","CCA","CCA3115","Verdrängungsauslaß     CCA-3115","runde Ausführung","70",1692.49,{"$f":"G1619*(1-VLOOKUP(F1619,Konditionen!$B:$D,3,0))","v":1692.49}]
["Luftdurchlässe","CCA","CCA4020","Verdrängungsauslaß     CCA-4020","runde Ausführung","70",1987.39,{"$f":"G1620*(1-VLOOKUP(F1620,Konditionen!$B:$D,3,0))","v":1987.39}]
["Luftdurchlässe","CCA","CCA5020","Verdrängungsauslaß     CCA-5020","runde Ausführung","70",2943.89,{"$f":"G1621*(1-VLOOKUP(F1621,Konditionen!$B:$D,3,0))","v":2943.89}]
["Luftdurchlässe","CCA","CCA6320","Verdrängungsauslaß     CCA-6320","runde Ausführung","70",3532.53,{"$f":"G1622*(1-VLOOKUP(F1622,Konditionen!$B:$D,3,0))","v":3532.53}]
["Luftdurchlässe","CCP1","CCP1100","Niedrigimpulsauslaß       CCP-1-100","rund für Stufeneinbau, RAL 9010","70",128.84,{"$f":"G1623*(1-VLOOKUP(F1623,Konditionen!$B:$D,3,0))","v":128.84}]
["Luftdurchlässe","CCP1","CCP1125","Niedrigimpulsauslaß       CCP-1-125","rund für Stufeneinbau, RAL 9010","70",141.44999999999999,{"$f":"G1624*(1-VLOOKUP(F1624,Konditionen!$B:$D,3,0))","v":141.44999999999999}]
["Luftdurchlässe","CCU1","CCU1100","Niedrigimpulsauslaß       CCU-1-100","rund für Stufeneinbau, RAL 9010","70",128.84,{"$f":"G1625*(1-VLOOKUP(F1625,Konditionen!$B:$D,3,0))","v":128.84}]
["Luftdurchlässe","CCU1","CCU1125","Niedrigimpulsauslaß       CCU-1-125","rund für Stufeneinbau, RAL 9010","70",141.44999999999999,{"$f":"G1626*(1-VLOOKUP(F1626,Konditionen!$B:$D,3,0))","v":141.44999999999999}]
["Smarttools","CDL210","CDL210","CO2-Datenlogger CDL 210    einschl.","Netzteil, USB-Kabel, PC-Software","90",149,{"$f":"G1627*(1-VLOOKUP(F1627,Konditionen!$B:$D,3,0))","v":149}]
["Luftdurchlässe","CEAZ2","CEAZ22010","Sockel              CEAZ-2-2010","Höhe 80 mm","70",95.57,{"$f":"G1628*(1-VLOOKUP(F1628,Konditionen!$B:$D,3,0))","v":95.57}]
["Luftdurchlässe","CEAZ2","CEAZ22510","Sockel              CEAZ-2-2510","Höhe 80 mm","70",110.82,{"$f":"G1629*(1-VLOOKUP(F1629,Konditionen!$B:$D,3,0))","v":110.82}]
["Luftdurchlässe","CEAZ2","CEAZ23115","Sockel              CEAZ-2-3115","Höhe 80 mm","70",128.84,{"$f":"G1630*(1-VLOOKUP(F1630,Konditionen!$B:$D,3,0))","v":128.84}]
["Luftdurchlässe","CEAZ2","CEAZ24015","Sockel              CEAZ-2-4015","Höhe 80 mm","70",176.58,{"$f":"G1631*(1-VLOOKUP(F1631,Konditionen!$B:$D,3,0))","v":176.58}]
["Luftdurchlässe","CEA","CEA2010","Verdrängungsauslaß     CEA-2010","rechteckig","70",625.75,{"$f":"G1632*(1-VLOOKUP(F1632,Konditionen!$B:$D,3,0))","v":625.75}]
["Luftdurchlässe","CEA","CEA2510","Verdrängungsauslaß     CEA-2510","rechteckig","70",662.42,{"$f":"G1633*(1-VLOOKUP(F1633,Konditionen!$B:$D,3,0))","v":662.42}]
["Luftdurchlässe","CEA","CEA3115","Verdrängungsauslaß     CEA-3115","rechteckig","70",1582.24,{"$f":"G1634*(1-VLOOKUP(F1634,Konditionen!$B:$D,3,0))","v":1582.24}]
["Luftdurchlässe","CEA","CEA4015","Verdrängungsauslaß     CEA-4015","rechteckig","70",1987.39,{"$f":"G1635*(1-VLOOKUP(F1635,Konditionen!$B:$D,3,0))","v":1987.39}]
["Flex Rohre und Schalldämpfer","CGRIP","CGRIP100","Clip-Grip CGRIP   100","Schlauchschelle","42.ALLG",7.36,{"$f":"G1636*(1-VLOOKUP(F1636,Konditionen!$B:$D,3,0))","v":7.36}]
["Flex Rohre und Schalldämpfer","CGRIP","CGRIP125","Clip-Grip CGRIP   125","Schlauchschelle","42.ALLG",8.3800000000000008,{"$f":"G1637*(1-VLOOKUP(F1637,Konditionen!$B:$D,3,0))","v":8.3800000000000008}]
["Flex Rohre und Schalldämpfer","CGRIP","CGRIP140","Clip-Grip CGRIP   140","Schlauchschelle","42.ALLG",9.0299999999999994,{"$f":"G1638*(1-VLOOKUP(F1638,Konditionen!$B:$D,3,0))","v":9.0299999999999994}]
["Flex Rohre und Schalldämpfer","CGRIP","CGRIP150","Clip-Grip CGRIP   150","Schlauchschelle","42.ALLG",9.8000000000000007,{"$f":"G1639*(1-VLOOKUP(F1639,Konditionen!$B:$D,3,0))","v":9.8000000000000007}]
["Flex Rohre und Schalldämpfer","CGRIP","CGRIP160","Clip-Grip CGRIP   160","Schlauchschelle","42.ALLG",10.44,{"$f":"G1640*(1-VLOOKUP(F1640,Konditionen!$B:$D,3,0))","v":10.44}]
["Flex Rohre und Schalldämpfer","CGRIP","CGRIP180","Clip-Grip CGRIP   180","Schlauchschelle","42.ALLG",12.37,{"$f":"G1641*(1-VLOOKUP(F1641,Konditionen!$B:$D,3,0))","v":12.37}]
["Flex Rohre und Schalldämpfer","CGRIP","CGRIP200","Clip-Grip CGRIP   200","Schlauchschelle","42.ALLG",13.16,{"$f":"G1642*(1-VLOOKUP(F1642,Konditionen!$B:$D,3,0))","v":13.16}]
["Flex Rohre und Schalldämpfer","CGRIP","CGRIP225","Clip-Grip CGRIP   225","Schlauchschelle","42.ALLG",14.32,{"$f":"G1643*(1-VLOOKUP(F1643,Konditionen!$B:$D,3,0))","v":14.32}]
["Flex Rohre und Schalldämpfer","CGRIP","CGRIP250","Clip-Grip CGRIP   250","Schlauchschelle","42.ALLG",17.68,{"$f":"G1644*(1-VLOOKUP(F1644,Konditionen!$B:$D,3,0))","v":17.68}]
["Flex Rohre und Schalldämpfer","CGRIP","CGRIP300","Clip-Grip CGRIP   300","Schlauchschelle","42.ALLG",21.66,{"$f":"G1645*(1-VLOOKUP(F1645,Konditionen!$B:$D,3,0))","v":21.66}]
["Flex Rohre und Schalldämpfer","CGRIP","CGRIP350","Clip-Grip CGRIP   350","Schlauchschelle","42.ALLG",23.6,{"$f":"G1646*(1-VLOOKUP(F1646,Konditionen!$B:$D,3,0))","v":23.6}]
["Flex Rohre und Schalldämpfer","CGRIP","CGRIP400","Clip-Grip CGRIP   400","Schlauchschelle","42.ALLG",26.31,{"$f":"G1647*(1-VLOOKUP(F1647,Konditionen!$B:$D,3,0))","v":26.31}]
["Flex Rohre und Schalldämpfer","CGRIP","CGRIP80","Clip-Grip CGRIP   80","Schlauchschelle","42.ALLG",6.44,{"$f":"G1648*(1-VLOOKUP(F1648,Konditionen!$B:$D,3,0))","v":6.44}]
["Luftdurchlässe","CHAZ0","CHAZ01207","Rohrverkleidung         CHAZ-0-1207","Zubehör für CHA","70",493.58,{"$f":"G1649*(1-VLOOKUP(F1649,Konditionen!$B:$D,3,0))","v":493.58}]
["Luftdurchlässe","CHAZ0","CHAZ01607","Rohrverkleidung         CHAZ-0-1607","Zubehör für CHA","70",522.16,{"$f":"G1650*(1-VLOOKUP(F1650,Konditionen!$B:$D,3,0))","v":522.16}]
["Luftdurchlässe","CHAZ0","CHAZ02010","Rohrverkleidung         CHAZ-0-2010","Zubehör für CHA","70",522.47,{"$f":"G1651*(1-VLOOKUP(F1651,Konditionen!$B:$D,3,0))","v":522.47}]
["Luftdurchlässe","CHAZ0","CHAZ02510","Rohrverkleidung         CHAZ-0-2510","Zubehör für CHA","70",639.38,{"$f":"G1652*(1-VLOOKUP(F1652,Konditionen!$B:$D,3,0))","v":639.38}]
["Luftdurchlässe","CHAZ0","CHAZ03115","Rohrverkleidung         CHAZ-0-3115","Zubehör für CHA","70",652.6,{"$f":"G1653*(1-VLOOKUP(F1653,Konditionen!$B:$D,3,0))","v":652.6}]
["Luftdurchlässe","CHAZ2","CHAZ21207","Sockel              CHAZ-2-1207","Höhe 80 mm","70",88.45,{"$f":"G1654*(1-VLOOKUP(F1654,Konditionen!$B:$D,3,0))","v":88.45}]
["Luftdurchlässe","CHAZ2","CHAZ21607","Sockel              CHAZ-2-1607","Höhe 80 mm","70",112.11,{"$f":"G1655*(1-VLOOKUP(F1655,Konditionen!$B:$D,3,0))","v":112.11}]
["Luftdurchlässe","CHAZ2","CHAZ22010","Sockel              CHAZ-2-2010","Höhe 80 mm","70",148.63,{"$f":"G1656*(1-VLOOKUP(F1656,Konditionen!$B:$D,3,0))","v":148.63}]
["Luftdurchlässe","CHAZ2","CHAZ22510","Sockel              CHAZ-2-2510","Höhe 80 mm","70",197.66,{"$f":"G1657*(1-VLOOKUP(F1657,Konditionen!$B:$D,3,0))","v":197.66}]
["Luftdurchlässe","CHAZ2","CHAZ23115","Sockel              CHAZ-2-3115","Höhe 80 mm","70",232.99,{"$f":"G1658*(1-VLOOKUP(F1658,Konditionen!$B:$D,3,0))","v":232.99}]
["Luftdurchlässe","CHAZ2","CHAZ24020","Sockel              CHAZ-2-4020","Höhe 80 mm","70",294.37,{"$f":"G1659*(1-VLOOKUP(F1659,Konditionen!$B:$D,3,0))","v":294.37}]
["Luftdurchlässe","CHAZ2","CHAZ25020","Sockel              CHAZ-2-5020","Höhe 80 mm","70",382.67,{"$f":"G1660*(1-VLOOKUP(F1660,Konditionen!$B:$D,3,0))","v":382.67}]
["Luftdurchlässe","CHAZ2","CHAZ26320","Sockel              CHAZ-2-6320","Höhe 80 mm","70",423.22,{"$f":"G1661*(1-VLOOKUP(F1661,Konditionen!$B:$D,3,0))","v":423.22}]
["Luftdurchlässe","CHAZ3","CHAZ31207","Konsolen zur Wandmon.;  CHAZ-3-1207","Zubehör für CHA","70",37.97,{"$f":"G1662*(1-VLOOKUP(F1662,Konditionen!$B:$D,3,0))","v":37.97}]
["Luftdurchlässe","CHAZ3","CHAZ31607","Konsolen zur Wandmon.;  CHAZ-3-1607","Zubehör für CHA","70",38.17,{"$f":"G1663*(1-VLOOKUP(F1663,Konditionen!$B:$D,3,0))","v":38.17}]
["Luftdurchlässe","CHAZ3","CHAZ32010","Konsolen zur Wandmon.;  CHAZ-3-2010","Zubehör für CHA","70",38.28,{"$f":"G1664*(1-VLOOKUP(F1664,Konditionen!$B:$D,3,0))","v":38.28}]
["Luftdurchlässe","CHAZ3","CHAZ32510","Konsolen zur Wandmon.;  CHAZ-3-2510","Zubehör für CHA","70",38.590000000000003,{"$f":"G1665*(1-VLOOKUP(F1665,Konditionen!$B:$D,3,0))","v":38.590000000000003}]
["Luftdurchlässe","CHAZ3","CHAZ33115","Konsolen zur Wandmon.;  CHAZ-3-3115","Zubehör für CHA","70",39.159999999999997,{"$f":"G1666*(1-VLOOKUP(F1666,Konditionen!$B:$D,3,0))","v":39.159999999999997}]
["Luftdurchlässe","CHAZ3","CHAZ34020","Konsolen zur Wandmon.;  CHAZ-3-4020","Zubehör für CHA","70",39.68,{"$f":"G1667*(1-VLOOKUP(F1667,Konditionen!$B:$D,3,0))","v":39.68}]
["Luftdurchlässe","CHAZ3","CHAZ35020","Konsolen zur Wandmon.;  CHAZ-3-5020","Zubehör für CHA","70",40.08,{"$f":"G1668*(1-VLOOKUP(F1668,Konditionen!$B:$D,3,0))","v":40.08}]
["Luftdurchlässe","CHAZ3","CHAZ36320","Konsolen zur Wandmon.;  CHAZ-3-6320","Zubehör für CHA","70",40.549999999999997,{"$f":"G1669*(1-VLOOKUP(F1669,Konditionen!$B:$D,3,0))","v":40.549999999999997}]
["Luftdurchlässe","CHA","CHA1207","Verdrängungsauslaß     CHA-1207","halbrunde Ausführung","70",674.77,{"$f":"G1670*(1-VLOOKUP(F1670,Konditionen!$B:$D,3,0))","v":674.77}]
["Luftdurchlässe","CHA","CHA1607","Verdrängungsauslaß     CHA-1607","halbrunde Ausführung","70",723.54,{"$f":"G1671*(1-VLOOKUP(F1671,Konditionen!$B:$D,3,0))","v":723.54}]
["Luftdurchlässe","CHA","CHA2010","Verdrängungsauslaß     CHA-2010","halbrunde Ausführung","70",858.64,{"$f":"G1672*(1-VLOOKUP(F1672,Konditionen!$B:$D,3,0))","v":858.64}]
["Luftdurchlässe","CHA","CHA2510","Verdrängungsauslaß     CHA-2510","halbrunde Ausführung","70",1006.19,{"$f":"G1673*(1-VLOOKUP(F1673,Konditionen!$B:$D,3,0))","v":1006.19}]
["Luftdurchlässe","CHA","CHA3115","Verdrängungsauslaß     CHA-3115","halbrunde Ausführung","70",1429.37,{"$f":"G1674*(1-VLOOKUP(F1674,Konditionen!$B:$D,3,0))","v":1429.37}]
["Luftdurchlässe","CHA","CHA4020","Verdrängungsauslaß     CHA-4020","halbrunde Ausführung","70",2207.89,{"$f":"G1675*(1-VLOOKUP(F1675,Konditionen!$B:$D,3,0))","v":2207.89}]
["Luftdurchlässe","CHA","CHA5020","Verdrängungsauslaß     CHA-5020","halbrunde Ausführung","70",2796.34,{"$f":"G1676*(1-VLOOKUP(F1676,Konditionen!$B:$D,3,0))","v":2796.34}]
["Luftdurchlässe","CHA","CHA6320","Verdrängungsauslaß     CHA-6320","halbrunde Ausführung","70",3827.23,{"$f":"G1677*(1-VLOOKUP(F1677,Konditionen!$B:$D,3,0))","v":3827.23}]
["Luftdurchlässe","CKAZ2","CKAZ22010","Sockel              CKAZ-2-2010","Höhe 80 mm","70",95.57,{"$f":"G1678*(1-VLOOKUP(F1678,Konditionen!$B:$D,3,0))","v":95.57}]
["Luftdurchlässe","CKAZ2","CKAZ22510","Sockel              CKAZ-2-2510","Höhe 80 mm","70",110.82,{"$f":"G1679*(1-VLOOKUP(F1679,Konditionen!$B:$D,3,0))","v":110.82}]
["Luftdurchlässe","CKAZ2","CKAZ23110","Sockel              CKAZ-2-3110","Höhe 80 mm","70",140.16,{"$f":"G1680*(1-VLOOKUP(F1680,Konditionen!$B:$D,3,0))","v":140.16}]
["Luftdurchlässe","CKAZ2","CKAZ24015","Sockel              CKAZ-2-4015","Höhe 80 mm","70",144.96,{"$f":"G1681*(1-VLOOKUP(F1681,Konditionen!$B:$D,3,0))","v":144.96}]
["Luftdurchlässe","CKAZ2","CKAZ25020","Sockel              CKAZ-2-5020","Höhe 80 mm","70",176.58,{"$f":"G1682*(1-VLOOKUP(F1682,Konditionen!$B:$D,3,0))","v":176.58}]
["Luftdurchlässe","CKAZ2","CKAZ26320","Sockel              CKAZ-2-6320","Höhe 80 mm","70",209.44,{"$f":"G1683*(1-VLOOKUP(F1683,Konditionen!$B:$D,3,0))","v":209.44}]
["Luftdurchlässe","CKA","CKA2010","Verdrängungsauslaß     CKA-2010","Quadratisch","70",1030.21,{"$f":"G1684*(1-VLOOKUP(F1684,Konditionen!$B:$D,3,0))","v":1030.21}]
["Luftdurchlässe","CKA","CKA2510","Verdrängungsauslaß     CKA-2510","Quadratisch","70",1288.01,{"$f":"G1685*(1-VLOOKUP(F1685,Konditionen!$B:$D,3,0))","v":1288.01}]
["Luftdurchlässe","CKA","CKA3110","Verdrängungsauslaß     CKA-3110","Quadratisch","70",1582.24,{"$f":"G1686*(1-VLOOKUP(F1686,Konditionen!$B:$D,3,0))","v":1582.24}]
["Luftdurchlässe","CKA","CKA4015","Verdrängungsauslaß     CKA-4015","Quadratisch","70",1876.46,{"$f":"G1687*(1-VLOOKUP(F1687,Konditionen!$B:$D,3,0))","v":1876.46}]
["Luftdurchlässe","CKA","CKA5020","Verdrängungsauslaß     CKA-5020","Quadratisch","70",3900.48,{"$f":"G1688*(1-VLOOKUP(F1688,Konditionen!$B:$D,3,0))","v":3900.48}]
["Luftdurchlässe","CKA","CKA6320","Verdrängungsauslaß     CKA-6320","Quadratisch","70",3974.11,{"$f":"G1689*(1-VLOOKUP(F1689,Konditionen!$B:$D,3,0))","v":3974.11}]
["Ventilatoren","CK","CK100A","Rohrventilator CK 100 A AC",null,"18.ALLG",83.86,{"$f":"G1690*(1-VLOOKUP(F1690,Konditionen!$B:$D,3,0))","v":83.86}]
["Ventilatoren","CK","CK100C","Rohrventilator CK 100 C AC",null,"18.ALLG",85.12,{"$f":"G1691*(1-VLOOKUP(F1691,Konditionen!$B:$D,3,0))","v":85.12}]
["Ventilatoren","CK","CK100CEC","Rohrventilator CK 100 C EC",null,"18.ALLG",232.38,{"$f":"G1692*(1-VLOOKUP(F1692,Konditionen!$B:$D,3,0))","v":232.38}]
["Ventilatoren","CK","CK125A","Rohrventilator CK 125 A AC",null,"18.ALLG",83.86,{"$f":"G1693*(1-VLOOKUP(F1693,Konditionen!$B:$D,3,0))","v":83.86}]
["Ventilatoren","CK","CK125C","Rohrventilator CK 125 C AC",null,"18.ALLG",85.12,{"$f":"G1694*(1-VLOOKUP(F1694,Konditionen!$B:$D,3,0))","v":85.12}]
["Ventilatoren","CK","CK125CEC","Rohrventilator CK 125 C EC",null,"18.ALLG",237.5,{"$f":"G1695*(1-VLOOKUP(F1695,Konditionen!$B:$D,3,0))","v":237.5}]
["Ventilatoren","CK","CK150B","Rohrventilator CK 150 B AC",null,"18.ALLG",97.65,{"$f":"G1696*(1-VLOOKUP(F1696,Konditionen!$B:$D,3,0))","v":97.65}]
["Ventilatoren","CK","CK150BEC","Rohrventilator CK 150 B EC",null,"18.ALLG",282.52,{"$f":"G1697*(1-VLOOKUP(F1697,Konditionen!$B:$D,3,0))","v":282.52}]
["Ventilatoren","CK","CK150C","Rohrventilator CK 150 C AC",null,"18.ALLG",113.42,{"$f":"G1698*(1-VLOOKUP(F1698,Konditionen!$B:$D,3,0))","v":113.42}]
["Ventilatoren","CK","CK160B","Rohrventilator CK 160 B AC",null,"18.ALLG",90.13,{"$f":"G1699*(1-VLOOKUP(F1699,Konditionen!$B:$D,3,0))","v":90.13}]
["Ventilatoren","CK","CK160BEC","Rohrventilator CK 160 B EC",null,"18.ALLG",242.3,{"$f":"G1700*(1-VLOOKUP(F1700,Konditionen!$B:$D,3,0))","v":242.3}]
["Ventilatoren","CK","CK160C","Rohrventilator CK 160 C AC",null,"18.ALLG",104.02,{"$f":"G1701*(1-VLOOKUP(F1701,Konditionen!$B:$D,3,0))","v":104.02}]
["Ventilatoren","CK","CK160CEC","Rohrventilator CK 160 C EC","ErP 2015","18.ALLG",281.05,{"$f":"G1702*(1-VLOOKUP(F1702,Konditionen!$B:$D,3,0))","v":281.05}]
["Ventilatoren","CK","CK200A","Rohrventilator CK 200 A AC",null,"18.ALLG",112.48,{"$f":"G1703*(1-VLOOKUP(F1703,Konditionen!$B:$D,3,0))","v":112.48}]
["Ventilatoren","CK","CK200AEC","Rohrventilator CK 200 A EC",null,"18.ALLG",254.63,{"$f":"G1704*(1-VLOOKUP(F1704,Konditionen!$B:$D,3,0))","v":254.63}]
["Ventilatoren","CK","CK200B","Rohrventilator CK 200 B AC","ErP 2015","18.ALLG",138.38999999999999,{"$f":"G1705*(1-VLOOKUP(F1705,Konditionen!$B:$D,3,0))","v":138.38999999999999}]
["Ventilatoren","CK","CK200BEC","Rohrventilator CK 200 B EC","ErP 2015","18.ALLG",285.97000000000003,{"$f":"G1706*(1-VLOOKUP(F1706,Konditionen!$B:$D,3,0))","v":285.97000000000003}]
["Ventilatoren","CK","CK250A","Rohrventilator CK 250 A AC",null,"18.ALLG",119.79,{"$f":"G1707*(1-VLOOKUP(F1707,Konditionen!$B:$D,3,0))","v":119.79}]
["Ventilatoren","CK","CK250AEC","Rohrventilator CK 250 A EC",null,"18.ALLG",259.64,{"$f":"G1708*(1-VLOOKUP(F1708,Konditionen!$B:$D,3,0))","v":259.64}]
["Ventilatoren","CK","CK250B","Rohrventilator CK 250 B AC","ErP 2015","18.ALLG",142.46,{"$f":"G1709*(1-VLOOKUP(F1709,Konditionen!$B:$D,3,0))","v":142.46}]
["Ventilatoren","CK","CK250BEC","Rohrventilator CK 250 B EC","ErP 2015","18.ALLG",290.77,{"$f":"G1710*(1-VLOOKUP(F1710,Konditionen!$B:$D,3,0))","v":290.77}]
["Ventilatoren","CK","CK315BEC","Rohrventilator CK 315 B EC","ErP 2015","18.ALLG",411.92,{"$f":"G1711*(1-VLOOKUP(F1711,Konditionen!$B:$D,3,0))","v":411.92}]
["Ventilatoren","CK","CK315C","Rohrventilator CK 315 C AC","ErP 2015","18.ALLG",187.79,{"$f":"G1712*(1-VLOOKUP(F1712,Konditionen!$B:$D,3,0))","v":187.79}]
["Ventilatoren","CK","CK315CEC","Rohrventilator CK 315 C EC","ErP 2015","18.ALLG",532.97,{"$f":"G1713*(1-VLOOKUP(F1713,Konditionen!$B:$D,3,0))","v":532.97}]
["Luftdurchlässe","CONNECT","CONNECTBASIC2M","Verbindungskabel 2m","Connect Basic / Connect Basic","70",51.35,{"$f":"G1714*(1-VLOOKUP(F1714,Konditionen!$B:$D,3,0))","v":51.35}]
["Luftdurchlässe","CONNECT","CONNECTBASIC4M","Verbindungskabel 4m","Connect Basic / Connect Basic","70",53,{"$f":"G1715*(1-VLOOKUP(F1715,Konditionen!$B:$D,3,0))","v":53}]
["Luftdurchlässe","CONNECT","CONNECTBASIC8M","Verbindungskabel 8m","Connect Basic / Connect Basic","70",66.23,{"$f":"G1716*(1-VLOOKUP(F1716,Konditionen!$B:$D,3,0))","v":66.23}]
["Luftdurchlässe","CQAZ0","CQAZ01207","Rohrverkleidung         CQAZ-0-1207","Zubehör für CQA","70",542.66999999999996,{"$f":"G1717*(1-VLOOKUP(F1717,Konditionen!$B:$D,3,0))","v":542.66999999999996}]
["Luftdurchlässe","CQAZ0","CQAZ01607","Rohrverkleidung         CQAZ-0-1607","Zubehör für CQA","70",543.65,{"$f":"G1718*(1-VLOOKUP(F1718,Konditionen!$B:$D,3,0))","v":543.65}]
["Luftdurchlässe","CQAZ0","CQAZ02010","Rohrverkleidung         CQAZ-0-2010","Zubehör für CQA","70",547.73,{"$f":"G1719*(1-VLOOKUP(F1719,Konditionen!$B:$D,3,0))","v":547.73}]
["Luftdurchlässe","CQAZ0","CQAZ02510","Rohrverkleidung         CQAZ-0-2510","Zubehör für CQA","70",549.49,{"$f":"G1720*(1-VLOOKUP(F1720,Konditionen!$B:$D,3,0))","v":549.49}]
["Luftdurchlässe","CQAZ0","CQAZ03115","Rohrverkleidung         CQAZ-0-3115","Zubehör für CQA","70",568.29999999999995,{"$f":"G1721*(1-VLOOKUP(F1721,Konditionen!$B:$D,3,0))","v":568.29999999999995}]
["Luftdurchlässe","CQAZ2","CQAZ21207","Sockel              CQAZ-2-1207","Höhe 80 mm","70",88.45,{"$f":"G1722*(1-VLOOKUP(F1722,Konditionen!$B:$D,3,0))","v":88.45}]
["Luftdurchlässe","CQAZ2","CQAZ21607","Sockel              CQAZ-2-1607","Höhe 80 mm","70",112.11,{"$f":"G1723*(1-VLOOKUP(F1723,Konditionen!$B:$D,3,0))","v":112.11}]
["Luftdurchlässe","CQAZ2","CQAZ22010","Sockel              CQAZ-2-2010","Höhe 80 mm","70",148.63,{"$f":"G1724*(1-VLOOKUP(F1724,Konditionen!$B:$D,3,0))","v":148.63}]
["Luftdurchlässe","CQAZ2","CQAZ22510","Sockel              CQAZ-2-2510","Höhe 80 mm","70",197.66,{"$f":"G1725*(1-VLOOKUP(F1725,Konditionen!$B:$D,3,0))","v":197.66}]
["Luftdurchlässe","CQAZ2","CQAZ23115","Sockel              CQAZ-2-3115","Höhe 80 mm","70",232.99,{"$f":"G1726*(1-VLOOKUP(F1726,Konditionen!$B:$D,3,0))","v":232.99}]
["Luftdurchlässe","CQAZ2","CQAZ24020","Sockel              CQAZ-2-4020","Höhe 80 mm","70",294.37,{"$f":"G1727*(1-VLOOKUP(F1727,Konditionen!$B:$D,3,0))","v":294.37}]
["Luftdurchlässe","CQAZ3","CQAZ31207","Konsolen zur Wandmon.;  CQAZ-3-1207","Zubehör für CQA","70",57.5,{"$f":"G1728*(1-VLOOKUP(F1728,Konditionen!$B:$D,3,0))","v":57.5}]
["Luftdurchlässe","CQAZ3","CQAZ31607","Konsolen zur Wandmon.;  CQAZ-3-1607","Zubehör für CQA","70",57.86,{"$f":"G1729*(1-VLOOKUP(F1729,Konditionen!$B:$D,3,0))","v":57.86}]
["Luftdurchlässe","CQAZ3","CQAZ32010","Konsolen zur Wandmon.;  CQAZ-3-2010","Zubehör für CQA","70",58.07,{"$f":"G1730*(1-VLOOKUP(F1730,Konditionen!$B:$D,3,0))","v":58.07}]
["Luftdurchlässe","CQAZ3","CQAZ32510","Konsolen zur Wandmon.;  CQAZ-3-2510","Zubehör für CQA","70",58.59,{"$f":"G1731*(1-VLOOKUP(F1731,Konditionen!$B:$D,3,0))","v":58.59}]
["Luftdurchlässe","CQAZ3","CQAZ33115","Konsolen zur Wandmon.;  CQAZ-3-3115","Zubehör für CQA","70",59.56,{"$f":"G1732*(1-VLOOKUP(F1732,Konditionen!$B:$D,3,0))","v":59.56}]
["Luftdurchlässe","CQAZ3","CQAZ34020","Konsolen zur Wandmon.;  CQAZ-3-4020","Zubehör für CQA","70",60.39,{"$f":"G1733*(1-VLOOKUP(F1733,Konditionen!$B:$D,3,0))","v":60.39}]
["Luftdurchlässe","CQA","CQA1207","Verdrängungsauslaß     CQA-1207","Eckeinbau halbrund","70",711.3,{"$f":"G1734*(1-VLOOKUP(F1734,Konditionen!$B:$D,3,0))","v":711.3}]
["Luftdurchlässe","CQA","CQA1607","Verdrängungsauslaß     CQA-1607","Eckeinbau halbrund","70",736,{"$f":"G1735*(1-VLOOKUP(F1735,Konditionen!$B:$D,3,0))","v":736}]
["Luftdurchlässe","CQA","CQA2010","Verdrängungsauslaß     CQA-2010","Eckeinbau halbrund","70",864.84,{"$f":"G1736*(1-VLOOKUP(F1736,Konditionen!$B:$D,3,0))","v":864.84}]
["Luftdurchlässe","CQA","CQA2510","Verdrängungsauslaß     CQA-2510","Eckeinbau halbrund","70",920.07,{"$f":"G1737*(1-VLOOKUP(F1737,Konditionen!$B:$D,3,0))","v":920.07}]
["Luftdurchlässe","CQA","CQA3115","Verdrängungsauslaß     CQA-3115","Eckeinbau halbrund","70",1471.89,{"$f":"G1738*(1-VLOOKUP(F1738,Konditionen!$B:$D,3,0))","v":1471.89}]
["Luftdurchlässe","CQA","CQA4020","Verdrängungsauslaß     CQA-4020","Eckeinbau halbrund","70",2300.31,{"$f":"G1739*(1-VLOOKUP(F1739,Konditionen!$B:$D,3,0))","v":2300.31}]
["Luftdurchlässe","CRAZ1","CRAZ130101000","Wandkanal          CRAZ-1-3010-____","Höhe 0 bis 1000mm; DN200","70",300.77,{"$f":"G1740*(1-VLOOKUP(F1740,Konditionen!$B:$D,3,0))","v":300.77}]
["Luftdurchlässe","CRAZ1","CRAZ130101500","Wandkanal          CRAZ-1-3010-____","Höhe 1001 bis 1500mm; DN200","70",381.63,{"$f":"G1741*(1-VLOOKUP(F1741,Konditionen!$B:$D,3,0))","v":381.63}]
["Luftdurchlässe","CRAZ1","CRAZ130102000","Wandkanal          CRAZ-1-3010-____","Höhe 1501 bis 2000mm; DN200","70",440.95,{"$f":"G1742*(1-VLOOKUP(F1742,Konditionen!$B:$D,3,0))","v":440.95}]
["Luftdurchlässe","CRAZ1","CRAZ150101000","Wandkanal          CRAZ-1-5010-____","Höhe 0 bis 1000mm; DN250","70",308.33,{"$f":"G1743*(1-VLOOKUP(F1743,Konditionen!$B:$D,3,0))","v":308.33}]
["Luftdurchlässe","CRAZ1","CRAZ150101500","Wandkanal          CRAZ-1-5010-____","Höhe 1001 bis 1500mm; DN250","70",403.65,{"$f":"G1744*(1-VLOOKUP(F1744,Konditionen!$B:$D,3,0))","v":403.65}]
["Luftdurchlässe","CRAZ1","CRAZ150102000","Wandkanal          CRAZ-1-5010-____","Höhe 1501 bis 2000mm; DN250","70",499.27,{"$f":"G1745*(1-VLOOKUP(F1745,Konditionen!$B:$D,3,0))","v":499.27}]
["Luftdurchlässe","CRAZ1","CRAZ180101000","Wandkanal          CRAZ-1-8010-____","Höhe 0 bis 1000mm; DN315","70",425.75,{"$f":"G1746*(1-VLOOKUP(F1746,Konditionen!$B:$D,3,0))","v":425.75}]
["Luftdurchlässe","CRAZ1","CRAZ180101500","Wandkanal          CRAZ-1-8010-____","Höhe 1001 bis 1500mm; DN315","70",558.27,{"$f":"G1747*(1-VLOOKUP(F1747,Konditionen!$B:$D,3,0))","v":558.27}]
["Luftdurchlässe","CRAZ1","CRAZ180102000","Wandkanal          CRAZ-1-8010-____","Höhe 1501 bis 2000mm; DN315","70",705.05,{"$f":"G1748*(1-VLOOKUP(F1748,Konditionen!$B:$D,3,0))","v":705.05}]
["Luftdurchlässe","CRAZ1","CRAZ180201000","Wandkanal          CRAZ-1-8020-____","Höhe 0 bis 1000mm; DN400","70",463.27,{"$f":"G1749*(1-VLOOKUP(F1749,Konditionen!$B:$D,3,0))","v":463.27}]
["Luftdurchlässe","CRAZ1","CRAZ180201500","Wandkanal          CRAZ-1-8020-____","Höhe 1001 bis 1500mm; DN400","70",616.75,{"$f":"G1750*(1-VLOOKUP(F1750,Konditionen!$B:$D,3,0))","v":616.75}]
["Luftdurchlässe","CRAZ1","CRAZ180202000","Wandkanal          CRAZ-1-8020-____","Höhe 1501 bis 2000mm; DN400","70",764.41,{"$f":"G1751*(1-VLOOKUP(F1751,Konditionen!$B:$D,3,0))","v":764.41}]
["Luftdurchlässe","CRAZ2","CRAZ23010","Sockel              CRAZ-2-3010","Höhe 80 mm","70",79.97,{"$f":"G1752*(1-VLOOKUP(F1752,Konditionen!$B:$D,3,0))","v":79.97}]
["Luftdurchlässe","CRAZ2","CRAZ25010","Sockel              CRAZ-2-5010","Höhe 80 mm","70",87.93,{"$f":"G1753*(1-VLOOKUP(F1753,Konditionen!$B:$D,3,0))","v":87.93}]
["Luftdurchlässe","CRAZ2","CRAZ28010","Sockel              CRAZ-2-8010","Höhe 80 mm","70",123.83,{"$f":"G1754*(1-VLOOKUP(F1754,Konditionen!$B:$D,3,0))","v":123.83}]
["Luftdurchlässe","CRAZ2","CRAZ28020","Sockel              CRAZ-2-8020","Höhe 80 mm","70",155.81,{"$f":"G1755*(1-VLOOKUP(F1755,Konditionen!$B:$D,3,0))","v":155.81}]
["Luftdurchlässe","CRA","CRA3010","Verdrängungsauslaß     CRA-3010","Rechteckig","70",521.64,{"$f":"G1756*(1-VLOOKUP(F1756,Konditionen!$B:$D,3,0))","v":521.64}]
["Luftdurchlässe","CRA","CRA5010","Verdrängungsauslaß     CRA-5010","Rechteckig","70",717.44,{"$f":"G1757*(1-VLOOKUP(F1757,Konditionen!$B:$D,3,0))","v":717.44}]
["Luftdurchlässe","CRA","CRA8010","Verdrängungsauslaß     CRA-8010","Rechteckig","70",1110.2,{"$f":"G1758*(1-VLOOKUP(F1758,Konditionen!$B:$D,3,0))","v":1110.2}]
["Luftdurchlässe","CRA","CRA8020","Verdrängungsauslaß     CRA-8020","Rechteckig","70",1907.57,{"$f":"G1759*(1-VLOOKUP(F1759,Konditionen!$B:$D,3,0))","v":1907.57}]
["Rohre und Formteile","CRHV","CRHV125","Kondensatsammler CRHV 125",null,"90",26.11,{"$f":"G1760*(1-VLOOKUP(F1760,Konditionen!$B:$D,3,0))","v":26.11}]
["Rohre und Formteile","CRHV","CRHV160","Kondensatsammler CRHV 160",null,"90",29.17,{"$f":"G1761*(1-VLOOKUP(F1761,Konditionen!$B:$D,3,0))","v":29.17}]
["Rohre und Formteile","CRHV","CRHV200","Kondensatsammler CRHV 200",null,"90",38,{"$f":"G1762*(1-VLOOKUP(F1762,Konditionen!$B:$D,3,0))","v":38}]
["Rohre und Formteile","CRHV","CRHV250","Kondensatsammler CRHV 250",null,"90",43.55,{"$f":"G1763*(1-VLOOKUP(F1763,Konditionen!$B:$D,3,0))","v":43.55}]
["Luftdurchlässe","CRL","CRL100","Runder Deckendurchlass       CRL100","horiz. oder vertikale Luftführung","70",163.87,{"$f":"G1764*(1-VLOOKUP(F1764,Konditionen!$B:$D,3,0))","v":163.87}]
["Luftdurchlässe","CRL","CRL125","Runder Deckendurchlass       CRL125","horiz. oder vertikale Luftführung","70",178.85,{"$f":"G1765*(1-VLOOKUP(F1765,Konditionen!$B:$D,3,0))","v":178.85}]
["Luftdurchlässe","CRL","CRL160","Runder Deckendurchlass       CRL160","horiz. oder vertikale Luftführung","70",194.72,{"$f":"G1766*(1-VLOOKUP(F1766,Konditionen!$B:$D,3,0))","v":194.72}]
["Luftdurchlässe","CRL","CRL200","Runder Deckendurchlass       CRL200","horiz. oder vertikale Luftführung","70",222.36,{"$f":"G1767*(1-VLOOKUP(F1767,Konditionen!$B:$D,3,0))","v":222.36}]
["Luftdurchlässe","CRL","CRL250","Runder Deckendurchlass       CRL250","horiz. oder vertikale Luftführung","70",286.41000000000003,{"$f":"G1768*(1-VLOOKUP(F1768,Konditionen!$B:$D,3,0))","v":286.41000000000003}]
["Luftdurchlässe","CRL","CRL315","Runder Deckendurchlass       CRL315","horiz. oder vertikale Luftführung","70",348.83,{"$f":"G1769*(1-VLOOKUP(F1769,Konditionen!$B:$D,3,0))","v":348.83}]
["Luftdurchlässe","CRL","CRL400","Runder Deckendurchlass       CRL400","horiz. oder vertikale Luftführung","70",619.08000000000004,{"$f":"G1770*(1-VLOOKUP(F1770,Konditionen!$B:$D,3,0))","v":619.08000000000004}]
["Luftdurchlässe","CRP1","CRP14010","Verdrängungsluftauslass  CRP-1-4010","RAL9010","70",144.13999999999999,{"$f":"G1771*(1-VLOOKUP(F1771,Konditionen!$B:$D,3,0))","v":144.13999999999999}]
["Luftdurchlässe","CRP1","CRP14015","Verdrängungsluftauslass  CRP-1-4015","RAL9010","70",145.9,{"$f":"G1772*(1-VLOOKUP(F1772,Konditionen!$B:$D,3,0))","v":145.9}]
["Luftdurchlässe","CRP1","CRP15010","Verdrängungsluftauslass  CRP-1-5010","RAL9010","70",147.65,{"$f":"G1773*(1-VLOOKUP(F1773,Konditionen!$B:$D,3,0))","v":147.65}]
["Luftdurchlässe","CRP1","CRP15015","Verdrängungsluftauslass  CRP-1-5015","RAL9010","70",148.32,{"$f":"G1774*(1-VLOOKUP(F1774,Konditionen!$B:$D,3,0))","v":148.32}]
["Luftdurchlässe","CRU1","CRU14010","Verdrängungsluftauslass  CRU-1-4010","RAL9010","70",147.55000000000001,{"$f":"G1775*(1-VLOOKUP(F1775,Konditionen!$B:$D,3,0))","v":147.55000000000001}]
["Luftdurchlässe","CRU1","CRU14015","Verdrängungsluftauslass  CRU-1-4015","RAL9010","70",149.04,{"$f":"G1776*(1-VLOOKUP(F1776,Konditionen!$B:$D,3,0))","v":149.04}]
["Luftdurchlässe","CRU1","CRU15010","Verdrängungsluftauslass  CRU-1-5010","RAL9010","70",149.41,{"$f":"G1777*(1-VLOOKUP(F1777,Konditionen!$B:$D,3,0))","v":149.41}]
["Luftdurchlässe","CRU1","CRU15015","Verdrängungsluftauslass  CRU-1-5015","RAL9010","70",156.58000000000001,{"$f":"G1778*(1-VLOOKUP(F1778,Konditionen!$B:$D,3,0))","v":156.58000000000001}]
["Rohre und Formteile","CSCPS2","CSCPS2","Befestigung für Nockenzange","für SR CUTTER 2            CSCPS 2","90",354.1,{"$f":"G1779*(1-VLOOKUP(F1779,Konditionen!$B:$D,3,0))","v":354.1}]
["Rohre und Formteile","CSCP","CSCP40","Handnockenzange CSCP40  NW 80 - 224","lose      **Netto-Preis**","90",292.5,{"$f":"G1780*(1-VLOOKUP(F1780,Konditionen!$B:$D,3,0))","v":292.5}]
["Rohre und Formteile","CSCP","CSCP60","Handnockenzange CSCP60   NW 250-315","lose      **Netto-Preis**","90",292.5,{"$f":"G1781*(1-VLOOKUP(F1781,Konditionen!$B:$D,3,0))","v":292.5}]
["Rohre und Formteile","CSKE","CSKE","Messerblatt für Stanzarm","CSKE","90",12.6,{"$f":"G1782*(1-VLOOKUP(F1782,Konditionen!$B:$D,3,0))","v":12.6}]
["Rohre und Formteile","CSSK","CSSK","Schneidmesser CSSK","für Blechschere CSS","90",126.9,{"$f":"G1783*(1-VLOOKUP(F1783,Konditionen!$B:$D,3,0))","v":126.9}]
["Smarttools","CTVACU","CTVACU","Staubschutzplatte           CTVACU","*** Netto-Preis ***","90",141,{"$f":"G1784*(1-VLOOKUP(F1784,Konditionen!$B:$D,3,0))","v":141}]
["Luftdurchlässe","CVAZ1","CVAZ1300501000","Wandkanal          CVAZ-1-3005-____","Höhe 0 bis 1000mm, DN125mm","70",170.69,{"$f":"G1785*(1-VLOOKUP(F1785,Konditionen!$B:$D,3,0))","v":170.69}]
["Luftdurchlässe","CVAZ1","CVAZ130051500","Wandkanal          CVAZ-1-3005-____","Höhe 1001 bis 1500mm, DN125mm","70",219.77,{"$f":"G1786*(1-VLOOKUP(F1786,Konditionen!$B:$D,3,0))","v":219.77}]
["Luftdurchlässe","CVAZ1","CVAZ130052000","Wandkanal          CVAZ-1-3005-____","Höhe 1501 bis 2000mm, DN125mm","70",301.66000000000003,{"$f":"G1787*(1-VLOOKUP(F1787,Konditionen!$B:$D,3,0))","v":301.66000000000003}]
["Luftdurchlässe","CVAZ1","CVAZ150051000","Wandkanal          CVAZ-1-5005-____","Höhe 0 bis 1000mm, DN160mm","70",173.38,{"$f":"G1788*(1-VLOOKUP(F1788,Konditionen!$B:$D,3,0))","v":173.38}]
["Luftdurchlässe","CVAZ1","CVAZ150051500","Wandkanal          CVAZ-1-5005-____","Höhe 1001 bis 1500mm, DN160mm","70",235.89,{"$f":"G1789*(1-VLOOKUP(F1789,Konditionen!$B:$D,3,0))","v":235.89}]
["Luftdurchlässe","CVAZ1","CVAZ150052000","Wandkanal          CVAZ-1-5005-____","Höhe 1501 bis 2000mm, DN160mm","70",305.12,{"$f":"G1790*(1-VLOOKUP(F1790,Konditionen!$B:$D,3,0))","v":305.12}]
["Luftdurchlässe","CVAZ1","CVAZ160051000","Wandkanal          CVAZ-1-6005-____","Höhe 0 bis 1000mm, DN200mm","70",181.75,{"$f":"G1791*(1-VLOOKUP(F1791,Konditionen!$B:$D,3,0))","v":181.75}]
["Luftdurchlässe","CVAZ1","CVAZ160051500","Wandkanal          CVAZ-1-6005-____","Höhe 1001 bis 1500mm, DN200mm","70",243.07,{"$f":"G1792*(1-VLOOKUP(F1792,Konditionen!$B:$D,3,0))","v":243.07}]
["Luftdurchlässe","CVAZ1","CVAZ160052000","Wandkanal          CVAZ-1-6005-____","Höhe 1501 bis 2000mm, DN200mm","70",312.31,{"$f":"G1793*(1-VLOOKUP(F1793,Konditionen!$B:$D,3,0))","v":312.31}]
["Luftdurchlässe","CVAZ1","CVAZ160081000","Wandkanal          CVAZ-1-6008-____","Höhe 0 bis 1000mm, DN250mm","70",189.24,{"$f":"G1794*(1-VLOOKUP(F1794,Konditionen!$B:$D,3,0))","v":189.24}]
["Luftdurchlässe","CVAZ1","CVAZ160081500","Wandkanal          CVAZ-1-6008-____","Höhe 1001 bis 1500mm, DN250mm","70",253.2,{"$f":"G1795*(1-VLOOKUP(F1795,Konditionen!$B:$D,3,0))","v":253.2}]
["Luftdurchlässe","CVAZ1","CVAZ160082000","Wandkanal          CVAZ-1-6008-____","Höhe 1501 bis 2000mm, DN250mm","70",329.04,{"$f":"G1796*(1-VLOOKUP(F1796,Konditionen!$B:$D,3,0))","v":329.04}]
["Luftdurchlässe","CVAZ1","CVAZ180081000","Wandkanal          CVAZ-1-8008-____","Höhe 0 bis 1000mm, DN315mm","70",194.72,{"$f":"G1797*(1-VLOOKUP(F1797,Konditionen!$B:$D,3,0))","v":194.72}]
["Luftdurchlässe","CVAZ1","CVAZ180081500","Wandkanal          CVAZ-1-8008-____","Höhe 1001 bis 1500mm, DN315mm","70",259.56,{"$f":"G1798*(1-VLOOKUP(F1798,Konditionen!$B:$D,3,0))","v":259.56}]
["Luftdurchlässe","CVAZ1","CVAZ180082000","Wandkanal          CVAZ-1-8008-____","Höhe 1501 bis 2000mm, DN315mm","70",333.12,{"$f":"G1799*(1-VLOOKUP(F1799,Konditionen!$B:$D,3,0))","v":333.12}]
["Luftdurchlässe","CVA","CVA3005","Verdrängungsauslaß     CVA-3005","für Wandeinbau","70",294.37,{"$f":"G1800*(1-VLOOKUP(F1800,Konditionen!$B:$D,3,0))","v":294.37}]
["Luftdurchlässe","CVA","CVA5005","Verdrängungsauslaß     CVA-5005","für Wandeinbau","70",392.79,{"$f":"G1801*(1-VLOOKUP(F1801,Konditionen!$B:$D,3,0))","v":392.79}]
["Luftdurchlässe","CVA","CVA6005","Verdrängungsauslaß     CVA-6005","für Wandeinbau","70",478.35,{"$f":"G1802*(1-VLOOKUP(F1802,Konditionen!$B:$D,3,0))","v":478.35}]
["Luftdurchlässe","CVA","CVA6008","Verdrängungsauslaß     CVA-6008","für Wandeinbau","70",533.47,{"$f":"G1803*(1-VLOOKUP(F1803,Konditionen!$B:$D,3,0))","v":533.47}]
["Luftdurchlässe","CVA","CVA8008","Verdrängungsauslaß     CVA-8008","für Wandeinbau","70",625.75,{"$f":"G1804*(1-VLOOKUP(F1804,Konditionen!$B:$D,3,0))","v":625.75}]
["Luftdurchlässe","C10","C101000100","Gitter Alu           C10-1000x100mm","Rahmen mit Warzenlöchern","70",122.86,{"$f":"G1805*(1-VLOOKUP(F1805,Konditionen!$B:$D,3,0))","v":122.86}]
["Luftdurchlässe","C10","C101000150","Gitter Alu           C10-1000x150mm","Rahmen mit Warzenlöchern","70",137.27000000000001,{"$f":"G1806*(1-VLOOKUP(F1806,Konditionen!$B:$D,3,0))","v":137.27000000000001}]
["Luftdurchlässe","C10","C101000200","Gitter Alu           C10-1000x200mm","Rahmen mit Warzenlöchern","70",160.36000000000001,{"$f":"G1807*(1-VLOOKUP(F1807,Konditionen!$B:$D,3,0))","v":160.36000000000001}]
["Luftdurchlässe","C10","C101000250","Gitter Alu           C10-1000x250mm","Rahmen mit Warzenlöchern","70",174.1,{"$f":"G1808*(1-VLOOKUP(F1808,Konditionen!$B:$D,3,0))","v":174.1}]
["Luftdurchlässe","C10","C101000300","Gitter Alu           C10-1000x300mm","Rahmen mit Warzenlöchern","70",196.37,{"$f":"G1809*(1-VLOOKUP(F1809,Konditionen!$B:$D,3,0))","v":196.37}]
["Luftdurchlässe","C10","C101000400","Gitter Alu           C10-1000x400mm","Rahmen mit Warzenlöchern","70",234.81,{"$f":"G1810*(1-VLOOKUP(F1810,Konditionen!$B:$D,3,0))","v":234.81}]
["Luftdurchlässe","C10","C101000500","Gitter Alu           C10-1000x500mm","Rahmen mit Warzenlöchern","70",271.8,{"$f":"G1811*(1-VLOOKUP(F1811,Konditionen!$B:$D,3,0))","v":271.8}]
["Luftdurchlässe","C10","C101200100","Gitter Alu           C10-1200x100mm","Rahmen mit Warzenlöchern","70",151.41999999999999,{"$f":"G1812*(1-VLOOKUP(F1812,Konditionen!$B:$D,3,0))","v":151.41999999999999}]
["Luftdurchlässe","C10","C101200150","Gitter Alu           C10-1200x150mm","Rahmen mit Warzenlöchern","70",168.1,{"$f":"G1813*(1-VLOOKUP(F1813,Konditionen!$B:$D,3,0))","v":168.1}]
["Luftdurchlässe","C10","C101200200","Gitter Alu           C10-1200x200mm","Rahmen mit Warzenlöchern","70",192.28,{"$f":"G1814*(1-VLOOKUP(F1814,Konditionen!$B:$D,3,0))","v":192.28}]
["Luftdurchlässe","C10","C101200250","Gitter Alu           C10-1200x250mm","Rahmen mit Warzenlöchern","70",210.73,{"$f":"G1815*(1-VLOOKUP(F1815,Konditionen!$B:$D,3,0))","v":210.73}]
["Luftdurchlässe","C10","C101200300","Gitter Alu           C10-1200x300mm","Rahmen mit Warzenlöchern","70",236.3,{"$f":"G1816*(1-VLOOKUP(F1816,Konditionen!$B:$D,3,0))","v":236.3}]
["Luftdurchlässe","C10","C101200400","Gitter Alu           C10-1200x400mm","Rahmen mit Warzenlöchern","70",279.64999999999998,{"$f":"G1817*(1-VLOOKUP(F1817,Konditionen!$B:$D,3,0))","v":279.64999999999998}]
["Luftdurchlässe","C10","C101200500","Gitter Alu           C10-1200x500mm","Rahmen mit Warzenlöchern","70",323.56,{"$f":"G1818*(1-VLOOKUP(F1818,Konditionen!$B:$D,3,0))","v":323.56}]
["Luftdurchlässe","C10","C10200100","Gitter Alu            C10-200x100mm","Rahmen mit Warzenlöchern","70",47.52,{"$f":"G1819*(1-VLOOKUP(F1819,Konditionen!$B:$D,3,0))","v":47.52}]
["Luftdurchlässe","C10","C10200150","Gitter Alu            C10-200x150mm","Rahmen mit Warzenlöchern","70",53.21,{"$f":"G1820*(1-VLOOKUP(F1820,Konditionen!$B:$D,3,0))","v":53.21}]
["Luftdurchlässe","C10","C10200200","Gitter Alu            C10-200x200mm","Rahmen mit Warzenlöchern","70",62.25,{"$f":"G1821*(1-VLOOKUP(F1821,Konditionen!$B:$D,3,0))","v":62.25}]
["Luftdurchlässe","C10","C10200250","Gitter Alu            C10-200x250mm","Rahmen mit Warzenlöchern","70",67.62,{"$f":"G1822*(1-VLOOKUP(F1822,Konditionen!$B:$D,3,0))","v":67.62}]
["Luftdurchlässe","C10","C10200300","Gitter Alu            C10-200x300mm","Rahmen mit Warzenlöchern","70",76.98,{"$f":"G1823*(1-VLOOKUP(F1823,Konditionen!$B:$D,3,0))","v":76.98}]
["Luftdurchlässe","C10","C10200400","Gitter Alu            C10-200x400mm","Rahmen mit Warzenlöchern","70",91.49,{"$f":"G1824*(1-VLOOKUP(F1824,Konditionen!$B:$D,3,0))","v":91.49}]
["Luftdurchlässe","C10","C10200500","Gitter Alu            C10-200x500mm","Rahmen mit Warzenlöchern","70",105.65,{"$f":"G1825*(1-VLOOKUP(F1825,Konditionen!$B:$D,3,0))","v":105.65}]
["Luftdurchlässe","C10","C10300100","Gitter Alu            C10-300x100mm","Rahmen mit Warzenlöchern","70",62.25,{"$f":"G1826*(1-VLOOKUP(F1826,Konditionen!$B:$D,3,0))","v":62.25}]
["Luftdurchlässe","C10","C10300150","Gitter Alu            C10-300x150mm","Rahmen mit Warzenlöchern","70",65.349999999999994,{"$f":"G1827*(1-VLOOKUP(F1827,Konditionen!$B:$D,3,0))","v":65.349999999999994}]
["Luftdurchlässe","C10","C10300200","Gitter Alu            C10-300x200mm","Rahmen mit Warzenlöchern","70",69.430000000000007,{"$f":"G1828*(1-VLOOKUP(F1828,Konditionen!$B:$D,3,0))","v":69.430000000000007}]
["Luftdurchlässe","C10","C10300250","Gitter Alu            C10-300x250mm","Rahmen mit Warzenlöchern","70",76.98,{"$f":"G1829*(1-VLOOKUP(F1829,Konditionen!$B:$D,3,0))","v":76.98}]
["Luftdurchlässe","C10","C10300300","Gitter Alu            C10-300x300mm","Rahmen mit Warzenlöchern","70",91.91,{"$f":"G1830*(1-VLOOKUP(F1830,Konditionen!$B:$D,3,0))","v":91.91}]
["Luftdurchlässe","C10","C10300400","Gitter Alu            C10-300x400mm","Rahmen mit Warzenlöchern","70",104.25,{"$f":"G1831*(1-VLOOKUP(F1831,Konditionen!$B:$D,3,0))","v":104.25}]
["Luftdurchlässe","C10","C10300500","Gitter Alu            C10-300x500mm","Rahmen mit Warzenlöchern","70",122.07,{"$f":"G1832*(1-VLOOKUP(F1832,Konditionen!$B:$D,3,0))","v":122.07}]
["Luftdurchlässe","C10","C10400100","Gitter Alu            C10-400x100mm","Rahmen mit Warzenlöchern","70",73.400000000000006,{"$f":"G1833*(1-VLOOKUP(F1833,Konditionen!$B:$D,3,0))","v":73.400000000000006}]
["Luftdurchlässe","C10","C10400150","Gitter Alu            C10-400x150mm","Rahmen mit Warzenlöchern","70",82.76,{"$f":"G1834*(1-VLOOKUP(F1834,Konditionen!$B:$D,3,0))","v":82.76}]
["Luftdurchlässe","C10","C10400200","Gitter Alu            C10-400x200mm","Rahmen mit Warzenlöchern","70",94.28,{"$f":"G1835*(1-VLOOKUP(F1835,Konditionen!$B:$D,3,0))","v":94.28}]
["Luftdurchlässe","C10","C10400250","Gitter Alu            C10-400x250mm","Rahmen mit Warzenlöchern","70",102.44,{"$f":"G1836*(1-VLOOKUP(F1836,Konditionen!$B:$D,3,0))","v":102.44}]
["Luftdurchlässe","C10","C10400300","Gitter Alu            C10-400x300mm","Rahmen mit Warzenlöchern","70",115.42,{"$f":"G1837*(1-VLOOKUP(F1837,Konditionen!$B:$D,3,0))","v":115.42}]
["Luftdurchlässe","C10","C10400400","Gitter Alu            C10-400x400mm","Rahmen mit Warzenlöchern","70",136.49,{"$f":"G1838*(1-VLOOKUP(F1838,Konditionen!$B:$D,3,0))","v":136.49}]
["Luftdurchlässe","C10","C10400500","Gitter Alu            C10-400x500mm","Rahmen mit Warzenlöchern","70",156.07,{"$f":"G1839*(1-VLOOKUP(F1839,Konditionen!$B:$D,3,0))","v":156.07}]
["Luftdurchlässe","C10","C10500100","Gitter Alu            C10-500x100mm","Rahmen mit Warzenlöchern","70",78.37,{"$f":"G1840*(1-VLOOKUP(F1840,Konditionen!$B:$D,3,0))","v":78.37}]
["Luftdurchlässe","C10","C10500150","Gitter Alu            C10-500x150mm","Rahmen mit Warzenlöchern","70",89.84,{"$f":"G1841*(1-VLOOKUP(F1841,Konditionen!$B:$D,3,0))","v":89.84}]
["Luftdurchlässe","C10","C10500200","Gitter Alu            C10-500x200mm","Rahmen mit Warzenlöchern","70",103.27,{"$f":"G1842*(1-VLOOKUP(F1842,Konditionen!$B:$D,3,0))","v":103.27}]
["Luftdurchlässe","C10","C10500250","Gitter Alu            C10-500x250mm","Rahmen mit Warzenlöchern","70",112.73,{"$f":"G1843*(1-VLOOKUP(F1843,Konditionen!$B:$D,3,0))","v":112.73}]
["Luftdurchlässe","C10","C10500300","Gitter Alu            C10-500x300mm","Rahmen mit Warzenlöchern","70",125.54,{"$f":"G1844*(1-VLOOKUP(F1844,Konditionen!$B:$D,3,0))","v":125.54}]
["Luftdurchlässe","C10","C10500400","Gitter Alu            C10-500x400mm","Rahmen mit Warzenlöchern","70",149.61000000000001,{"$f":"G1845*(1-VLOOKUP(F1845,Konditionen!$B:$D,3,0))","v":149.61000000000001}]
["Luftdurchlässe","C10","C10500500","Gitter Alu            C10-500x500mm","Rahmen mit Warzenlöchern","70",172.92,{"$f":"G1846*(1-VLOOKUP(F1846,Konditionen!$B:$D,3,0))","v":172.92}]
["Luftdurchlässe","C10","C10600100","Gitter Alu            C10-600x100mm","Rahmen mit Warzenlöchern","70",83.85,{"$f":"G1847*(1-VLOOKUP(F1847,Konditionen!$B:$D,3,0))","v":83.85}]
["Luftdurchlässe","C10","C10600150","Gitter Alu            C10-600x150mm","Rahmen mit Warzenlöchern","70",96.09,{"$f":"G1848*(1-VLOOKUP(F1848,Konditionen!$B:$D,3,0))","v":96.09}]
["Luftdurchlässe","C10","C10600200","Gitter Alu            C10-600x200mm","Rahmen mit Warzenlöchern","70",112.73,{"$f":"G1849*(1-VLOOKUP(F1849,Konditionen!$B:$D,3,0))","v":112.73}]
["Luftdurchlässe","C10","C10600250","Gitter Alu            C10-600x250mm","Rahmen mit Warzenlöchern","70",122.07,{"$f":"G1850*(1-VLOOKUP(F1850,Konditionen!$B:$D,3,0))","v":122.07}]
["Luftdurchlässe","C10","C10600300","Gitter Alu            C10-600x300mm","Rahmen mit Warzenlöchern","70",137.27000000000001,{"$f":"G1851*(1-VLOOKUP(F1851,Konditionen!$B:$D,3,0))","v":137.27000000000001}]
["Luftdurchlässe","C10","C10600400","Gitter Alu            C10-600x400mm","Rahmen mit Warzenlöchern","70",161.55000000000001,{"$f":"G1852*(1-VLOOKUP(F1852,Konditionen!$B:$D,3,0))","v":161.55000000000001}]
["Luftdurchlässe","C10","C10600500","Gitter Alu            C10-600x500mm","Rahmen mit Warzenlöchern","70",189.03,{"$f":"G1853*(1-VLOOKUP(F1853,Konditionen!$B:$D,3,0))","v":189.03}]
["Luftdurchlässe","C10","C10800100","Gitter Alu            C10-800x100mm","Rahmen mit Warzenlöchern","70",112.73,{"$f":"G1854*(1-VLOOKUP(F1854,Konditionen!$B:$D,3,0))","v":112.73}]
["Luftdurchlässe","C10","C10800150","Gitter Alu            C10-800x150mm","Rahmen mit Warzenlöchern","70",125.54,{"$f":"G1855*(1-VLOOKUP(F1855,Konditionen!$B:$D,3,0))","v":125.54}]
["Luftdurchlässe","C10","C10800200","Gitter Alu            C10-800x200mm","Rahmen mit Warzenlöchern","70",145.94999999999999,{"$f":"G1856*(1-VLOOKUP(F1856,Konditionen!$B:$D,3,0))","v":145.94999999999999}]
["Luftdurchlässe","C10","C10800250","Gitter Alu            C10-800x250mm","Rahmen mit Warzenlöchern","70",158.38999999999999,{"$f":"G1857*(1-VLOOKUP(F1857,Konditionen!$B:$D,3,0))","v":158.38999999999999}]
["Luftdurchlässe","C10","C10800300","Gitter Alu            C10-800x300mm","Rahmen mit Warzenlöchern","70",175.19,{"$f":"G1858*(1-VLOOKUP(F1858,Konditionen!$B:$D,3,0))","v":175.19}]
["Luftdurchlässe","C10","C10800400","Gitter Alu            C10-800x400mm","Rahmen mit Warzenlöchern","70",209.8,{"$f":"G1859*(1-VLOOKUP(F1859,Konditionen!$B:$D,3,0))","v":209.8}]
["Luftdurchlässe","C10","C10800500","Gitter Alu            C10-800x500mm","Rahmen mit Warzenlöchern","70",240.95,{"$f":"G1860*(1-VLOOKUP(F1860,Konditionen!$B:$D,3,0))","v":240.95}]
["Luftdurchlässe","C11","C111000100","Gitter Alu           C11-1000x100mm","sicht. Schraubbef.; 2.Lamellensatz","70",207.73,{"$f":"G1861*(1-VLOOKUP(F1861,Konditionen!$B:$D,3,0))","v":207.73}]
["Luftdurchlässe","C11","C111000150","Gitter Alu           C11-1000x150mm","sicht. Schraubbef.; 2.Lamellensatz","70",232.22,{"$f":"G1862*(1-VLOOKUP(F1862,Konditionen!$B:$D,3,0))","v":232.22}]
["Luftdurchlässe","C11","C111000200","Gitter Alu           C11-1000x200mm","sicht. Schraubbef.; 2.Lamellensatz","70",259.86,{"$f":"G1863*(1-VLOOKUP(F1863,Konditionen!$B:$D,3,0))","v":259.86}]
["Luftdurchlässe","C11","C111000250","Gitter Alu           C11-1000x250mm","sicht. Schraubbef.; 2.Lamellensatz","70",295.41000000000003,{"$f":"G1864*(1-VLOOKUP(F1864,Konditionen!$B:$D,3,0))","v":295.41000000000003}]
["Luftdurchlässe","C11","C111000300","Gitter Alu           C11-1000x300mm","sicht. Schraubbef.; 2.Lamellensatz","70",325.52999999999997,{"$f":"G1865*(1-VLOOKUP(F1865,Konditionen!$B:$D,3,0))","v":325.52999999999997}]
["Luftdurchlässe","C11","C111000400","Gitter Alu           C11-1000x400mm","sicht. Schraubbef.; 2.Lamellensatz","70",407.51,{"$f":"G1866*(1-VLOOKUP(F1866,Konditionen!$B:$D,3,0))","v":407.51}]
["Luftdurchlässe","C11","C111000500","Gitter Alu           C11-1000x500mm","sicht. Schraubbef.; 2.Lamellensatz","70",466.31,{"$f":"G1867*(1-VLOOKUP(F1867,Konditionen!$B:$D,3,0))","v":466.31}]
["Luftdurchlässe","C11","C111200100","Gitter Alu           C11-1200x100mm","sicht. Schraubbef.; 2.Lamellensatz","70",251.9,{"$f":"G1868*(1-VLOOKUP(F1868,Konditionen!$B:$D,3,0))","v":251.9}]
["Luftdurchlässe","C11","C111200150","Gitter Alu           C11-1200x150mm","sicht. Schraubbef.; 2.Lamellensatz","70",283.06,{"$f":"G1869*(1-VLOOKUP(F1869,Konditionen!$B:$D,3,0))","v":283.06}]
["Luftdurchlässe","C11","C111200200","Gitter Alu           C11-1200x200mm","sicht. Schraubbef.; 2.Lamellensatz","70",319.95,{"$f":"G1870*(1-VLOOKUP(F1870,Konditionen!$B:$D,3,0))","v":319.95}]
["Luftdurchlässe","C11","C111200250","Gitter Alu           C11-1200x250mm","sicht. Schraubbef.; 2.Lamellensatz","70",353.79,{"$f":"G1871*(1-VLOOKUP(F1871,Konditionen!$B:$D,3,0))","v":353.79}]
["Luftdurchlässe","C11","C111200300","Gitter Alu           C11-1200x300mm","sicht. Schraubbef.; 2.Lamellensatz","70",391.39,{"$f":"G1872*(1-VLOOKUP(F1872,Konditionen!$B:$D,3,0))","v":391.39}]
["Luftdurchlässe","C11","C111200400","Gitter Alu           C11-1200x400mm","sicht. Schraubbef.; 2.Lamellensatz","70",483.05,{"$f":"G1873*(1-VLOOKUP(F1873,Konditionen!$B:$D,3,0))","v":483.05}]
["Luftdurchlässe","C11","C111200500","Gitter Alu           C11-1200x500mm","sicht. Schraubbef.; 2.Lamellensatz","70",549.69000000000005,{"$f":"G1874*(1-VLOOKUP(F1874,Konditionen!$B:$D,3,0))","v":549.69000000000005}]
["Luftdurchlässe","C11","C11200100","Gitter Alu            C11-200x100mm","sicht. Schraubbef.; 2.Lamellensatz","70",64.47,{"$f":"G1875*(1-VLOOKUP(F1875,Konditionen!$B:$D,3,0))","v":64.47}]
["Luftdurchlässe","C11","C11200150","Gitter Alu            C11-200x150mm","sicht. Schraubbef.; 2.Lamellensatz","70",74.39,{"$f":"G1876*(1-VLOOKUP(F1876,Konditionen!$B:$D,3,0))","v":74.39}]
["Luftdurchlässe","C11","C11200200","Gitter Alu            C11-200x200mm","sicht. Schraubbef.; 2.Lamellensatz","70",83.85,{"$f":"G1877*(1-VLOOKUP(F1877,Konditionen!$B:$D,3,0))","v":83.85}]
["Luftdurchlässe","C11","C11200250","Gitter Alu            C11-200x250mm","sicht. Schraubbef.; 2.Lamellensatz","70",93.5,{"$f":"G1878*(1-VLOOKUP(F1878,Konditionen!$B:$D,3,0))","v":93.5}]
["Luftdurchlässe","C11","C11200300","Gitter Alu            C11-200x300mm","sicht. Schraubbef.; 2.Lamellensatz","70",104.25,{"$f":"G1879*(1-VLOOKUP(F1879,Konditionen!$B:$D,3,0))","v":104.25}]
["Luftdurchlässe","C11","C11200400","Gitter Alu            C11-200x400mm","sicht. Schraubbef.; 2.Lamellensatz","70",141.65,{"$f":"G1880*(1-VLOOKUP(F1880,Konditionen!$B:$D,3,0))","v":141.65}]
["Luftdurchlässe","C11","C11200500","Gitter Alu            C11-200x500mm","sicht. Schraubbef.; 2.Lamellensatz","70",160.56,{"$f":"G1881*(1-VLOOKUP(F1881,Konditionen!$B:$D,3,0))","v":160.56}]
["Luftdurchlässe","C11","C11300100","Gitter Alu            C11-300x100mm","sicht. Schraubbef.; 2.Lamellensatz","70",78.37,{"$f":"G1882*(1-VLOOKUP(F1882,Konditionen!$B:$D,3,0))","v":78.37}]
["Luftdurchlässe","C11","C11300150","Gitter Alu            C11-300x150mm","sicht. Schraubbef.; 2.Lamellensatz","70",89.84,{"$f":"G1883*(1-VLOOKUP(F1883,Konditionen!$B:$D,3,0))","v":89.84}]
["Luftdurchlässe","C11","C11300200","Gitter Alu            C11-300x200mm","sicht. Schraubbef.; 2.Lamellensatz","70",103.27,{"$f":"G1884*(1-VLOOKUP(F1884,Konditionen!$B:$D,3,0))","v":103.27}]
["Luftdurchlässe","C11","C11300250","Gitter Alu            C11-300x250mm","sicht. Schraubbef.; 2.Lamellensatz","70",115.42,{"$f":"G1885*(1-VLOOKUP(F1885,Konditionen!$B:$D,3,0))","v":115.42}]
["Luftdurchlässe","C11","C11300300","Gitter Alu            C11-300x300mm","sicht. Schraubbef.; 2.Lamellensatz","70",126.82,{"$f":"G1886*(1-VLOOKUP(F1886,Konditionen!$B:$D,3,0))","v":126.82}]
["Luftdurchlässe","C11","C11300400","Gitter Alu            C11-300x400mm","sicht. Schraubbef.; 2.Lamellensatz","70",171.11,{"$f":"G1887*(1-VLOOKUP(F1887,Konditionen!$B:$D,3,0))","v":171.11}]
["Luftdurchlässe","C11","C11300500","Gitter Alu            C11-300x500mm","sicht. Schraubbef.; 2.Lamellensatz","70",193.01,{"$f":"G1888*(1-VLOOKUP(F1888,Konditionen!$B:$D,3,0))","v":193.01}]
["Luftdurchlässe","C11","C11400100","Gitter Alu            C11-400x100mm","sicht. Schraubbef.; 2.Lamellensatz","70",108.03,{"$f":"G1889*(1-VLOOKUP(F1889,Konditionen!$B:$D,3,0))","v":108.03}]
["Luftdurchlässe","C11","C11400150","Gitter Alu            C11-400x150mm","sicht. Schraubbef.; 2.Lamellensatz","70",122.86,{"$f":"G1890*(1-VLOOKUP(F1890,Konditionen!$B:$D,3,0))","v":122.86}]
["Luftdurchlässe","C11","C11400200","Gitter Alu            C11-400x200mm","sicht. Schraubbef.; 2.Lamellensatz","70",137.27000000000001,{"$f":"G1891*(1-VLOOKUP(F1891,Konditionen!$B:$D,3,0))","v":137.27000000000001}]
["Luftdurchlässe","C11","C11400250","Gitter Alu            C11-400x250mm","sicht. Schraubbef.; 2.Lamellensatz","70",152.4,{"$f":"G1892*(1-VLOOKUP(F1892,Konditionen!$B:$D,3,0))","v":152.4}]
["Luftdurchlässe","C11","C11400300","Gitter Alu            C11-400x300mm","sicht. Schraubbef.; 2.Lamellensatz","70",170.43,{"$f":"G1893*(1-VLOOKUP(F1893,Konditionen!$B:$D,3,0))","v":170.43}]
["Luftdurchlässe","C11","C11400400","Gitter Alu            C11-400x400mm","sicht. Schraubbef.; 2.Lamellensatz","70",215.48,{"$f":"G1894*(1-VLOOKUP(F1894,Konditionen!$B:$D,3,0))","v":215.48}]
["Luftdurchlässe","C11","C11400500","Gitter Alu            C11-400x500mm","sicht. Schraubbef.; 2.Lamellensatz","70",243.95,{"$f":"G1895*(1-VLOOKUP(F1895,Konditionen!$B:$D,3,0))","v":243.95}]
["Luftdurchlässe","C11","C11500100","Gitter Alu            C11-500x100mm","sicht. Schraubbef.; 2.Lamellensatz","70",122.86,{"$f":"G1896*(1-VLOOKUP(F1896,Konditionen!$B:$D,3,0))","v":122.86}]
["Luftdurchlässe","C11","C11500150","Gitter Alu            C11-500x150mm","sicht. Schraubbef.; 2.Lamellensatz","70",140.16,{"$f":"G1897*(1-VLOOKUP(F1897,Konditionen!$B:$D,3,0))","v":140.16}]
["Luftdurchlässe","C11","C11500200","Gitter Alu            C11-500x200mm","sicht. Schraubbef.; 2.Lamellensatz","70",158.38999999999999,{"$f":"G1898*(1-VLOOKUP(F1898,Konditionen!$B:$D,3,0))","v":158.38999999999999}]
["Luftdurchlässe","C11","C11500250","Gitter Alu            C11-500x250mm","sicht. Schraubbef.; 2.Lamellensatz","70",176.78,{"$f":"G1899*(1-VLOOKUP(F1899,Konditionen!$B:$D,3,0))","v":176.78}]
["Luftdurchlässe","C11","C11500300","Gitter Alu            C11-500x300mm","sicht. Schraubbef.; 2.Lamellensatz","70",195.69,{"$f":"G1900*(1-VLOOKUP(F1900,Konditionen!$B:$D,3,0))","v":195.69}]
["Luftdurchlässe","C11","C11500400","Gitter Alu            C11-500x400mm","sicht. Schraubbef.; 2.Lamellensatz","70",247.15,{"$f":"G1901*(1-VLOOKUP(F1901,Konditionen!$B:$D,3,0))","v":247.15}]
["Luftdurchlässe","C11","C11500500","Gitter Alu            C11-500x500mm","sicht. Schraubbef.; 2.Lamellensatz","70",280.68,{"$f":"G1902*(1-VLOOKUP(F1902,Konditionen!$B:$D,3,0))","v":280.68}]
["Luftdurchlässe","C11","C11600100","Gitter Alu            C11-600x100mm","sicht. Schraubbef.; 2.Lamellensatz","70",137.27000000000001,{"$f":"G1903*(1-VLOOKUP(F1903,Konditionen!$B:$D,3,0))","v":137.27000000000001}]
["Luftdurchlässe","C11","C11600150","Gitter Alu            C11-600x150mm","sicht. Schraubbef.; 2.Lamellensatz","70",154.78,{"$f":"G1904*(1-VLOOKUP(F1904,Konditionen!$B:$D,3,0))","v":154.78}]
["Luftdurchlässe","C11","C11600200","Gitter Alu            C11-600x200mm","sicht. Schraubbef.; 2.Lamellensatz","70",178.28,{"$f":"G1905*(1-VLOOKUP(F1905,Konditionen!$B:$D,3,0))","v":178.28}]
["Luftdurchlässe","C11","C11600250","Gitter Alu            C11-600x250mm","sicht. Schraubbef.; 2.Lamellensatz","70",195.69,{"$f":"G1906*(1-VLOOKUP(F1906,Konditionen!$B:$D,3,0))","v":195.69}]
["Luftdurchlässe","C11","C11600300","Gitter Alu            C11-600x300mm","sicht. Schraubbef.; 2.Lamellensatz","70",216.88,{"$f":"G1907*(1-VLOOKUP(F1907,Konditionen!$B:$D,3,0))","v":216.88}]
["Luftdurchlässe","C11","C11600400","Gitter Alu            C11-600x400mm","sicht. Schraubbef.; 2.Lamellensatz","70",273.39999999999998,{"$f":"G1908*(1-VLOOKUP(F1908,Konditionen!$B:$D,3,0))","v":273.39999999999998}]
["Luftdurchlässe","C11","C11600500","Gitter Alu            C11-600x500mm","sicht. Schraubbef.; 2.Lamellensatz","70",312.81,{"$f":"G1909*(1-VLOOKUP(F1909,Konditionen!$B:$D,3,0))","v":312.81}]
["Luftdurchlässe","C11","C11800100","Gitter Alu            C11-800x100mm","sicht. Schraubbef.; 2.Lamellensatz","70",181.54,{"$f":"G1910*(1-VLOOKUP(F1910,Konditionen!$B:$D,3,0))","v":181.54}]
["Luftdurchlässe","C11","C11800150","Gitter Alu            C11-800x150mm","sicht. Schraubbef.; 2.Lamellensatz","70",201.94,{"$f":"G1911*(1-VLOOKUP(F1911,Konditionen!$B:$D,3,0))","v":201.94}]
["Luftdurchlässe","C11","C11800200","Gitter Alu            C11-800x200mm","sicht. Schraubbef.; 2.Lamellensatz","70",231.29,{"$f":"G1912*(1-VLOOKUP(F1912,Konditionen!$B:$D,3,0))","v":231.29}]
["Luftdurchlässe","C11","C11800250","Gitter Alu            C11-800x250mm","sicht. Schraubbef.; 2.Lamellensatz","70",254.28,{"$f":"G1913*(1-VLOOKUP(F1913,Konditionen!$B:$D,3,0))","v":254.28}]
["Luftdurchlässe","C11","C11800300","Gitter Alu            C11-800x300mm","sicht. Schraubbef.; 2.Lamellensatz","70",280.68,{"$f":"G1914*(1-VLOOKUP(F1914,Konditionen!$B:$D,3,0))","v":280.68}]
["Luftdurchlässe","C11","C11800400","Gitter Alu            C11-800x400mm","sicht. Schraubbef.; 2.Lamellensatz","70",350.33,{"$f":"G1915*(1-VLOOKUP(F1915,Konditionen!$B:$D,3,0))","v":350.33}]
["Luftdurchlässe","C11","C11800500","Gitter Alu            C11-800x500mm","sicht. Schraubbef.; 2.Lamellensatz","70",399.05,{"$f":"G1916*(1-VLOOKUP(F1916,Konditionen!$B:$D,3,0))","v":399.05}]
["Luftdurchlässe","C20","C20200100S","Gitter Alu Standard   C20-200x100mm","Rahmen mit Klemmfedern","70",33.58,{"$f":"G1917*(1-VLOOKUP(F1917,Konditionen!$B:$D,3,0))","v":33.58}]
["Luftdurchlässe","C20","C20300100S","Gitter Alu Standard   C20-300x100mm","Rahmen mit Klemmfedern","70",37.5,{"$f":"G1918*(1-VLOOKUP(F1918,Konditionen!$B:$D,3,0))","v":37.5}]
["Luftdurchlässe","C20","C20300150S","Gitter Alu Standard   C20-300x150mm","Rahmen mit Klemmfedern","70",44.53,{"$f":"G1919*(1-VLOOKUP(F1919,Konditionen!$B:$D,3,0))","v":44.53}]
["Luftdurchlässe","C20","C20400100S","Gitter Alu Standard   C20-400x100mm","Rahmen mit Klemmfedern","70",41.53,{"$f":"G1920*(1-VLOOKUP(F1920,Konditionen!$B:$D,3,0))","v":41.53}]
["Luftdurchlässe","C20","C20400150S","Gitter Alu Standard   C20-400x150mm","Rahmen mit Klemmfedern","70",51.45,{"$f":"G1921*(1-VLOOKUP(F1921,Konditionen!$B:$D,3,0))","v":51.45}]
["Luftdurchlässe","C20","C20400200S","Gitter Alu Standard   C20-400x200mm","Rahmen mit Klemmfedern","70",56.88,{"$f":"G1922*(1-VLOOKUP(F1922,Konditionen!$B:$D,3,0))","v":56.88}]
["Luftdurchlässe","C20","C20500100S","Gitter Alu Standard   C20-500x100mm","Rahmen mit Klemmfedern","70",45.82,{"$f":"G1923*(1-VLOOKUP(F1923,Konditionen!$B:$D,3,0))","v":45.82}]
["Luftdurchlässe","C20","C20500150S","Gitter Alu Standard   C20-500x150mm","Rahmen mit Klemmfedern","70",58.59,{"$f":"G1924*(1-VLOOKUP(F1924,Konditionen!$B:$D,3,0))","v":58.59}]
["Luftdurchlässe","C20","C20500200S","Gitter Alu Standard   C20-500x200mm","Rahmen mit Klemmfedern","70",67.83,{"$f":"G1925*(1-VLOOKUP(F1925,Konditionen!$B:$D,3,0))","v":67.83}]
["Luftdurchlässe","C20","C20500300S","Gitter Alu Standard   C20-500x300mm","Rahmen mit Klemmfedern","70",75.11,{"$f":"G1926*(1-VLOOKUP(F1926,Konditionen!$B:$D,3,0))","v":75.11}]
["Luftdurchlässe","C20","C20600100S","Gitter Alu Standard   C20-600x100mm","Rahmen mit Klemmfedern","70",48.04,{"$f":"G1927*(1-VLOOKUP(F1927,Konditionen!$B:$D,3,0))","v":48.04}]
["Luftdurchlässe","C20","C20600150S","Gitter Alu Standard   C20-600x150mm","Rahmen mit Klemmfedern","70",66.03,{"$f":"G1928*(1-VLOOKUP(F1928,Konditionen!$B:$D,3,0))","v":66.03}]
["Luftdurchlässe","C20","C20600200S","Gitter Alu Standard   C20-600x200mm","Rahmen mit Klemmfedern","70",75.11,{"$f":"G1929*(1-VLOOKUP(F1929,Konditionen!$B:$D,3,0))","v":75.11}]
["Luftdurchlässe","C21","C21200100S","Gitter Alu Standard   C21-200x100mm","Rahmen mit Klemmfedern 2. Lamellen.","70",48.46,{"$f":"G1930*(1-VLOOKUP(F1930,Konditionen!$B:$D,3,0))","v":48.46}]
["Luftdurchlässe","C21","C21300100S","Gitter Alu Standard   C21-300x100mm","Rahmen mit Klemmfedern 2. Lamellen.","70",56.41,{"$f":"G1931*(1-VLOOKUP(F1931,Konditionen!$B:$D,3,0))","v":56.41}]
["Luftdurchlässe","C21","C21300150S","Gitter Alu Standard   C21-300x150mm","Rahmen mit Klemmfedern 2. Lamellen.","70",66.33,{"$f":"G1932*(1-VLOOKUP(F1932,Konditionen!$B:$D,3,0))","v":66.33}]
["Luftdurchlässe","C21","C21400100S","Gitter Alu Standard   C21-400x100mm","Rahmen mit Klemmfedern 2. Lamellen.","70",64.37,{"$f":"G1933*(1-VLOOKUP(F1933,Konditionen!$B:$D,3,0))","v":64.37}]
["Luftdurchlässe","C21","C21400150S","Gitter Alu Standard   C21-400x150mm","Rahmen mit Klemmfedern 2. Lamellen.","70",74.59,{"$f":"G1934*(1-VLOOKUP(F1934,Konditionen!$B:$D,3,0))","v":74.59}]
["Luftdurchlässe","C21","C21400200S","Gitter Alu Standard   C21-400x200mm","Rahmen mit Klemmfedern 2. Lamellen.","70",111.79,{"$f":"G1935*(1-VLOOKUP(F1935,Konditionen!$B:$D,3,0))","v":111.79}]
["Luftdurchlässe","C21","C21500100S","Gitter Alu Standard   C21-500x100mm","Rahmen mit Klemmfedern 2. Lamellen.","70",80.17,{"$f":"G1936*(1-VLOOKUP(F1936,Konditionen!$B:$D,3,0))","v":80.17}]
["Luftdurchlässe","C21","C21500150S","Gitter Alu Standard   C21-500x150mm","Rahmen mit Klemmfedern 2. Lamellen.","70",93.3,{"$f":"G1937*(1-VLOOKUP(F1937,Konditionen!$B:$D,3,0))","v":93.3}]
["Luftdurchlässe","C21","C21500200S","Gitter Alu Standard   C21-500x200mm","Rahmen mit Klemmfedern 2. Lamellen.","70",120.17,{"$f":"G1938*(1-VLOOKUP(F1938,Konditionen!$B:$D,3,0))","v":120.17}]
["Luftdurchlässe","C21","C21500300S","Gitter Alu Standard   C21-500x300mm","Rahmen mit Klemmfedern 2. Lamellen.","70",126.05,{"$f":"G1939*(1-VLOOKUP(F1939,Konditionen!$B:$D,3,0))","v":126.05}]
["Luftdurchlässe","C21","C21600100S","Gitter Alu Standard   C21-600x100mm","Rahmen mit Klemmfedern 2. Lamellen.","70",82.55,{"$f":"G1940*(1-VLOOKUP(F1940,Konditionen!$B:$D,3,0))","v":82.55}]
["Luftdurchlässe","C21","C21600150S","Gitter Alu Standard   C21-600x150mm","Rahmen mit Klemmfedern 2. Lamellen.","70",106.63,{"$f":"G1941*(1-VLOOKUP(F1941,Konditionen!$B:$D,3,0))","v":106.63}]
["Luftdurchlässe","C21","C21600200S","Gitter Alu Standard   C21-600x200mm","Rahmen mit Klemmfedern 2. Lamellen.","70",126.05,{"$f":"G1942*(1-VLOOKUP(F1942,Konditionen!$B:$D,3,0))","v":126.05}]
["Luftdurchlässe","DAD","DAD0160","Zuluftdüse 30°schwenkbar DAD-0-160","mit Flansch für Kanalmontage","70",219.67,{"$f":"G1943*(1-VLOOKUP(F1943,Konditionen!$B:$D,3,0))","v":219.67}]
["Luftdurchlässe","DAD","DAD0200","Zuluftdüse 30°schwenkbar DAD-0-200","mit Flansch für Kanalmontage","70",247.15,{"$f":"G1944*(1-VLOOKUP(F1944,Konditionen!$B:$D,3,0))","v":247.15}]
["Luftdurchlässe","DAD","DAD0250","Zuluftdüse 30°schwenkbar DAD-0-250","mit Flansch für Kanalmontage","70",282.55,{"$f":"G1945*(1-VLOOKUP(F1945,Konditionen!$B:$D,3,0))","v":282.55}]
["Luftdurchlässe","DAD","DAD0315","Zuluftdüse 30°schwenkbar DAD-0-315","mit Flansch für Kanalmontage","70",422.86,{"$f":"G1946*(1-VLOOKUP(F1946,Konditionen!$B:$D,3,0))","v":422.86}]
["Luftdurchlässe","DAD","DAD1160","Zuluftdüse 30°schwenkbar DAD-1-160","mit Anschluß DN 160","70",235.48,{"$f":"G1947*(1-VLOOKUP(F1947,Konditionen!$B:$D,3,0))","v":235.48}]
["Luftdurchlässe","DAD","DAD1200","Zuluftdüse 30°schwenkbar DAD-1-200","mit Anschluß DN 200","70",282.08,{"$f":"G1948*(1-VLOOKUP(F1948,Konditionen!$B:$D,3,0))","v":282.08}]
["Luftdurchlässe","DAD","DAD1250","Zuluftdüse 30°schwenkbar DAD-1-250","mit Anschluß DN 250","70",329.81,{"$f":"G1949*(1-VLOOKUP(F1949,Konditionen!$B:$D,3,0))","v":329.81}]
["Luftdurchlässe","DAD","DAD1315","Zuluftdüse 30°schwenkbar DAD-1-315","mit Anschluß DN 315","70",453.19,{"$f":"G1950*(1-VLOOKUP(F1950,Konditionen!$B:$D,3,0))","v":453.19}]
["Rohre und Formteile","DAU","DAU100","Konstant Volumenstromregler DAU 100",null,"32",460.97,{"$f":"G1951*(1-VLOOKUP(F1951,Konditionen!$B:$D,3,0))","v":460.97}]
["Rohre und Formteile","DAU","DAU125","Konstant Volumenstromregler DAU 125",null,"32",483.01,{"$f":"G1952*(1-VLOOKUP(F1952,Konditionen!$B:$D,3,0))","v":483.01}]
["Rohre und Formteile","DAU","DAU160","Konstant Volumenstromregler DAU 160",null,"32",499.07,{"$f":"G1953*(1-VLOOKUP(F1953,Konditionen!$B:$D,3,0))","v":499.07}]
["Rohre und Formteile","DAU","DAU200","Konstant Volumenstromregler DAU 200",null,"32",528.55999999999995,{"$f":"G1954*(1-VLOOKUP(F1954,Konditionen!$B:$D,3,0))","v":528.55999999999995}]
["Rohre und Formteile","DAU","DAU250","Konstant Volumenstromregler DAU 250",null,"32",588.70000000000005,{"$f":"G1955*(1-VLOOKUP(F1955,Konditionen!$B:$D,3,0))","v":588.70000000000005}]
["Rohre und Formteile","DAU","DAU315","Konstant Volumenstromregler DAU 315",null,"32",679.71,{"$f":"G1956*(1-VLOOKUP(F1956,Konditionen!$B:$D,3,0))","v":679.71}]
["Rohre und Formteile","DAU","DAU80","Konstant Volumenstromregler DAU 80",null,"32",453.52,{"$f":"G1957*(1-VLOOKUP(F1957,Konditionen!$B:$D,3,0))","v":453.52}]
["Rohre und Formteile","DAVU","DAVU10024","Variabler Volumenstromregler","DAVU 100.24","32",1638.28,{"$f":"G1958*(1-VLOOKUP(F1958,Konditionen!$B:$D,3,0))","v":1638.28}]
["Rohre und Formteile","DAVU","DAVU12524","Variabler Volumenstromregler","DAVU 125.24","32",1650.78,{"$f":"G1959*(1-VLOOKUP(F1959,Konditionen!$B:$D,3,0))","v":1650.78}]
["Rohre und Formteile","DAVU","DAVU16024","Variabler Volumenstromregler","DAVU 160.24","32",1650.78,{"$f":"G1960*(1-VLOOKUP(F1960,Konditionen!$B:$D,3,0))","v":1650.78}]
["Rohre und Formteile","DAVU","DAVU20024","Variabler Volumenstromregler","DAVU 200.24","32",1676.59,{"$f":"G1961*(1-VLOOKUP(F1961,Konditionen!$B:$D,3,0))","v":1676.59}]
["Rohre und Formteile","DAVU","DAVU25024","Variabler Volumenstromregler","DAVU 250.24","32",1702.41,{"$f":"G1962*(1-VLOOKUP(F1962,Konditionen!$B:$D,3,0))","v":1702.41}]
["Rohre und Formteile","DAVU","DAVU31524","Variabler Volumenstromregler","DAVU 315.24","32",1779.87,{"$f":"G1963*(1-VLOOKUP(F1963,Konditionen!$B:$D,3,0))","v":1779.87}]
["Rohre und Formteile","DAVU","DAVU8024","Variabler Volumenstromregler","DAVU 80.24","32",1638.28,{"$f":"G1964*(1-VLOOKUP(F1964,Konditionen!$B:$D,3,0))","v":1638.28}]
["Luftdurchlässe","DAZ","DAZ125","Luftlenkblech           DAZ-125/100","Satz bestehend aus 3 STK","70",21.17,{"$f":"G1965*(1-VLOOKUP(F1965,Konditionen!$B:$D,3,0))","v":21.17}]
["Luftdurchlässe","DAZ","DAZ160","Luftlenkblech               DAZ-160","Satz bestehend aus 3 STK","70",23.04,{"$f":"G1966*(1-VLOOKUP(F1966,Konditionen!$B:$D,3,0))","v":23.04}]
["Luftdurchlässe","DAZ","DAZ200","Luftlenkblech               DAZ-200","Satz bestehend aus 3 STK","70",29.55,{"$f":"G1967*(1-VLOOKUP(F1967,Konditionen!$B:$D,3,0))","v":29.55}]
["Luftdurchlässe","DAZ","DAZ250","Luftlenkblech               DAZ-250","Satz bestehend aus 3 STK","70",31,{"$f":"G1968*(1-VLOOKUP(F1968,Konditionen!$B:$D,3,0))","v":31}]
["Luftdurchlässe","DAZ","DAZ315","Luftlenkblech               DAZ-315","Satz bestehend aus 3 STK","70",35.08,{"$f":"G1969*(1-VLOOKUP(F1969,Konditionen!$B:$D,3,0))","v":35.08}]
["Luftdurchlässe","DAZ","DAZ400","Luftlenkblech               DAZ-400","Satz bestehend aus 3 STK","70",45.66,{"$f":"G1970*(1-VLOOKUP(F1970,Konditionen!$B:$D,3,0))","v":45.66}]
["Rohre und Formteile","DA2EU","DA2EU100230","Konstant 2-Punkt Volumenstromregler","DA2EU 100.230","32",1239.8599999999999,{"$f":"G1971*(1-VLOOKUP(F1971,Konditionen!$B:$D,3,0))","v":1239.8599999999999}]
["Rohre und Formteile","DA2EU","DA2EU10024","Konstant 2-Punkt Volumenstromregler","DA2EU 100.24","32",1239.8599999999999,{"$f":"G1972*(1-VLOOKUP(F1972,Konditionen!$B:$D,3,0))","v":1239.8599999999999}]
["Rohre und Formteile","DA2EU","DA2EU125230","Konstant 2-Punkt Volumenstromregler","DA2EU 125.230","32",1246.68,{"$f":"G1973*(1-VLOOKUP(F1973,Konditionen!$B:$D,3,0))","v":1246.68}]
["Rohre und Formteile","DA2EU","DA2EU12524","Konstant 2-Punkt Volumenstromregler","DA2EU 125.24","32",1246.68,{"$f":"G1974*(1-VLOOKUP(F1974,Konditionen!$B:$D,3,0))","v":1246.68}]
["Rohre und Formteile","DA2EU","DA2EU160230","Konstant 2-Punkt Volumenstromregler","DA2EU 160.230","32",1255.4000000000001,{"$f":"G1975*(1-VLOOKUP(F1975,Konditionen!$B:$D,3,0))","v":1255.4000000000001}]
["Rohre und Formteile","DA2EU","DA2EU16024","Konstant 2-Punkt Volumenstromregler","DA2EU 160.24","32",1255.4000000000001,{"$f":"G1976*(1-VLOOKUP(F1976,Konditionen!$B:$D,3,0))","v":1255.4000000000001}]
["Rohre und Formteile","DA2EU","DA2EU200230","Konstant 2-Punkt Volumenstromregler","DA2EU 200.230","32",1289.6199999999999,{"$f":"G1977*(1-VLOOKUP(F1977,Konditionen!$B:$D,3,0))","v":1289.6199999999999}]
["Rohre und Formteile","DA2EU","DA2EU20024","Konstant 2-Punkt Volumenstromregler","DA2EU 200.24","32",1289.6199999999999,{"$f":"G1978*(1-VLOOKUP(F1978,Konditionen!$B:$D,3,0))","v":1289.6199999999999}]
["Rohre und Formteile","DA2EU","DA2EU250230","Konstant 2-Punkt Volumenstromregler","DA2EU 250.230","32",1358.47,{"$f":"G1979*(1-VLOOKUP(F1979,Konditionen!$B:$D,3,0))","v":1358.47}]
["Rohre und Formteile","DA2EU","DA2EU25024","Konstant 2-Punkt Volumenstromregler","DA2EU 250.24","32",1358.47,{"$f":"G1980*(1-VLOOKUP(F1980,Konditionen!$B:$D,3,0))","v":1358.47}]
["Rohre und Formteile","DA2EU","DA2EU315230","Konstant 2-Punkt Volumenstromregler","DA2EU 315.230","32",1461.74,{"$f":"G1981*(1-VLOOKUP(F1981,Konditionen!$B:$D,3,0))","v":1461.74}]
["Rohre und Formteile","DA2EU","DA2EU31524","Konstant 2-Punkt Volumenstromregler","DA2EU 315.24","32",1461.74,{"$f":"G1982*(1-VLOOKUP(F1982,Konditionen!$B:$D,3,0))","v":1461.74}]
["Rohre und Formteile","DA2EU","DA2EU80230","Konstant 2-Punkt Volumenstromregler","DA2EU 80.230","32",1239.8599999999999,{"$f":"G1983*(1-VLOOKUP(F1983,Konditionen!$B:$D,3,0))","v":1239.8599999999999}]
["Rohre und Formteile","DA2EU","DA2EU8024","Konstant 2-Punkt Volumenstromregler","DA2EU 80.24","32",1239.8599999999999,{"$f":"G1984*(1-VLOOKUP(F1984,Konditionen!$B:$D,3,0))","v":1239.8599999999999}]
["Montagezubehör","DCCLIPS","DCCLIPS","Dektite Clips 25 Stück",null,"90",8.64,{"$f":"G1985*(1-VLOOKUP(F1985,Konditionen!$B:$D,3,0))","v":8.64}]
["Luftdurchlässe","DCS","DCS100A","Durchlass f. Sichtmontage DCS-100-A","verst. Düsen; Zuluft; Mess-Drossel","70",297.58,{"$f":"G1986*(1-VLOOKUP(F1986,Konditionen!$B:$D,3,0))","v":297.58}]
["Luftdurchlässe","DCS","DCS125A","Durchlass f. Sichtmontage DCS-125-A","verst. Düsen; Zuluft; Mess-Drossel","70",325.83999999999997,{"$f":"G1987*(1-VLOOKUP(F1987,Konditionen!$B:$D,3,0))","v":325.83999999999997}]
["Luftdurchlässe","DCS","DCS160A","Durchlass f. Sichtmontage DCS-160-A","verst. Düsen; Zuluft; Mess-Drossel","70",396.46,{"$f":"G1988*(1-VLOOKUP(F1988,Konditionen!$B:$D,3,0))","v":396.46}]
["Luftdurchlässe","DCS","DCS200A","Durchlass f. Sichtmontage DCS-200-A","verst. Düsen; Zuluft; Mess-Drossel","70",481.66,{"$f":"G1989*(1-VLOOKUP(F1989,Konditionen!$B:$D,3,0))","v":481.66}]
["Luftdurchlässe","DCS","DCS250A","Durchlass f. Sichtmontage DCS-250-A","verst. Düsen; Zuluft; Mess-Drossel","70",751.18,{"$f":"G1990*(1-VLOOKUP(F1990,Konditionen!$B:$D,3,0))","v":751.18}]
["Luftdurchlässe","DCS","DCS315A","Durchlass f. Sichtmontage DCS-315-A","verst. Düsen; Zuluft; Mess-Drossel","70",884,{"$f":"G1991*(1-VLOOKUP(F1991,Konditionen!$B:$D,3,0))","v":884}]
["Luftdurchlässe","DCZ","DCZ125","Montagesatz                 DCZ-125","für Montage ohne Kasten MBB nötig","70",16.010000000000002,{"$f":"G1992*(1-VLOOKUP(F1992,Konditionen!$B:$D,3,0))","v":16.010000000000002}]
["Luftdurchlässe","DCZ","DCZ160","Montagesatz                 DCZ-160","für Montage ohne Kasten MBB nötig","70",16.010000000000002,{"$f":"G1993*(1-VLOOKUP(F1993,Konditionen!$B:$D,3,0))","v":16.010000000000002}]
["Luftdurchlässe","DCZ","DCZ200","Montagesatz                 DCZ-200","für Montage ohne Kasten MBB nötig","70",16.010000000000002,{"$f":"G1994*(1-VLOOKUP(F1994,Konditionen!$B:$D,3,0))","v":16.010000000000002}]
["Luftdurchlässe","DCZ","DCZ250","Montagesatz                 DCZ-250","für Montage ohne Kasten MBB nötig","70",16.010000000000002,{"$f":"G1995*(1-VLOOKUP(F1995,Konditionen!$B:$D,3,0))","v":16.010000000000002}]
["Luftdurchlässe","DCZ","DCZ315","Montagesatz                 DCZ-315","für Montage ohne Kasten MBB nötig","70",16.010000000000002,{"$f":"G1996*(1-VLOOKUP(F1996,Konditionen!$B:$D,3,0))","v":16.010000000000002}]
["Luftdurchlässe","DCZ","DCZ400","Montagesatz                 DCZ-400","für Montage ohne Kasten MBB nötig","70",16.010000000000002,{"$f":"G1997*(1-VLOOKUP(F1997,Konditionen!$B:$D,3,0))","v":16.010000000000002}]
["Montagezubehör","DC","DC103B","Dektite Dachdurchführung DC 103 B","5-127mm / 218x218mm","16.ALLG",11.11,{"$f":"G1998*(1-VLOOKUP(F1998,Konditionen!$B:$D,3,0))","v":11.11}]
["Montagezubehör","DC","DC104B","Dektite Dachdurchführung DC 104 B","75-175mm / 285x285mm","16.ALLG",14.4,{"$f":"G1999*(1-VLOOKUP(F1999,Konditionen!$B:$D,3,0))","v":14.4}]
["Montagezubehör","DC","DC105B","Dektite Dachdurchführung DC 105 B","108-190mm / 365x365mm","16.ALLG",16.87,{"$f":"G2000*(1-VLOOKUP(F2000,Konditionen!$B:$D,3,0))","v":16.87}]
["Montagezubehör","DC","DC110B","Dektite Dachdurchführung DC 110 B","400-750mm / 995x965mm","16.ALLG",284.72000000000003,{"$f":"G2005*(1-VLOOKUP(F2005,Konditionen!$B:$D,3,0))","v":284.72000000000003}]
["Kunststoff","DDFPPS","DDFPPS180","Dachdurchführung in PPs 180","Dachneigungswinkel ...°","17.ALLG",151.63,{"$f":"G2010*(1-VLOOKUP(F2010,Konditionen!$B:$D,3,0))","v":151.63}]
["Kunststoff","DDFPPS","DDFPPS450","Dachdurchführung in PPs 450","Dachneigungswinkel ...°","17.ALLG",376.16,{"$f":"G2018*(1-VLOOKUP(F2018,Konditionen!$B:$D,3,0))","v":376.16}]
["Kunststoff","DDFPPS","DDFPPS710","Dachdurchführung in PPs 710","Dachneigungswinkel ...°","17.ALLG",911.41,{"$f":"G2023*(1-VLOOKUP(F2023,Konditionen!$B:$D,3,0))","v":911.41}]
["Luftdurchlässe","DDZ","DDZ315","Montagesatz f. PCA/LCA      DDZ-315","für Montage ohne Kasten MBB nötig","70",16.010000000000002,{"$f":"G2031*(1-VLOOKUP(F2031,Konditionen!$B:$D,3,0))","v":16.010000000000002}]
["Montagezubehör","DFE","DFE107B","Dektite Rohrmanschette DFE107B","150-300mm / 456x456mm","16.ALLG",35.39,{"$f":"G2039*(1-VLOOKUP(F2039,Konditionen!$B:$D,3,0))","v":35.39}]
["Montagezubehör","DF","DF602","Dachdurchführung Dektite DF 602","75-150mm","16.ALLG",26.65,{"$f":"G2044*(1-VLOOKUP(F2044,Konditionen!$B:$D,3,0))","v":26.65}]
["Kunststoff","DHPPS","DHPPS1250M","Deflektorhaube DH in PPs 1250","mit Muffenmaß","17.ALLG",4167.07,{"$f":"G2052*(1-VLOOKUP(F2052,Konditionen!$B:$D,3,0))","v":4167.07}]
["Kunststoff","DHPPS","DHPPS710M","Deflektorhaube DH in PPs 710","mit Muffenmaß","17.ALLG",1259.5999999999999,{"$f":"G2057*(1-VLOOKUP(F2057,Konditionen!$B:$D,3,0))","v":1259.5999999999999}]
["Rohre und Formteile","DH","DH200","Rohrkonsole      DH            200","L = 75 mm      *** Netto-Preis ***","90",6.95,{"$f":"G2065*(1-VLOOKUP(F2065,Konditionen!$B:$D,3,0))","v":6.95}]
["Rohre und Formteile","DH","DH500100","Rohrkonsole      DH            500","L = 100mm       *** Netto-Preis ***","90",16.899999999999999,{"$f":"G2073*(1-VLOOKUP(F2073,Konditionen!$B:$D,3,0))","v":16.899999999999999}]
["Rohre und Formteile","DH","DH80","Rohrkonsole      DH             80","L = 75 mm      *** Netto-Preis ***","90",4.75,{"$f":"G2078*(1-VLOOKUP(F2078,Konditionen!$B:$D,3,0))","v":4.75}]
["Rohre und Formteile","DIRU","DIRU315","Irisblende       DIRU          315",null,"32",587.65,{"$f":"G2086*(1-VLOOKUP(F2086,Konditionen!$B:$D,3,0))","v":587.65}]
["Kunststoff","","DKEFFIPPS250","Drosselklappe in PPs 250 Standard","mit eingespritzter Lippendichtung","17.EFFI",179.38,{"$f":"G2094*(1-VLOOKUP(F2094,Konditionen!$B:$D,3,0))","v":179.38}]
["Kunststoff","DKKPPS","DKKPPS140","Drosselklappe in PPs DN 140","mit Konsole, Muffenmaß","17.ALLG",127.44,{"$f":"G2099*(1-VLOOKUP(F2099,Konditionen!$B:$D,3,0))","v":127.44}]
["Kunststoff","DKKPPS","DKKPPS355","Drosselklappe in PPs DN 355","mit Konsole, Muffenmaß","17.ALLG",214.81,{"$f":"G2107*(1-VLOOKUP(F2107,Konditionen!$B:$D,3,0))","v":214.81}]
["Kunststoff","DKPPS","DKPPS225","Drosselklappe in PPs 225","in 15° Stufen verstellbar,Muffenmaß","17.ALLG",61.45,{"$f":"G2119*(1-VLOOKUP(F2119,Konditionen!$B:$D,3,0))","v":61.45}]
["Kunststoff","DKPPS","DKPPS250","Drosselklappe in PPs 250","in 15° Stufen verstellbar,Muffenmaß","17.ALLG",65.44,{"$f":"G2120*(1-VLOOKUP(F2120,Konditionen!$B:$D,3,0))","v":65.44}]
["Kunststoff","DKSDKPPS","DKSDKPPS160","Drosselklappe stufenlos PPs 160","mit Konsole, Flanschanschluss","17.ALLG",337.39,{"$f":"G2130*(1-VLOOKUP(F2130,Konditionen!$B:$D,3,0))","v":337.39}]
["Kunststoff","DKSDPPS","DKSDPPS180","Drosselklappe stufenlos PPs 180","nach DIN 1946-4, Flanschanschluss","17.ALLG",303.37,{"$f":"G2141*(1-VLOOKUP(F2141,Konditionen!$B:$D,3,0))","v":303.37}]
["Kunststoff","DKSDPPS","DKSDPPS200","Drosselklappe stufenlos PPs 200","nach DIN 1946-4, Flanschanschluss","17.ALLG",314.27999999999997,{"$f":"G2142*(1-VLOOKUP(F2142,Konditionen!$B:$D,3,0))","v":314.27999999999997}]
["Kunststoff","DKSKVPPS","DKSKVPPS250","Drosselklappe m. Konsole PPs 250","verstärkt, Flanschanschluss","17.ALLG",317.95,{"$f":"G2154*(1-VLOOKUP(F2154,Konditionen!$B:$D,3,0))","v":317.95}]
["Kunststoff","DKSPNPPS","DKSPNPPS200","Drosselklappe stufenlos PPs 200","mit Stellmotor PN","17.ALLG",281.55,{"$f":"G2162*(1-VLOOKUP(F2162,Konditionen!$B:$D,3,0))","v":281.55}]
["Kunststoff","DKSPNPPS","DKSPNPPS225","Drosselklappe stufenlos PPs 225","mit Stellmotor PN","17.ALLG",287.60000000000002,{"$f":"G2163*(1-VLOOKUP(F2163,Konditionen!$B:$D,3,0))","v":287.60000000000002}]
["Kunststoff","DKSPPS","DKSPPS1200","Drosselklappe in PPs 1200","stufenlos, Muffenmaß","17.ALLG",3254.58,{"$f":"G2175*(1-VLOOKUP(F2175,Konditionen!$B:$D,3,0))","v":3254.58}]
["Kunststoff","DKSPPS","DKSPPS250","Drosselklappe in PPs 250","stufenlos, Muffenmaß","17.ALLG",89.53,{"$f":"G2183*(1-VLOOKUP(F2183,Konditionen!$B:$D,3,0))","v":89.53}]
["Kunststoff","DKSPPS","DKSPPS280","Drosselklappe in PPs 280","stufenlos, Muffenmaß","17.ALLG",96.22,{"$f":"G2184*(1-VLOOKUP(F2184,Konditionen!$B:$D,3,0))","v":96.22}]
["Kunststoff","DKSPPS","DKSPPS710","Drosselklappe in PPs 710","stufenlos, Muffenmaß","17.ALLG",962.28,{"$f":"G2196*(1-VLOOKUP(F2196,Konditionen!$B:$D,3,0))","v":962.28}]
["Kunststoff","DKSVPPS","DKSVPPS160","Drosselklappe stufenlos PPs 160","verstärkt, Flanschanschluss","17.ALLG",213.62,{"$f":"G2204*(1-VLOOKUP(F2204,Konditionen!$B:$D,3,0))","v":213.62}]
["Kunststoff","DKSVPPS","DKSVPPS280","Drosselklappe stufenlos PPs 280","verstärkt, Flanschanschluss","17.ALLG",289.98,{"$f":"G2209*(1-VLOOKUP(F2209,Konditionen!$B:$D,3,0))","v":289.98}]
["Luftdurchlässe","DKZ","DKZ315","Montagesatz f. PKA/LKA      DKZ-315","für Montage ohne Kasten MBB nötig","70",16.010000000000002,{"$f":"G2217*(1-VLOOKUP(F2217,Konditionen!$B:$D,3,0))","v":16.010000000000002}]
["Flex Rohre und Schalldämpfer","DRATMFU","DRATMFU1601000","Flex-Verbinder DRATMFU     160.1000",null,"11",69.430000000000007,{"$f":"G2225*(1-VLOOKUP(F2225,Konditionen!$B:$D,3,0))","v":69.430000000000007}]
["Flex Rohre und Schalldämpfer","DRATMFU","DRATMFU200500","Flex-Verbinder DRATMFU     200.500",null,"11",62.72,{"$f":"G2230*(1-VLOOKUP(F2230,Konditionen!$B:$D,3,0))","v":62.72}]
["Flex Rohre und Schalldämpfer","DRATMFU","DRATMFU801500","Flex-Verbinder DRATMFU      80.1500",null,"11",58.27,{"$f":"G2238*(1-VLOOKUP(F2238,Konditionen!$B:$D,3,0))","v":58.27}]
["Rohre und Formteile","DRU","DRU1000","Regulierklappe   DRU           1000",null,"32",746.14,{"$f":"G2246*(1-VLOOKUP(F2246,Konditionen!$B:$D,3,0))","v":746.14}]
["Rohre und Formteile","DRU","DRU160","Regulierklappe   DRU           160",null,"32",67.7,{"$f":"G2251*(1-VLOOKUP(F2251,Konditionen!$B:$D,3,0))","v":67.7}]
["Rohre und Formteile","DRU","DRU355","Regulierklappe   DRU           355",null,"32",121.43,{"$f":"G2259*(1-VLOOKUP(F2259,Konditionen!$B:$D,3,0))","v":121.43}]
["Rohre und Formteile","DRU","DRU630","Regulierklappe   DRU           630",null,"32",328.73,{"$f":"G2265*(1-VLOOKUP(F2265,Konditionen!$B:$D,3,0))","v":328.73}]
["Luftdurchlässe","DRZ","DRZ250","Regulierklappe              DRZ-250",null,"70",20.87,{"$f":"G2273*(1-VLOOKUP(F2273,Konditionen!$B:$D,3,0))","v":20.87}]
["Kunststoff","DSBPPS","DSBPPS110F","Deflektorhaube DSB in PPs 110","mit Flanschanschluss","17.ALLG",163.83000000000001,{"$f":"G2281*(1-VLOOKUP(F2281,Konditionen!$B:$D,3,0))","v":163.83000000000001}]
["Kunststoff","DSBPPS","DSBPPS140M","Deflektorhaube DSB in PPs 140","mit Muffenmaß","17.ALLG",183.27,{"$f":"G2286*(1-VLOOKUP(F2286,Konditionen!$B:$D,3,0))","v":183.27}]
["Kunststoff","DSBPPS","DSBPPS225M","Deflektorhaube DSB in PPs 225","mit Muffenmaß","17.ALLG",212.32,{"$f":"G2294*(1-VLOOKUP(F2294,Konditionen!$B:$D,3,0))","v":212.32}]
["Kunststoff","DSBPPS","DSBPPS315F","Deflektorhaube DSB in PPs 315","mit Flanschanschluss","17.ALLG",358.02,{"$f":"G2299*(1-VLOOKUP(F2299,Konditionen!$B:$D,3,0))","v":358.02}]
["Rohre und Formteile","DSUI","DSUI25100","Drosselklappe    DSUI 25 Isol  100","25mm Isolierung","65",97.6,{"$f":"G2307*(1-VLOOKUP(F2307,Konditionen!$B:$D,3,0))","v":97.6}]
["Rohre und Formteile","DSUI","DSUI25450","Drosselklappe    DSUI 25 Isol  450","25mm Isolierung","65",279.08,{"$f":"G2315*(1-VLOOKUP(F2315,Konditionen!$B:$D,3,0))","v":279.08}]
["Rohre und Formteile","DSUI","DSUI50200","Drosselklappe    DSUI 50 Isol  200","50mm Isolierung","65",158.27000000000001,{"$f":"G2320*(1-VLOOKUP(F2320,Konditionen!$B:$D,3,0))","v":158.27000000000001}]
["Rohre und Formteile","DSUSN","DSUSN125230","Absperrklappe   DSUSN 230V   125","mit innenlieg. Motor CM230-L-125D.2","32",654.20000000000005,{"$f":"G2328*(1-VLOOKUP(F2328,Konditionen!$B:$D,3,0))","v":654.20000000000005}]
["Rohre und Formteile","DSUV2A","DSUV2A160","Sperrklappe      DSU V2A       160","Edelstahl W.Nr.1.4301","60",237.83,{"$f":"G2336*(1-VLOOKUP(F2336,Konditionen!$B:$D,3,0))","v":237.83}]
["Rohre und Formteile","DSUV2A","DSUV2A280","Sperrklappe      DSU V2A       280","Edelstahl W.Nr.1.4301","60",441.39,{"$f":"G2341*(1-VLOOKUP(F2341,Konditionen!$B:$D,3,0))","v":441.39}]
["Rohre und Formteile","DSUV2A","DSUV2A600","Sperrklappe      DSU V2A       600","Edelstahl W.Nr.1.4301","60",1298.01,{"$f":"G2349*(1-VLOOKUP(F2349,Konditionen!$B:$D,3,0))","v":1298.01}]
["Rohre und Formteile","DSU","DSU100","Sperrklappe      DSU           100",null,"32",54.37,{"$f":"G2354*(1-VLOOKUP(F2354,Konditionen!$B:$D,3,0))","v":54.37}]
["Rohre und Formteile","DSU","DSU200","Sperrklappe      DSU           200",null,"32",75.67,{"$f":"G2362*(1-VLOOKUP(F2362,Konditionen!$B:$D,3,0))","v":75.67}]
["Rohre und Formteile","DSU","DSU450","Sperrklappe      DSU           450",null,"32",199.21,{"$f":"G2370*(1-VLOOKUP(F2370,Konditionen!$B:$D,3,0))","v":199.21}]
["Rohre und Formteile","DSU","DSU630","Sperrklappe      DSU           630",null,"32",328.73,{"$f":"G2375*(1-VLOOKUP(F2375,Konditionen!$B:$D,3,0))","v":328.73}]
["Rohre und Formteile","DTBCU","DTBCU11224MOD","Sicherh.Klappe DTBCU MOD 24V  112","mit Motor TF24SR, m.Polyamidbuchse","32",1546.55,{"$f":"G2388*(1-VLOOKUP(F2388,Konditionen!$B:$D,3,0))","v":1546.55}]
["Rohre und Formteile","DTBCU","DTBCU125230","Sicherh.Klappe DTBCU   230V  125","mit Motor TF230, m.Polyamidbuchse","32",1256.24,{"$f":"G2389*(1-VLOOKUP(F2389,Konditionen!$B:$D,3,0))","v":1256.24}]
["Rohre und Formteile","DTBCU","DTBCU180230","Sicherh.Klappe DTBCU   230V  180","mit Motor TF230, m.Polyamidbuchse","32",1398.45,{"$f":"G2397*(1-VLOOKUP(F2397,Konditionen!$B:$D,3,0))","v":1398.45}]
["Rohre und Formteile","DTBCU","DTBCU280230","Sicherh.Klappe DTBCU   230V  280","mit Motor LF230, m.Polyamidbuchse","32",1932.17,{"$f":"G2405*(1-VLOOKUP(F2405,Konditionen!$B:$D,3,0))","v":1932.17}]
["Rohre und Formteile","DTBCU","DTBCU31524MOD","Sicherh.Klappe DTBCU MOD 24V  315","mit Motor LF24SR, m.Polyamidbuchse","32",2276.64,{"$f":"G2410*(1-VLOOKUP(F2410,Konditionen!$B:$D,3,0))","v":2276.64}]
["Rohre und Formteile","DTBCU","DTBCU50024MOD","Sicherh.Klappe DTBCU MOD 24V  500","mit Motor SF24SR, m.Polyamidbuchse","32",2773.2,{"$f":"G2418*(1-VLOOKUP(F2418,Konditionen!$B:$D,3,0))","v":2773.2}]
["Rohre und Formteile","DTBLU","DTBLU10024","Absperrklappe    DTBLU  24V  100","mit Motor CM24F, m.Polyamidbuchse","32",600.25,{"$f":"G2426*(1-VLOOKUP(F2426,Konditionen!$B:$D,3,0))","v":600.25}]
["Rohre und Formteile","DTBLU","DTBLU160230","Absperrklappe    DTBLU 230V  160","mit Motor CM230F, m.Polyamidbuchse","32",608.23,{"$f":"G2431*(1-VLOOKUP(F2431,Konditionen!$B:$D,3,0))","v":608.23}]
["Rohre und Formteile","DTBU","DTBU125230","Absperrklappe    DTBU 230V   125","m.Motor LM 230A-F, m.Polyamidbuchse","32",580.21,{"$f":"G2439*(1-VLOOKUP(F2439,Konditionen!$B:$D,3,0))","v":580.21}]
["Rohre und Formteile","DTBU","DTBU224230","Absperrklappe    DTBU 230V   224","m.Motor LM 230A-F, m.Polyamidbuchse","32",624.71,{"$f":"G2451*(1-VLOOKUP(F2451,Konditionen!$B:$D,3,0))","v":624.71}]
["Rohre und Formteile","DTBU","DTBU22424MOD","Absperrklappe DTBU MOD  24V  224","m.Motor LM24A-SR, m.Polyamidbuchse","32",1073.71,{"$f":"G2452*(1-VLOOKUP(F2452,Konditionen!$B:$D,3,0))","v":1073.71}]
["Rohre und Formteile","DTBU","DTBU31524MOD","Absperrklappe DTBU MOD  24V  315","m.Motor LM24A-SR, m.Polyamidbuchse","32",1113.18,{"$f":"G2460*(1-VLOOKUP(F2460,Konditionen!$B:$D,3,0))","v":1113.18}]
["Rohre und Formteile","DTBU","DTBU60024MOD","Absperrklappe DTBU MOD  24V  600","m.Motor SM24A-SR, m.Polyamidbuchse","32",1829.73,{"$f":"G2472*(1-VLOOKUP(F2472,Konditionen!$B:$D,3,0))","v":1829.73}]
["Rohre und Formteile","DTBU","DTBU630230","Absperrklappe    DTBU  230V  630","m.Motor SM 230A, m.Polyamidbuchse","32",1272.08,{"$f":"G2473*(1-VLOOKUP(F2473,Konditionen!$B:$D,3,0))","v":1272.08}]
["Rohre und Formteile","DTFU","DTFU10024","Absperrklappe  schnell DTFU  100","mit Motor LMQ24A, m.Polyamidbuchse","32",1329.08,{"$f":"G2481*(1-VLOOKUP(F2481,Konditionen!$B:$D,3,0))","v":1329.08}]
["Rohre und Formteile","DTFU","DTFU20024","Absperrklappe, schnell DTFU  200","mit Motor LMQ24A, m.Polyamidbuchse","32",1363.09,{"$f":"G2493*(1-VLOOKUP(F2493,Konditionen!$B:$D,3,0))","v":1363.09}]
["Rohre und Formteile","DTFU","DTFU20024MOD","Absperrklappe, Modul.  DTFU  200","mit Motor LMQ24A-SR,m.Polyamidbuche","32",1614.04,{"$f":"G2494*(1-VLOOKUP(F2494,Konditionen!$B:$D,3,0))","v":1614.04}]
["Rohre und Formteile","DTHUV2A","DTHUV2A200","Absperrklappe oh.Mot.DTHU V2A   200","m.Konsole für LM/NM/AM/LF/AF Motor","60",588.07000000000005,{"$f":"G2506*(1-VLOOKUP(F2506,Konditionen!$B:$D,3,0))","v":588.07000000000005}]
["Rohre und Formteile","DTHUV2A","DTHUV2A280","Absperrklappe oh.Mot.DTHU V2A   280","m.Konsole für LM/NM/AM/LF/AF Motor","60",835.09,{"$f":"G2509*(1-VLOOKUP(F2509,Konditionen!$B:$D,3,0))","v":835.09}]
["Rohre und Formteile","DTHUV2A","DTHUV2A560","Absperrklappe oh.Mot.DTHU V2A   560","m. Konsole für LM/NM/AM/LF/AF Motor","60",2135.1,{"$f":"G2516*(1-VLOOKUP(F2516,Konditionen!$B:$D,3,0))","v":2135.1}]
["Rohre und Formteile","DTHU","DTHU250","Absperrklappe oh. Mot. DTHU  250","m.Konsole für LM/NM/LF/TF Motor","32",172.29,{"$f":"G2528*(1-VLOOKUP(F2528,Konditionen!$B:$D,3,0))","v":172.29}]
["Rohre und Formteile","DTHU","DTHU560","Absperrklappe oh. Mot. DTHU  560","m.Konsole für LM/NM/LF/TF Motor","32",547.04,{"$f":"G2536*(1-VLOOKUP(F2536,Konditionen!$B:$D,3,0))","v":547.04}]
["Rohre und Formteile","DTH1U","DTH1U160","Absperrklappe oh. Mot. DTH1U   160","mit Konsole für LM-Motor","32",171.71,{"$f":"G2541*(1-VLOOKUP(F2541,Konditionen!$B:$D,3,0))","v":171.71}]
["Rohre und Formteile","DTH2U","DTH2U150","Absperrklappe oh. Mot. DTH2U   150","m. flacher Konsole für LM..F-Motor","32",171.71,{"$f":"G2549*(1-VLOOKUP(F2549,Konditionen!$B:$D,3,0))","v":171.71}]
["Rohre und Formteile","DTMU","DTMU140","Absperrklappe    DTMU        140","mit Handgriff","32",149.97999999999999,{"$f":"G2557*(1-VLOOKUP(F2557,Konditionen!$B:$D,3,0))","v":149.97999999999999}]
["Rohre und Formteile","DTMU","DTMU224","Absperrklappe    DTMU        224","mit Handgriff","32",178.21,{"$f":"G2562*(1-VLOOKUP(F2562,Konditionen!$B:$D,3,0))","v":178.21}]
["Rohre und Formteile","DTMU","DTMU500","Absperrklappe    DTMU        500","mit Handgriff","32",419.2,{"$f":"G2570*(1-VLOOKUP(F2570,Konditionen!$B:$D,3,0))","v":419.2}]
["Rohre und Formteile","DTUV2A","DTUV2A150","Absperrklappe    DTU V2A       150","Edelstahl W.Nr. 1.4301","60",383.31,{"$f":"G2578*(1-VLOOKUP(F2578,Konditionen!$B:$D,3,0))","v":383.31}]
["Rohre und Formteile","DTUV2A","DTUV2A250","Absperrklappe    DTU V2A        250","Edelstahl W.Nr. 1.4301","60",491.52,{"$f":"G2583*(1-VLOOKUP(F2583,Konditionen!$B:$D,3,0))","v":491.52}]
["Rohre und Formteile","DTUV2A","DTUV2A560","Absperrklappe    DTU V2A        560","Edelstahl W.Nr. 1.4301","60",1446.21,{"$f":"G2591*(1-VLOOKUP(F2591,Konditionen!$B:$D,3,0))","v":1446.21}]
["Rohre und Formteile","DTU","DTU125","Absperrklappe    DTU         125","DIN EN 1751 Dichtheitsklasse 4","32",123.85,{"$f":"G2596*(1-VLOOKUP(F2596,Konditionen!$B:$D,3,0))","v":123.85}]
["Rohre und Formteile","DTU","DTU280","Absperrklappe    DTU         280","DIN EN 1751 Dichtheitsklasse 4","32",207.5,{"$f":"G2604*(1-VLOOKUP(F2604,Konditionen!$B:$D,3,0))","v":207.5}]
["Rohre und Formteile","DTU","DTU600","Absperrklappe    DTU         600","DIN EN 1751 Dichtheitsklasse 4","32",504.63,{"$f":"G2612*(1-VLOOKUP(F2612,Konditionen!$B:$D,3,0))","v":504.63}]
["Rohre und Formteile","DTWU","DTWU125","Absperrklappe    DTWU        125","mit Querarm","32",134.66,{"$f":"G2617*(1-VLOOKUP(F2617,Konditionen!$B:$D,3,0))","v":134.66}]
["Rohre und Formteile","DTWU","DTWU280","Absperrklappe    DTWU        280","mit Querarm","32",223.97,{"$f":"G2625*(1-VLOOKUP(F2625,Konditionen!$B:$D,3,0))","v":223.97}]
["Rohre und Formteile","DTWU","DTWU600","Absperrklappe    DTWU        600","mit Querarm","32",547.98,{"$f":"G2633*(1-VLOOKUP(F2633,Konditionen!$B:$D,3,0))","v":547.98}]
["Luftdurchlässe","D11","D11300157S","Türeinbaugitter Alu D11 300 x 157mm","mit Gegenflansch","70",126.62,{"$f":"G2638*(1-VLOOKUP(F2638,Konditionen!$B:$D,3,0))","v":126.62}]
["Luftdurchlässe","D11","D11600197S","Türeinbaugitter Alu D11 600 x 197mm","mit Gegenflansch","70",176.28,{"$f":"G2647*(1-VLOOKUP(F2647,Konditionen!$B:$D,3,0))","v":176.28}]
["Rohre und Formteile","","ENDENVERSCHL140","Verschliessen vom Rohr- bzw. Form-","teilende NW 140 mit Folie","90",1,{"$f":"G2652*(1-VLOOKUP(F2652,Konditionen!$B:$D,3,0))","v":1}]
["Rohre und Formteile","","ENDENVERSCHL300","Verschliessen vom Rohr- bzw. Form-","teilende NW 300 mit Folie","90",2.4500000000000002,{"$f":"G2660*(1-VLOOKUP(F2660,Konditionen!$B:$D,3,0))","v":2.4500000000000002}]
["Rohre und Formteile","","ENDENVERSCHL63","Verschliessen vom Rohr- bzw. Form-","teilende mit Schutzkappe SKL  63","90",0.8,{"$f":"G2668*(1-VLOOKUP(F2668,Konditionen!$B:$D,3,0))","v":0.8}]
["Rohre und Formteile","","ENDENVERSCHL90","Verschliessen vom Rohr- bzw. Form-","teilende NW  90 mit Folie","90",0.8,{"$f":"G2673*(1-VLOOKUP(F2673,Konditionen!$B:$D,3,0))","v":0.8}]
["Rohre und Formteile","","EPFAS-1355","Enddeckel  EPF AS - 1     355","mit Wasserablaufstutzen 1/2\"","30",156.38999999999999,{"$f":"G2681*(1-VLOOKUP(F2681,Konditionen!$B:$D,3,0))","v":156.38999999999999}]
["Rohre und Formteile","EPFH","EPFH100","Enddeckel        EPFH          100",null,"30",22.35,{"$f":"G2686*(1-VLOOKUP(F2686,Konditionen!$B:$D,3,0))","v":22.35}]
["Rohre und Formteile","EPFH","EPFH160","Enddeckel        EPFH          160",null,"30",26.97,{"$f":"G2694*(1-VLOOKUP(F2694,Konditionen!$B:$D,3,0))","v":26.97}]
["Rohre und Formteile","EPFH","EPFH355","Enddeckel        EPFH          355",null,"30",76.41,{"$f":"G2702*(1-VLOOKUP(F2702,Konditionen!$B:$D,3,0))","v":76.41}]
["Rohre und Formteile","EPFH","EPFH600","Enddeckel        EPFH          600",null,"30",134.22999999999999,{"$f":"G2707*(1-VLOOKUP(F2707,Konditionen!$B:$D,3,0))","v":134.22999999999999}]
["Rohre und Formteile","EPF","EPF100","Enddeckel        EPF           100",null,"30",10.6,{"$f":"G2715*(1-VLOOKUP(F2715,Konditionen!$B:$D,3,0))","v":10.6}]
["Rohre und Formteile","EPF","EPF160","Enddeckel        EPF           160",null,"30",13.32,{"$f":"G2723*(1-VLOOKUP(F2723,Konditionen!$B:$D,3,0))","v":13.32}]
["Rohre und Formteile","EPF","EPF280","Enddeckel        EPF           280",null,"30",26.02,{"$f":"G2728*(1-VLOOKUP(F2728,Konditionen!$B:$D,3,0))","v":26.02}]
["Rohre und Formteile","EPF","EPF600","Enddeckel        EPF           600",null,"30",74.510000000000005,{"$f":"G2736*(1-VLOOKUP(F2736,Konditionen!$B:$D,3,0))","v":74.510000000000005}]
["Rohre und Formteile","EPF","EPF80","Enddeckel        EPF           80",null,"30",8.2799999999999994,{"$f":"G2741*(1-VLOOKUP(F2741,Konditionen!$B:$D,3,0))","v":8.2799999999999994}]
["Kunststoff","EPPS","EPPS140","PPs Enddeckel DN 140",null,"17.ALLG",9.39,{"$f":"G2749*(1-VLOOKUP(F2749,Konditionen!$B:$D,3,0))","v":9.39}]
["Kunststoff","EPPS","EPPS355","PPs Enddeckel DN 355",null,"17.ALLG",25.27,{"$f":"G2757*(1-VLOOKUP(F2757,Konditionen!$B:$D,3,0))","v":25.27}]
["Kunststoff","EPPS","EPPS560","PPs Enddeckel DN 560",null,"17.ALLG",104.22,{"$f":"G2762*(1-VLOOKUP(F2762,Konditionen!$B:$D,3,0))","v":104.22}]
["Rohre und Formteile","EPTR","EPTR150","Transfer Enddeckel EPTR        150",null,"35",24.77,{"$f":"G2775*(1-VLOOKUP(F2775,Konditionen!$B:$D,3,0))","v":24.77}]
["Rohre und Formteile","EPTR","EPTR350","Transfer Enddeckel EPTR        350",null,"35",44.39,{"$f":"G2783*(1-VLOOKUP(F2783,Konditionen!$B:$D,3,0))","v":44.39}]
["Rohre und Formteile","EPTR","EPTR400","Transfer Enddeckel EPTR        400",null,"35",57.2,{"$f":"G2784*(1-VLOOKUP(F2784,Konditionen!$B:$D,3,0))","v":57.2}]
["Rohre und Formteile","ESHU","ESHU140","Enddeckel mit Handgriff   ESHU  140",null,"30",31.38,{"$f":"G2792*(1-VLOOKUP(F2792,Konditionen!$B:$D,3,0))","v":31.38}]
["Rohre und Formteile","ESHU","ESHU500","Enddeckel mit Handgriff   ESHU  500",null,"30",126.99,{"$f":"G2804*(1-VLOOKUP(F2804,Konditionen!$B:$D,3,0))","v":126.99}]
["Rohre und Formteile","ESHU","ESHU630","Enddeckel mit Handgriff   ESHU  630",null,"30",176.95,{"$f":"G2805*(1-VLOOKUP(F2805,Konditionen!$B:$D,3,0))","v":176.95}]
["Rohre und Formteile","ESUAS-1","ESUAS-1200","Enddeckel  ESU AS - 1     200","mit Wasserablaufstutzen 1/2\"","30",128.57,{"$f":"G2813*(1-VLOOKUP(F2813,Konditionen!$B:$D,3,0))","v":128.57}]
["Rohre und Formteile","ESUFP","ESUFP100","Enddeckel   ESUFP   100","Lindab FireProtect Rund","80",18.53,{"$f":"G2825*(1-VLOOKUP(F2825,Konditionen!$B:$D,3,0))","v":18.53}]
["Rohre und Formteile","ESUFP","ESUFP1000","Enddeckel   ESUFP   1000","Lindab FireProtect Rund","80",567.32000000000005,{"$f":"G2826*(1-VLOOKUP(F2826,Konditionen!$B:$D,3,0))","v":567.32000000000005}]
["Rohre und Formteile","ESUFP","ESUFP315","Enddeckel   ESUFP   315","Lindab FireProtect Rund","80",48.46,{"$f":"G2838*(1-VLOOKUP(F2838,Konditionen!$B:$D,3,0))","v":48.46}]
["Rohre und Formteile","ESUFP","ESUFP710","Enddeckel   ESUFP   710","Lindab FireProtect Rund","80",310.58999999999997,{"$f":"G2846*(1-VLOOKUP(F2846,Konditionen!$B:$D,3,0))","v":310.58999999999997}]
["Rohre und Formteile","ESUFP","ESUFP800","Enddeckel   ESUFP   800","Lindab FireProtect Rund","80",362.72,{"$f":"G2847*(1-VLOOKUP(F2847,Konditionen!$B:$D,3,0))","v":362.72}]
["Rohre und Formteile","ESUI","ESUI50100","Enddeckel Isol   ESUI 50       100","50mm Isolierung","65",48.59,{"$f":"G2859*(1-VLOOKUP(F2859,Konditionen!$B:$D,3,0))","v":48.59}]
["Rohre und Formteile","ESUI","ESUI50450","Enddeckel Isol   ESUI 50       450","50mm Isolierung","65",190.08,{"$f":"G2867*(1-VLOOKUP(F2867,Konditionen!$B:$D,3,0))","v":190.08}]
["Rohre und Formteile","ESUI","ESUI50500","Enddeckel Isol   ESUI 50       500","50mm Isolierung","65",197.84,{"$f":"G2868*(1-VLOOKUP(F2868,Konditionen!$B:$D,3,0))","v":197.84}]
["Rohre und Formteile","ESUV2A","ESUV2A300","Enddeckel       ESU V2A        300","Edelstahl W.Nr. 1.4301","60",116.08,{"$f":"G2880*(1-VLOOKUP(F2880,Konditionen!$B:$D,3,0))","v":116.08}]
["Rohre und Formteile","ESUV2A","ESUV2A630","Enddeckel       ESU V2A        630","Edelstahl W.Nr. 1.4301","60",309.25,{"$f":"G2888*(1-VLOOKUP(F2888,Konditionen!$B:$D,3,0))","v":309.25}]
["Rohre und Formteile","ESU","ESU1000","Enddeckel        ESU           1000",null,"30",377.85,{"$f":"G2893*(1-VLOOKUP(F2893,Konditionen!$B:$D,3,0))","v":377.85}]
["Rohre und Formteile","ESU","ESU125","Enddeckel        ESU           125",null,"30",14.48,{"$f":"G2896*(1-VLOOKUP(F2896,Konditionen!$B:$D,3,0))","v":14.48}]
["Rohre und Formteile","ESU","ESU450","Enddeckel        ESU           450",null,"30",75.67,{"$f":"G2910*(1-VLOOKUP(F2910,Konditionen!$B:$D,3,0))","v":75.67}]
["Rohre und Formteile","ESU","ESU630","Enddeckel        ESU           630",null,"30",98.55,{"$f":"G2915*(1-VLOOKUP(F2915,Konditionen!$B:$D,3,0))","v":98.55}]
["Rohre und Formteile","","ETUMG1120","Einlaßteil       ETU MG   1120.1430","mit Gitter","30",646.12,{"$f":"G2923*(1-VLOOKUP(F2923,Konditionen!$B:$D,3,0))","v":646.12}]
["Rohre und Formteile","ETUMG","ETUMG160","Einlaßteil       ETU MG    160.224","mit Gitter","30",113.04,{"$f":"G2928*(1-VLOOKUP(F2928,Konditionen!$B:$D,3,0))","v":113.04}]
["Rohre und Formteile","ETUMG","ETUMG355","Einlaßteil       ETU MG    355.450","mit Gitter","30",190.28,{"$f":"G2936*(1-VLOOKUP(F2936,Konditionen!$B:$D,3,0))","v":190.28}]
["Rohre und Formteile","ETUMG","ETUMG80","Einlaßteil       ETU MG     80.140","mit Gitter","30",79.97,{"$f":"G2944*(1-VLOOKUP(F2944,Konditionen!$B:$D,3,0))","v":79.97}]
["Rohre und Formteile","ETU","ETU112","Einlaßteil       ETU       112.180",null,"30",44.39,{"$f":"G2949*(1-VLOOKUP(F2949,Konditionen!$B:$D,3,0))","v":44.39}]
["Rohre und Formteile","ETU","ETU200","Einlaßteil       ETU       200.280",null,"30",59.29,{"$f":"G2957*(1-VLOOKUP(F2957,Konditionen!$B:$D,3,0))","v":59.29}]
["Rohre und Formteile","ETU","ETU450","Einlaßteil       ETU       450.560",null,"30",122.38,{"$f":"G2965*(1-VLOOKUP(F2965,Konditionen!$B:$D,3,0))","v":122.38}]
["Rohre und Formteile","ETU","ETU630","Einlaßteil       ETU       630.800",null,"30",180.1,{"$f":"G2970*(1-VLOOKUP(F2970,Konditionen!$B:$D,3,0))","v":180.1}]
["Luftdurchlässe","EXAD","EXAD-315-N","Abluftschalldämpfer      EXAD-315-N","Einströmdüse, Irisblende und Gitter","70",672.86,{"$f":"G2978*(1-VLOOKUP(F2978,Konditionen!$B:$D,3,0))","v":672.86}]
["Rohre und Formteile","FBLDFSL","FBLDFSL35610000","Flexrohr FBLDFSL 356.10000 AP","Schall- und wärmeisoliert","90",295.10000000000002,{"$f":"G2983*(1-VLOOKUP(F2983,Konditionen!$B:$D,3,0))","v":295.10000000000002}]
["Rohre und Formteile","FDFI","FDFI12710000","Isolierhülle 25 mm Isol. 127.10000","FDFI 127.10000 AP","11",89.58,{"$f":"G2991*(1-VLOOKUP(F2991,Konditionen!$B:$D,3,0))","v":89.58}]
["Kunststoff","FDICHT","FDICHTEPDM1250","Flachdichtung in EPDM  für DN 1250",null,"17.ALLG",484.16,{"$f":"G2999*(1-VLOOKUP(F2999,Konditionen!$B:$D,3,0))","v":484.16}]
["Kunststoff","FDICHT","FDICHTEPDM225","Flachdichtung in EPDM  für DN 225",null,"17.ALLG",6.58,{"$f":"G3004*(1-VLOOKUP(F3004,Konditionen!$B:$D,3,0))","v":6.58}]
["Kunststoff","FDICHT","FDICHTEPDM500","Flachdichtung in EPDM  für DN 500",null,"17.ALLG",52.59,{"$f":"G3012*(1-VLOOKUP(F3012,Konditionen!$B:$D,3,0))","v":52.59}]
["Kunststoff","FDICHT","FDICHTEPDM700","Flachdichtung in EPDM  für DN 700",null,"17.ALLG",171.18,{"$f":"G3017*(1-VLOOKUP(F3017,Konditionen!$B:$D,3,0))","v":171.18}]
["Kunststoff","FDICHT","FDICHTPVC-P1200","Flachdichtung in PVC-P  für DN 1200",null,"17.ALLG",190.51,{"$f":"G3025*(1-VLOOKUP(F3025,Konditionen!$B:$D,3,0))","v":190.51}]
["Kunststoff","FDICHT","FDICHTPVC-P280","Flachdichtung in PVC-P  für DN 280",null,"17.ALLG",5.07,{"$f":"G3034*(1-VLOOKUP(F3034,Konditionen!$B:$D,3,0))","v":5.07}]
["Kunststoff","FDICHT","FDICHTPVC-P50","Flachdichtung in PVC-P  für DN 50",null,"17.ALLG",0.75,{"$f":"G3039*(1-VLOOKUP(F3039,Konditionen!$B:$D,3,0))","v":0.75}]
["Kunststoff","FDICHT","FDICHTPVC-P75","Flachdichtung in PVC-P  für DN 75",null,"17.ALLG",1.51,{"$f":"G3047*(1-VLOOKUP(F3047,Konditionen!$B:$D,3,0))","v":1.51}]
["Montagezubehör","FHGL","FHGL210000","Seilsystem FHGL 2.10000","Schlaufe","10.ALLG",11.76,{"$f":"G3055*(1-VLOOKUP(F3055,Konditionen!$B:$D,3,0))","v":11.76}]
["Montagezubehör","FHGS","FHGS21000","Seilsystem FHGS 2.1000","Gewinde M 8                TPZ21EF8","10.ALLG",5.44,{"$f":"G3060*(1-VLOOKUP(F3060,Konditionen!$B:$D,3,0))","v":5.44}]
["Montagezubehör","FHGT","FHGT22000","Seilsystem FHGT 2.2000","Queranker","10.ALLG",6.14,{"$f":"G3068*(1-VLOOKUP(F3068,Konditionen!$B:$D,3,0))","v":6.14}]
["Montagezubehör","FHLE","FHLE210000","Seilsystem FHLE 2.10000","Schlaufe","10.ALLG",11.76,{"$f":"G3073*(1-VLOOKUP(F3073,Konditionen!$B:$D,3,0))","v":11.76}]
["Montagezubehör","FHL","FHL23000","Drahtseil mit Schlaufe FHL2.3000","Größe2, L=3000 mm","10.ALLG",6.17,{"$f":"G3081*(1-VLOOKUP(F3081,Konditionen!$B:$D,3,0))","v":6.17}]
["Montagezubehör","FHRDL","FHRDL24000","Seilsystem FHRDL 2.4000","Schlaufe","10.ALLG",8.02,{"$f":"G3089*(1-VLOOKUP(F3089,Konditionen!$B:$D,3,0))","v":8.02}]
["Montagezubehör","FHRDS","FHRDS23000","Seilsystem FHRDS 2.3000","Gewinde M 8","10.ALLG",7.38,{"$f":"G3094*(1-VLOOKUP(F3094,Konditionen!$B:$D,3,0))","v":7.38}]
["Montagezubehör","FHRDT","FHRDT25000","Seilsystem FHRDT 2.5000","Queranker","10.ALLG",8.66,{"$f":"G3102*(1-VLOOKUP(F3102,Konditionen!$B:$D,3,0))","v":8.66}]
["Montagezubehör","FHS","FHS210000","Drahtseil mit Gewindeende M8, Gr.2","FHS2.10000, L=10.000mm","10.ALLG",10.57,{"$f":"G3110*(1-VLOOKUP(F3110,Konditionen!$B:$D,3,0))","v":10.57}]
["Montagezubehör","FHTE","FHTE21000","Seilsystem FHTE 2.1000","Queranker","10.ALLG",5.44,{"$f":"G3115*(1-VLOOKUP(F3115,Konditionen!$B:$D,3,0))","v":5.44}]
["Montagezubehör","FHT","FHT22000","Drahtseil mit Queranker FHT2.2000","Größe 2, L = 2000 mm","10.ALLG",5.53,{"$f":"G3123*(1-VLOOKUP(F3123,Konditionen!$B:$D,3,0))","v":5.53}]
["Rohre und Formteile","FIBOX","FIBOX125","Filterbox FIBOX 125  Safe-Anschluss","für Panel-Filter 287x287x47mm","37",230.42,{"$f":"G3135*(1-VLOOKUP(F3135,Konditionen!$B:$D,3,0))","v":230.42}]
["Rohre und Formteile","FIBOX","FIBOX150","Filterbox FIBOX 150  Safe-Anschluss","für Panel-Filter 287x287mm","37",238.43,{"$f":"G3136*(1-VLOOKUP(F3136,Konditionen!$B:$D,3,0))","v":238.43}]
["Rohre und Formteile","FIBO","FIBO150","Filterbox FIBO 150   Safe-Anschluss","für Panel-Filter 287x287x47mm","37",170.6,{"$f":"G3144*(1-VLOOKUP(F3144,Konditionen!$B:$D,3,0))","v":170.6}]
["Montagezubehör","FISEAII","FISCHEREAIIM8X40","Fischer Einschlaganker EA II M8X40","VPE=50 Stk","90",17.5,{"$f":"G3154*(1-VLOOKUP(F3154,Konditionen!$B:$D,3,0))","v":17.5}]
["Montagezubehör","FISCHERU","FISCHERUX10","Fischer Universaldübel UX 10x60","VPE=50 Stk   *** Netto-Preis***","90",7.6,{"$f":"G3158*(1-VLOOKUP(F3158,Konditionen!$B:$D,3,0))","v":7.6}]
["Filter","FKO","FKO125","Filterbox     FKO           125","180x180x180mm, Filter G 3","37",37.94,{"$f":"G3170*(1-VLOOKUP(F3170,Konditionen!$B:$D,3,0))","v":37.94}]
["Flex Rohre und Schalldämpfer","FLAMBSE","FLAMBSE15010000","Flamex B se 150.10000","PU Absaugschlauch","42.ALLG",457.59,{"$f":"G3178*(1-VLOOKUP(F3178,Konditionen!$B:$D,3,0))","v":457.59}]
["Flex Rohre und Schalldämpfer","FLAMBSE","FLAMBSE16010000","Flamex B se 160.10000","PU Absaugschlauch","42.ALLG",486.19,{"$f":"G3179*(1-VLOOKUP(F3179,Konditionen!$B:$D,3,0))","v":486.19}]
["Rohre und Formteile","FLD","FLD10210000","Flexschlauch     FLD      102.10000","Aluminiumlaminat mit Drahteinlage","90",30.06,{"$f":"G3191*(1-VLOOKUP(F3191,Konditionen!$B:$D,3,0))","v":30.06}]
["Smarttools","FLEXSHAF","FLEXSHAFT","Biegewelle FLEXSHAFT 10 Meter","mit Bürstenkopf Perlon 180mm","90",210,{"$f":"G3199*(1-VLOOKUP(F3199,Konditionen!$B:$D,3,0))","v":210}]
["Rohre und Formteile","FLMMETU","FLMMETU1000","Montage Metufl.??     FLMMETU  1000","Netto-Preis","90",10.7,{"$f":"G3200*(1-VLOOKUP(F3200,Konditionen!$B:$D,3,0))","v":10.7}]
["Rohre und Formteile","FLMMETU","FLMMETU400","Montage Metufl.??     FLMMETU  400","Netto-Preis","90",3.55,{"$f":"G3212*(1-VLOOKUP(F3212,Konditionen!$B:$D,3,0))","v":3.55}]
["Rohre und Formteile","FLMMETU","FLMMETU900","Montage Metufl.??     FLMMETU  900","Netto-Preis","90",9.1999999999999993,{"$f":"G3220*(1-VLOOKUP(F3220,Konditionen!$B:$D,3,0))","v":9.1999999999999993}]
["Montagezubehör","FLRI","FLRI1250","Flachflansch     FL Reihe I   1250","DIN 24154 JULI1990 Reihe I verzinkt","90",60.5,{"$f":"G3225*(1-VLOOKUP(F3225,Konditionen!$B:$D,3,0))","v":60.5}]
["Montagezubehör","FLRI","FLRI250","Flachflansch     FL Reihe I    250","DIN 24154 JULI1990 Reihe I verzinkt","90",6.25,{"$f":"G3233*(1-VLOOKUP(F3233,Konditionen!$B:$D,3,0))","v":6.25}]
["Montagezubehör","FLRI","FLRI560","Flachflansch     FL Reihe I    560","DIN 24154 JULI1990 Reihe I verzinkt","90",16.7,{"$f":"G3241*(1-VLOOKUP(F3241,Konditionen!$B:$D,3,0))","v":16.7}]
["Montagezubehör","FLRI","FLRI800","Flachflansch     FL Reihe I    800","DIN 24154 JULI1990 Reihe I verzinkt","90",24.1,{"$f":"G3246*(1-VLOOKUP(F3246,Konditionen!$B:$D,3,0))","v":24.1}]
["Montagezubehör","FLV2A","FLV2A180","Flachflansch     FL V2A        180","Edelstahl W.Nr. 1.4301","60",152.44999999999999,{"$f":"G3254*(1-VLOOKUP(F3254,Konditionen!$B:$D,3,0))","v":152.44999999999999}]
["Montagezubehör","FLV2A","FLV2A400","Flachflansch     FL V2A        400","Edelstahl W.Nr. 1.4301","60",236.36,{"$f":"G3262*(1-VLOOKUP(F3262,Konditionen!$B:$D,3,0))","v":236.36}]
["Rohre und Formteile","FLV2A","FLV2A630","Flachflansch     FL V2A        630","Edelstahl W.Nr. 1.4301","60",396.53,{"$f":"G3267*(1-VLOOKUP(F3267,Konditionen!$B:$D,3,0))","v":396.53}]
["Rohre und Formteile","FL","FL125","Flachflansch     FL            125","Gemäß Lindab Werksnorm","90",3.5,{"$f":"G3275*(1-VLOOKUP(F3275,Konditionen!$B:$D,3,0))","v":3.5}]
["Rohre und Formteile","FL","FL180","Flachflansch     FL            180","Gemäß Lindab Werksnorm","90",5.3,{"$f":"G3283*(1-VLOOKUP(F3283,Konditionen!$B:$D,3,0))","v":5.3}]
["Rohre und Formteile","FL","FL315","Flachflansch     FL            315","Gemäß Lindab Werksnorm","90",10.6,{"$f":"G3289*(1-VLOOKUP(F3289,Konditionen!$B:$D,3,0))","v":10.6}]
["Rohre und Formteile","FL","FL710","Flachflansch     FL            710","Gemäß Lindab Werksnorm","90",30,{"$f":"G3297*(1-VLOOKUP(F3297,Konditionen!$B:$D,3,0))","v":30}]
["Rohre und Formteile","FMDU","FMDU125","Volumenstrommesser   FMDU      125",null,"32",159.21,{"$f":"G3302*(1-VLOOKUP(F3302,Konditionen!$B:$D,3,0))","v":159.21}]
["Rohre und Formteile","FMDU","FMDU80","Volumenstrommesser   FMDU       80",null,"32",148.30000000000001,{"$f":"G3310*(1-VLOOKUP(F3310,Konditionen!$B:$D,3,0))","v":148.30000000000001}]
["Rohre und Formteile","FMU","FMU250","Volumenstrommesser     FMU     250",null,"32",154.07,{"$f":"G3315*(1-VLOOKUP(F3315,Konditionen!$B:$D,3,0))","v":154.07}]
["Ventilatoren","FRQ5S","FRQ5S10AV2","FRQ5S-10A V2  Frequenzumformer","208-480V,max. 10A,Sinusfilter","7.ALLG",1117,{"$f":"G3323*(1-VLOOKUP(F3323,Konditionen!$B:$D,3,0))","v":1117}]
["Luftdurchlässe","F10","F1010001000","Gitter Alu          F10-1000x1000mm","sichtb. Schraubbef.; Rasterlamellen","70",574.29,{"$f":"G3331*(1-VLOOKUP(F3331,Konditionen!$B:$D,3,0))","v":574.29}]
["Luftdurchlässe","F10","F101000400","Gitter Alu           F10-1000x400mm","sichtb. Schraubbef.; Rasterlamellen","70",281.76,{"$f":"G3336*(1-VLOOKUP(F3336,Konditionen!$B:$D,3,0))","v":281.76}]
["Luftdurchlässe","F10","F101200200","Gitter Alu           F10-1200x200mm","sichtb. Schraubbef.; Rasterlamellen","70",180.14,{"$f":"G3344*(1-VLOOKUP(F3344,Konditionen!$B:$D,3,0))","v":180.14}]
["Luftdurchlässe","F","F1025225","Mengeneinstellsatz     F 1025 x 225","Lamellen gegenläufig","70",48.76,{"$f":"G3352*(1-VLOOKUP(F3352,Konditionen!$B:$D,3,0))","v":48.76}]
["Luftdurchlässe","F10","F10300250","Gitter Alu            F10-300x250mm","sichtb. Schraubbef.; Rasterlamellen","70",89.74,{"$f":"G3357*(1-VLOOKUP(F3357,Konditionen!$B:$D,3,0))","v":89.74}]
["Luftdurchlässe","F10","F10500100","Gitter Alu            F10-500x100mm","sichtb. Schraubbef.; Rasterlamellen","70",74.81,{"$f":"G3365*(1-VLOOKUP(F3365,Konditionen!$B:$D,3,0))","v":74.81}]
["Luftdurchlässe","F10","F10500400","Gitter Alu            F10-500x400mm","sichtb. Schraubbef.; Rasterlamellen","70",170.69,{"$f":"G3370*(1-VLOOKUP(F3370,Konditionen!$B:$D,3,0))","v":170.69}]
["Luftdurchlässe","F10","F10600500","Gitter Alu            F10-600x500mm","sichtb. Schraubbef.; Rasterlamellen","70",225.82,{"$f":"G3378*(1-VLOOKUP(F3378,Konditionen!$B:$D,3,0))","v":225.82}]
["Luftdurchlässe","F10","F10800500","Gitter Alu            F10-800x500mm","sichtb. Schraubbef.; Rasterlamellen","70",277.17,{"$f":"G3386*(1-VLOOKUP(F3386,Konditionen!$B:$D,3,0))","v":277.17}]
["Luftdurchlässe","F","F1225325","Mengeneinstellsatz     F 1225 x 325","Lamellen gegenläufig","70",62.92,{"$f":"G3391*(1-VLOOKUP(F3391,Konditionen!$B:$D,3,0))","v":62.92}]
["Luftdurchlässe","F20","F20500150S","Gitter Alu Standard   F20-500x150mm","mit Klemmfedern; Rasterlamellen","70",63.07,{"$f":"G3399*(1-VLOOKUP(F3399,Konditionen!$B:$D,3,0))","v":63.07}]
["Luftdurchlässe","F20","F20600200S","Gitter Alu Standard   F20-600x200mm","mit Klemmfedern; Rasterlamellen","70",76.510000000000005,{"$f":"G3404*(1-VLOOKUP(F3404,Konditionen!$B:$D,3,0))","v":76.510000000000005}]
["Luftdurchlässe","F","F525125","Mengeneinstellsatz     F  525 x 125","Lamellen gegenläufig","70",24.38,{"$f":"G3413*(1-VLOOKUP(F3413,Konditionen!$B:$D,3,0))","v":24.38}]
["Luftdurchlässe","F","F825225","Mengeneinstellsatz     F  825 x 225","Lamellen gegenläufig","70",40.6,{"$f":"G3421*(1-VLOOKUP(F3421,Konditionen!$B:$D,3,0))","v":40.6}]
["Luftdurchlässe","GAT","GAT1000200","Mengeneinstellsatz   GAT-1000x200mm","als gegenläufige Mengenregulierung","70",165.06,{"$f":"G3426*(1-VLOOKUP(F3426,Konditionen!$B:$D,3,0))","v":165.06}]
["Luftdurchlässe","GAT","GAT1200500","Mengeneinstellsatz   GAT-1200x500mm","als gegenläufige Mengenregulierung","70",447.04,{"$f":"G3434*(1-VLOOKUP(F3434,Konditionen!$B:$D,3,0))","v":447.04}]
["Luftdurchlässe","GAT","GAT300100S","Mengeneinstellsatz  GAT-300x100mm-S","als gegenläufige Mengenregulierung","70",32.24,{"$f":"G3442*(1-VLOOKUP(F3442,Konditionen!$B:$D,3,0))","v":32.24}]
["Luftdurchlässe","GAT","GAT400100S","Mengeneinstellsatz  GAT-400x100mm-S","als gegenläufige Mengenregulierung","70",35.65,{"$f":"G3447*(1-VLOOKUP(F3447,Konditionen!$B:$D,3,0))","v":35.65}]
["Luftdurchlässe","GAT","GAT500150S","Mengeneinstellsatz  GAT-500x150mm-S","als gegenläufige Mengenregulierung","70",44.16,{"$f":"G3455*(1-VLOOKUP(F3455,Konditionen!$B:$D,3,0))","v":44.16}]
["Luftdurchlässe","GAT","GAT600400","Mengeneinstellsatz    GAT-600x400mm","als gegenläufige Mengenregulierung","70",165.06,{"$f":"G3467*(1-VLOOKUP(F3467,Konditionen!$B:$D,3,0))","v":165.06}]
["Luftdurchlässe","GAT","GAT600500","Mengeneinstellsatz    GAT-600x500mm","als gegenläufige Mengenregulierung","70",221.27,{"$f":"G3468*(1-VLOOKUP(F3468,Konditionen!$B:$D,3,0))","v":221.27}]
["Luftdurchlässe","GGR","GGR1000200","Einbaurahmen         GGR-1000x200mm","zum Zusammenstecken","70",43.34,{"$f":"G3476*(1-VLOOKUP(F3476,Konditionen!$B:$D,3,0))","v":43.34}]
["Luftdurchlässe","GGR","GGR1400200","Einbaurahmen         GGR-1400x200mm","zum Zusammenstecken","70",49.9,{"$f":"G3488*(1-VLOOKUP(F3488,Konditionen!$B:$D,3,0))","v":49.9}]
["Luftdurchlässe","GGR","GGR1400300","Einbaurahmen         GGR-1400x300mm","zum Zusammenstecken","70",51.6,{"$f":"G3489*(1-VLOOKUP(F3489,Konditionen!$B:$D,3,0))","v":51.6}]
["Luftdurchlässe","GGR","GGR1600500","Einbaurahmen         GGR-1600x500mm","zum Zusammenstecken","70",58.17,{"$f":"G3497*(1-VLOOKUP(F3497,Konditionen!$B:$D,3,0))","v":58.17}]
["Luftdurchlässe","GGR","GGR2000500","Einbaurahmen         GGR-2000x500mm","zum Zusammenstecken","70",64.73,{"$f":"G3509*(1-VLOOKUP(F3509,Konditionen!$B:$D,3,0))","v":64.73}]
["Luftdurchlässe","GGR","GGR2000600","Einbaurahmen         GGR-2000x600mm","zum Zusammenstecken","70",66.33,{"$f":"G3510*(1-VLOOKUP(F3510,Konditionen!$B:$D,3,0))","v":66.33}]
["Luftdurchlässe","GGR","GGR400300","Einbaurahmen          GGR-400x300mm","zum Zusammenstecken","70",35.08,{"$f":"G3522*(1-VLOOKUP(F3522,Konditionen!$B:$D,3,0))","v":35.08}]
["Luftdurchlässe","GGR","GGR500300S","Einbaurahmen Standard GGR-500x300mm","zum Zusammenstecken","70",57.96,{"$f":"G3530*(1-VLOOKUP(F3530,Konditionen!$B:$D,3,0))","v":57.96}]
["Luftdurchlässe","GGR","GGR500400","Einbaurahmen          GGR-500x400mm","zum Zusammenstecken","70",38.49,{"$f":"G3531*(1-VLOOKUP(F3531,Konditionen!$B:$D,3,0))","v":38.49}]
["Luftdurchlässe","GGR","GGR600600","Einbaurahmen          GGR-600x600mm","zum Zusammenstecken","70",43.34,{"$f":"G3541*(1-VLOOKUP(F3541,Konditionen!$B:$D,3,0))","v":43.34}]
["Rohre und Formteile","GISOL","GISOL2503151000","Dachdurchf. GISOL 250.315.1000.____","mit Platte aus Polymergummi,","53",507.99,{"$f":"G3552*(1-VLOOKUP(F3552,Konditionen!$B:$D,3,0))","v":507.99}]
["Rohre und Formteile","GISOL","GISOL3155001000","Dachdurchf. GISOL 315.500.1000.____","mit Platte aus Polymergummi,","53",717.49,{"$f":"G3557*(1-VLOOKUP(F3557,Konditionen!$B:$D,3,0))","v":717.49}]
["Rohre und Formteile","GISOL","GISOL6308001000","Dachdurchf. GISOL 630.800.1000.____","mit Platte aus Polymergummi,","53",1470.35,{"$f":"G3565*(1-VLOOKUP(F3565,Konditionen!$B:$D,3,0))","v":1470.35}]
["Luftdurchlässe","GRZ1","GRZ1250","Einbautraverse für RCG     GRZ1-250","inkl. Schraube und Abdeckkappe","70",33.01,{"$f":"G3573*(1-VLOOKUP(F3573,Konditionen!$B:$D,3,0))","v":33.01}]
["Luftdurchlässe","GS23H","GS23H-E-2-200-21","Deckendurchlass   GS23-H-E-2-200-21","Rasterlamell., Abluft, Mess/Drossel","70",369.49,{"$f":"G3578*(1-VLOOKUP(F3578,Konditionen!$B:$D,3,0))","v":369.49}]
["Luftdurchlässe","GTI","GTI250A","Zuluftdüse                GTI-250-A","verzinkter Stahl, RAL 9010","70",371.61,{"$f":"G3586*(1-VLOOKUP(F3586,Konditionen!$B:$D,3,0))","v":371.61}]
["Rohre und Formteile","GWS","GWS6","Gewindestange  GWS 6  M6x1000 verz.","Bei Bundabnahme 50 Stk. 0,25/Stk.","90",0.3,{"$f":"G3594*(1-VLOOKUP(F3594,Konditionen!$B:$D,3,0))","v":0.3}]
["Luftdurchlässe","G10","G101000200","Gitter Alu           G10-1000x200mm","Rahmen mit Warzenlöchern","70",237.29,{"$f":"G3599*(1-VLOOKUP(F3599,Konditionen!$B:$D,3,0))","v":237.29}]
["Luftdurchlässe","G10","G101200250","Gitter Alu           G10-1200x250mm","Rahmen mit Warzenlöchern","70",305.32,{"$f":"G3607*(1-VLOOKUP(F3607,Konditionen!$B:$D,3,0))","v":305.32}]
["Luftdurchlässe","G10","G10300150","Gitter Alu            G10-300x150mm","Rahmen mit Warzenlöchern","70",92.43,{"$f":"G3612*(1-VLOOKUP(F3612,Konditionen!$B:$D,3,0))","v":92.43}]
["Luftdurchlässe","G10","G10400200","Gitter Alu            G10-400x200mm","Rahmen mit Warzenlöchern","70",132.51,{"$f":"G3620*(1-VLOOKUP(F3620,Konditionen!$B:$D,3,0))","v":132.51}]
["Luftdurchlässe","G10","G10500250","Gitter Alu            G10-500x250mm","Rahmen mit Warzenlöchern","70",168.1,{"$f":"G3628*(1-VLOOKUP(F3628,Konditionen!$B:$D,3,0))","v":168.1}]
["Luftdurchlässe","G10","G10600150","Gitter Alu            G10-600x150mm","Rahmen mit Warzenlöchern","70",135.61000000000001,{"$f":"G3633*(1-VLOOKUP(F3633,Konditionen!$B:$D,3,0))","v":135.61000000000001}]
["Luftdurchlässe","G10","G10800200","Gitter Alu            G10-800x200mm","Rahmen mit Warzenlöchern","70",200.66,{"$f":"G3641*(1-VLOOKUP(F3641,Konditionen!$B:$D,3,0))","v":200.66}]
["Luftdurchlässe","G20","G20400100S","Gitter Alu Standard   G20-400x100mm","Rahmen mit Klemmfedern","70",47.74,{"$f":"G3649*(1-VLOOKUP(F3649,Konditionen!$B:$D,3,0))","v":47.74}]
["Luftdurchlässe","G20","G20500200S","Gitter Alu Standard   G20-500x200mm","Rahmen mit Klemmfedern","70",71.81,{"$f":"G3654*(1-VLOOKUP(F3654,Konditionen!$B:$D,3,0))","v":71.81}]
["Rohre und Formteile","HF","HF1120","Deflektorhaube   HF           1120","m. 2 Flansche","53",2117.63,{"$f":"G3662*(1-VLOOKUP(F3662,Konditionen!$B:$D,3,0))","v":2117.63}]
["Rohre und Formteile","HF","HF630","Deflektorhaube   HF            630","m. 2 Flansche","53",664.38,{"$f":"G3670*(1-VLOOKUP(F3670,Konditionen!$B:$D,3,0))","v":664.38}]
["Montagezubehör","HKB","HKB388X25","Hammerkopfbefestiger HKB38 8x25","für Schienen 38/40, 41/41","90",0.45,{"$f":"G3676*(1-VLOOKUP(F3676,Konditionen!$B:$D,3,0))","v":0.45}]
["Luftdurchlässe","HLD","HLD0400","Verdrängungsauslass       HLD-0-400","für Wand- und abgehängte Montage","70",941.35,{"$f":"G3684*(1-VLOOKUP(F3684,Konditionen!$B:$D,3,0))","v":941.35}]
["Luftdurchlässe","HLD","HLD1400","Verdrängungsauslass       HLD-1-400","für Wand- und abgehängte Montage","70",1655.96,{"$f":"G3689*(1-VLOOKUP(F3689,Konditionen!$B:$D,3,0))","v":1655.96}]
["Luftdurchlässe","HLD","HLD3250","Verdrängungsauslass       HLD-3-250","für Wand- und abgehängte Montage","70",1526.08,{"$f":"G3697*(1-VLOOKUP(F3697,Konditionen!$B:$D,3,0))","v":1526.08}]
["Luftdurchlässe","HLZ","HLZ250","Konsolen zur Wandmontage    HLZ-250","Zubehör für HLD","70",67.62,{"$f":"G3702*(1-VLOOKUP(F3702,Konditionen!$B:$D,3,0))","v":67.62}]
["Rohre und Formteile","HNV2A","HNV2A140","Deflektorhaube   HN V2A        140","Edelstahl W.Nr. 1.4301","60",555.28,{"$f":"G3710*(1-VLOOKUP(F3710,Konditionen!$B:$D,3,0))","v":555.28}]
["Rohre und Formteile","HNV2A","HNV2A300","Deflektorhaube   HN V2A        300","Edelstahl W.Nr. 1.4301","60",1351.22,{"$f":"G3718*(1-VLOOKUP(F3718,Konditionen!$B:$D,3,0))","v":1351.22}]
["Rohre und Formteile","HNV2A","HNV2A500","Deflektorhaube   HN V2A        500","Edelstahl W.Nr. 1.4301","60",2789.78,{"$f":"G3723*(1-VLOOKUP(F3723,Konditionen!$B:$D,3,0))","v":2789.78}]
["Rohre und Formteile","HN","HN100","Deflektorhaube   HN            100",null,"53",104.85,{"$f":"G3731*(1-VLOOKUP(F3731,Konditionen!$B:$D,3,0))","v":104.85}]
["Rohre und Formteile","HN","HN224","Deflektorhaube   HN            224",null,"53",164.3,{"$f":"G3739*(1-VLOOKUP(F3739,Konditionen!$B:$D,3,0))","v":164.3}]
["Rohre und Formteile","HN","HN355","Deflektorhaube   HN            355",null,"53",205.3,{"$f":"G3744*(1-VLOOKUP(F3744,Konditionen!$B:$D,3,0))","v":205.3}]
["Flex Rohre und Schalldämpfer","HYPALON","HYPALON14010000","HYPALON 140.10000","Mittel- und Hochtemperaturschlauch","42.ALLG",542.49,{"$f":"G3752*(1-VLOOKUP(F3752,Konditionen!$B:$D,3,0))","v":542.49}]
["Flex Rohre und Schalldämpfer","HYPALON","HYPALON22510000","HYPALON 225.10000","Mittel- und Hochtemperaturschlauch","42.ALLG",819.99,{"$f":"G3757*(1-VLOOKUP(F3757,Konditionen!$B:$D,3,0))","v":819.99}]
["Luftdurchlässe","H12","H1210001425","Wetterschutzgitter  H12 1000x1425mm","mit sichtbarer Schraubbefestigung","70",814.68,{"$f":"G3765*(1-VLOOKUP(F3765,Konditionen!$B:$D,3,0))","v":814.68}]
["Luftdurchlässe","H12","H121000425","Wetterschutzgitter  H12  1000x425mm","mit sichtbarer Schraubbefestigung","70",274.69,{"$f":"G3773*(1-VLOOKUP(F3773,Konditionen!$B:$D,3,0))","v":274.69}]
["Luftdurchlässe","H12","H1212001225","Wetterschutzgitter  H12 1200x1225mm","mit sichtbarer Schraubbefestigung","70",780.74,{"$f":"G3778*(1-VLOOKUP(F3778,Konditionen!$B:$D,3,0))","v":780.74}]
["Luftdurchlässe","H12","H121200325","Wetterschutzgitter  H12  1200x325mm","mit sichtbarer Schraubbefestigung","70",298.66000000000003,{"$f":"G3786*(1-VLOOKUP(F3786,Konditionen!$B:$D,3,0))","v":298.66000000000003}]
["Luftdurchlässe","H12","H121400275","Wetterschutzgitter  H12  1400x275mm","mit sichtbarer Schraubbefestigung","70",290.70999999999998,{"$f":"G3799*(1-VLOOKUP(F3799,Konditionen!$B:$D,3,0))","v":290.70999999999998}]
["Luftdurchlässe","H12","H121400325","Wetterschutzgitter  H12  1400x325mm","mit sichtbarer Schraubbefestigung","70",320.98,{"$f":"G3800*(1-VLOOKUP(F3800,Konditionen!$B:$D,3,0))","v":320.98}]
["Luftdurchlässe","H12","H1216001625","Wetterschutzgitter  H12 1600x1625mm","mit sichtbarer Schraubbefestigung","70",1187.23,{"$f":"G3808*(1-VLOOKUP(F3808,Konditionen!$B:$D,3,0))","v":1187.23}]
["Luftdurchlässe","H12","H1218001225","Wetterschutzgitter  H12 1800x1225mm","mit sichtbarer Schraubbefestigung","70",1097.28,{"$f":"G3820*(1-VLOOKUP(F3820,Konditionen!$B:$D,3,0))","v":1097.28}]
["Luftdurchlässe","H12","H1218001425","Wetterschutzgitter  H12 1800x1425mm","mit sichtbarer Schraubbefestigung","70",1247.0999999999999,{"$f":"G3821*(1-VLOOKUP(F3821,Konditionen!$B:$D,3,0))","v":1247.0999999999999}]
["Luftdurchlässe","H12","H121800425","Wetterschutzgitter  H12  1800x425mm","mit sichtbarer Schraubbefestigung","70",504.03,{"$f":"G3829*(1-VLOOKUP(F3829,Konditionen!$B:$D,3,0))","v":504.03}]
["Luftdurchlässe","H12","H122000275","Wetterschutzgitter  H12  2000x275mm","mit sichtbarer Schraubbefestigung","70",412.89,{"$f":"G3841*(1-VLOOKUP(F3841,Konditionen!$B:$D,3,0))","v":412.89}]
["Luftdurchlässe","H12","H122000325","Wetterschutzgitter  H12  2000x325mm","mit sichtbarer Schraubbefestigung","70",453.81,{"$f":"G3842*(1-VLOOKUP(F3842,Konditionen!$B:$D,3,0))","v":453.81}]
["Luftdurchlässe","H12","H12200225","Wetterschutzgitter  H12   200x225mm","mit sichtbarer Schraubbefestigung","70",110.92,{"$f":"G3854*(1-VLOOKUP(F3854,Konditionen!$B:$D,3,0))","v":110.92}]
["Luftdurchlässe","H12","H1225001225","Wetterschutzgitter  H12 2500x1225mm","mit sichtbarer Schraubbefestigung","70",1345.73,{"$f":"G3862*(1-VLOOKUP(F3862,Konditionen!$B:$D,3,0))","v":1345.73}]
["Luftdurchlässe","H12","H1225001425","Wetterschutzgitter  H12 2500x1425mm","mit sichtbarer Schraubbefestigung","70",1563.7,{"$f":"G3863*(1-VLOOKUP(F3863,Konditionen!$B:$D,3,0))","v":1563.7}]
["Luftdurchlässe","H12","H1230001025","Wetterschutzgitter  H12 3000x1025mm","mit sichtbarer Schraubbefestigung","70",1345.73,{"$f":"G3875*(1-VLOOKUP(F3875,Konditionen!$B:$D,3,0))","v":1345.73}]
["Luftdurchlässe","H12","H123000275","Wetterschutzgitter  H12  3000x275mm","mit sichtbarer Schraubbefestigung","70",552.48,{"$f":"G3883*(1-VLOOKUP(F3883,Konditionen!$B:$D,3,0))","v":552.48}]
["Luftdurchlässe","H12","H123000325","Wetterschutzgitter  H12  3000x325mm","mit sichtbarer Schraubbefestigung","70",605.13,{"$f":"G3884*(1-VLOOKUP(F3884,Konditionen!$B:$D,3,0))","v":605.13}]
["Luftdurchlässe","H12","H12300225","Wetterschutzgitter  H12   300x225mm","mit sichtbarer Schraubbefestigung","70",117.69,{"$f":"G3896*(1-VLOOKUP(F3896,Konditionen!$B:$D,3,0))","v":117.69}]
["Luftdurchlässe","H12","H124001025","Wetterschutzgitter  H12  400x1025mm","mit sichtbarer Schraubbefestigung","70",359.16,{"$f":"G3904*(1-VLOOKUP(F3904,Konditionen!$B:$D,3,0))","v":359.16}]
["Luftdurchlässe","H12","H124001825","Wetterschutzgitter  H12  400x1825mm","mit sichtbarer Schraubbefestigung","70",779.96,{"$f":"G3909*(1-VLOOKUP(F3909,Konditionen!$B:$D,3,0))","v":779.96}]
["Luftdurchlässe","H12","H12400625","Wetterschutzgitter  H12   400x625mm","mit sichtbarer Schraubbefestigung","70",242.35,{"$f":"G3917*(1-VLOOKUP(F3917,Konditionen!$B:$D,3,0))","v":242.35}]
["Luftdurchlässe","H12","H125001225","Wetterschutzgitter  H12  500x1225mm","mit sichtbarer Schraubbefestigung","70",530.11,{"$f":"G3920*(1-VLOOKUP(F3920,Konditionen!$B:$D,3,0))","v":530.11}]
["Luftdurchlässe","H12","H12500525","Wetterschutzgitter  H12   500x525mm","mit sichtbarer Schraubbefestigung","70",225.25,{"$f":"G3931*(1-VLOOKUP(F3931,Konditionen!$B:$D,3,0))","v":225.25}]
["Luftdurchlässe","H12","H126001825","Wetterschutzgitter  H12  600x1825mm","mit sichtbarer Schraubbefestigung","70",881.94,{"$f":"G3939*(1-VLOOKUP(F3939,Konditionen!$B:$D,3,0))","v":881.94}]
["Luftdurchlässe","H12","H12600425","Wetterschutzgitter  H12   600x425mm","mit sichtbarer Schraubbefestigung","70",205.35,{"$f":"G3944*(1-VLOOKUP(F3944,Konditionen!$B:$D,3,0))","v":205.35}]
["Luftdurchlässe","H12","H128001625","Wetterschutzgitter  H12  800x1625mm","mit sichtbarer Schraubbefestigung","70",831.21,{"$f":"G3952*(1-VLOOKUP(F3952,Konditionen!$B:$D,3,0))","v":831.21}]
["Luftdurchlässe","H12","H12800525","Wetterschutzgitter  H12   800x525mm","mit sichtbarer Schraubbefestigung","70",287.35000000000002,{"$f":"G3960*(1-VLOOKUP(F3960,Konditionen!$B:$D,3,0))","v":287.35000000000002}]
["Luftdurchlässe","H22","H221000220","Wetterschutzgitter  H22  1000x220mm","mit sichtbarer Schraubbefestigung","70",197.3,{"$f":"G3965*(1-VLOOKUP(F3965,Konditionen!$B:$D,3,0))","v":197.3}]
["Luftdurchlässe","H22","H221000540","Wetterschutzgitter  H22  1000x540mm","mit sichtbarer Schraubbefestigung","70",366.34,{"$f":"G3973*(1-VLOOKUP(F3973,Konditionen!$B:$D,3,0))","v":366.34}]
["Luftdurchlässe","H22","H221200300","Wetterschutzgitter  H22  1200x300mm","mit sichtbarer Schraubbefestigung","70",289.72000000000003,{"$f":"G3981*(1-VLOOKUP(F3981,Konditionen!$B:$D,3,0))","v":289.72000000000003}]
["Luftdurchlässe","H22","H221200500","Wetterschutzgitter  H22  1200x500mm","mit sichtbarer Schraubbefestigung","70",411.7,{"$f":"G3986*(1-VLOOKUP(F3986,Konditionen!$B:$D,3,0))","v":411.7}]
["Luftdurchlässe","H22","H221600260","Wetterschutzgitter  H22  1600x260mm","mit sichtbarer Schraubbefestigung","70",308.43,{"$f":"G3994*(1-VLOOKUP(F3994,Konditionen!$B:$D,3,0))","v":308.43}]
["Luftdurchlässe","H22","H221600460","Wetterschutzgitter  H22  1600x460mm","mit sichtbarer Schraubbefestigung","70",451.33,{"$f":"G3999*(1-VLOOKUP(F3999,Konditionen!$B:$D,3,0))","v":451.33}]
["Luftdurchlässe","H22","H22300220","Wetterschutzgitter  H22   300x220mm","mit sichtbarer Schraubbefestigung","70",117.69,{"$f":"G4007*(1-VLOOKUP(F4007,Konditionen!$B:$D,3,0))","v":117.69}]
["Luftdurchlässe","H22","H22300540","Wetterschutzgitter  H22   300x540mm","mit sichtbarer Schraubbefestigung","70",213.41,{"$f":"G4015*(1-VLOOKUP(F4015,Konditionen!$B:$D,3,0))","v":213.41}]
["Luftdurchlässe","H22","H22400180","Wetterschutzgitter  H22   400x180mm","mit sichtbarer Schraubbefestigung","70",113.5,{"$f":"G4020*(1-VLOOKUP(F4020,Konditionen!$B:$D,3,0))","v":113.5}]
["Luftdurchlässe","H22","H22400500","Wetterschutzgitter  H22   400x500mm","mit sichtbarer Schraubbefestigung","70",216.99,{"$f":"G4028*(1-VLOOKUP(F4028,Konditionen!$B:$D,3,0))","v":216.99}]
["Luftdurchlässe","H22","H22500140","Wetterschutzgitter  H22   500x140mm","mit sichtbarer Schraubbefestigung","70",101.36,{"$f":"G4033*(1-VLOOKUP(F4033,Konditionen!$B:$D,3,0))","v":101.36}]
["Luftdurchlässe","H22","H22500460","Wetterschutzgitter  H22   500x460mm","mit sichtbarer Schraubbefestigung","70",217.76,{"$f":"G4041*(1-VLOOKUP(F4041,Konditionen!$B:$D,3,0))","v":217.76}]
["Luftdurchlässe","H22","H22600220","Wetterschutzgitter  H22   600x220mm","mit sichtbarer Schraubbefestigung","70",151.99,{"$f":"G4049*(1-VLOOKUP(F4049,Konditionen!$B:$D,3,0))","v":151.99}]
["Luftdurchlässe","H22","H22600460","Wetterschutzgitter  H22   600x460mm","mit sichtbarer Schraubbefestigung","70",252.79,{"$f":"G4055*(1-VLOOKUP(F4055,Konditionen!$B:$D,3,0))","v":252.79}]
["Luftdurchlässe","H22","H22800220","Wetterschutzgitter  H22   800x220mm","mit sichtbarer Schraubbefestigung","70",176.48,{"$f":"G4063*(1-VLOOKUP(F4063,Konditionen!$B:$D,3,0))","v":176.48}]
["Luftdurchlässe","H22","H22800540","Wetterschutzgitter  H22   800x540mm","mit sichtbarer Schraubbefestigung","70",330.02,{"$f":"G4071*(1-VLOOKUP(F4071,Konditionen!$B:$D,3,0))","v":330.02}]
["Rohre und Formteile","IFU-K","IFU-K125","Filterkassette   IFU-K         125",null,"37",29.48,{"$f":"G4076*(1-VLOOKUP(F4076,Konditionen!$B:$D,3,0))","v":29.48}]
["Rohre und Formteile","IFU","IFU180","Einsteckfilter   IFU           180",null,"37",84.41,{"$f":"G4084*(1-VLOOKUP(F4084,Konditionen!$B:$D,3,0))","v":84.41}]
["Luftdurchlässe","IGR","IGR00300","Bodengitter Alu     IGR-0-0-300-600","ohne Zubehör","70",321.95999999999998,{"$f":"G4089*(1-VLOOKUP(F4089,Konditionen!$B:$D,3,0))","v":321.95999999999998}]
["Luftdurchlässe","IGR","IGR10300","Bodengitter Alu     IGR-1-0-300-600","mit Mengenregulierung","70",399.25,{"$f":"G4097*(1-VLOOKUP(F4097,Konditionen!$B:$D,3,0))","v":399.25}]
["Luftdurchlässe","IGR","IGR20300","Bodengitter Alu     IGR-2-0-300-600","mit Luftverteiler","70",373,{"$f":"G4105*(1-VLOOKUP(F4105,Konditionen!$B:$D,3,0))","v":373}]
["Luftdurchlässe","IGR","IGR21600","Bodengitter Alu     IGR-2-1-600-600","mit Luftverteiler u. Schmutzfänger","70",844.54,{"$f":"G4110*(1-VLOOKUP(F4110,Konditionen!$B:$D,3,0))","v":844.54}]
["Luftdurchlässe","IGR","IGR31600","Bodengitter Alu     IGR-3-1-600-600","m.Luftvert.,Filter EU3 u. Schmutzf.","70",853.37,{"$f":"G4118*(1-VLOOKUP(F4118,Konditionen!$B:$D,3,0))","v":853.37}]
["Luftdurchlässe","IGR","IGR41600","Bodengitter Alu     IGR-4-1-600-600","m.Luftvert.,Filter EU5 u. Schmutzf.","70",862.72,{"$f":"G4126*(1-VLOOKUP(F4126,Konditionen!$B:$D,3,0))","v":862.72}]
["Rohre und Formteile","ILFV2A","ILFV2A150","Bundkragen      ILF V2A        150","Edelstahl W.Nr. 1.4301    Muffenmaß","60",46.12,{"$f":"G4131*(1-VLOOKUP(F4131,Konditionen!$B:$D,3,0))","v":46.12}]
["Rohre und Formteile","ILFV2A","ILFV2A315","Bundkragen      ILF V2A        315","Edelstahl W.Nr. 1.4301    Muffenmaß","60",85.27,{"$f":"G4139*(1-VLOOKUP(F4139,Konditionen!$B:$D,3,0))","v":85.27}]
["Rohre und Formteile","ILF","ILF1000","Bundkragen       ILF           1000","Muffenmaß","30",108.83,{"$f":"G4151*(1-VLOOKUP(F4151,Konditionen!$B:$D,3,0))","v":108.83}]
["Rohre und Formteile","ILF","ILF112","Bundkragen       ILF           112","Muffenmaß","30",11.33,{"$f":"G4152*(1-VLOOKUP(F4152,Konditionen!$B:$D,3,0))","v":11.33}]
["Rohre und Formteile","ILF","ILF200","Bundkragen       ILF           200","Muffenmaß","30",15.84,{"$f":"G4160*(1-VLOOKUP(F4160,Konditionen!$B:$D,3,0))","v":15.84}]
["Rohre und Formteile","ILF","ILF63","Bundkragen       ILF           63","Muffenmaß","30",11.33,{"$f":"G4172*(1-VLOOKUP(F4172,Konditionen!$B:$D,3,0))","v":11.33}]
["Rohre und Formteile","ILF","ILF630","Bundkragen       ILF           630","Muffenmaß","30",50.8,{"$f":"G4173*(1-VLOOKUP(F4173,Konditionen!$B:$D,3,0))","v":50.8}]
["Rohre und Formteile","ILRNU","ILRNU200","Lufteinlass m. Gitter  ILRNU   200",null,"30",71.16,{"$f":"G4186*(1-VLOOKUP(F4186,Konditionen!$B:$D,3,0))","v":71.16}]
["Rohre und Formteile","ILRNU","ILRNU63","Lufteinlass m. Gitter  ILRNU   63",null,"30",41.24,{"$f":"G4194*(1-VLOOKUP(F4194,Konditionen!$B:$D,3,0))","v":41.24}]
["Rohre und Formteile","ILRNU","ILRNU630","Lufteinlass m. Gitter  ILRNU   630",null,"30",225.34,{"$f":"G4195*(1-VLOOKUP(F4195,Konditionen!$B:$D,3,0))","v":225.34}]
["Rohre und Formteile","ILRU","ILRU315","Einströmdüse     ILRU          315",null,"30",34.43,{"$f":"G4207*(1-VLOOKUP(F4207,Konditionen!$B:$D,3,0))","v":34.43}]
["Rohre und Formteile","ILTR","ILTR125","Transfer Bundkragen ILTR    125",null,"35",10.43,{"$f":"G4215*(1-VLOOKUP(F4215,Konditionen!$B:$D,3,0))","v":10.43}]
["Rohre und Formteile","ILTR","ILTR140","Transfer Bundkragen ILTR    140",null,"35",11.33,{"$f":"G4216*(1-VLOOKUP(F4216,Konditionen!$B:$D,3,0))","v":11.33}]
["Rohre und Formteile","ILTR","ILTR500","Transfer Bundkragen ILTR    500",null,"35",24.77,{"$f":"G4228*(1-VLOOKUP(F4228,Konditionen!$B:$D,3,0))","v":24.77}]
["Rohre und Formteile","ILUFP","ILUFP160","Bundkragen   ILUFP   160","Lindab FireProtect Rund","80",17.27,{"$f":"G4236*(1-VLOOKUP(F4236,Konditionen!$B:$D,3,0))","v":17.27}]
["Rohre und Formteile","ILUFP","ILUFP280","Bundkragen   ILUFP   280","Lindab FireProtect Rund","80",30.24,{"$f":"G4241*(1-VLOOKUP(F4241,Konditionen!$B:$D,3,0))","v":30.24}]
["Rohre und Formteile","ILUFP","ILUFP600","Bundkragen   ILUFP   600","Lindab FireProtect Rund","80",67.94,{"$f":"G4249*(1-VLOOKUP(F4249,Konditionen!$B:$D,3,0))","v":67.94}]
["Rohre und Formteile","ILUV2A","ILUV2A140","Bundkragen      ILU V2A        140","Edelstahl W.Nr. 1.4301","60",46.12,{"$f":"G4257*(1-VLOOKUP(F4257,Konditionen!$B:$D,3,0))","v":46.12}]
["Rohre und Formteile","ILUV2A","ILUV2A224","Bundkragen      ILU V2A        224","Edelstahl W.Nr. 1.4301","60",68.8,{"$f":"G4262*(1-VLOOKUP(F4262,Konditionen!$B:$D,3,0))","v":68.8}]
["Rohre und Formteile","ILUV2A","ILUV2A500","Bundkragen      ILU V2A        500","Edelstahl W.Nr. 1.4301","60",146.78,{"$f":"G4270*(1-VLOOKUP(F4270,Konditionen!$B:$D,3,0))","v":146.78}]
["Rohre und Formteile","ILU","ILU1000","Bundkragen       ILU           1000",null,"30",115.34,{"$f":"G4278*(1-VLOOKUP(F4278,Konditionen!$B:$D,3,0))","v":115.34}]
["Rohre und Formteile","ILU","ILU140","Bundkragen       ILU           140",null,"30",11.75,{"$f":"G4283*(1-VLOOKUP(F4283,Konditionen!$B:$D,3,0))","v":11.75}]
["Rohre und Formteile","ILU","ILU300","Bundkragen       ILU           300",null,"30",21.09,{"$f":"G4291*(1-VLOOKUP(F4291,Konditionen!$B:$D,3,0))","v":21.09}]
["Rohre und Formteile","ILU","ILU500","Bundkragen       ILU           500",null,"30",33.369999999999997,{"$f":"G4296*(1-VLOOKUP(F4296,Konditionen!$B:$D,3,0))","v":33.369999999999997}]
["Rohre und Formteile","ILU","ILU900","Bundkragen       ILU           900",null,"30",84.9,{"$f":"G4304*(1-VLOOKUP(F4304,Konditionen!$B:$D,3,0))","v":84.9}]
["Luftdurchlässe","ILVRU","ILVRU160","Montagerahmen  ILVRU 160 für AIRYB","Nippelmaß mit Doppellippendichtung","70",6.86,{"$f":"G4307*(1-VLOOKUP(F4307,Konditionen!$B:$D,3,0))","v":6.86}]
["Rohre und Formteile","ILVU","ILVU200","Bundkragen       ILVU 45       200",null,"30",65.7,{"$f":"G4318*(1-VLOOKUP(F4318,Konditionen!$B:$D,3,0))","v":65.7}]
["Rohre und Formteile","ILVU","ILVU450","Bundkragen       ILVU 45       450",null,"30",140.74,{"$f":"G4326*(1-VLOOKUP(F4326,Konditionen!$B:$D,3,0))","v":140.74}]
["Rohre und Formteile","ILVU","ILVU630","Bundkragen       ILVU 45       630",null,"30",219.36,{"$f":"G4331*(1-VLOOKUP(F4331,Konditionen!$B:$D,3,0))","v":219.36}]
["Rohre und Formteile","IN","IN1250","Montagebügel     IN            1250","für innen, Gewinde M10","90",60.4,{"$f":"G4339*(1-VLOOKUP(F4339,Konditionen!$B:$D,3,0))","v":60.4}]
["Rohre und Formteile","IN","IN500","Montagebügel     IN            500","für innen, Gewinde M10","90",47.9,{"$f":"G4347*(1-VLOOKUP(F4347,Konditionen!$B:$D,3,0))","v":47.9}]
["Rohre und Formteile","IN","IN800","Montagebügel     IN            800","für innen, Gewinde M10","90",49.5,{"$f":"G4352*(1-VLOOKUP(F4352,Konditionen!$B:$D,3,0))","v":49.5}]
["Ventilatoren","IRB","IRB200A1","Rohrventilator IRB 200 A1 AC","schallisoliert, ErP 2015","18.ALLG",466.13,{"$f":"G4360*(1-VLOOKUP(F4360,Konditionen!$B:$D,3,0))","v":466.13}]
["Ventilatoren","IRB","IRB250E1","Rohrventilator IRB 250 E1 AC","schallisoliert, ErP 2015","18.ALLG",551.88,{"$f":"G4368*(1-VLOOKUP(F4368,Konditionen!$B:$D,3,0))","v":551.88}]
["Ventilatoren","IRB","IRB315E3EC","Rohrventilator IRB 315 E3 EC","schallisoliert, ErP 2015, 400 V","18.ALLG",1794.02,{"$f":"G4373*(1-VLOOKUP(F4373,Konditionen!$B:$D,3,0))","v":1794.02}]
["Ventilatoren","IRB","IRB400B3EC","Rohrventilator IRB 400 B3 EC","schallisoliert, ErP 2015, 400 V","18.ALLG",2101.71,{"$f":"G4381*(1-VLOOKUP(F4381,Konditionen!$B:$D,3,0))","v":2101.71}]
["Ventilatoren","IRB","IRB500J3","Rohrventilator IRB 500 J3 AC","schallisoliert, ErP 2015, 400 V","18.ALLG",2135.35,{"$f":"G4386*(1-VLOOKUP(F4386,Konditionen!$B:$D,3,0))","v":2135.35}]
["Ventilatoren","IRE","IRE315B3","Rohrventilator IRE 315 B3","schallisoliert, ErP 2015, 400 V","18.ALLG",858.73,{"$f":"G4394*(1-VLOOKUP(F4394,Konditionen!$B:$D,3,0))","v":858.73}]
["Montagezubehör","ISOVERML","ISOVERML350","Lamellenmatte ML 3 50mm","6,0qm/Paket","90",45.2,{"$f":"G4402*(1-VLOOKUP(F4402,Konditionen!$B:$D,3,0))","v":45.2}]
["Luftdurchlässe","JR3V","JR3V1225125","Stahlgitter       JR-3/V 1225 x 125","Rahmen mit Warzenlöchern","70",30.48,{"$f":"G4407*(1-VLOOKUP(F4407,Konditionen!$B:$D,3,0))","v":30.48}]
["Luftdurchlässe","JR3V","JR3V425125","Stahlgitter       JR-3/V  425 x 125","Rahmen mit Warzenlöchern","70",14.25,{"$f":"G4415*(1-VLOOKUP(F4415,Konditionen!$B:$D,3,0))","v":14.25}]
["Luftdurchlässe","JR3V","JR3V525325","Stahlgitter       JR-3/V  525 x 325","Rahmen mit Warzenlöchern","70",28.41,{"$f":"G4420*(1-VLOOKUP(F4420,Konditionen!$B:$D,3,0))","v":28.41}]
["Luftdurchlässe","JR32T","JR32T625225","Stahlgitter    JR-3/2-T  625 x 225","RAL9010, mit verdeckter Befestigung","70",73.05,{"$f":"G4428*(1-VLOOKUP(F4428,Konditionen!$B:$D,3,0))","v":73.05}]
["Luftdurchlässe","JR32","JR32225225","Stahlgitter       JR-3/2  225 x 225","mit verdeckter Befestigung","70",24.38,{"$f":"G4436*(1-VLOOKUP(F4436,Konditionen!$B:$D,3,0))","v":24.38}]
["Luftdurchlässe","JR32","JR32425325","Stahlgitter       JR-3/2  425 x 3/2","mit verdeckter Befestigung","70",34.51,{"$f":"G4442*(1-VLOOKUP(F4442,Konditionen!$B:$D,3,0))","v":34.51}]
["Luftdurchlässe","JR32","JR32825125","Stahlgitter       JR-3/2  825 x 125","mit verdeckter Befestigung","70",34.51,{"$f":"G4450*(1-VLOOKUP(F4450,Konditionen!$B:$D,3,0))","v":34.51}]
["Montagezubehör","KAIFLEX","KAIFLEX19SK6","Kaiflex-KK-Endlosplatte 19mm (B1)","selbstklebend (Rol.=6qm) KK-Plus","90",97.5,{"$f":"G4458*(1-VLOOKUP(F4458,Konditionen!$B:$D,3,0))","v":97.5}]
["Ventilatoren","KBR","KBR280DV","KBR 280 DV Thermoventilator","DN 280,400V/50Hz,LR rückw.","7.ALLG",910,{"$f":"G4463*(1-VLOOKUP(F4463,Konditionen!$B:$D,3,0))","v":910}]
["Ventilatoren","KBR","KBR355DVK","Thermoventilator KBR 355 DV/K","2900m³/h  400V","7.ALLG",1225,{"$f":"G4471*(1-VLOOKUP(F4471,Konditionen!$B:$D,3,0))","v":1225}]
["Ventilatoren","KBT","KBT180E4","Thermoventilator KBT 180 E4","1420m³/h  230V mit Wetterschutzdach","7.ALLG",815,{"$f":"G4483*(1-VLOOKUP(F4483,Konditionen!$B:$D,3,0))","v":815}]
["Ventilatoren","KBT","KBT200DV","Thermoventilator KBT 200 DV","2100m³/h  400V mit Wetterschutzdach","7.ALLG",855,{"$f":"G4484*(1-VLOOKUP(F4484,Konditionen!$B:$D,3,0))","v":855}]
["Ventilatoren","KBT","KBT250E4","Thermoventilator KBT 250 E4","3900m³/h  230V mit Wetterschutzdach","7.ALLG",1154,{"$f":"G4492*(1-VLOOKUP(F4492,Konditionen!$B:$D,3,0))","v":1154}]
["Rohre und Formteile","KF","KF806000","Flexschlauch     KF       80.6000","Glasgewebe, PVC-beschichtet","11",100.02,{"$f":"G4504*(1-VLOOKUP(F4504,Konditionen!$B:$D,3,0))","v":100.02}]
["Montagezubehör","KH","KH12","Konsolhalter KH 12","Abgabe nur in VPE à 10 Stück","14.MS",5.79,{"$f":"G4505*(1-VLOOKUP(F4505,Konditionen!$B:$D,3,0))","v":5.79}]
["Rohre und Formteile","KIR","KIR160","Zuluftventil     KIR           160","mit Luftlenkblech","70",33.78,{"$f":"G4513*(1-VLOOKUP(F4513,Konditionen!$B:$D,3,0))","v":33.78}]
["Montagezubehör","KRRDPPS","KRRDPPS2120","REVISIONSDECKEL KRRD PPs  200","205 x 105 mm","14.MS",128.78,{"$f":"G4525*(1-VLOOKUP(F4525,Konditionen!$B:$D,3,0))","v":128.78}]
["Montagezubehör","KRRDPPS","KRRDPPS2125","REVISIONSDECKEL KRRD PPs  250","205 x 105 mm","14.MS",128.78,{"$f":"G4526*(1-VLOOKUP(F4526,Konditionen!$B:$D,3,0))","v":128.78}]
["Brandschutz","","KRSM100","KRS-M 100 Kaltrauchsperre","DN 100, Einbaulänge 30 mm","5.PG05",17.59,{"$f":"G4538*(1-VLOOKUP(F4538,Konditionen!$B:$D,3,0))","v":17.59}]
["Montagezubehör","KST","KST3/4","Ablaufstutzenkappe KST-¾\"",null,"14.MS",4.75,{"$f":"G4546*(1-VLOOKUP(F4546,Konditionen!$B:$D,3,0))","v":4.75}]
["Rohre und Formteile","KSU","KSU100","Abluftventil     KSU           100",null,"70",12.6,{"$f":"G4547*(1-VLOOKUP(F4547,Konditionen!$B:$D,3,0))","v":12.6}]
["Rohre und Formteile","KVG","KVG125","Abluftventil     KVG           125",null,"70",24.28,{"$f":"G4559*(1-VLOOKUP(F4559,Konditionen!$B:$D,3,0))","v":24.28}]
["Ventilatoren","","KVKE160EC","KVKE 160EC Rohrventilator","DN 160,230V/50Hz,schallgedämmt","7.ALLG",574,{"$f":"G4565*(1-VLOOKUP(F4565,Konditionen!$B:$D,3,0))","v":574}]
["Rohre und Formteile","KVU","KVU1252202000","Elektrolufterh. KVU 230V 2000W 125","*** Netto-Preis ***","90",230,{"$f":"G4573*(1-VLOOKUP(F4573,Konditionen!$B:$D,3,0))","v":230}]
["Rohre und Formteile","KVU","KVU2002202000","Elektrolufterh. KVU 230V 2000W 200","*** Netto-Preis ***","90",271.7,{"$f":"G4581*(1-VLOOKUP(F4581,Konditionen!$B:$D,3,0))","v":271.7}]
["Luftdurchlässe","KWOAL","KWOAL125","Wandgitter KWO-AL 125","Rund, Aluminium","90",9.3000000000000007,{"$f":"G4589*(1-VLOOKUP(F4589,Konditionen!$B:$D,3,0))","v":9.3000000000000007}]
["Ventilatoren","K","K100EC","K 100EC Rohrvent. Metall","DN 100,230V/50Hz,LR rückw.","7.K",188,{"$f":"G4594*(1-VLOOKUP(F4594,Konditionen!$B:$D,3,0))","v":188}]
["Ventilatoren","","K160EC","K 160EC Rohrvent. Metall","DN 160,230V/50Hz,LR rückw.","7.K",208,{"$f":"G4602*(1-VLOOKUP(F4602,Konditionen!$B:$D,3,0))","v":208}]
["Ventilatoren","K","K250M","Rohrventilator   K 250 M","einschl. Befestigungskonsole","7.K",159,{"$f":"G4610*(1-VLOOKUP(F4610,Konditionen!$B:$D,3,0))","v":159}]
["Brandschutz","L-WSK-C","L-WSK-C250","Weichstoffkompensator L-WSK-C   250","geprüft nach DIN V 18232-6","80",601.1,{"$f":"G4615*(1-VLOOKUP(F4615,Konditionen!$B:$D,3,0))","v":601.1}]
["Brandschutz","L-WSK-C","L-WSK-C560","Weichstoffkompensator L-WSK-C   560","geprüft nach DIN V 18232-6","80",948.1,{"$f":"G4623*(1-VLOOKUP(F4623,Konditionen!$B:$D,3,0))","v":948.1}]
["Rohre und Formteile","LAD0","LAD0160","Zuluftdüse-Aluminium      LAD-0-160","Oberfläche unbehandelt","70",89.32,{"$f":"G4628*(1-VLOOKUP(F4628,Konditionen!$B:$D,3,0))","v":89.32}]
["Luftdurchlässe","LCA","LCA100","Deckenauslaß rund           LCA-100","ohne Zubehör(DAZ,DDZ,DRZ sep.best.)","70",115.3,{"$f":"G4636*(1-VLOOKUP(F4636,Konditionen!$B:$D,3,0))","v":115.3}]
["Luftdurchlässe","LCC","LCC-160","Runder Deckendurchlass      LCC-160","Zu- und Abluft, inkl. Montagebügel","70",228.61,{"$f":"G4644*(1-VLOOKUP(F4644,Konditionen!$B:$D,3,0))","v":228.61}]
["Luftdurchlässe","LCC","LCC-250-P","Runder Deckendurchlass    LCC-250-P","inkl. Präsenzsensor, RAL9010","70",458.51,{"$f":"G4649*(1-VLOOKUP(F4649,Konditionen!$B:$D,3,0))","v":458.51}]
["Luftdurchlässe","LCP","LCP-200-1-P","Quad. Deckendurchlass   LCP-200-1-P","inkl. Präsenzsensor, RAL9010","70",455.2,{"$f":"G4657*(1-VLOOKUP(F4657,Konditionen!$B:$D,3,0))","v":455.2}]
["Luftdurchlässe","LCP","LCP200-1","Quad. Deckendurchlass     LCP-200-1","Zu- und Abluft, Deckensystem 1","70",294.37,{"$f":"G4662*(1-VLOOKUP(F4662,Konditionen!$B:$D,3,0))","v":294.37}]
["Wohnungslüftung","LFPE","LFPE6350000","KWL-Lüftungsrohr LFPE 63.50000","63mm/75mm antistat./antibakteriell","90",143.30000000000001,{"$f":"G4670*(1-VLOOKUP(F4670,Konditionen!$B:$D,3,0))","v":143.30000000000001}]
["Montagezubehör","LF","LF25","Rohrflansch LF   25 verz","für Rohr-Innen-Ø 250 mm","14.MS",1.77,{"$f":"G4678*(1-VLOOKUP(F4678,Konditionen!$B:$D,3,0))","v":1.77}]
["Montagezubehör","LF","LF40","Rohrflansch LF   40 verz","für Rohr-Innen-Ø 400 mm","14.MS",2.2200000000000002,{"$f":"G4683*(1-VLOOKUP(F4683,Konditionen!$B:$D,3,0))","v":2.2200000000000002}]
["Rohre und Formteile","LHPR","LHPR200200","Außen- und Fortlufthaube LHPR","200 x 200 mm, Rahmen = ?? mm","53",389.33,{"$f":"G4694*(1-VLOOKUP(F4694,Konditionen!$B:$D,3,0))","v":389.33}]
["Rohre und Formteile","LHPR","LHPR800800","Außen- und Fortlufthaube LHPR","800 x 800 mm, Rahmen = ?? mm","53",2430.09,{"$f":"G4700*(1-VLOOKUP(F4700,Konditionen!$B:$D,3,0))","v":2430.09}]
["Rohre und Formteile","LHR","LHR13001300-13","Lamellenhaube Quad.LHR 1300X1300-13","verzinkt, Rahmen = ?? mm","53",2925.33,{"$f":"G4705*(1-VLOOKUP(F4705,Konditionen!$B:$D,3,0))","v":2925.33}]
["Rohre und Formteile","LHR","LHR800800-9","Lamellenhaube Quad. LHR   800X800-9","verzinkt, Rahmen = ?? mm","53",1381.4,{"$f":"G4713*(1-VLOOKUP(F4713,Konditionen!$B:$D,3,0))","v":1381.4}]
["Luftdurchlässe","LKA","LKA250","Deckenauslaß quadratisch    LKA-250","ohne Zubehör(DAZ,DKZ,DRZ sep.best.)","70",244.93,{"$f":"G4718*(1-VLOOKUP(F4718,Konditionen!$B:$D,3,0))","v":244.93}]
["Luftdurchlässe","LKP","LKP160-1","Quad. Deckendurchlass     LKP-160-1","Zu- und Abluft, Deckensystem 1","70",228.61,{"$f":"G4726*(1-VLOOKUP(F4726,Konditionen!$B:$D,3,0))","v":228.61}]
["Kunststoff","LNRPPS","LNRPPS121000M","LÄNGSNAHTROHR LNR PPs    12 1000","Preis per Meter (Lieferlänge=3M)","17.ALLG",542.37,{"$f":"G4734*(1-VLOOKUP(F4734,Konditionen!$B:$D,3,0))","v":542.37}]
["Kunststoff","LNRPPS","LNRPPS6560M","LÄNGSNAHTROHR LNR PPs     6  560","Preis per Meter (Lieferlänge=3M)","17.ALLG",157.78,{"$f":"G4739*(1-VLOOKUP(F4739,Konditionen!$B:$D,3,0))","v":157.78}]
["Rohre und Formteile","LNRV2A","LNRV2A0,5125","Längsnahtrohr LNR V2A 0,5 125 METER","Edelstahl W.Nr.1.4301","60",146.88,{"$f":"G4747*(1-VLOOKUP(F4747,Konditionen!$B:$D,3,0))","v":146.88}]
["Rohre und Formteile","LNRV2A","LNRV2A0,5280","Längsnahtrohr LNR V2A 0,5 280 METER","Edelstahl W.Nr.1.4301","60",293.51,{"$f":"G4755*(1-VLOOKUP(F4755,Konditionen!$B:$D,3,0))","v":293.51}]
["Rohre und Formteile","LNRV2A","LNRV2A0,6450","Längsnahtrohr LNR V2A 0,6 450 METER","Edelstahl W.Nr.1.4301","60",516.44000000000005,{"$f":"G4760*(1-VLOOKUP(F4760,Konditionen!$B:$D,3,0))","v":516.44000000000005}]
["Rohre und Formteile","LNR","LNR112500","Längsnahtrohr    LNR     112.500",null,"10",42.13,{"$f":"G4768*(1-VLOOKUP(F4768,Konditionen!$B:$D,3,0))","v":42.13}]
["Rohre und Formteile","LNR","LNR1501000","Längsnahtrohr    LNR     150.1000",null,"10",77.900000000000006,{"$f":"G4773*(1-VLOOKUP(F4773,Konditionen!$B:$D,3,0))","v":77.900000000000006}]
["Rohre und Formteile","LNR","LNR1802000","Längsnahtrohr    LNR     180.2000",null,"10",186.97,{"$f":"G4781*(1-VLOOKUP(F4781,Konditionen!$B:$D,3,0))","v":186.97}]
["Rohre und Formteile","LNR","LNR2242000","Längsnahtrohr    LNR     224.2000","in 0,7mm","10",230.2,{"$f":"G4789*(1-VLOOKUP(F4789,Konditionen!$B:$D,3,0))","v":230.2}]
["Rohre und Formteile","LNR","LNR250500","Längsnahtrohr    LNR     250.500",null,"10",65.02,{"$f":"G4794*(1-VLOOKUP(F4794,Konditionen!$B:$D,3,0))","v":65.02}]
["Rohre und Formteile","LNR","LNR300500","Längsnahtrohr    LNR     300.500",null,"10",77.900000000000006,{"$f":"G4802*(1-VLOOKUP(F4802,Konditionen!$B:$D,3,0))","v":77.900000000000006}]
["Rohre und Formteile","LNR","LNR400500","Längsnahtrohr    LNR     400.500",null,"10",120.51,{"$f":"G4814*(1-VLOOKUP(F4814,Konditionen!$B:$D,3,0))","v":120.51}]
["Rohre und Formteile","LNR","LNR4501000","Längsnahtrohr    LNR     450.1000",null,"10",229.24,{"$f":"G4815*(1-VLOOKUP(F4815,Konditionen!$B:$D,3,0))","v":229.24}]
["Rohre und Formteile","LNR","LNR5601500","Längsnahtrohr    LNR     560.1500","in 0,9mm, mit 2 Falzen","10",628.6,{"$f":"G4824*(1-VLOOKUP(F4824,Konditionen!$B:$D,3,0))","v":628.6}]
["Rohre und Formteile","LORTR","LORTR150100","Transfer    LORTR  150.100.___._","Übergangsstück","35",203.51,{"$f":"G4836*(1-VLOOKUP(F4836,Konditionen!$B:$D,3,0))","v":203.51}]
["Rohre und Formteile","LORTR","LORTR150150","Transfer    LORTR  150.150.___._","Übergangsstück","35",226.24,{"$f":"G4837*(1-VLOOKUP(F4837,Konditionen!$B:$D,3,0))","v":226.24}]
["Rohre und Formteile","LORTR","LORTR300100","Transfer    LORTR  300.100.___._","Übergangsstück","35",274.61,{"$f":"G4845*(1-VLOOKUP(F4845,Konditionen!$B:$D,3,0))","v":274.61}]
["Rohre und Formteile","LORTR","LORTR400150","Transfer    LORTR  400.150.___._","Übergangsstück","35",319.33,{"$f":"G4857*(1-VLOOKUP(F4857,Konditionen!$B:$D,3,0))","v":319.33}]
["Rohre und Formteile","LORTR","LORTR400200","Transfer    LORTR  400.200.___._","Übergangsstück","35",326.77999999999997,{"$f":"G4858*(1-VLOOKUP(F4858,Konditionen!$B:$D,3,0))","v":326.77999999999997}]
["Rohre und Formteile","LORTR","LORTR450450","Transfer    LORTR  450.450.___._","Übergangsstück","35",372.33,{"$f":"G4870*(1-VLOOKUP(F4870,Konditionen!$B:$D,3,0))","v":372.33}]
["Rohre und Formteile","LORTR","LORTR500450","Transfer    LORTR  500.450.___._","Übergangsstück","35",387.55,{"$f":"G4878*(1-VLOOKUP(F4878,Konditionen!$B:$D,3,0))","v":387.55}]
["Rohre und Formteile","LORTR","LORTR500500","Transfer    LORTR  500.500.___._","Übergangsstück","35",391.65,{"$f":"G4879*(1-VLOOKUP(F4879,Konditionen!$B:$D,3,0))","v":391.65}]
["Rohre und Formteile","LORU","LORU100100","Überg.eckig-rund LORU 100.100....",null,"30",226.17,{"$f":"G4891*(1-VLOOKUP(F4891,Konditionen!$B:$D,3,0))","v":226.17}]
["Rohre und Formteile","LORU","LORU1200600","Überg.eckig-rund LORU 1200.600....",null,"30",1156.53,{"$f":"G4899*(1-VLOOKUP(F4899,Konditionen!$B:$D,3,0))","v":1156.53}]
["Rohre und Formteile","LORU","LORU1200700","Überg.eckig-rund LORU 1200.700....",null,"30",1195.3599999999999,{"$f":"G4900*(1-VLOOKUP(F4900,Konditionen!$B:$D,3,0))","v":1195.3599999999999}]
["Rohre und Formteile","LORU","LORU1400900","Überg.eckig-rund LORU 1400.900....",null,"30",1579.19,{"$f":"G4912*(1-VLOOKUP(F4912,Konditionen!$B:$D,3,0))","v":1579.19}]
["Rohre und Formteile","LORU","LORU1600600","Überg.eckig-rund LORU 1600.600....",null,"30",1582.13,{"$f":"G4920*(1-VLOOKUP(F4920,Konditionen!$B:$D,3,0))","v":1582.13}]
["Rohre und Formteile","LORU","LORU18001200","Überg.eckig-rund LORU 1800.1200....",null,"30",2085.83,{"$f":"G4925*(1-VLOOKUP(F4925,Konditionen!$B:$D,3,0))","v":2085.83}]
["Rohre und Formteile","LORU","LORU20001200","Überg.eckig-rund LORU 2000.1200....",null,"30",2270.5500000000002,{"$f":"G4933*(1-VLOOKUP(F4933,Konditionen!$B:$D,3,0))","v":2270.5500000000002}]
["Rohre und Formteile","LORU","LORU2002001001","Überg.eckig-rund LORU 200.200.100.1","Rahmen 20mm, Länge 300mm","30",277.82,{"$f":"G4941*(1-VLOOKUP(F4941,Konditionen!$B:$D,3,0))","v":277.82}]
["Rohre und Formteile","LORU","LORU300100","Überg.eckig-rund LORU 300.100....",null,"30",308.25,{"$f":"G4946*(1-VLOOKUP(F4946,Konditionen!$B:$D,3,0))","v":308.25}]
["Rohre und Formteile","LORU","LORU350150","Überg.eckig-rund LORU 350.150....",null,"30",333.03,{"$f":"G4952*(1-VLOOKUP(F4952,Konditionen!$B:$D,3,0))","v":333.03}]
["Rohre und Formteile","LORU","LORU400250","Überg.eckig-rund LORU 400.250....",null,"30",371.13,{"$f":"G4960*(1-VLOOKUP(F4960,Konditionen!$B:$D,3,0))","v":371.13}]
["Rohre und Formteile","LORU","LORU450300","Überg.eckig-rund LORU 450.300....",null,"30",394.42,{"$f":"G4968*(1-VLOOKUP(F4968,Konditionen!$B:$D,3,0))","v":394.42}]
["Rohre und Formteile","LORU","LORU500300","Überg.eckig-rund LORU 500.300....",null,"30",410.81,{"$f":"G4976*(1-VLOOKUP(F4976,Konditionen!$B:$D,3,0))","v":410.81}]
["Rohre und Formteile","LORU","LORU600100","Überg.eckig-rund LORU 600.100....",null,"30",382.36,{"$f":"G4981*(1-VLOOKUP(F4981,Konditionen!$B:$D,3,0))","v":382.36}]
["Rohre und Formteile","LORU","LORU600500","Überg.eckig-rund LORU 600.500....",null,"30",466.54,{"$f":"G4989*(1-VLOOKUP(F4989,Konditionen!$B:$D,3,0))","v":466.54}]
["Rohre und Formteile","LORU","LORU700400","Überg.eckig-rund LORU 700.400....",null,"30",505.47,{"$f":"G4997*(1-VLOOKUP(F4997,Konditionen!$B:$D,3,0))","v":505.47}]
["Rohre und Formteile","LORU","LORU800150","Überg.eckig-rund LORU 800.150....",null,"30",536.64,{"$f":"G5002*(1-VLOOKUP(F5002,Konditionen!$B:$D,3,0))","v":536.64}]
["Rohre und Formteile","LORU","LORU800600","Überg.eckig-rund LORU 800.600....",null,"30",625.54999999999995,{"$f":"G5010*(1-VLOOKUP(F5010,Konditionen!$B:$D,3,0))","v":625.54999999999995}]
["Rohre und Formteile","LORU","LORU900300","Überg.eckig-rund LORU 900.300....",null,"30",694.71,{"$f":"G5015*(1-VLOOKUP(F5015,Konditionen!$B:$D,3,0))","v":694.71}]
["Rohre und Formteile","LORU","LORU900900","Überg.eckig-rund LORU 900.900....",null,"30",825.7,{"$f":"G5023*(1-VLOOKUP(F5023,Konditionen!$B:$D,3,0))","v":825.7}]
["Ventilatoren","LPKBS","LPKBSILENT160CEC","Rohrventilator LPKBsilent 160 C1 EC","schallisoliert, ErP 2015","18.ALLG",387.69,{"$f":"G5031*(1-VLOOKUP(F5031,Konditionen!$B:$D,3,0))","v":387.69}]
["Ventilatoren","LPKB","LPKB100C1EC","Rohrventilator LPKB 100 C1 EC",null,"18.ALLG",358.55,{"$f":"G5036*(1-VLOOKUP(F5036,Konditionen!$B:$D,3,0))","v":358.55}]
["Ventilatoren","LPKB","LPKB160B1","Rohrventilator LPKB 160 B1 AC",null,"18.ALLG",142.56,{"$f":"G5044*(1-VLOOKUP(F5044,Konditionen!$B:$D,3,0))","v":142.56}]
["Ventilatoren","LPKB","LPKB1602125B1EC","Rohrventilator LPKB 160+2x125 B1 EC",null,"18.ALLG",374.42,{"$f":"G5049*(1-VLOOKUP(F5049,Konditionen!$B:$D,3,0))","v":374.42}]
["Rohre und Formteile","LRBCB","LRBCB400500","Schalldämpfer    LRBCB     400.500","rechteckig, Anschluß rund","30",1675.54,{"$f":"G5057*(1-VLOOKUP(F5057,Konditionen!$B:$D,3,0))","v":1675.54}]
["Rohre und Formteile","LRCA","LRCA100500","Schalldämpfer    LRCA      100.500","rechteckig, Anschluß rund","30",538.74,{"$f":"G5065*(1-VLOOKUP(F5065,Konditionen!$B:$D,3,0))","v":538.74}]
["Rohre und Formteile","LRCA","LRCA2001000","Schalldämpfer    LRCA      200.1000","rechteckig, Anschluß rund","30",724.21,{"$f":"G5070*(1-VLOOKUP(F5070,Konditionen!$B:$D,3,0))","v":724.21}]
["Rohre und Formteile","LRCB","LRCB100500","Schalldämpfer    LRCB      100.500","rechteckig, Anschluß rund","30",94.25,{"$f":"G5081*(1-VLOOKUP(F5081,Konditionen!$B:$D,3,0))","v":94.25}]
["Rohre und Formteile","LRCB","LRCB200500","Schalldämpfer    LRCB      200.500","rechteckig, Anschluß rund","30",151.55000000000001,{"$f":"G5087*(1-VLOOKUP(F5087,Konditionen!$B:$D,3,0))","v":151.55000000000001}]
["Rohre und Formteile","LRCB","LRCB4001000","Schalldämpfer    LRCB      400.1000","rechteckig, Anschluß rund","30",528.46,{"$f":"G5092*(1-VLOOKUP(F5092,Konditionen!$B:$D,3,0))","v":528.46}]
["Rohre und Formteile","LRTR","LRTR1001000","Transfer Längsn.Rohr  LRTR 100.1000",null,"35",37.619999999999997,{"$f":"G5100*(1-VLOOKUP(F5100,Konditionen!$B:$D,3,0))","v":37.619999999999997}]
["Rohre und Formteile","LRTR","LRTR1251500","Transfer Längsn.Rohr  LRTR 125.1500",null,"35",60.24,{"$f":"G5105*(1-VLOOKUP(F5105,Konditionen!$B:$D,3,0))","v":60.24}]
["Rohre und Formteile","LRTR","LRTR1501500","Transfer Längsn.Rohr  LRTR 150.1500",null,"35",78.19,{"$f":"G5113*(1-VLOOKUP(F5113,Konditionen!$B:$D,3,0))","v":78.19}]
["Rohre und Formteile","LRTR","LRTR1801500","Transfer Längsn.Rohr  LRTR 180.1500",null,"35",90.53,{"$f":"G5121*(1-VLOOKUP(F5121,Konditionen!$B:$D,3,0))","v":90.53}]
["Rohre und Formteile","LRTR","LRTR2002000","Transfer Längsn.Rohr  LRTR 200.2000",null,"35",122.85,{"$f":"G5126*(1-VLOOKUP(F5126,Konditionen!$B:$D,3,0))","v":122.85}]
["Rohre und Formteile","LRTR","LRTR2502000","Transfer Längsn.Rohr  LRTR 250.2000",null,"35",151.13,{"$f":"G5134*(1-VLOOKUP(F5134,Konditionen!$B:$D,3,0))","v":151.13}]
["Rohre und Formteile","LRTR","LRTR3151000","Transfer Längsn.Rohr  LRTR 315.1000",null,"35",106.06,{"$f":"G5142*(1-VLOOKUP(F5142,Konditionen!$B:$D,3,0))","v":106.06}]
["Rohre und Formteile","LRTR","LRTR3501000","Transfer Längsn.Rohr  LRTR 350.1000",null,"35",113.56,{"$f":"G5147*(1-VLOOKUP(F5147,Konditionen!$B:$D,3,0))","v":113.56}]
["Rohre und Formteile","LRTR","LRTR4003000","Transfer Längsn.Rohr  LRTR 400.2960","neue Länge: 2960 mm","35",389.18,{"$f":"G5155*(1-VLOOKUP(F5155,Konditionen!$B:$D,3,0))","v":389.18}]
["Rohre und Formteile","LRTR","LRTR801000","Transfer Längsn.Rohr  LRTR  80.1000",null,"35",37.619999999999997,{"$f":"G5167*(1-VLOOKUP(F5167,Konditionen!$B:$D,3,0))","v":37.619999999999997}]
["Rohre und Formteile","LRTR","LRTR80500","Transfer Längsn.Rohr  LRTR  80.500",null,"35",23.56,{"$f":"G5168*(1-VLOOKUP(F5168,Konditionen!$B:$D,3,0))","v":23.56}]
["Montagezubehör","LSD","LSD150","Rohrschelle 2-teilig     LSD 150","mit Dämmeinlage u. Mutter M8/M10","90",1.5,{"$f":"G5176*(1-VLOOKUP(F5176,Konditionen!$B:$D,3,0))","v":1.5}]
["Montagezubehör","LSD","LSD500","Rohrschelle 2-teilig     LSD 500","mit Dämmeinlage u. Mutter M8/M10","90",7,{"$f":"G5188*(1-VLOOKUP(F5188,Konditionen!$B:$D,3,0))","v":7}]
["Montagezubehör","LSD","LSD560","Rohrschelle 2-teilig     LSD 560","mit Dämmeinlage u. Mutter M8/M10","90",7.55,{"$f":"G5189*(1-VLOOKUP(F5189,Konditionen!$B:$D,3,0))","v":7.55}]
["Montagezubehör","LSK2718","LSK2718240","Schienenkonsole LSK 27/18","L=240mm  verz.","90",3.5,{"$f":"G5201*(1-VLOOKUP(F5201,Konditionen!$B:$D,3,0))","v":3.5}]
["Montagezubehör","LSK","LSK38401000","Schienenkonsole LSK 38/40","L=1000mm  verz.","90",10.4,{"$f":"G5210*(1-VLOOKUP(F5210,Konditionen!$B:$D,3,0))","v":10.4}]
["Montagezubehör","LSK","LSK3840200","Schienenkonsole LSK 38/40","L=200 verz. t=1,75","90",3.1,{"$f":"G5211*(1-VLOOKUP(F5211,Konditionen!$B:$D,3,0))","v":3.1}]
["Smarttools","LTCLIP","LTCLIP","Schlauchklemme LTCLIP","passend für Schläuche 3,2 - 11 mm","90",2.4,{"$f":"G5223*(1-VLOOKUP(F5223,Konditionen!$B:$D,3,0))","v":2.4}]
["Kunststoff","MAKF","MAKFPPS-EL110","Kugelmanschette in PPs-el 110","mit Flanschanschluss","17.ALLG",194.18,{"$f":"G5231*(1-VLOOKUP(F5231,Konditionen!$B:$D,3,0))","v":194.18}]
["Kunststoff","MAKF","MAKFPPS-EL125","Kugelmanschette in PPs-el 125","mit Flanschanschluss","17.ALLG",210.38,{"$f":"G5232*(1-VLOOKUP(F5232,Konditionen!$B:$D,3,0))","v":210.38}]
["Kunststoff","MAKF","MAKFPPS-EL90","Kugelmanschette in PPs-el 90","mit Flanschanschluss","17.ALLG",146.66,{"$f":"G5244*(1-VLOOKUP(F5244,Konditionen!$B:$D,3,0))","v":146.66}]
["Kunststoff","MAKS","MAKSPPS-EL250","Kugelmanschette in PPs-el 250","befestigung mit Spannbändern","17.ALLG",129.6,{"$f":"G5252*(1-VLOOKUP(F5252,Konditionen!$B:$D,3,0))","v":129.6}]
["Kunststoff","MAKS","MAKSPPS-EL75","Kugelmanschette in PPs-el 75","befestigung mit Spannbändern","17.ALLG",79.7,{"$f":"G5257*(1-VLOOKUP(F5257,Konditionen!$B:$D,3,0))","v":79.7}]
["Kunststoff","MAKS","MAKSPP225","Kugelmanschette in PP 225","befestigung mit Spannbändern","17.ALLG",49.57,{"$f":"G5265*(1-VLOOKUP(F5265,Konditionen!$B:$D,3,0))","v":49.57}]
["Rohre und Formteile","MASTICAC","MASTICACRYL","Acryl Dichtmasse MASTIC ACRYL","grau  300 ml","90",2,{"$f":"G5273*(1-VLOOKUP(F5273,Konditionen!$B:$D,3,0))","v":2}]
["Luftdurchlässe","MBB","MBB-100-100-S","Anschlußkasten        MBB-100-100-S","Meß-/Drosseleinheit f. Zuluft","70",135.97,{"$f":"G5278*(1-VLOOKUP(F5278,Konditionen!$B:$D,3,0))","v":135.97}]
["Luftdurchlässe","MBB","MBB-125-160-S","Anschlußkasten        MBB-125-160-S","Meß-/Drosseleinheit f. Zuluft","70",154.68,{"$f":"G5286*(1-VLOOKUP(F5286,Konditionen!$B:$D,3,0))","v":154.68}]
["Luftdurchlässe","MBB","MBB-160-250-S","Anschlußkasten        MBB-160-250-S","Meß-/Drosseleinheit f. Zuluft","70",195.69,{"$f":"G5294*(1-VLOOKUP(F5294,Konditionen!$B:$D,3,0))","v":195.69}]
["Luftdurchlässe","MBB","MBB-200-315-E","Anschlußkasten        MBB-200-315-E","Meß-/Drosseleinheit f. Abluft","70",241.78,{"$f":"G5299*(1-VLOOKUP(F5299,Konditionen!$B:$D,3,0))","v":241.78}]
["Luftdurchlässe","MBB","MBB-315-315-E","Anschlußkasten        MBB-315-315-E","Meß-/Drosseleinheit f. Abluft","70",355.8,{"$f":"G5307*(1-VLOOKUP(F5307,Konditionen!$B:$D,3,0))","v":355.8}]
["Luftdurchlässe","MBBV","MBBV-125-200-S","Anschlußkasten       MBBV-125-200-S","inkl. variablem Volumenstromregler","70",790.39,{"$f":"G5312*(1-VLOOKUP(F5312,Konditionen!$B:$D,3,0))","v":790.39}]
["Luftdurchlässe","MBZ","MBZ-160","Verlängerungsstutzen        MBZ-160","passend zum Anschlusskasten MBB","70",9.35,{"$f":"G5320*(1-VLOOKUP(F5320,Konditionen!$B:$D,3,0))","v":9.35}]
["Rohre und Formteile","MCU","MCU16064","Verteilerkasten MCU 160-63-6-4","d1= 160mm / d3= 63mm","90",68.099999999999994,{"$f":"G5328*(1-VLOOKUP(F5328,Konditionen!$B:$D,3,0))","v":68.099999999999994}]
["Rohre und Formteile","MCU","MCU160880","Verteilerkasten MCU 160-80-8","d1= 160mm / d3= 80mm","90",63.6,{"$f":"G5331*(1-VLOOKUP(F5331,Konditionen!$B:$D,3,0))","v":63.6}]
["Montagezubehör","MDH","MDH224","M-Form Rohrkonsole          MDH 224","*** Netto-Preis ***","90",6.25,{"$f":"G5342*(1-VLOOKUP(F5342,Konditionen!$B:$D,3,0))","v":6.25}]
["Montagezubehör","MDH","MDH560","M-Form Rohrkonsole          MDH 560","*** Netto-Preis ***","90",26.25,{"$f":"G5347*(1-VLOOKUP(F5347,Konditionen!$B:$D,3,0))","v":26.25}]
["Kunststoff","MEFFIPPS","MEFFIPPS110","PPs Muffe  DN 110","mit eingespritzter Lippendichtung","17.EFFI",13.1,{"$f":"G5355*(1-VLOOKUP(F5355,Konditionen!$B:$D,3,0))","v":13.1}]
["Kunststoff","MEFFIPPS","MEFFIPPS90","PPs Muffe  DN 90","mit eingespritzter Lippendichtung","17.EFFI",12.2,{"$f":"G5363*(1-VLOOKUP(F5363,Konditionen!$B:$D,3,0))","v":12.2}]
["Rohre und Formteile","METUNOCK","METUNOCK1500","Nocken für Metu-Flansch       1500","je Ende                 Netto-Preis","90",9.1999999999999993,{"$f":"G5368*(1-VLOOKUP(F5368,Konditionen!$B:$D,3,0))","v":9.1999999999999993}]
["Rohre und Formteile","METUNOCK","METUNOCK400","Nocken für Metu-Flansch        400","je Ende                 Netto-Preis","90",1.5,{"$f":"G5376*(1-VLOOKUP(F5376,Konditionen!$B:$D,3,0))","v":1.5}]
["Rohre und Formteile","METUNOCK","METUNOCK900","Nocken für Metu-Flansch        900","je Ende                 Netto-Preis","90",4.5999999999999996,{"$f":"G5384*(1-VLOOKUP(F5384,Konditionen!$B:$D,3,0))","v":4.5999999999999996}]
["Rohre und Formteile","MFI","MFI25250","Muffe isoliert   MFI 25        250","25mm Isolierung","65",53.21,{"$f":"G5389*(1-VLOOKUP(F5389,Konditionen!$B:$D,3,0))","v":53.21}]
["Rohre und Formteile","MFI","MFI50150","Muffe isoliert   MFI 50        150","50mm Isolierung","65",47.86,{"$f":"G5397*(1-VLOOKUP(F5397,Konditionen!$B:$D,3,0))","v":47.86}]
["Rohre und Formteile","MFI","MFI50400","Muffe isoliert   MFI 50        400","50mm Isolierung","65",102.44,{"$f":"G5402*(1-VLOOKUP(F5402,Konditionen!$B:$D,3,0))","v":102.44}]
["Kunststoff","MFLNPPS","MFLNPPS600","Muffenflansch mit Nut in PPs 600","für Dichtung aus PVC-P o. EPDM","17.ALLG",231.76,{"$f":"G5410*(1-VLOOKUP(F5410,Konditionen!$B:$D,3,0))","v":231.76}]
["Kunststoff","MFLPPS","MFLPPS125","Muffenflansch in PPs 125",null,"17.ALLG",10.69,{"$f":"G5418*(1-VLOOKUP(F5418,Konditionen!$B:$D,3,0))","v":10.69}]
["Kunststoff","MFLPPS","MFLPPS225","Muffenflansch in PPs 225",null,"17.ALLG",15.98,{"$f":"G5423*(1-VLOOKUP(F5423,Konditionen!$B:$D,3,0))","v":15.98}]
["Kunststoff","MFLPPS","MFLPPS500","Muffenflansch in PPs 500",null,"17.ALLG",196.56,{"$f":"G5431*(1-VLOOKUP(F5431,Konditionen!$B:$D,3,0))","v":196.56}]
["Kunststoff","MFLPPS","MFLPPS700","Muffenflansch in PPs 700",null,"17.ALLG",256.06,{"$f":"G5436*(1-VLOOKUP(F5436,Konditionen!$B:$D,3,0))","v":256.06}]
["Kunststoff","MFPPS","MFPPS1200","PPs Muffe DN 1200",null,"17.ALLG",391.93,{"$f":"G5444*(1-VLOOKUP(F5444,Konditionen!$B:$D,3,0))","v":391.93}]
["Kunststoff","MFPPS","MFPPS225","PPs Muffe DN 225",null,"17.ALLG",13.39,{"$f":"G5452*(1-VLOOKUP(F5452,Konditionen!$B:$D,3,0))","v":13.39}]
["Kunststoff","MFPPS","MFPPS500","PPs Muffe DN 500",null,"17.ALLG",52.05,{"$f":"G5460*(1-VLOOKUP(F5460,Konditionen!$B:$D,3,0))","v":52.05}]
["Kunststoff","MFPPS","MFPPS710","PPs Muffe DN 710",null,"17.ALLG",171.18,{"$f":"G5466*(1-VLOOKUP(F5466,Konditionen!$B:$D,3,0))","v":171.18}]
["Rohre und Formteile","MFTR","MFTR150","Muffe Transfer   MF  TR   150",null,"35",23.03,{"$f":"G5474*(1-VLOOKUP(F5474,Konditionen!$B:$D,3,0))","v":23.03}]
["Rohre und Formteile","MFTR","MFTR250","Muffe Transfer   MF  TR   250",null,"35",26.45,{"$f":"G5479*(1-VLOOKUP(F5479,Konditionen!$B:$D,3,0))","v":26.45}]
["Rohre und Formteile","MFV2A","MFV2A100","Muffe            MF V2A        100","Edelstahl W.Nr. 1.4301","60",18.16,{"$f":"G5487*(1-VLOOKUP(F5487,Konditionen!$B:$D,3,0))","v":18.16}]
["Rohre und Formteile","MFV2A","MFV2A315","Muffe            MF V2A        315","Edelstahl W.Nr. 1.4301","60",58.72,{"$f":"G5499*(1-VLOOKUP(F5499,Konditionen!$B:$D,3,0))","v":58.72}]
["Rohre und Formteile","MFV2A","MFV2A355","Muffe            MF V2A        355","Edelstahl W.Nr. 1.4301","60",69.27,{"$f":"G5500*(1-VLOOKUP(F5500,Konditionen!$B:$D,3,0))","v":69.27}]
["Rohre und Formteile","MFV2A","MFV2A800","Muffe            MF V2A        800","Edelstahl W.Nr. 1.4301","60",257.04000000000002,{"$f":"G5508*(1-VLOOKUP(F5508,Konditionen!$B:$D,3,0))","v":257.04000000000002}]
["Rohre und Formteile","MF","MF200","Muffe            MF            200",null,"30",9.4499999999999993,{"$f":"G5520*(1-VLOOKUP(F5520,Konditionen!$B:$D,3,0))","v":9.4499999999999993}]
["Rohre und Formteile","MF","MF224","Muffe            MF            224",null,"30",10.28,{"$f":"G5521*(1-VLOOKUP(F5521,Konditionen!$B:$D,3,0))","v":10.28}]
["Rohre und Formteile","MF","MF500","Muffe            MF            500",null,"30",22.98,{"$f":"G5529*(1-VLOOKUP(F5529,Konditionen!$B:$D,3,0))","v":22.98}]
["Rohre und Formteile","MGL","MGL160","Membrandurchführung MGL 160",null,"53",30.54,{"$f":"G5541*(1-VLOOKUP(F5541,Konditionen!$B:$D,3,0))","v":30.54}]
["Rohre und Formteile","MGL","MGL250","Membrandurchführung MGL 250",null,"53",36.1,{"$f":"G5542*(1-VLOOKUP(F5542,Konditionen!$B:$D,3,0))","v":36.1}]
["Flex Rohre und Schalldämpfer","MGRIP","MGRIP280","Master-Grip MGRIP    280","Schlauchschelle","42.ALLG",18.23,{"$f":"G5554*(1-VLOOKUP(F5554,Konditionen!$B:$D,3,0))","v":18.23}]
["Rohre und Formteile","MG","MG315","Membrandurchführung MG  315","eingefasst in Aluminiumplatte","53",170.97,{"$f":"G5562*(1-VLOOKUP(F5562,Konditionen!$B:$D,3,0))","v":170.97}]
["Rohre und Formteile","MG","MG400","Membrandurchführung MG  400","eingefasst in Aluminiumplatte","53",304.58,{"$f":"G5563*(1-VLOOKUP(F5563,Konditionen!$B:$D,3,0))","v":304.58}]
["Ventilatoren","MK","MK125","Befestigungsmanschette MK 125","für Rohrventilatoren","18.ALLG",6.68,{"$f":"G5575*(1-VLOOKUP(F5575,Konditionen!$B:$D,3,0))","v":6.68}]
["Rohre und Formteile","MLU","MLU12580","Verteilerkasten MLU 125-8-0",null,"90",64.5,{"$f":"G5583*(1-VLOOKUP(F5583,Konditionen!$B:$D,3,0))","v":64.5}]
["Rohre und Formteile","MOFA","MOFA112","Bord an Formst.od.LNR    MOFA  112","für ??                  Netto-Preis","90",1,{"$f":"G5588*(1-VLOOKUP(F5588,Konditionen!$B:$D,3,0))","v":1}]
["Rohre und Formteile","MOFA","MOFA224","Bord an Formst.od.LNR    MOFA  224","für ??                  Netto-Preis","90",1,{"$f":"G5597*(1-VLOOKUP(F5597,Konditionen!$B:$D,3,0))","v":1}]
["Rohre und Formteile","MOFA","MOFA500","Bord an Formst.od.LNR    MOFA  500","für ??                  Netto-Preis","90",1.65,{"$f":"G5605*(1-VLOOKUP(F5605,Konditionen!$B:$D,3,0))","v":1.65}]
["Rohre und Formteile","MOFA","MOFA80","Bord an Formst.od.LNR    MOFA   80","für ??                  Netto-Preis","90",1,{"$f":"G5610*(1-VLOOKUP(F5610,Konditionen!$B:$D,3,0))","v":1}]
["Rohre und Formteile","MOSFA","MOSFA315","Montage Metuflansch AF  MOSFA  315","Edelstahl               Netto-Preis","90",15.95,{"$f":"G5618*(1-VLOOKUP(F5618,Konditionen!$B:$D,3,0))","v":15.95}]
["Rohre und Formteile","MOSFA","MOSFA710","Montage Metuflansch AF  MOSFA  710","Edelstahl               Netto-Preis","90",29.35,{"$f":"G5626*(1-VLOOKUP(F5626,Konditionen!$B:$D,3,0))","v":29.35}]
["Rohre und Formteile","MRU","MRU160100","Verteilerkasten MRU 160-10-0",null,"90",98.23,{"$f":"G5631*(1-VLOOKUP(F5631,Konditionen!$B:$D,3,0))","v":98.23}]
["Montagezubehör","MSK","MSK2718","Schutzkappe MSK 27/18    Stück","für Montageschiene 27x18 mm","90",0.1,{"$f":"G5639*(1-VLOOKUP(F5639,Konditionen!$B:$D,3,0))","v":0.1}]
["Montagezubehör","MSP","MSP3840","Profilgummi  MSP 38/40    Meter","für Schlitzbreiten 12-16mm","90",2.8,{"$f":"G5644*(1-VLOOKUP(F5644,Konditionen!$B:$D,3,0))","v":2.8}]
["Montagezubehör","MS","MS41416","Montageschiene MS 41/41","L=6020, t=2,00","90",25.3,{"$f":"G5652*(1-VLOOKUP(F5652,Konditionen!$B:$D,3,0))","v":25.3}]
["Luftdurchlässe","MTL","MTL1941000","Schlitzauslaß         MTL-19-4-1000","4-Spaltig, Länge .    .MM","70",342.06,{"$f":"G5660*(1-VLOOKUP(F5660,Konditionen!$B:$D,3,0))","v":342.06}]
["Ventilatoren","","MUBT025355E4","MUB/T 025 355E4","378x378mm,230V/50Hz,LR rück.","7.ALLG",939,{"$f":"G5665*(1-VLOOKUP(F5665,Konditionen!$B:$D,3,0))","v":939}]
["Ventilatoren","MUBT","MUBT042500EC","MUB/T 042 500EC-Poti","548x548mm,400V/EC,LR rück.","7.ALLG",2388,{"$f":"G5673*(1-VLOOKUP(F5673,Konditionen!$B:$D,3,0))","v":2388}]
["Montagezubehör","MU","MU10PE","Rohrmuffe MU 10 verz mit PE","100 mm","14.MS",4.3899999999999997,{"$f":"G5678*(1-VLOOKUP(F5678,Konditionen!$B:$D,3,0))","v":4.3899999999999997}]
["Montagezubehör","MU","MU112EPDM","Rohrmuffe MU 112 verz mit EPDM","1120 mm","14.MS",43.41,{"$f":"G5686*(1-VLOOKUP(F5686,Konditionen!$B:$D,3,0))","v":43.41}]
["Rohre und Formteile","MU","MU1250","Formteilmontage    NW 1250mm","Safe mit Selbstbohrschrauben","90",39.15,{"$f":"G5694*(1-VLOOKUP(F5694,Konditionen!$B:$D,3,0))","v":39.15}]
["Montagezubehör","MU","MU15PE","Rohrmuffe MU 15 verz mit PE","150 mm","14.MS",5.04,{"$f":"G5699*(1-VLOOKUP(F5699,Konditionen!$B:$D,3,0))","v":5.04}]
["Montagezubehör","MU","MU20EPDM","Rohrmuffe MU 20 verz mit EPDM","200 mm","14.MS",8.57,{"$f":"G5707*(1-VLOOKUP(F5707,Konditionen!$B:$D,3,0))","v":8.57}]
["Rohre und Formteile","MU","MU250","Formteilmontage     NW 250mm","Safe mit Selbstbohrschrauben","90",8.1,{"$f":"G5715*(1-VLOOKUP(F5715,Konditionen!$B:$D,3,0))","v":8.1}]
["Rohre und Formteile","MU","MU280","Formteilmontage     NW 280mm","Safe mit Selbstbohrschrauben","90",8.65,{"$f":"G5718*(1-VLOOKUP(F5718,Konditionen!$B:$D,3,0))","v":8.65}]
["Montagezubehör","MU","MU40PE","Rohrmuffe MU 40 verz mit PE","400 mm","14.MS",9.8000000000000007,{"$f":"G5729*(1-VLOOKUP(F5729,Konditionen!$B:$D,3,0))","v":9.8000000000000007}]
["Montagezubehör","MU","MU50EPDM","Rohrmuffe MU 50 verz mit EPDM","500 mm","14.MS",18.36,{"$f":"G5734*(1-VLOOKUP(F5734,Konditionen!$B:$D,3,0))","v":18.36}]
["Rohre und Formteile","MU","MU600","Formteilmontage     NW 600mm","Safe mit Selbstbohrschrauben","90",15.5,{"$f":"G5742*(1-VLOOKUP(F5742,Konditionen!$B:$D,3,0))","v":15.5}]
["Montagezubehör","MU","MU71EPDM","Rohrmuffe MU 71 verz mit EPDM","710 mm","14.MS",26.04,{"$f":"G5750*(1-VLOOKUP(F5750,Konditionen!$B:$D,3,0))","v":26.04}]
["Montagezubehör","MU","MU8PE","Rohrmuffe MU   8 verz mit PE","80 mm","14.MS",4.13,{"$f":"G5755*(1-VLOOKUP(F5755,Konditionen!$B:$D,3,0))","v":4.13}]
["Montagezubehör","MU","MU90PE","Rohrmuffe MU 90 verz mit PE","900 mm","14.MS",29.31,{"$f":"G5763*(1-VLOOKUP(F5763,Konditionen!$B:$D,3,0))","v":29.31}]
["Luftdurchlässe","NC19","NC19125","Runder Düsendurchlass      NC19-125","Stutzen vertikal DN125, RAL 9010","70",354.98,{"$f":"G5771*(1-VLOOKUP(F5771,Konditionen!$B:$D,3,0))","v":354.98}]
["Kunststoff","NLRPPS","NLRPPS1,920M","NAHTLOSROHR NLR PPs     1,9   20","Preis per Meter (Lieferlänge=5M)","17.ALLG",2.8,{"$f":"G5776*(1-VLOOKUP(F5776,Konditionen!$B:$D,3,0))","v":2.8}]
["Kunststoff","NLRPPS","NLRPPS3125M","NAHTLOSROHR NLR PPs     3,0  125","Preis per Meter (Lieferlänge=5M)","17.ALLG",11.01,{"$f":"G5784*(1-VLOOKUP(F5784,Konditionen!$B:$D,3,0))","v":11.01}]
["Kunststoff","NLRPPS","NLRPPS332M","NAHTLOSROHR NLR PPs     3,0   32","Preis per Meter (Lieferlänge=5M)","17.ALLG",2.8,{"$f":"G5789*(1-VLOOKUP(F5789,Konditionen!$B:$D,3,0))","v":2.8}]
["Kunststoff","NLRPPS","NLRPPS5355M","NAHTLOSROHR NLR PPs     5,0  355","Preis per Meter (Lieferlänge=5M)","17.ALLG",58.96,{"$f":"G5797*(1-VLOOKUP(F5797,Konditionen!$B:$D,3,0))","v":58.96}]
["Rohre und Formteile","NPUFP","NPUFP125","Nippel   NPUFP   125","Lindab FireProtect Rund","80",19.64,{"$f":"G5805*(1-VLOOKUP(F5805,Konditionen!$B:$D,3,0))","v":19.64}]
["Rohre und Formteile","NPUFP","NPUFP200","Nippel   NPUFP   200","Lindab FireProtect Rund","80",28.93,{"$f":"G5810*(1-VLOOKUP(F5810,Konditionen!$B:$D,3,0))","v":28.93}]
["Rohre und Formteile","NPUFP","NPUFP450","Nippel   NPUFP   450","Lindab FireProtect Rund","80",60.17,{"$f":"G5818*(1-VLOOKUP(F5818,Konditionen!$B:$D,3,0))","v":60.17}]
["Rohre und Formteile","NPUI","NPUI25250","Nippel isoliert  NPUI 25       250","25mm Isolierung","65",52.48,{"$f":"G5830*(1-VLOOKUP(F5830,Konditionen!$B:$D,3,0))","v":52.48}]
["Rohre und Formteile","NPUI","NPUI25300","Nippel isoliert  NPUI 25       300","25mm Isolierung","65",55.52,{"$f":"G5831*(1-VLOOKUP(F5831,Konditionen!$B:$D,3,0))","v":55.52}]
["Rohre und Formteile","NPUI","NPUI50200","Nippel isoliert  NPUI 50       200","50mm Isolierung","65",58.67,{"$f":"G5839*(1-VLOOKUP(F5839,Konditionen!$B:$D,3,0))","v":58.67}]
["Rohre und Formteile","NPUV2A","NPUV2A112","Nippel          NPU V2A        112","Edelstahl W.Nr. 1.4301","60",44.55,{"$f":"G5847*(1-VLOOKUP(F5847,Konditionen!$B:$D,3,0))","v":44.55}]
["Rohre und Formteile","NPUV2A","NPUV2A200","Nippel          NPU V2A        200","Edelstahl W.Nr. 1.4301","60",71.16,{"$f":"G5853*(1-VLOOKUP(F5853,Konditionen!$B:$D,3,0))","v":71.16}]
["Rohre und Formteile","NPUV2A","NPUV2A450","Nippel          NPU V2A        450","Edelstahl W.Nr. 1.4301","60",217.53,{"$f":"G5861*(1-VLOOKUP(F5861,Konditionen!$B:$D,3,0))","v":217.53}]
["Rohre und Formteile","NPU","NPU125","Nippel           NPU           125",null,"30",13.43,{"$f":"G5873*(1-VLOOKUP(F5873,Konditionen!$B:$D,3,0))","v":13.43}]
["Rohre und Formteile","NPU","NPU1250","Nippel           NPU           1250",null,"30",228.81,{"$f":"G5874*(1-VLOOKUP(F5874,Konditionen!$B:$D,3,0))","v":228.81}]
["Rohre und Formteile","NPU","NPU400","Nippel           NPU           400",null,"30",35.58,{"$f":"G5886*(1-VLOOKUP(F5886,Konditionen!$B:$D,3,0))","v":35.58}]
["Rohre und Formteile","NPU","NPU80","Nippel           NPU           80",null,"30",12.59,{"$f":"G5894*(1-VLOOKUP(F5894,Konditionen!$B:$D,3,0))","v":12.59}]
["Rohre und Formteile","NPU","NPU800","Nippel           NPU           800",null,"30",108.2,{"$f":"G5895*(1-VLOOKUP(F5895,Konditionen!$B:$D,3,0))","v":108.2}]
["Luftdurchlässe","NS19V","NS19V-S-0-160-21","Deckendurchlass   NS19-V-S-0-160-21","mit einstellbaren Düsen; Zuluft","70",227.52,{"$f":"G5907*(1-VLOOKUP(F5907,Konditionen!$B:$D,3,0))","v":227.52}]
["Kunststoff","ODICHT","ODICHTEPDM1250","O-Ringdichtung in EPDM DN 1250",null,"17.ALLG",85.42,{"$f":"G5915*(1-VLOOKUP(F5915,Konditionen!$B:$D,3,0))","v":85.42}]
["Kunststoff","ODICHT","ODICHTEPDM140","O-Ringdichtung in EPDM DN 140",null,"17.ALLG",6.37,{"$f":"G5916*(1-VLOOKUP(F5916,Konditionen!$B:$D,3,0))","v":6.37}]
["Kunststoff","ODICHT","ODICHTEPDM560","O-Ringdichtung in EPDM DN 560",null,"17.ALLG",45.46,{"$f":"G5928*(1-VLOOKUP(F5928,Konditionen!$B:$D,3,0))","v":45.46}]
["Kunststoff","ODICHT","ODICHTEPDM90","O-Ringdichtung in EPDM DN 90",null,"17.ALLG",5.5,{"$f":"G5936*(1-VLOOKUP(F5936,Konditionen!$B:$D,3,0))","v":5.5}]
["Kunststoff","ODICHT","ODICHTPVC-P1250","O-Ringdichtung in PVC-P DN 1250",null,"17.ALLG",49.68,{"$f":"G5941*(1-VLOOKUP(F5941,Konditionen!$B:$D,3,0))","v":49.68}]
["Kunststoff","ODICHT","ODICHTPVC-P315","O-Ringdichtung in PVC-P DN 315",null,"17.ALLG",14.9,{"$f":"G5949*(1-VLOOKUP(F5949,Konditionen!$B:$D,3,0))","v":14.9}]
["Kunststoff","ODICHT","ODICHTPVC-P700","O-Ringdichtung in PVC-P DN 700",null,"17.ALLG",34.659999999999997,{"$f":"G5957*(1-VLOOKUP(F5957,Konditionen!$B:$D,3,0))","v":34.659999999999997}]
["Rohre und Formteile","OH","OH-2","Knotenblech     OH-2","*** Netto-Preis ***","90",4.5,{"$f":"G5962*(1-VLOOKUP(F5962,Konditionen!$B:$D,3,0))","v":4.5}]
["Luftdurchlässe","OLR","OLR800A","Nachströmventil           OLR-800-A","Aussenmaß: 800mm, RAL 9010","70",168.1,{"$f":"G5970*(1-VLOOKUP(F5970,Konditionen!$B:$D,3,0))","v":168.1}]
["Luftdurchlässe","OPT","OPT125","Zuluftventil  OPT              125","Kunststoff mit Montagering","70",12.81,{"$f":"G5976*(1-VLOOKUP(F5976,Konditionen!$B:$D,3,0))","v":12.81}]
["Rohre und Formteile","ORINGTR","ORINGTR180","Oring für Transfer    ORINGTR  180",null,"35",24.13,{"$f":"G5984*(1-VLOOKUP(F5984,Konditionen!$B:$D,3,0))","v":24.13}]
["Rohre und Formteile","ORINGTR","ORINGTR450","Oring für Transfer    ORINGTR  450",null,"35",56.41,{"$f":"G5992*(1-VLOOKUP(F5992,Konditionen!$B:$D,3,0))","v":56.41}]
["Rohre und Formteile","OTRTH","OTRTH32","Überg. Transf/Schlauch   OTRTH   32","Transferanschluss = 100mm","35",39.15,{"$f":"G5997*(1-VLOOKUP(F5997,Konditionen!$B:$D,3,0))","v":39.15}]
["Rohre und Formteile","OTR","OTR125","Transfer Übergangsstück  OTR  125","alternative Seite aufgeben","35",30.8,{"$f":"G6005*(1-VLOOKUP(F6005,Konditionen!$B:$D,3,0))","v":30.8}]
["Rohre und Formteile","OTR","OTR300","Transfer Übergangsstück  OTR   300","alternative Seite aufgeben","35",44.39,{"$f":"G6013*(1-VLOOKUP(F6013,Konditionen!$B:$D,3,0))","v":44.39}]
["Rohre und Formteile","OTR","OTR500","Transfer Übergangsstück  OTR   500","alternative Seite aufgeben","35",75.040000000000006,{"$f":"G6018*(1-VLOOKUP(F6018,Konditionen!$B:$D,3,0))","v":75.040000000000006}]
["Rohre und Formteile","OUTR","OUTR200","Transfer Übergangsstück  OUTR   200","auf Safe","35",36.1,{"$f":"G6026*(1-VLOOKUP(F6026,Konditionen!$B:$D,3,0))","v":36.1}]
["Rohre und Formteile","OUTR","OUTR350","Transfer Übergangsstück  OUTR   350","auf Safe","35",54.99,{"$f":"G6031*(1-VLOOKUP(F6031,Konditionen!$B:$D,3,0))","v":54.99}]
["Luftdurchlässe","PCA","PCA125","Deckenauslaß rund perf.     PCA-125","ohne Zubehör(DAZ/DDZ/DRZ sep.best.)","70",151.72999999999999,{"$f":"G6039*(1-VLOOKUP(F6039,Konditionen!$B:$D,3,0))","v":151.72999999999999}]
["Smarttools","PCSRS","PCSRS","Staurohr S","zur Messung von Luftgeschwindigkeit","90",209,{"$f":"G6047*(1-VLOOKUP(F6047,Konditionen!$B:$D,3,0))","v":209}]
["Luftdurchlässe","PCS2","PCS2315A","Durchlass f. Sichtmontage PCS-315-A","mit Mess-/Drosseleinheit","70",888.2,{"$f":"G6052*(1-VLOOKUP(F6052,Konditionen!$B:$D,3,0))","v":888.2}]
["Smarttools","PC410","PC410AF","Druck-u. Strömungsmessgerät PC410AF","im Koffer  DE/EN","90",575,{"$f":"G6060*(1-VLOOKUP(F6060,Konditionen!$B:$D,3,0))","v":575}]
["Luftdurchlässe","PC6","PC6E250","Runder Deckendurchlass    PC6-E-250","Stutzen vertikal DN250, RAL 9010","70",354.51,{"$f":"G6065*(1-VLOOKUP(F6065,Konditionen!$B:$D,3,0))","v":354.51}]
["Luftdurchlässe","PC7","PC7200","Runder Dralldurchlass     PC7-S-200","Stutzen vertikal DN200, RAL 9010","70",392.79,{"$f":"G6073*(1-VLOOKUP(F6073,Konditionen!$B:$D,3,0))","v":392.79}]
["Filter","PF7","PF744495622","Panel-Filter 47mm  PF7-44 495 X 622","Filterklasse F7; eff. 493x620x47mm","37",71.86,{"$f":"G6081*(1-VLOOKUP(F6081,Konditionen!$B:$D,3,0))","v":71.86}]
["Filter","PF7","PF794393495","Panel-Filter 95mm  PF7-94 393 X 495","Filterklasse F7; eff. 393x493x95mm","37",87.36,{"$f":"G6086*(1-VLOOKUP(F6086,Konditionen!$B:$D,3,0))","v":87.36}]
["Filter","PF8","PF844393495","Panel-Filter 47mm  PF8-44 393 X 495","Filterklasse F8; eff. 393x493x47mm","37",56.87,{"$f":"G6094*(1-VLOOKUP(F6094,Konditionen!$B:$D,3,0))","v":56.87}]
["Filter","PF8","PF894495622","Panel-Filter 95mm  PF8-94 495 X 622","Filterklasse F8; eff. 493x620x95mm","37",123.83,{"$f":"G6105*(1-VLOOKUP(F6105,Konditionen!$B:$D,3,0))","v":123.83}]
["Filter","PF8","PF894592592","Panel-Filter 95mm  PF8-94 592 X 592","Filterklasse F8; eff. 593x593x95mm","37",128.27000000000001,{"$f":"G6108*(1-VLOOKUP(F6108,Konditionen!$B:$D,3,0))","v":128.27000000000001}]
["Filter","PF9","PF944592592","Panel-Filter 47mm  PF9-44 592 X 592","Filterklasse F9; eff. 593x593x47mm","37",82.72,{"$f":"G6116*(1-VLOOKUP(F6116,Konditionen!$B:$D,3,0))","v":82.72}]
["Filter","PF9","PF994495622","Panel-Filter 95mm  PF9-94 495 X 622","Filterklasse F9; eff. 493x620x95mm","37",131.12,{"$f":"G6121*(1-VLOOKUP(F6121,Konditionen!$B:$D,3,0))","v":131.12}]
["Rohre und Formteile","PGWU","PGWU3010633","Anschlußkasten PGWU 3010-63-3",null,"90",29.35,{"$f":"G6129*(1-VLOOKUP(F6129,Konditionen!$B:$D,3,0))","v":29.35}]
["Rohre und Formteile","PICAREF","PICAREF","Ersatzminen-Set             PICAREF","** Netto-Preis **","90",8.85,{"$f":"G6137*(1-VLOOKUP(F6137,Konditionen!$B:$D,3,0))","v":8.85}]
["Luftdurchlässe","PKA","PKA315","Deckenauslaß quad. perfor.  PKA-315","ohne Zubehör(DAZ,DKZ,DRZ sep.best.)","70",273.7,{"$f":"G6142*(1-VLOOKUP(F6142,Konditionen!$B:$D,3,0))","v":273.7}]
["Luftdurchlässe","IS122-12","PLEXUS-IS122-A6","Kühlbalken Plexus IS122-12-125-A6","Deckenraster 1250x625mm, RAL9010","70",1361.43,{"$f":"G6150*(1-VLOOKUP(F6150,Konditionen!$B:$D,3,0))","v":1361.43}]
["Filter","PM5","PM544287287","Panel-Filter 47mm  PM5-44 287 X 287","Filterklasse M5; eff. 287x287x47mm","37",32.840000000000003,{"$f":"G6158*(1-VLOOKUP(F6158,Konditionen!$B:$D,3,0))","v":32.840000000000003}]
["Filter","PM5","PM544592287","Panel-Filter 47mm  PM5-44 592 X 287","Filterklasse M5; eff. 593x287x47mm","37",43.71,{"$f":"G6163*(1-VLOOKUP(F6163,Konditionen!$B:$D,3,0))","v":43.71}]
["Filter","PM5","PM594592287","Panel-Filter 95mm  PM5-94 592 X 287","Filterklasse M5; eff. 593x287x95mm","37",60.08,{"$f":"G6171*(1-VLOOKUP(F6171,Konditionen!$B:$D,3,0))","v":60.08}]
["Filter","PM6","PM694393495","Panel-Filter 95mm  PM6-94 393 X 495","Filterklasse M6; eff. 393x493x95mm","37",71.400000000000006,{"$f":"G6183*(1-VLOOKUP(F6183,Konditionen!$B:$D,3,0))","v":71.400000000000006}]
["Filter","PM6","PM694393622","Panel-Filter 95mm  PM6-94 393 X 622","Filterklasse M6; eff. 393x620x95mm","37",77.930000000000007,{"$f":"G6184*(1-VLOOKUP(F6184,Konditionen!$B:$D,3,0))","v":77.930000000000007}]
["Luftdurchlässe","PR1","PR1E300100","Wandauslaß            PR1-E-300x100","m. perforier. Frontplatte  RAL 9010","70",36.78,{"$f":"G6192*(1-VLOOKUP(F6192,Konditionen!$B:$D,3,0))","v":36.78}]
["Rohre und Formteile","PSKUV2A","PSKUV2A125125","Sattelstutzen   PSKU V2A   125.125","Edelstahl W.Nr. 1.4301","60",78.45,{"$f":"G6204*(1-VLOOKUP(F6204,Konditionen!$B:$D,3,0))","v":78.45}]
["Rohre und Formteile","PSKUV2A","PSKUV2A140140","Sattelstutzen   PSKU V2A   140.140","Edelstahl W.Nr. 1.4301","60",89.26,{"$f":"G6205*(1-VLOOKUP(F6205,Konditionen!$B:$D,3,0))","v":89.26}]
["Rohre und Formteile","PSKUV2A","PSKUV2A450450","Sattelstutzen   PSKU V2A   450.450","Edelstahl W.Nr. 1.4301","60",381.52,{"$f":"G6217*(1-VLOOKUP(F6217,Konditionen!$B:$D,3,0))","v":381.52}]
["Kunststoff","PSK45PPS","PSK45PPS225","Sattelstutzen  45° in PPs 225","kurz, Muffenmaß","17.ALLG",60.26,{"$f":"G6225*(1-VLOOKUP(F6225,Konditionen!$B:$D,3,0))","v":60.26}]
["Kunststoff","PSK45PPS","PSK45PPS250","Sattelstutzen  45° in PPs 250","kurz, Muffenmaß","17.ALLG",73.540000000000006,{"$f":"G6226*(1-VLOOKUP(F6226,Konditionen!$B:$D,3,0))","v":73.540000000000006}]
["Kunststoff","PSK45PPS","PSK90PPS140","Sattelstutzen  90° in PPs 140","kurz, Muffenmaß","17.ALLG",33.26,{"$f":"G6239*(1-VLOOKUP(F6239,Konditionen!$B:$D,3,0))","v":33.26}]
["Kunststoff","PSK45PPS","PSK90PPS355","Sattelstutzen  90° in PPs 355","kurz, Muffenmaß","17.ALLG",109.62,{"$f":"G6247*(1-VLOOKUP(F6247,Konditionen!$B:$D,3,0))","v":109.62}]
["Kunststoff","PSK45PPS","PSK90PPS400","Sattelstutzen  90° in PPs 400","kurz, Muffenmaß","17.ALLG",145.58000000000001,{"$f":"G6248*(1-VLOOKUP(F6248,Konditionen!$B:$D,3,0))","v":145.58000000000001}]
["Kunststoff","PSK45PPS","PSK90PPS90","Sattelstutzen  90° in PPs 90","kurz, Muffenmaß","17.ALLG",24.08,{"$f":"G6260*(1-VLOOKUP(F6260,Konditionen!$B:$D,3,0))","v":24.08}]
["Rohre und Formteile","PSTR","PSTR224224","Transfer Sattelstutzen PSTR 224.224",null,"35",77.930000000000007,{"$f":"G6268*(1-VLOOKUP(F6268,Konditionen!$B:$D,3,0))","v":77.930000000000007}]
["Rohre und Formteile","PSTR","PSTR400400","Transfer Sattelstutzen PSTR 400.400",null,"35",157.86000000000001,{"$f":"G6273*(1-VLOOKUP(F6273,Konditionen!$B:$D,3,0))","v":157.86000000000001}]
["Rohre und Formteile","PSU","PSU125125","Sattelstück     125   PSU  125.125",null,"30",21.73,{"$f":"G6281*(1-VLOOKUP(F6281,Konditionen!$B:$D,3,0))","v":21.73}]
["Rohre und Formteile","PSU","PSU160140","Sattelstück 150-160   PSU  160.140",null,"30",25.6,{"$f":"G6289*(1-VLOOKUP(F6289,Konditionen!$B:$D,3,0))","v":25.6}]
["Rohre und Formteile","PSU","PSU200100","Sattelstück 180-200   PSU  200.100",null,"30",20.04,{"$f":"G6294*(1-VLOOKUP(F6294,Konditionen!$B:$D,3,0))","v":20.04}]
["Rohre und Formteile","PSU","PSU224224","Sattelstück     224   PSU  224.224",null,"30",37.15,{"$f":"G6302*(1-VLOOKUP(F6302,Konditionen!$B:$D,3,0))","v":37.15}]
["Rohre und Formteile","PSU","PSU250224","Sattelstück     250   PSU  250.224",null,"30",37.15,{"$f":"G6310*(1-VLOOKUP(F6310,Konditionen!$B:$D,3,0))","v":37.15}]
["Rohre und Formteile","PSU","PSU300300","Sattelstück     300   PSU  300.300",null,"30",54.89,{"$f":"G6315*(1-VLOOKUP(F6315,Konditionen!$B:$D,3,0))","v":54.89}]
["Rohre und Formteile","PSU","PSU315224","Sattelstück 280-355   PSU  315.224",null,"30",37.15,{"$f":"G6323*(1-VLOOKUP(F6323,Konditionen!$B:$D,3,0))","v":37.15}]
["Rohre und Formteile","PSU","PSU355315","Sattelstück     355   PSU  355.315",null,"30",54.89,{"$f":"G6328*(1-VLOOKUP(F6328,Konditionen!$B:$D,3,0))","v":54.89}]
["Rohre und Formteile","PSU","PSU400400","Sattelstück     400   PSU  400.400",null,"30",121.65,{"$f":"G6336*(1-VLOOKUP(F6336,Konditionen!$B:$D,3,0))","v":121.65}]
["Rohre und Formteile","PSU","PSU500224","Sattelstück 400-630   PSU  500.224",null,"30",37.15,{"$f":"G6344*(1-VLOOKUP(F6344,Konditionen!$B:$D,3,0))","v":37.15}]
["Rohre und Formteile","PSU","PSU500400","Sattelstück 450-500   PSU  500.400",null,"30",121.65,{"$f":"G6349*(1-VLOOKUP(F6349,Konditionen!$B:$D,3,0))","v":121.65}]
["Rohre und Formteile","PSU","PSU630355","Sattelstück 560-630   PSU  630.355",null,"30",111.67,{"$f":"G6357*(1-VLOOKUP(F6357,Konditionen!$B:$D,3,0))","v":111.67}]
["Rohre und Formteile","PSU","PSU630630","Sattelstück 630   PSU  630.630",null,"30",219.36,{"$f":"G6363*(1-VLOOKUP(F6363,Konditionen!$B:$D,3,0))","v":219.36}]
["Rohre und Formteile","PSVTR","PSVTR160160","Transfer Sattel PSVTR 30   160.160",null,"35",86.22,{"$f":"G6371*(1-VLOOKUP(F6371,Konditionen!$B:$D,3,0))","v":86.22}]
["Rohre und Formteile","PSVTR","PSVTR400400","Transfer Sattel PSVTR 30   400.400",null,"35",277.19,{"$f":"G6379*(1-VLOOKUP(F6379,Konditionen!$B:$D,3,0))","v":277.19}]
["Rohre und Formteile","PSVU45","PSVU45100100","Sattelstück      PSVU 45  100.100",null,"30",49.23,{"$f":"G6384*(1-VLOOKUP(F6384,Konditionen!$B:$D,3,0))","v":49.23}]
["Rohre und Formteile","PSVU45","PSVU45180180","Sattelstück      PSVU 45   180.180",null,"30",64.86,{"$f":"G6392*(1-VLOOKUP(F6392,Konditionen!$B:$D,3,0))","v":64.86}]
["Rohre und Formteile","PSVU45","PSVU45400400","Sattelstück      PSVU 45   400.400",null,"30",121.65,{"$f":"G6400*(1-VLOOKUP(F6400,Konditionen!$B:$D,3,0))","v":121.65}]
["Rohre und Formteile","PSVU45","PSVU45630630","Sattelstück      PSVU 45   630.630",null,"30",219.36,{"$f":"G6405*(1-VLOOKUP(F6405,Konditionen!$B:$D,3,0))","v":219.36}]
["Luftdurchlässe","PS1H","PS1H-L-2-160-21","Deckendurchlass    PS1-H-L-2-160-21","perf. Frontplatte, Mess/Drossel","70",309.41000000000003,{"$f":"G6413*(1-VLOOKUP(F6413,Konditionen!$B:$D,3,0))","v":309.41000000000003}]
["Luftdurchlässe","PS1H","PS1H-S-2-200-21","Deckendurchlass    PS1-H-S-2-200-21","perf. Frontp., Zuluft, Mess/Drossel","70",402.66,{"$f":"G6418*(1-VLOOKUP(F6418,Konditionen!$B:$D,3,0))","v":402.66}]
["Luftdurchlässe","PS1V","PS1V-L-0-315-21","Deckendurchlass    PS1-V-L-0-315-21","perforierte Frontplatte, RAL9010","70",361.95,{"$f":"G6426*(1-VLOOKUP(F6426,Konditionen!$B:$D,3,0))","v":361.95}]
["Luftdurchlässe","PS8H","PS8H-S-2-315-21","Dralldurchlass     PS8-H-S-2-315-21","perf. Frontp., Zuluft, Mess/Drossel","70",538.38,{"$f":"G6434*(1-VLOOKUP(F6434,Konditionen!$B:$D,3,0))","v":538.38}]
["Kunststoff","PS90PPS","PS90PPS110M","Sattelstutzen in PPs 110mm 90°","Muffenmaß","17.ALLG",36.07,{"$f":"G6439*(1-VLOOKUP(F6439,Konditionen!$B:$D,3,0))","v":36.07}]
["Kunststoff","PS90PPS","PS90PPS180M","Sattelstutzen in PPs 180mm 90°","Muffenmaß","17.ALLG",65.44,{"$f":"G6447*(1-VLOOKUP(F6447,Konditionen!$B:$D,3,0))","v":65.44}]
["Kunststoff","PS90PPS","PS90PPS225R","Sattelstutzen in PPs 225mm 90°","Rohranschluss","17.ALLG",60.26,{"$f":"G6452*(1-VLOOKUP(F6452,Konditionen!$B:$D,3,0))","v":60.26}]
["Kunststoff","PS90PPS","PS90PPS355R","Sattelstutzen in PPs 355mm 90°","Rohranschluss","17.ALLG",190.51,{"$f":"G6460*(1-VLOOKUP(F6460,Konditionen!$B:$D,3,0))","v":190.51}]
["Kunststoff","PS90PPS","PS90PPS500R","Sattelstutzen in PPs 500mm 90°","Rohranschluss","17.ALLG",251.2,{"$f":"G6468*(1-VLOOKUP(F6468,Konditionen!$B:$D,3,0))","v":251.2}]
["Kunststoff","PS90PPS","PS90PPS63M","Sattelstutzen in PPs 63mm 90°","Muffenmaß","17.ALLG",30.67,{"$f":"G6473*(1-VLOOKUP(F6473,Konditionen!$B:$D,3,0))","v":30.67}]
["Kunststoff","PS90PPS","PS90PPS75M","Sattelstutzen in PPs 75mm 90°","Muffenmaß","17.ALLG",32.07,{"$f":"G6481*(1-VLOOKUP(F6481,Konditionen!$B:$D,3,0))","v":32.07}]
["Rohre und Formteile","PTR","PTR180","Transfer Pass-Stück   PTR      180",null,"35",26.34,{"$f":"G6492*(1-VLOOKUP(F6492,Konditionen!$B:$D,3,0))","v":26.34}]
["Rohre und Formteile","PTR","PTR250","Transfer Pass-Stück   PTR      250",null,"35",28.75,{"$f":"G6495*(1-VLOOKUP(F6495,Konditionen!$B:$D,3,0))","v":28.75}]
["Rohre und Formteile","PVCU","PVCU100631","Anschlußkasten PVCU 100-63-1",null,"90",17.100000000000001,{"$f":"G6503*(1-VLOOKUP(F6503,Konditionen!$B:$D,3,0))","v":17.100000000000001}]
["Rohre und Formteile","PVDP","PVDP315120050","Rundschalldämpfer mit Kern 315.1200"," 50mm Isolierung, mineralfaserfrei","90",276.3,{"$f":"G6515*(1-VLOOKUP(F6515,Konditionen!$B:$D,3,0))","v":276.3}]
["Rohre und Formteile","PVDP","PVDP315600100","Rundschalldämpfer mit Kern 315.600"," 100mm Isolierung, mineralfaserfrei","90",266.8,{"$f":"G6516*(1-VLOOKUP(F6516,Konditionen!$B:$D,3,0))","v":266.8}]
["Rohre und Formteile","PVDP","PVDP400600100","Rundschalldämpfer mit Kern 400.600"," 100mm Isolierung, mineralfaserfrei","90",297.5,{"$f":"G6524*(1-VLOOKUP(F6524,Konditionen!$B:$D,3,0))","v":297.5}]
["Rohre und Formteile","PVDP","PVDP6301200100","Rundschalldämpfer mit Kern 630.1200"," 100mm Isolierung, mineralfaserfrei","90",651.9,{"$f":"G6536*(1-VLOOKUP(F6536,Konditionen!$B:$D,3,0))","v":651.9}]
["Rohre und Formteile","PVDP","PVDP630120050","Rundschalldämpfer mit Kern 630.1200"," 50mm Isolierung, mineralfaserfrei","90",603.1,{"$f":"G6537*(1-VLOOKUP(F6537,Konditionen!$B:$D,3,0))","v":603.1}]
["Rohre und Formteile","PVD","PVD100300100","Rohrschalldämpfer  PVD 100.305.300","mineralfaserfrei,","90",135.5,{"$f":"G6545*(1-VLOOKUP(F6545,Konditionen!$B:$D,3,0))","v":135.5}]
["Rohre und Formteile","PVD","PVD125900100","Rohrschalldämpfer  PVD 125.330.900","mineralfaserfrei,","90",187.7,{"$f":"G6557*(1-VLOOKUP(F6557,Konditionen!$B:$D,3,0))","v":187.7}]
["Rohre und Formteile","PVD","PVD12590050","Rohrschalldämpfer  PVD 125.220.900","mineralfaserfrei,","90",137.69999999999999,{"$f":"G6558*(1-VLOOKUP(F6558,Konditionen!$B:$D,3,0))","v":137.69999999999999}]
["Rohre und Formteile","PVD","PVD20030050","Rohrschalldämpfer  PVD 200.302.300","mineralfaserfrei,","90",127.3,{"$f":"G6570*(1-VLOOKUP(F6570,Konditionen!$B:$D,3,0))","v":127.3}]
["Rohre und Formteile","PVD","PVD25060050","Rohrschalldämpfer  PVD 250.352.600","mineralfaserfrei,","90",149.1,{"$f":"G6578*(1-VLOOKUP(F6578,Konditionen!$B:$D,3,0))","v":149.1}]
["Rohre und Formteile","PVD","PVD250900100","Rohrschalldämpfer  PVD 250.450.900","mineralfaserfrei,","90",211.7,{"$f":"G6579*(1-VLOOKUP(F6579,Konditionen!$B:$D,3,0))","v":211.7}]
["Rohre und Formteile","PVWU","PVWU125633","Anschlußkasten PVWU 125-63-3",null,"90",35.700000000000003,{"$f":"G6591*(1-VLOOKUP(F6591,Konditionen!$B:$D,3,0))","v":35.700000000000003}]
["Kanäle","QDDFI","QDDFI30","Dachdurchführung QDDFI verzinkt STK","s=1.00mm/300x300mm/ 0°Grad/innen-","53",426.7,{"$f":"G6599*(1-VLOOKUP(F6599,Konditionen!$B:$D,3,0))","v":426.7}]
["Kanäle","QDDF","QDDF120","Dachdurchführung 1200 x 1200mm  STK","0° Neigung einw. Ausführung L=1.000","53",504.32,{"$f":"G6604*(1-VLOOKUP(F6604,Konditionen!$B:$D,3,0))","v":504.32}]
["Montagezubehör","QDMDEKA","QDMDEKA8869K","Dichtmasse Butyl-Mastic 8869    STK","310 ml Kartusche / erfüllt VDI 6022","90",7.7,{"$f":"G6612*(1-VLOOKUP(F6612,Konditionen!$B:$D,3,0))","v":7.7}]
["Kanäle","QFDSVZ","QFDSVZ650","Flachdachsockel A=600mm         STK","..° Dachneigung s=2.00mm verzinkt","53",543,{"$f":"G6621*(1-VLOOKUP(F6621,Konditionen!$B:$D,3,0))","v":543}]
["Brandschutz","QFPWKS","QFPWKS1003252","Weichstoffkompensator           STK","1.003 x 252mm","80",750.6,{"$f":"G6626*(1-VLOOKUP(F6626,Konditionen!$B:$D,3,0))","v":750.6}]
["Brandschutz","QFPWKS","QFPWKS1003711","Weichstoffkompensator           STK","1.003 x 711mm","80",930.2,{"$f":"G6634*(1-VLOOKUP(F6634,Konditionen!$B:$D,3,0))","v":930.2}]
["Brandschutz","QFPWKS","QFPWKS1125400","Weichstoffkompensator           STK","B=1125mm H=400mm","80",855.5,{"$f":"G6642*(1-VLOOKUP(F6642,Konditionen!$B:$D,3,0))","v":855.5}]
["Brandschutz","QFPWKS","QFPWKS1125711","Weichstoffkompensator           STK","B=1125mm H=711mm","80",979.8,{"$f":"G6647*(1-VLOOKUP(F6647,Konditionen!$B:$D,3,0))","v":979.8}]
["Brandschutz","QFPWKS","QFPWKS1262400","Weichstoffkompensator           STK","B=1262mm H=400mm","80",911.3,{"$f":"G6655*(1-VLOOKUP(F6655,Konditionen!$B:$D,3,0))","v":911.3}]
["Brandschutz","QFPWKS","QFPWKS1262711","Weichstoffkompensator           STK","B=1262mm H=711mm","80",1036.7,{"$f":"G6660*(1-VLOOKUP(F6660,Konditionen!$B:$D,3,0))","v":1036.7}]
["Brandschutz","QFPWKS","QFPWKS201400","Weichstoffkompensator           STK","B=201mm H=400mm","80",493.9,{"$f":"G6668*(1-VLOOKUP(F6668,Konditionen!$B:$D,3,0))","v":493.9}]
["Brandschutz","QFPWKS","QFPWKS2521000","Weichstoffkompensator           STK","B=252mm H=1000mm","80",750.6,{"$f":"G6676*(1-VLOOKUP(F6676,Konditionen!$B:$D,3,0))","v":750.6}]
["Brandschutz","QFPWKS","QFPWKS252400","Weichstoffkompensator           STK","B=252mm H=400mm","80",513.20000000000005,{"$f":"G6681*(1-VLOOKUP(F6681,Konditionen!$B:$D,3,0))","v":513.20000000000005}]
["Brandschutz","QFPWKS","QFPWKS3181000","Weichstoffkompensator           STK","B=318mm H=1000mm","80",776.2,{"$f":"G6689*(1-VLOOKUP(F6689,Konditionen!$B:$D,3,0))","v":776.2}]
["Brandschutz","QFPWKS","QFPWKS318400","Weichstoffkompensator           STK","B=318mm H=400mm","80",538.79999999999995,{"$f":"G6694*(1-VLOOKUP(F6694,Konditionen!$B:$D,3,0))","v":538.79999999999995}]
["Brandschutz","QFPWKS","QFPWKS3571000","Weichstoffkompensator           STK","B=357mm H=1000mm","80",790.7,{"$f":"G6702*(1-VLOOKUP(F6702,Konditionen!$B:$D,3,0))","v":790.7}]
["Brandschutz","QFPWKS","QFPWKS357565","Weichstoffkompensator           STK","B=357mm H=565mm","80",620.70000000000005,{"$f":"G6710*(1-VLOOKUP(F6710,Konditionen!$B:$D,3,0))","v":620.70000000000005}]
["Brandschutz","QFPWKS","QFPWKS4001000","Weichstoffkompensator           STK","B=400mm H=1000mm","80",808.3,{"$f":"G6715*(1-VLOOKUP(F6715,Konditionen!$B:$D,3,0))","v":808.3}]
["Brandschutz","QFPWKS","QFPWKS400565","Weichstoffkompensator           STK","B=400mm H=565mm","80",638.4,{"$f":"G6723*(1-VLOOKUP(F6723,Konditionen!$B:$D,3,0))","v":638.4}]
["Brandschutz","QFPWKS","QFPWKS449318","Weichstoffkompensator           STK","B=449mm H=318mm","80",557.4,{"$f":"G6731*(1-VLOOKUP(F6731,Konditionen!$B:$D,3,0))","v":557.4}]
["Brandschutz","QFPWKS","QFPWKS449565","Weichstoffkompensator           STK","B=449mm H=565mm","80",657.5,{"$f":"G6736*(1-VLOOKUP(F6736,Konditionen!$B:$D,3,0))","v":657.5}]
["Brandschutz","QFPWKS","QFPWKS503201","Weichstoffkompensator           STK","B=503mm H=201mm","80",534,{"$f":"G6742*(1-VLOOKUP(F6742,Konditionen!$B:$D,3,0))","v":534}]
["Brandschutz","QFPWKS","QFPWKS503634","Weichstoffkompensator           STK","B=503mm H=634mm","80",705.7,{"$f":"G6750*(1-VLOOKUP(F6750,Konditionen!$B:$D,3,0))","v":705.7}]
["Brandschutz","QFPWKS","QFPWKS565357","Weichstoffkompensator           STK","B=565mm H=357mm","80",620.70000000000005,{"$f":"G6758*(1-VLOOKUP(F6758,Konditionen!$B:$D,3,0))","v":620.70000000000005}]
["Brandschutz","QFPWKS","QFPWKS565900","Weichstoffkompensator           STK","B=565mm H=900mm","80",834.7,{"$f":"G6766*(1-VLOOKUP(F6766,Konditionen!$B:$D,3,0))","v":834.7}]
["Brandschutz","QFPWKS","QFPWKS634357","Weichstoffkompensator           STK","B=634mm H=357mm","80",649.4,{"$f":"G6771*(1-VLOOKUP(F6771,Konditionen!$B:$D,3,0))","v":649.4}]
["Brandschutz","QFPWKS","QFPWKS634900","Weichstoffkompensator           STK","B=634mm H=900mm","80",862.1,{"$f":"G6779*(1-VLOOKUP(F6779,Konditionen!$B:$D,3,0))","v":862.1}]
["Brandschutz","QFPWKS","QFPWKS711503","Weichstoffkompensator           STK","B=711mm H=503mm","80",736.2,{"$f":"G6787*(1-VLOOKUP(F6787,Konditionen!$B:$D,3,0))","v":736.2}]
["Brandschutz","QFPWKS","QFPWKS711900","Weichstoffkompensator           STK","B=711mm H=900mm","80",891.8,{"$f":"G6792*(1-VLOOKUP(F6792,Konditionen!$B:$D,3,0))","v":891.8}]
["Brandschutz","QFPWKS","QFPWKS797503","Weichstoffkompensator           STK","B=797mm H=503mm","80",769.8,{"$f":"G6800*(1-VLOOKUP(F6800,Konditionen!$B:$D,3,0))","v":769.8}]
["Brandschutz","QFPWKS","QFPWKS797900","Weichstoffkompensator           STK","B=797mm H=900mm","80",926.1,{"$f":"G6805*(1-VLOOKUP(F6805,Konditionen!$B:$D,3,0))","v":926.1}]
["Brandschutz","QFPWKS","QFPWKS894503","Weichstoffkompensator           STK","B=894mm H=503mm","80",806.8,{"$f":"G6813*(1-VLOOKUP(F6813,Konditionen!$B:$D,3,0))","v":806.8}]
["Kanäle","QPEVZ","QPEVZ20","Profilecken verzinkt 20/3       STK",null,"90",0.2,{"$f":"G6821*(1-VLOOKUP(F6821,Konditionen!$B:$D,3,0))","v":0.2}]
["Kanäle","QRPVZ","QRPVZ305000","Rahmenprofil verzinkt 30mm S30.5000",null,"90",6.5,{"$f":"G6826*(1-VLOOKUP(F6826,Konditionen!$B:$D,3,0))","v":6.5}]
["Kunststoff","RCEFFIPP","RCEFFIPPS11075","PPs Reduzierung 110x75 mm","mit eingespritzter Lippendichtung","17.EFFI",19.05,{"$f":"G6834*(1-VLOOKUP(F6834,Konditionen!$B:$D,3,0))","v":19.05}]
["Kunststoff","RCEFFIPP","RCEFFIPPS20063","PPs Reduzierung 200x63 mm","mit eingespritzter Lippendichtung","17.EFFI",52.08,{"$f":"G6846*(1-VLOOKUP(F6846,Konditionen!$B:$D,3,0))","v":52.08}]
["Kunststoff","RCEFFIPP","RCEFFIPPS20075","PPs Reduzierung 200x75 mm","mit eingespritzter Lippendichtung","17.EFFI",52.08,{"$f":"G6847*(1-VLOOKUP(F6847,Konditionen!$B:$D,3,0))","v":52.08}]
["Kunststoff","RCEFFIPP","RCEFFIPPS315160","PPs Reduzierung 315x160 mm","mit eingespritzter Lippendichtung","17.EFFI",71.290000000000006,{"$f":"G6855*(1-VLOOKUP(F6855,Konditionen!$B:$D,3,0))","v":71.290000000000006}]
["Rohre und Formteile","RCFU","RCFU12580","Reduzierung      RCFU      125.80",null,"30",17.940000000000001,{"$f":"G6867*(1-VLOOKUP(F6867,Konditionen!$B:$D,3,0))","v":17.940000000000001}]
["Rohre und Formteile","RCFU","RCFU160125","Reduzierung      RCFU      160.125",null,"30",20.46,{"$f":"G6871*(1-VLOOKUP(F6871,Konditionen!$B:$D,3,0))","v":20.46}]
["Rohre und Formteile","RCFU","RCFU180160","Reduzierung      RCFU      180.160",null,"30",26.75,{"$f":"G6877*(1-VLOOKUP(F6877,Konditionen!$B:$D,3,0))","v":26.75}]
["Rohre und Formteile","RCFU","RCFU250150","Reduzierung      RCFU      250.150",null,"30",34.729999999999997,{"$f":"G6889*(1-VLOOKUP(F6889,Konditionen!$B:$D,3,0))","v":34.729999999999997}]
["Rohre und Formteile","RCFU","RCFU250160","Reduzierung      RCFU      250.160",null,"30",34.729999999999997,{"$f":"G6890*(1-VLOOKUP(F6890,Konditionen!$B:$D,3,0))","v":34.729999999999997}]
["Rohre und Formteile","RCFU","RCFU400200","Reduzierung      RCFU      400.200",null,"30",109.15,{"$f":"G6902*(1-VLOOKUP(F6902,Konditionen!$B:$D,3,0))","v":109.15}]
["Rohre und Formteile","RCFU","RCFU630400","Reduzierung      RCFU      630.400",null,"30",209.8,{"$f":"G6910*(1-VLOOKUP(F6910,Konditionen!$B:$D,3,0))","v":209.8}]
["Rohre und Formteile","RCFU","RCFU8063","Reduzierung      RCFU       80.63",null,"30",17.940000000000001,{"$f":"G6911*(1-VLOOKUP(F6911,Konditionen!$B:$D,3,0))","v":17.940000000000001}]
["Rohre und Formteile","RCLFUI","RCLFUI25200150","Reduzierung Isol RCFLUI 25 200.150","25mm Isolierung","65",164.68,{"$f":"G6923*(1-VLOOKUP(F6923,Konditionen!$B:$D,3,0))","v":164.68}]
["Rohre und Formteile","RCLFUI","RCLFUI25300200","Reduzierung Isol RCFLUI 25 300.200","25mm Isolierung","65",214.21,{"$f":"G6931*(1-VLOOKUP(F6931,Konditionen!$B:$D,3,0))","v":214.21}]
["Rohre und Formteile","RCLFUI","RCLFUI25300250","Reduzierung Isol RCFLUI 25 300.250","25mm Isolierung","65",209.28,{"$f":"G6932*(1-VLOOKUP(F6932,Konditionen!$B:$D,3,0))","v":209.28}]
["Rohre und Formteile","RCLFUI","RCLFUI25400300","Reduzierung Isol RCFLUI 25 400.300","25mm Isolierung","65",334.92,{"$f":"G6944*(1-VLOOKUP(F6944,Konditionen!$B:$D,3,0))","v":334.92}]
["Rohre und Formteile","RCLFUI","RCLFUI25450355","Reduzierung Isol RCFLUI 25 450.355","25mm Isolierung","65",379.62,{"$f":"G6952*(1-VLOOKUP(F6952,Konditionen!$B:$D,3,0))","v":379.62}]
["Rohre und Formteile","RCLFUI","RCLFUI25500200","Reduzierung Isol RCFLUI 25 500.200","25mm Isolierung","65",465.69,{"$f":"G6957*(1-VLOOKUP(F6957,Konditionen!$B:$D,3,0))","v":465.69}]
["Rohre und Formteile","RCLFUI","RCLFUI50150125","Reduzierung Isol RCFLUI 50 150.125","50mm Isolierung","65",137.91,{"$f":"G6965*(1-VLOOKUP(F6965,Konditionen!$B:$D,3,0))","v":137.91}]
["Rohre und Formteile","RCLFUI","RCLFUI50300100","Reduzierung Isol RCFLUI 50 300.100","50mm Isolierung","65",271.41000000000003,{"$f":"G6973*(1-VLOOKUP(F6973,Konditionen!$B:$D,3,0))","v":271.41000000000003}]
["Rohre und Formteile","RCLFUI","RCLFUI50355100","Reduzierung Isol RCFLUI 50 355.100","50mm Isolierung","65",308.25,{"$f":"G6978*(1-VLOOKUP(F6978,Konditionen!$B:$D,3,0))","v":308.25}]
["Rohre und Formteile","RCLFUI","RCLFUI50400150","Reduzierung Isol RCFLUI 50 400.150","50mm Isolierung","65",381.09,{"$f":"G6986*(1-VLOOKUP(F6986,Konditionen!$B:$D,3,0))","v":381.09}]
["Rohre und Formteile","RCLFUI","RCLFUI50450100","Reduzierung Isol RCFLUI 50 450.100","50mm Isolierung","65",462.97,{"$f":"G6991*(1-VLOOKUP(F6991,Konditionen!$B:$D,3,0))","v":462.97}]
["Rohre und Formteile","RCLFUI","RCLFUI50500100","Reduzierung Isol RCFLUI 50 500.100","50mm Isolierung","65",525.1,{"$f":"G6999*(1-VLOOKUP(F6999,Konditionen!$B:$D,3,0))","v":525.1}]
["Rohre und Formteile","RCLFU","RCLFU1000400","Reduzierung      RCFLU    1000.400",null,"30",575.05999999999995,{"$f":"G7008*(1-VLOOKUP(F7008,Konditionen!$B:$D,3,0))","v":575.05999999999995}]
["Rohre und Formteile","RCLFU","RCLFU1000630","Reduzierung      RCFLU    1000.630",null,"30",525.1,{"$f":"G7013*(1-VLOOKUP(F7013,Konditionen!$B:$D,3,0))","v":525.1}]
["Rohre und Formteile","RCLFU","RCLFU1120600","Reduzierung      RCFLU    1120.600",null,"30",700.07,{"$f":"G7021*(1-VLOOKUP(F7021,Konditionen!$B:$D,3,0))","v":700.07}]
["Rohre und Formteile","RCLFU","RCLFU12501000","Reduzierung      RCFLU   1250.1000",null,"30",809.75,{"$f":"G7029*(1-VLOOKUP(F7029,Konditionen!$B:$D,3,0))","v":809.75}]
["Rohre und Formteile","RCLFU","RCLFU1250630","Reduzierung      RCFLU    1250.630",null,"30",902.01,{"$f":"G7034*(1-VLOOKUP(F7034,Konditionen!$B:$D,3,0))","v":902.01}]
["Rohre und Formteile","RCLFU","RCLFU140125","Reduzierung      RCFLU     140.125",null,"30",45.97,{"$f":"G7042*(1-VLOOKUP(F7042,Konditionen!$B:$D,3,0))","v":45.97}]
["Rohre und Formteile","RCLFU","RCLFU15063","Reduzierung      RCFLU     150.63",null,"30",45.97,{"$f":"G7047*(1-VLOOKUP(F7047,Konditionen!$B:$D,3,0))","v":45.97}]
["Rohre und Formteile","RCLFU","RCLFU18080","Reduzierung      RCFLU     180.80",null,"30",54.25,{"$f":"G7055*(1-VLOOKUP(F7055,Konditionen!$B:$D,3,0))","v":54.25}]
["Rohre und Formteile","RCLFU","RCLFU250100","Reduzierung      RCFLU     250.100",null,"30",62.34,{"$f":"G7063*(1-VLOOKUP(F7063,Konditionen!$B:$D,3,0))","v":62.34}]
["Rohre und Formteile","RCLFU","RCLFU280112","Reduzierung      RCFLU     280.112",null,"30",76.510000000000005,{"$f":"G7068*(1-VLOOKUP(F7068,Konditionen!$B:$D,3,0))","v":76.510000000000005}]
["Rohre und Formteile","RCLFU","RCLFU280250","Reduzierung      RCFLU     280.250",null,"30",78.709999999999994,{"$f":"G7076*(1-VLOOKUP(F7076,Konditionen!$B:$D,3,0))","v":78.709999999999994}]
["Rohre und Formteile","RCLFU","RCLFU300150","Reduzierung      RCFLU     300.150",null,"30",77.239999999999995,{"$f":"G7081*(1-VLOOKUP(F7081,Konditionen!$B:$D,3,0))","v":77.239999999999995}]
["Rohre und Formteile","RCLFU","RCLFU315140","Reduzierung      RCFLU     315.140",null,"30",83.44,{"$f":"G7089*(1-VLOOKUP(F7089,Konditionen!$B:$D,3,0))","v":83.44}]
["Rohre und Formteile","RCLFU","RCLFU355180","Reduzierung      RCFLU     355.180",null,"30",93.83,{"$f":"G7097*(1-VLOOKUP(F7097,Konditionen!$B:$D,3,0))","v":93.83}]
["Rohre und Formteile","RCLFU","RCLFU400180","Reduzierung      RCFLU     400.180",null,"30",109.15,{"$f":"G7102*(1-VLOOKUP(F7102,Konditionen!$B:$D,3,0))","v":109.15}]
["Rohre und Formteile","RCLFU","RCLFU450280","Reduzierung      RCFLU     450.280",null,"30",136.13,{"$f":"G7110*(1-VLOOKUP(F7110,Konditionen!$B:$D,3,0))","v":136.13}]
["Rohre und Formteile","RCLFU","RCLFU500450","Reduzierung      RCFLU     500.450",null,"30",152.82,{"$f":"G7118*(1-VLOOKUP(F7118,Konditionen!$B:$D,3,0))","v":152.82}]
["Rohre und Formteile","RCLFU","RCLFU560355","Reduzierung      RCFLU     560.355",null,"30",167.3,{"$f":"G7123*(1-VLOOKUP(F7123,Konditionen!$B:$D,3,0))","v":167.3}]
["Rohre und Formteile","RCLFU","RCLFU600355","Reduzierung      RCFLU     600.355",null,"30",188.71,{"$f":"G7129*(1-VLOOKUP(F7129,Konditionen!$B:$D,3,0))","v":188.71}]
["Rohre und Formteile","RCLFU","RCLFU630600","Reduzierung      RCFLU     630.600",null,"30",208.97,{"$f":"G7137*(1-VLOOKUP(F7137,Konditionen!$B:$D,3,0))","v":208.97}]
["Rohre und Formteile","RCLFU","RCLFU710630","Reduzierung      RCFLU     710.630",null,"30",241.61,{"$f":"G7145*(1-VLOOKUP(F7145,Konditionen!$B:$D,3,0))","v":241.61}]
["Rohre und Formteile","RCLFU","RCLFU800630","Reduzierung      RCFLU     800.630",null,"30",296.5,{"$f":"G7153*(1-VLOOKUP(F7153,Konditionen!$B:$D,3,0))","v":296.5}]
["Rohre und Formteile","RCLFU","RCLFU900450","Reduzierung      RCFLU     900.450",null,"30",429.7,{"$f":"G7158*(1-VLOOKUP(F7158,Konditionen!$B:$D,3,0))","v":429.7}]
["Rohre und Formteile","RCLTR","RCLTR125100","Transfer Reduzierung RCLTR 125.100",null,"35",51.9,{"$f":"G7166*(1-VLOOKUP(F7166,Konditionen!$B:$D,3,0))","v":51.9}]
["Rohre und Formteile","RCLTR","RCLTR15080","Transfer Reduzierung RCLTR 150.80",null,"35",57.2,{"$f":"G7174*(1-VLOOKUP(F7174,Konditionen!$B:$D,3,0))","v":57.2}]
["Rohre und Formteile","RCLTR","RCLTR16080","Transfer Reduzierung RCLTR 160.80",null,"35",57.2,{"$f":"G7179*(1-VLOOKUP(F7179,Konditionen!$B:$D,3,0))","v":57.2}]
["Rohre und Formteile","RCLTR","RCLTR200125","Transfer Reduzierung RCLTR 200.125",null,"35",72.47,{"$f":"G7187*(1-VLOOKUP(F7187,Konditionen!$B:$D,3,0))","v":72.47}]
["Rohre und Formteile","RCLTR","RCLTR224200","Transfer Reduzierung RCLTR 224.200",null,"35",91.68,{"$f":"G7199*(1-VLOOKUP(F7199,Konditionen!$B:$D,3,0))","v":91.68}]
["Rohre und Formteile","RCLTR","RCLTR22480","Transfer Reduzierung RCLTR 224.80",null,"35",91.68,{"$f":"G7200*(1-VLOOKUP(F7200,Konditionen!$B:$D,3,0))","v":91.68}]
["Rohre und Formteile","RCLTR","RCLTR250224","Transfer Reduzierung RCLTR 250.224",null,"35",91.68,{"$f":"G7208*(1-VLOOKUP(F7208,Konditionen!$B:$D,3,0))","v":91.68}]
["Rohre und Formteile","RCLTR","RCLTR315140","Transfer Reduzierung RCLTR 315.140",null,"35",115.19,{"$f":"G7220*(1-VLOOKUP(F7220,Konditionen!$B:$D,3,0))","v":115.19}]
["Rohre und Formteile","RCLTR","RCLTR315150","Transfer Reduzierung RCLTR 315.150",null,"35",115.19,{"$f":"G7221*(1-VLOOKUP(F7221,Konditionen!$B:$D,3,0))","v":115.19}]
["Rohre und Formteile","RCLTR","RCLTR350224","Transfer Reduzierung RCLTR 350.224",null,"35",124.1,{"$f":"G7233*(1-VLOOKUP(F7233,Konditionen!$B:$D,3,0))","v":124.1}]
["Rohre und Formteile","RCLTR","RCLTR400224","Transfer Reduzierung RCLTR 400.224",null,"35",161.26,{"$f":"G7241*(1-VLOOKUP(F7241,Konditionen!$B:$D,3,0))","v":161.26}]
["Rohre und Formteile","RCLTR","RCLTR400250","Transfer Reduzierung RCLTR 400.250",null,"35",161.26,{"$f":"G7242*(1-VLOOKUP(F7242,Konditionen!$B:$D,3,0))","v":161.26}]
["Rohre und Formteile","RCLTR","RCLTR450400","Transfer Reduzierung RCLTR 450.400",null,"35",215.94,{"$f":"G7254*(1-VLOOKUP(F7254,Konditionen!$B:$D,3,0))","v":215.94}]
["Rohre und Formteile","RCLTR","RCLTR500250","Transfer Reduzierung RCLTR 500.250",null,"35",217.94,{"$f":"G7258*(1-VLOOKUP(F7258,Konditionen!$B:$D,3,0))","v":217.94}]
["Rohre und Formteile","RCLUFP","RCLUFP1000400","Reduzierung   RCLUFP   1000.400","Lindab FireProtect Rund","80",753.06,{"$f":"G7264*(1-VLOOKUP(F7264,Konditionen!$B:$D,3,0))","v":753.06}]
["Rohre und Formteile","RCLUFP","RCLUFP140100","Reduzierung   RCLUFP   140.100","Lindab FireProtect Rund","80",55.86,{"$f":"G7276*(1-VLOOKUP(F7276,Konditionen!$B:$D,3,0))","v":55.86}]
["Rohre und Formteile","RCLUFP","RCLUFP160112","Reduzierung   RCLUFP   160.112","Lindab FireProtect Rund","80",55.86,{"$f":"G7284*(1-VLOOKUP(F7284,Konditionen!$B:$D,3,0))","v":55.86}]
["Rohre und Formteile","RCLUFP","RCLUFP180112","Reduzierung   RCLUFP   180.112","Lindab FireProtect Rund","80",65.989999999999995,{"$f":"G7289*(1-VLOOKUP(F7289,Konditionen!$B:$D,3,0))","v":65.989999999999995}]
["Rohre und Formteile","RCLUFP","RCLUFP200140","Reduzierung   RCLUFP   200.140","Lindab FireProtect Rund","80",67.31,{"$f":"G7297*(1-VLOOKUP(F7297,Konditionen!$B:$D,3,0))","v":67.31}]
["Rohre und Formteile","RCLUFP","RCLUFP224150","Reduzierung   RCLUFP   224.150","Lindab FireProtect Rund","80",78.540000000000006,{"$f":"G7305*(1-VLOOKUP(F7305,Konditionen!$B:$D,3,0))","v":78.540000000000006}]
["Rohre und Formteile","RCLUFP","RCLUFP250112","Reduzierung   RCLUFP   250.112","Lindab FireProtect Rund","80",77.44,{"$f":"G7310*(1-VLOOKUP(F7310,Konditionen!$B:$D,3,0))","v":77.44}]
["Rohre und Formteile","RCLUFP","RCLUFP280100","Reduzierung   RCLUFP   280.100","Lindab FireProtect Rund","80",102.59,{"$f":"G7318*(1-VLOOKUP(F7318,Konditionen!$B:$D,3,0))","v":102.59}]
["Rohre und Formteile","RCLUFP","RCLUFP280160","Reduzierung   RCLUFP   280.160","Lindab FireProtect Rund","80",97.39,{"$f":"G7323*(1-VLOOKUP(F7323,Konditionen!$B:$D,3,0))","v":97.39}]
["Rohre und Formteile","RCLUFP","RCLUFP300140","Reduzierung   RCLUFP   300.140","Lindab FireProtect Rund","80",97.39,{"$f":"G7331*(1-VLOOKUP(F7331,Konditionen!$B:$D,3,0))","v":97.39}]
["Rohre und Formteile","RCLUFP","RCLUFP315100","Reduzierung   RCLUFP   315.100","Lindab FireProtect Rund","80",104.9,{"$f":"G7339*(1-VLOOKUP(F7339,Konditionen!$B:$D,3,0))","v":104.9}]
["Rohre und Formteile","RCLUFP","RCLUFP315160","Reduzierung   RCLUFP   315.160","Lindab FireProtect Rund","80",105.32,{"$f":"G7344*(1-VLOOKUP(F7344,Konditionen!$B:$D,3,0))","v":105.32}]
["Rohre und Formteile","RCLUFP","RCLUFP355160","Reduzierung   RCLUFP   355.160","Lindab FireProtect Rund","80",119.33,{"$f":"G7352*(1-VLOOKUP(F7352,Konditionen!$B:$D,3,0))","v":119.33}]
["Rohre und Formteile","RCLUFP","RCLUFP400160","Reduzierung   RCLUFP   400.160","Lindab FireProtect Rund","80",137.18,{"$f":"G7360*(1-VLOOKUP(F7360,Konditionen!$B:$D,3,0))","v":137.18}]
["Rohre und Formteile","RCLUFP","RCLUFP400280","Reduzierung   RCLUFP   400.280","Lindab FireProtect Rund","80",136.55000000000001,{"$f":"G7365*(1-VLOOKUP(F7365,Konditionen!$B:$D,3,0))","v":136.55000000000001}]
["Rohre und Formteile","RCLUFP","RCLUFP450300","Reduzierung   RCLUFP   450.300","Lindab FireProtect Rund","80",176.4,{"$f":"G7373*(1-VLOOKUP(F7373,Konditionen!$B:$D,3,0))","v":176.4}]
["Rohre und Formteile","RCLUFP","RCLUFP500280","Reduzierung   RCLUFP   500.280","Lindab FireProtect Rund","80",189.95,{"$f":"G7378*(1-VLOOKUP(F7378,Konditionen!$B:$D,3,0))","v":189.95}]
["Rohre und Formteile","RCLUFP","RCLUFP560315","Reduzierung   RCLUFP   560.315","Lindab FireProtect Rund","80",215.88,{"$f":"G7387*(1-VLOOKUP(F7387,Konditionen!$B:$D,3,0))","v":215.88}]
["Rohre und Formteile","RCLUFP","RCLUFP600400","Reduzierung   RCLUFP   600.400","Lindab FireProtect Rund","80",233.47,{"$f":"G7395*(1-VLOOKUP(F7395,Konditionen!$B:$D,3,0))","v":233.47}]
["Rohre und Formteile","RCLUFP","RCLUFP630355","Reduzierung   RCLUFP   630.355","Lindab FireProtect Rund","80",261.61,{"$f":"G7400*(1-VLOOKUP(F7400,Konditionen!$B:$D,3,0))","v":261.61}]
["Rohre und Formteile","RCLUFP","RCLUFP710400","Reduzierung   RCLUFP   710.400","Lindab FireProtect Rund","80",292.95,{"$f":"G7408*(1-VLOOKUP(F7408,Konditionen!$B:$D,3,0))","v":292.95}]
["Rohre und Formteile","RCLUFP","RCLUFP800400","Reduzierung   RCLUFP   800.400","Lindab FireProtect Rund","80",393.28,{"$f":"G7416*(1-VLOOKUP(F7416,Konditionen!$B:$D,3,0))","v":393.28}]
["Rohre und Formteile","RCLUFP","RCLUFP800630","Reduzierung   RCLUFP   800.630","Lindab FireProtect Rund","80",363.88,{"$f":"G7421*(1-VLOOKUP(F7421,Konditionen!$B:$D,3,0))","v":363.88}]
["Rohre und Formteile","RCLUFP","RCLUFP900600","Reduzierung   RCLUFP   900.600","Lindab FireProtect Rund","80",507.68,{"$f":"G7429*(1-VLOOKUP(F7429,Konditionen!$B:$D,3,0))","v":507.68}]
["Rohre und Formteile","RCLUI","RCLUI25150100","Reduzierung isol RCLUI 25  150.100","25mm Isolierung","65",118.08,{"$f":"G7434*(1-VLOOKUP(F7434,Konditionen!$B:$D,3,0))","v":118.08}]
["Rohre und Formteile","RCLUI","RCLUI25250200","Reduzierung isol RCLUI 25  250.200","25mm Isolierung","65",197.1,{"$f":"G7442*(1-VLOOKUP(F7442,Konditionen!$B:$D,3,0))","v":197.1}]
["Rohre und Formteile","RCLUI","RCLUI25355150","Reduzierung isol RCLUI 25  355.150","25mm Isolierung","65",286.83999999999997,{"$f":"G7450*(1-VLOOKUP(F7450,Konditionen!$B:$D,3,0))","v":286.83999999999997}]
["Rohre und Formteile","RCLUI","RCLUI25400125","Reduzierung isol RCLUI 25  400.125","25mm Isolierung","65",356.22,{"$f":"G7455*(1-VLOOKUP(F7455,Konditionen!$B:$D,3,0))","v":356.22}]
["Rohre und Formteile","RCLUI","RCLUI25450150","Reduzierung isol RCLUI 25  450.150","25mm Isolierung","65",395.16,{"$f":"G7463*(1-VLOOKUP(F7463,Konditionen!$B:$D,3,0))","v":395.16}]
["Rohre und Formteile","RCLUI","RCLUI25450400","Reduzierung isol RCLUI 25  450.400","25mm Isolierung","65",374.8,{"$f":"G7468*(1-VLOOKUP(F7468,Konditionen!$B:$D,3,0))","v":374.8}]
["Rohre und Formteile","RCLUI","RCLUI25500400","Reduzierung isol RCLUI 25  500.400","25mm Isolierung","65",426.23,{"$f":"G7476*(1-VLOOKUP(F7476,Konditionen!$B:$D,3,0))","v":426.23}]
["Rohre und Formteile","RCLUI","RCLUI50250100","Reduzierung isol RCLUI 50  250.100","50mm Isolierung","65",220.51,{"$f":"G7484*(1-VLOOKUP(F7484,Konditionen!$B:$D,3,0))","v":220.51}]
["Rohre und Formteile","RCLUI","RCLUI50300125","Reduzierung isol RCLUI 50  300.125","50mm Isolierung","65",269.94,{"$f":"G7489*(1-VLOOKUP(F7489,Konditionen!$B:$D,3,0))","v":269.94}]
["Rohre und Formteile","RCLUI","RCLUI50355250","Reduzierung isol RCLUI 50  355.250","50mm Isolierung","65",285.58999999999997,{"$f":"G7497*(1-VLOOKUP(F7497,Konditionen!$B:$D,3,0))","v":285.58999999999997}]
["Rohre und Formteile","RCLUI","RCLUI50400355","Reduzierung isol RCLUI 50  400.355","50mm Isolierung","65",356.22,{"$f":"G7505*(1-VLOOKUP(F7505,Konditionen!$B:$D,3,0))","v":356.22}]
["Rohre und Formteile","RCLUI","RCLUI50500150","Reduzierung isol RCLUI 50  500.150","50mm Isolierung","65",513.76,{"$f":"G7516*(1-VLOOKUP(F7516,Konditionen!$B:$D,3,0))","v":513.76}]
["Rohre und Formteile","RCLUI","RCLUI50500300","Reduzierung isol RCLUI 50  500.300","50mm Isolierung","65",465.17,{"$f":"G7519*(1-VLOOKUP(F7519,Konditionen!$B:$D,3,0))","v":465.17}]
["Rohre und Formteile","RCLUV2A","RCLUV2A224200","Reduzierung     RCLU V2A   224.200","Edelstahl W.Nr. 1.4301","60",155.34,{"$f":"G7531*(1-VLOOKUP(F7531,Konditionen!$B:$D,3,0))","v":155.34}]
["Rohre und Formteile","RCLUV2A","RCLUV2A250224","Reduzierung     RCLU V2A   250.224","Edelstahl W.Nr. 1.4301","60",155.34,{"$f":"G7532*(1-VLOOKUP(F7532,Konditionen!$B:$D,3,0))","v":155.34}]
["Rohre und Formteile","RCLUV2A","RCLUV2A560500","Reduzierung     RCLU V2A   560.500","Edelstahl W.Nr. 1.4301","60",445.38,{"$f":"G7540*(1-VLOOKUP(F7540,Konditionen!$B:$D,3,0))","v":445.38}]
["Rohre und Formteile","RCLU","RCLU1000710","Reduzierung      RCLU     1000.710",null,"30",440.4,{"$f":"G7552*(1-VLOOKUP(F7552,Konditionen!$B:$D,3,0))","v":440.4}]
["Rohre und Formteile","RCLU","RCLU1000800","Reduzierung      RCLU     1000.800",null,"30",434.94,{"$f":"G7553*(1-VLOOKUP(F7553,Konditionen!$B:$D,3,0))","v":434.94}]
["Rohre und Formteile","RCLU","RCLU1120710","Reduzierung      RCLU     1120.710",null,"30",578.63,{"$f":"G7561*(1-VLOOKUP(F7561,Konditionen!$B:$D,3,0))","v":578.63}]
["Rohre und Formteile","RCLU","RCLU1250710","Reduzierung      RCLU     1250.710",null,"30",767.13,{"$f":"G7573*(1-VLOOKUP(F7573,Konditionen!$B:$D,3,0))","v":767.13}]
["Rohre und Formteile","RCLU","RCLU1250800","Reduzierung      RCLU     1250.800",null,"30",747.61,{"$f":"G7574*(1-VLOOKUP(F7574,Konditionen!$B:$D,3,0))","v":747.61}]
["Rohre und Formteile","RCLU","RCLU15080","Reduzierung      RCLU      150.80",null,"30",37.78,{"$f":"G7586*(1-VLOOKUP(F7586,Konditionen!$B:$D,3,0))","v":37.78}]
["Rohre und Formteile","RCLU","RCLU200112","Reduzierung      RCLU      200.112",null,"30",44.81,{"$f":"G7594*(1-VLOOKUP(F7594,Konditionen!$B:$D,3,0))","v":44.81}]
["Rohre und Formteile","RCLU","RCLU200140","Reduzierung      RCLU      200.140",null,"30",45.66,{"$f":"G7595*(1-VLOOKUP(F7595,Konditionen!$B:$D,3,0))","v":45.66}]
["Rohre und Formteile","RCLU","RCLU280125","Reduzierung      RCLU      280.125",null,"30",65.180000000000007,{"$f":"G7607*(1-VLOOKUP(F7607,Konditionen!$B:$D,3,0))","v":65.180000000000007}]
["Rohre und Formteile","RCLU","RCLU300100","Reduzierung      RCLU      300.100",null,"30",69.69,{"$f":"G7615*(1-VLOOKUP(F7615,Konditionen!$B:$D,3,0))","v":69.69}]
["Rohre und Formteile","RCLU","RCLU300160","Reduzierung      RCLU      300.160",null,"30",66.010000000000005,{"$f":"G7620*(1-VLOOKUP(F7620,Konditionen!$B:$D,3,0))","v":66.010000000000005}]
["Rohre und Formteile","RCLU","RCLU315150","Reduzierung      RCLU      315.150",null,"30",71.260000000000005,{"$f":"G7628*(1-VLOOKUP(F7628,Konditionen!$B:$D,3,0))","v":71.260000000000005}]
["Rohre und Formteile","RCLU","RCLU355200","Reduzierung      RCLU      355.200",null,"30",81.02,{"$f":"G7636*(1-VLOOKUP(F7636,Konditionen!$B:$D,3,0))","v":81.02}]
["Rohre und Formteile","RCLU","RCLU355224","Reduzierung      RCLU      355.224",null,"30",83.65,{"$f":"G7637*(1-VLOOKUP(F7637,Konditionen!$B:$D,3,0))","v":83.65}]
["Rohre und Formteile","RCLU","RCLU450315","Reduzierung      RCLU      450.315",null,"30",115.24,{"$f":"G7650*(1-VLOOKUP(F7650,Konditionen!$B:$D,3,0))","v":115.24}]
["Rohre und Formteile","RCLU","RCLU560280","Reduzierung      RCLU      560.280",null,"30",145.04,{"$f":"G7658*(1-VLOOKUP(F7658,Konditionen!$B:$D,3,0))","v":145.04}]
["Rohre und Formteile","RCLU","RCLU560450","Reduzierung      RCLU      560.450",null,"30",141.06,{"$f":"G7663*(1-VLOOKUP(F7663,Konditionen!$B:$D,3,0))","v":141.06}]
["Rohre und Formteile","RCLU","RCLU600560","Reduzierung      RCLU      600.560",null,"30",159.11000000000001,{"$f":"G7671*(1-VLOOKUP(F7671,Konditionen!$B:$D,3,0))","v":159.11000000000001}]
["Rohre und Formteile","RCLU","RCLU710315","Reduzierung      RCLU      710.315",null,"30",203.93,{"$f":"G7676*(1-VLOOKUP(F7676,Konditionen!$B:$D,3,0))","v":203.93}]
["Rohre und Formteile","RCLU","RCLU800315","Reduzierung      RCLU      800.315",null,"30",272.68,{"$f":"G7684*(1-VLOOKUP(F7684,Konditionen!$B:$D,3,0))","v":272.68}]
["Rohre und Formteile","RCLU","RCLU800710","Reduzierung      RCLU      800.710",null,"30",237.41,{"$f":"G7692*(1-VLOOKUP(F7692,Konditionen!$B:$D,3,0))","v":237.41}]
["Rohre und Formteile","RCLU","RCLU900500","Reduzierung      RCLU      900.500",null,"30",349.92,{"$f":"G7697*(1-VLOOKUP(F7697,Konditionen!$B:$D,3,0))","v":349.92}]
["Kunststoff","RCPPS","RCPPS1000600","PPs Reduzierung 1000.600","Symmetrisch","17.ALLG",529.20000000000005,{"$f":"G7705*(1-VLOOKUP(F7705,Konditionen!$B:$D,3,0))","v":529.20000000000005}]
["Kunststoff","RCPPS","RCPPS1000900","PPs Reduzierung 1000.900","Symmetrisch","17.ALLG",513,{"$f":"G7710*(1-VLOOKUP(F7710,Konditionen!$B:$D,3,0))","v":513}]
["Kunststoff","RCPPS","RCPPS1200700","PPs Reduzierung 1200.700","Symmetrisch","17.ALLG",677.16,{"$f":"G7718*(1-VLOOKUP(F7718,Konditionen!$B:$D,3,0))","v":677.16}]
["Kunststoff","RCPPS","RCPPS1250710","PPs Reduzierung 1250.710","Symmetrisch","17.ALLG",712.8,{"$f":"G7726*(1-VLOOKUP(F7726,Konditionen!$B:$D,3,0))","v":712.8}]
["Kunststoff","RCPPS","RCPPS12563","PPs Reduzierung 125.63","Symmetrisch","17.ALLG",30.67,{"$f":"G7731*(1-VLOOKUP(F7731,Konditionen!$B:$D,3,0))","v":30.67}]
["Kunststoff","RCPPS","RCPPS1400900","PPs Reduzierung 1400.900","Symmetrisch","17.ALLG",870.48,{"$f":"G7739*(1-VLOOKUP(F7739,Konditionen!$B:$D,3,0))","v":870.48}]
["Kunststoff","RCPPS","RCPPS160140","PPs Reduzierung 160.140","Symmetrisch","17.ALLG",29.26,{"$f":"G7747*(1-VLOOKUP(F7747,Konditionen!$B:$D,3,0))","v":29.26}]
["Kunststoff","RCPPS","RCPPS180125","PPs Reduzierung 180.125","Symmetrisch","17.ALLG",37.36,{"$f":"G7752*(1-VLOOKUP(F7752,Konditionen!$B:$D,3,0))","v":37.36}]
["Kunststoff","RCPPS","RCPPS200140","PPs Reduzierung 200.140","Symmetrisch","17.ALLG",41.36,{"$f":"G7760*(1-VLOOKUP(F7760,Konditionen!$B:$D,3,0))","v":41.36}]
["Kunststoff","RCPPS","RCPPS20090","PPs Reduzierung 200.90","Symmetrisch","17.ALLG",40.06,{"$f":"G7765*(1-VLOOKUP(F7765,Konditionen!$B:$D,3,0))","v":40.06}]
["Kunststoff","RCPPS","RCPPS250110","PPs Reduzierung 250.110","Symmetrisch","17.ALLG",41.36,{"$f":"G7774*(1-VLOOKUP(F7774,Konditionen!$B:$D,3,0))","v":41.36}]
["Kunststoff","RCPPS","RCPPS280110","PPs Reduzierung 280.110","Symmetrisch","17.ALLG",54.86,{"$f":"G7782*(1-VLOOKUP(F7782,Konditionen!$B:$D,3,0))","v":54.86}]
["Kunststoff","RCPPS","RCPPS280200","PPs Reduzierung 280.200","Symmetrisch","17.ALLG",53.46,{"$f":"G7787*(1-VLOOKUP(F7787,Konditionen!$B:$D,3,0))","v":53.46}]
["Kunststoff","RCPPS","RCPPS315200","PPs Reduzierung 315.200","Symmetrisch","17.ALLG",60.26,{"$f":"G7795*(1-VLOOKUP(F7795,Konditionen!$B:$D,3,0))","v":60.26}]
["Kunststoff","RCPPS","RCPPS355250","PPs Reduzierung 355.250","Symmetrisch","17.ALLG",50.76,{"$f":"G7803*(1-VLOOKUP(F7803,Konditionen!$B:$D,3,0))","v":50.76}]
["Kunststoff","RCPPS","RCPPS400200","PPs Reduzierung 400.200","Symmetrisch","17.ALLG",89.53,{"$f":"G7808*(1-VLOOKUP(F7808,Konditionen!$B:$D,3,0))","v":89.53}]
["Kunststoff","RCPPS","RCPPS450250","PPs Reduzierung 450.250","Symmetrisch","17.ALLG",74.52,{"$f":"G7816*(1-VLOOKUP(F7816,Konditionen!$B:$D,3,0))","v":74.52}]
["Kunststoff","RCPPS","RCPPS500200","PPs Reduzierung 500.200","Symmetrisch","17.ALLG",90.18,{"$f":"G7821*(1-VLOOKUP(F7821,Konditionen!$B:$D,3,0))","v":90.18}]
["Kunststoff","RCPPS","RCPPS560250","PPs Reduzierung 560.250","Symmetrisch","17.ALLG",341.06,{"$f":"G7829*(1-VLOOKUP(F7829,Konditionen!$B:$D,3,0))","v":341.06}]
["Kunststoff","RCPPS","RCPPS600315","PPs Reduzierung 600.315","Symmetrisch","17.ALLG",330.04,{"$f":"G7837*(1-VLOOKUP(F7837,Konditionen!$B:$D,3,0))","v":330.04}]
["Kunststoff","RCPPS","RCPPS600560","PPs Reduzierung 600.560","Symmetrisch","17.ALLG",326.37,{"$f":"G7842*(1-VLOOKUP(F7842,Konditionen!$B:$D,3,0))","v":326.37}]
["Kunststoff","RCPPS","RCPPS630600","PPs Reduzierung 630.600","Symmetrisch","17.ALLG",277.88,{"$f":"G7850*(1-VLOOKUP(F7850,Konditionen!$B:$D,3,0))","v":277.88}]
["Kunststoff","RCPPS","RCPPS710400","PPs Reduzierung 710.400","Symmetrisch","17.ALLG",374.97,{"$f":"G7862*(1-VLOOKUP(F7862,Konditionen!$B:$D,3,0))","v":374.97}]
["Kunststoff","RCPPS","RCPPS710450","PPs Reduzierung 710.450","Symmetrisch","17.ALLG",374.97,{"$f":"G7863*(1-VLOOKUP(F7863,Konditionen!$B:$D,3,0))","v":374.97}]
["Kunststoff","RCPPS","RCPPS800355","PPs Reduzierung 800.355","Symmetrisch","17.ALLG",479.3,{"$f":"G7871*(1-VLOOKUP(F7871,Konditionen!$B:$D,3,0))","v":479.3}]
["Kunststoff","RCPPS","RCPPS900560","PPs Reduzierung 900.560","Symmetrisch","17.ALLG",525.41999999999996,{"$f":"G7883*(1-VLOOKUP(F7883,Konditionen!$B:$D,3,0))","v":525.41999999999996}]
["Kunststoff","RCPPS","RCPPS900600","PPs Reduzierung 900.600","Symmetrisch","17.ALLG",609.12,{"$f":"G7884*(1-VLOOKUP(F7884,Konditionen!$B:$D,3,0))","v":609.12}]
["Rohre und Formteile","RCUFP","RCUFP125100","Reduzierung   RCUFP   125.100","Lindab FireProtect Rund","80",31.29,{"$f":"G7892*(1-VLOOKUP(F7892,Konditionen!$B:$D,3,0))","v":31.29}]
["Rohre und Formteile","RCUFP","RCUFP315250","Reduzierung   RCUFP   315.250","Lindab FireProtect Rund","80",72.87,{"$f":"G7903*(1-VLOOKUP(F7903,Konditionen!$B:$D,3,0))","v":72.87}]
["Rohre und Formteile","RCU","RCU125100","Reduzierung      RCU       125.100",null,"30",21.09,{"$f":"G7906*(1-VLOOKUP(F7906,Konditionen!$B:$D,3,0))","v":21.09}]
["Rohre und Formteile","RCU","RCU200100","Reduzierung      RCU       200.100",null,"30",30.64,{"$f":"G7918*(1-VLOOKUP(F7918,Konditionen!$B:$D,3,0))","v":30.64}]
["Rohre und Formteile","RCU","RCU224180","Reduzierung      RCU       224.180",null,"30",40.200000000000003,{"$f":"G7926*(1-VLOOKUP(F7926,Konditionen!$B:$D,3,0))","v":40.200000000000003}]
["Rohre und Formteile","RCU","RCU224200","Reduzierung      RCU       224.200",null,"30",40.200000000000003,{"$f":"G7927*(1-VLOOKUP(F7927,Konditionen!$B:$D,3,0))","v":40.200000000000003}]
["Rohre und Formteile","RCU","RCU355250","Reduzierung      RCU       355.250",null,"30",86.06,{"$f":"G7939*(1-VLOOKUP(F7939,Konditionen!$B:$D,3,0))","v":86.06}]
["Rohre und Formteile","RCU","RCU500400","Reduzierung      RCU       500.400",null,"30",130.66999999999999,{"$f":"G7947*(1-VLOOKUP(F7947,Konditionen!$B:$D,3,0))","v":130.66999999999999}]
["Rohre und Formteile","RCU","RCU630315","Reduzierung      RCU       630.315","handgebaut","30",183.04,{"$f":"G7948*(1-VLOOKUP(F7948,Konditionen!$B:$D,3,0))","v":183.04}]
["Luftdurchlässe","RCWB","RCWB01500A","Dralldurchlass       RCWB-0-1-500-A","Verstellung manuell, RAL9010","70",1264.0999999999999,{"$f":"G7960*(1-VLOOKUP(F7960,Konditionen!$B:$D,3,0))","v":1264.0999999999999}]
["Luftdurchlässe","RCWB","RCWB11500A","Dralldurchlass       RCWB-1-1-500-A","Verstellung motorisch modulierend","70",1940.01,{"$f":"G7968*(1-VLOOKUP(F7968,Konditionen!$B:$D,3,0))","v":1940.01}]
["Luftdurchlässe","RCWB","RCWB20500A","Dralldurchlass       RCWB-2-0-500-A","Verstellung motorisch on/off","70",1630.18,{"$f":"G7973*(1-VLOOKUP(F7973,Konditionen!$B:$D,3,0))","v":1630.18}]
["Luftdurchlässe","RCWB","RCWB30315A","Dralldurchlass       RCWB-3-0-315-A","Verstellung mit Thermoelement","70",1207.79,{"$f":"G7981*(1-VLOOKUP(F7981,Konditionen!$B:$D,3,0))","v":1207.79}]
["Luftdurchlässe","RCWB","RCWB31630A","Dralldurchlass       RCWB-3-1-630-A","Verstellung mit Thermoelement","70",2044.68,{"$f":"G7989*(1-VLOOKUP(F7989,Konditionen!$B:$D,3,0))","v":2044.68}]
["Luftdurchlässe","RCW","RCW0630A","Dralldurchlass          RCW-0-630-A","Verstellung manuell","70",802.12,{"$f":"G7994*(1-VLOOKUP(F7994,Konditionen!$B:$D,3,0))","v":802.12}]
["Luftdurchlässe","RCW","RCW2500A","Dralldurchlass          RCW-2-500-A","Verstellung motorisch on/off","70",1139.43,{"$f":"G8002*(1-VLOOKUP(F8002,Konditionen!$B:$D,3,0))","v":1139.43}]
["Luftdurchlässe","RCW","RCW3500A","Dralldurchlass          RCW-3-500-A","Verstellung mit Thermoelement","70",1070.77,{"$f":"G8007*(1-VLOOKUP(F8007,Konditionen!$B:$D,3,0))","v":1070.77}]
["Luftdurchlässe","RC15","RC15E250","Dralldurchlass rund      RC15-E-250","Stutzen vertikal DN250, Abluft","70",360.56,{"$f":"G8015*(1-VLOOKUP(F8015,Konditionen!$B:$D,3,0))","v":360.56}]
["Rohre und Formteile","RDIFFPPS","RDIFFPPS160MWF","PPs Deflektorhaube REDIFF DN 160","passend auf Wickelfalzrohr","17.ALLG",319.14,{"$f":"G8023*(1-VLOOKUP(F8023,Konditionen!$B:$D,3,0))","v":319.14}]
["Kunststoff","RD","RDPPS200","Reinigungsöffnung in PPs 200mm","mit Dichtung aus PVC-P o. EPDM","17.ALLG",78.84,{"$f":"G8032*(1-VLOOKUP(F8032,Konditionen!$B:$D,3,0))","v":78.84}]
["Kunststoff","RD","RDPPS355","Reinigungsöffnung in PPs 355mm","mit Dichtung aus PVC-P o. EPDM","17.ALLG",111.02,{"$f":"G8037*(1-VLOOKUP(F8037,Konditionen!$B:$D,3,0))","v":111.02}]
["Volumenstromregler","RDR200","RDR200180300","Volumenstrom-Konstanthalter RDR 200","180 - 300 m³/h einstellbar","90",22.7,{"$f":"G8045*(1-VLOOKUP(F8045,Konditionen!$B:$D,3,0))","v":22.7}]
["Montagezubehör","RDV2A","RDV2A21SKK","Revisionsdeckel RD 21 V2A mit SKK","200 x 100 mm","14.MS",23.56,{"$f":"G8050*(1-VLOOKUP(F8050,Konditionen!$B:$D,3,0))","v":23.56}]
["Montagezubehör","RDV2A","RDV2A43SKK","Revisionsdeckel RD 43 V2A mit SKK","400 x 300 mm","14.MS",42.89,{"$f":"G8058*(1-VLOOKUP(F8058,Konditionen!$B:$D,3,0))","v":42.89}]
["Montagezubehör","RDV2A","RDV2A65SKK","Revisionsdeckel RD 65 V2A mit SKK","600 x 500 mm","14.MS",114.04,{"$f":"G8063*(1-VLOOKUP(F8063,Konditionen!$B:$D,3,0))","v":114.04}]
["Montagezubehör","RD","RD32","Revisionsdeckel RD 32 verz","300 x 200 mm","14.REV",8.56,{"$f":"G8071*(1-VLOOKUP(F8071,Konditionen!$B:$D,3,0))","v":8.56}]
["Montagezubehör","RD","RD54","Revisionsdeckel RD 54 verz","500 x 400 mm","14.REV",20.02,{"$f":"G8079*(1-VLOOKUP(F8079,Konditionen!$B:$D,3,0))","v":20.02}]
["Montagezubehör","RD","RD65SKK","Revisionsdeckel RD 65 verz mit SKK","600 x 500 mm","14.REV",37.04,{"$f":"G8084*(1-VLOOKUP(F8084,Konditionen!$B:$D,3,0))","v":37.04}]
["Luftdurchlässe","REGULA","REGULACOMBI","Raumregler             Regula Combi","Neues Model mit Display      646494","70",277.33,{"$f":"G8092*(1-VLOOKUP(F8092,Konditionen!$B:$D,3,0))","v":277.33}]
["Luftdurchlässe","REGULA","REGULACONNECTPAS","Schaltkarte   Regula Connect Pascal","inkl. Montagebügel","70",77.23,{"$f":"G8097*(1-VLOOKUP(F8097,Konditionen!$B:$D,3,0))","v":77.23}]
["Ventilatoren","REV","REV3POL","Revisionsschalter REV 3POL/3","für 3x 1,5 mm² Kabel Einphasenmotor","7.ALLG",46,{"$f":"G8105*(1-VLOOKUP(F8105,Konditionen!$B:$D,3,0))","v":46}]
["Montagezubehör","RFLV300S","RFLV300S","Filtermatte als Rollenware RFLV300S","20x2m  Filterklasse M5  15mm","37",567.32000000000005,{"$f":"G8113*(1-VLOOKUP(F8113,Konditionen!$B:$D,3,0))","v":567.32000000000005}]
["Kunststoff","RGKPPS","RGKPPS110","Regenkragen in PPs f. DDF 110",null,"17.ALLG",37.36,{"$f":"G8118*(1-VLOOKUP(F8118,Konditionen!$B:$D,3,0))","v":37.36}]
["Kunststoff","RGKPPS","RGKPPS280","Regenkragen in PPs f. DDF 280",null,"17.ALLG",88.23,{"$f":"G8126*(1-VLOOKUP(F8126,Konditionen!$B:$D,3,0))","v":88.23}]
["Kunststoff","RGKPPS","RGKPPS630","Regenkragen in PPs f. DDF 630",null,"17.ALLG",486,{"$f":"G8134*(1-VLOOKUP(F8134,Konditionen!$B:$D,3,0))","v":486}]
["Luftdurchlässe","RGS","RGS01025150","Rohreinbaugitter  RGS-0  1025 X 150","Stahl verzinkt","70",115.1,{"$f":"G8139*(1-VLOOKUP(F8139,Konditionen!$B:$D,3,0))","v":115.1}]
["Luftdurchlässe","RGS","RGS0325150","Rohreinbaugitter  RGS-0   325 X 150","Stahl verzinkt","70",47.74,{"$f":"G8147*(1-VLOOKUP(F8147,Konditionen!$B:$D,3,0))","v":47.74}]
["Luftdurchlässe","RGS","RGS042575","Rohreinbaugitter  RGS-0   425 X  75","Stahl verzinkt","70",49.23,{"$f":"G8153*(1-VLOOKUP(F8153,Konditionen!$B:$D,3,0))","v":49.23}]
["Luftdurchlässe","RGS","RGS062575","Rohreinbaugitter  RGS-0   625 X  75","Stahl verzinkt","70",62.05,{"$f":"G8161*(1-VLOOKUP(F8161,Konditionen!$B:$D,3,0))","v":62.05}]
["Luftdurchlässe","RGS","RGS1102575","Rohreinbaugitter  RGS-1  1025 X  75","mit Gleichrichtersatz, Stahl verz.","70",127.91,{"$f":"G8169*(1-VLOOKUP(F8169,Konditionen!$B:$D,3,0))","v":127.91}]
["Luftdurchlässe","RGS","RGS1325125","Rohreinbaugitter  RGS-1   325 X 125","mit Gleichrichtersatz, Stahl verz.","70",53,{"$f":"G8174*(1-VLOOKUP(F8174,Konditionen!$B:$D,3,0))","v":53}]
["Luftdurchlässe","RGS","RGS1525125","Rohreinbaugitter  RGS-1   525 X 125","mit Gleichrichtersatz, Stahl verz.","70",64.63,{"$f":"G8182*(1-VLOOKUP(F8182,Konditionen!$B:$D,3,0))","v":64.63}]
["Luftdurchlässe","RGS","RGS1825125","Rohreinbaugitter  RGS-1   825 X 125","mit Gleichrichtersatz, Stahl verz.","70",121.77,{"$f":"G8190*(1-VLOOKUP(F8190,Konditionen!$B:$D,3,0))","v":121.77}]
["Luftdurchlässe","RGS","RGS21025150","Rohreinbaugitter  RGS-2  1025 X 150","mit Schöpfzunge, Stahl verz.","70",156.80000000000001,{"$f":"G8195*(1-VLOOKUP(F8195,Konditionen!$B:$D,3,0))","v":156.80000000000001}]
["Luftdurchlässe","RGS","RGS2325150","Rohreinbaugitter  RGS-2   325 X 150","mit Schöpfzunge, Stahl verz.","70",74.08,{"$f":"G8203*(1-VLOOKUP(F8203,Konditionen!$B:$D,3,0))","v":74.08}]
["Luftdurchlässe","RGS","RGS2625150","Rohreinbaugitter  RGS-2   625 X 150","mit Schöpfzunge, Stahl verz.","70",112.98,{"$f":"G8215*(1-VLOOKUP(F8215,Konditionen!$B:$D,3,0))","v":112.98}]
["Luftdurchlässe","RGS","RGS2625225","Rohreinbaugitter  RGS-2   625 X 225","mit Schöpfzunge, Stahl verz.","70",120.47,{"$f":"G8216*(1-VLOOKUP(F8216,Konditionen!$B:$D,3,0))","v":120.47}]
["Luftdurchlässe","RGS","RGS31025225","Rohreinbaugitter  RGS-3  1025 X 225","mit Gleichrichters. u. Schöpfzunge","70",218.58,{"$f":"G8224*(1-VLOOKUP(F8224,Konditionen!$B:$D,3,0))","v":218.58}]
["Luftdurchlässe","RGS","RGS3425225","Rohreinbaugitter  RGS-3   425 X 225","mit Gleichrichters. u. Schöpfzunge","70",110.4,{"$f":"G8236*(1-VLOOKUP(F8236,Konditionen!$B:$D,3,0))","v":110.4}]
["Luftdurchlässe","RGS","RGS342575","Rohreinbaugitter  RGS-3   425 X  75","mit Gleichrichters. u. Schöpfzunge","70",82.76,{"$f":"G8237*(1-VLOOKUP(F8237,Konditionen!$B:$D,3,0))","v":82.76}]
["Luftdurchlässe","RGS","RGS382575","Rohreinbaugitter  RGS-3   825 X  75","mit Gleichrichters. u. Schöpfzunge","70",125.95,{"$f":"G8249*(1-VLOOKUP(F8249,Konditionen!$B:$D,3,0))","v":125.95}]
["Luftdurchlässe","RGS","RGS4122575","Rohreinbaugitter  RGS-4  1225 X  75","mit geradem Schlitzschieber","70",172.3,{"$f":"G8257*(1-VLOOKUP(F8257,Konditionen!$B:$D,3,0))","v":172.3}]
["Luftdurchlässe","RGS","RGS4325125","Rohreinbaugitter  RGS-4   325 X 125","mit geradem Schlitzschieber","70",74.08,{"$f":"G8258*(1-VLOOKUP(F8258,Konditionen!$B:$D,3,0))","v":74.08}]
["Luftdurchlässe","RGS","RGS4625125","Rohreinbaugitter  RGS-4   625 X 125","mit geradem Schlitzschieber","70",108.9,{"$f":"G8270*(1-VLOOKUP(F8270,Konditionen!$B:$D,3,0))","v":108.9}]
["Luftdurchlässe","RGS","RGS61025125","Rohreinbaugitter  RGS-6  1025 X 125","mit schrägem Schlitzschieber","70",193.32,{"$f":"G8278*(1-VLOOKUP(F8278,Konditionen!$B:$D,3,0))","v":193.32}]
["Luftdurchlässe","RGS","RGS61225125","Rohreinbaugitter  RGS-6  1225 X 125","mit schrägem Schlitzschieber","70",216.77,{"$f":"G8282*(1-VLOOKUP(F8282,Konditionen!$B:$D,3,0))","v":216.77}]
["Luftdurchlässe","RGS","RGS6425225","Rohreinbaugitter  RGS-6   425 X 225","mit schrägem Schlitzschieber","70",114.28,{"$f":"G8292*(1-VLOOKUP(F8292,Konditionen!$B:$D,3,0))","v":114.28}]
["Luftdurchlässe","RGS","RGS6625225","Rohreinbaugitter  RGS-6   625 X 225","mit schrägem Schlitzschieber","70",144.03,{"$f":"G8300*(1-VLOOKUP(F8300,Konditionen!$B:$D,3,0))","v":144.03}]
["Luftdurchlässe","RGS","RGS682575","Rohreinbaugitter  RGS-6   825 X  75","mit schrägem Schlitzschieber","70",149.51,{"$f":"G8305*(1-VLOOKUP(F8305,Konditionen!$B:$D,3,0))","v":149.51}]
["Luftdurchlässe","RGS","RGS7122575","Rohreinbaugitter  RGS-7  1225 X  75","mit Gleichrichter/schr. Schieber","70",217.29,{"$f":"G8313*(1-VLOOKUP(F8313,Konditionen!$B:$D,3,0))","v":217.29}]
["Luftdurchlässe","RGS","RGS742575","Rohreinbaugitter  RGS-7   425 X  75","mit Gleichrichter/schr. Schieber","70",91.59,{"$f":"G8321*(1-VLOOKUP(F8321,Konditionen!$B:$D,3,0))","v":91.59}]
["Luftdurchlässe","RGS","RGS7625125","Rohreinbaugitter  RGS-7   625 X 125","mit Gleichrichter/schr. Schieber","70",128.53,{"$f":"G8326*(1-VLOOKUP(F8326,Konditionen!$B:$D,3,0))","v":128.53}]
["Luftdurchlässe","RGZ","RGZ1325125","Schlitzschieber   RGZ-1   325 X 125","gerade für Rohreinbaugitter RGS","70",42.31,{"$f":"G8334*(1-VLOOKUP(F8334,Konditionen!$B:$D,3,0))","v":42.31}]
["Luftdurchlässe","RGZ","RGZ182575","Schlitzschieber   RGZ-1   825 X  75","gerade für Rohreinbaugitter RGS","70",55.9,{"$f":"G8339*(1-VLOOKUP(F8339,Konditionen!$B:$D,3,0))","v":55.9}]
["Luftdurchlässe","RGZ3","RGZ3150","Zubehörset f. RGS-150 mm  RGZ-3-150","Endkappen b.Einbau in Rechteckkanal","70",11.31,{"$f":"G8347*(1-VLOOKUP(F8347,Konditionen!$B:$D,3,0))","v":11.31}]
["Montagezubehör","RISPE","RISPE180","Spannring m.Di.f.Bord  RISPE   180","Edelstahl W.Nr. 1.4301  Netto-Preis","90",37.840000000000003,{"$f":"G8355*(1-VLOOKUP(F8355,Konditionen!$B:$D,3,0))","v":37.840000000000003}]
["Montagezubehör","RISPE","RISPE300","Spannring m.Di.f.Bord  RISPE   300","Edelstahl W.Nr. 1.4301  Netto-Preis","90",47.81,{"$f":"G8360*(1-VLOOKUP(F8360,Konditionen!$B:$D,3,0))","v":47.81}]
["Montagezubehör","RISPI","RISPI150","Spannring m.Dichtg. RISPI      150","für Bordverbindung      Netto-Preis","90",13.68,{"$f":"G8368*(1-VLOOKUP(F8368,Konditionen!$B:$D,3,0))","v":13.68}]
["Montagezubehör","RISPI","RISPI315","Spannring m.Dichtg. RISPI      315","für Bordverbindung      Netto-Preis","90",23.96,{"$f":"G8376*(1-VLOOKUP(F8376,Konditionen!$B:$D,3,0))","v":23.96}]
["Luftdurchlässe","RJ45","RJ45CABLE10M","Datenkabel RJ45           Länge 10m",null,"70",33.68,{"$f":"G8381*(1-VLOOKUP(F8381,Konditionen!$B:$D,3,0))","v":33.68}]
["Rohre und Formteile","RK","RK224","Rohrstütze       RK            224","*** Netto-Preis ***","90",75,{"$f":"G8389*(1-VLOOKUP(F8389,Konditionen!$B:$D,3,0))","v":75}]
["Rohre und Formteile","RK","RK355","Rohrstütze       RK            355","*** Netto-Preis ***","90",109.5,{"$f":"G8394*(1-VLOOKUP(F8394,Konditionen!$B:$D,3,0))","v":109.5}]
["Rohre und Formteile","RK","RK800","Rohrstütze       RK           800","*** Netto-Preis ***","90",141.30000000000001,{"$f":"G8402*(1-VLOOKUP(F8402,Konditionen!$B:$D,3,0))","v":141.30000000000001}]
["Kunststoff","RLPPS","RLPPS1000800","PPs Reduzierung 1000.800","Asymmetrisch","17.ALLG",938.08,{"$f":"G8410*(1-VLOOKUP(F8410,Konditionen!$B:$D,3,0))","v":938.08}]
["Kunststoff","RLPPS","RLPPS1200700","PPs Reduzierung 1200.700","Asymmetrisch","17.ALLG",1185.8399999999999,{"$f":"G8419*(1-VLOOKUP(F8419,Konditionen!$B:$D,3,0))","v":1185.8399999999999}]
["Kunststoff","RLPPS","RLPPS1250600","PPs Reduzierung 1250.600","Asymmetrisch","17.ALLG",1036.26,{"$f":"G8424*(1-VLOOKUP(F8424,Konditionen!$B:$D,3,0))","v":1036.26}]
["Kunststoff","RLPPS","RLPPS12563","PPs Reduzierung 125.63","Asymmetrisch","17.ALLG",65.44,{"$f":"G8432*(1-VLOOKUP(F8432,Konditionen!$B:$D,3,0))","v":65.44}]
["Kunststoff","RLPPS","RLPPS1400700","PPs Reduzierung 1400.700","Asymmetrisch","17.ALLG",1163.7,{"$f":"G8437*(1-VLOOKUP(F8437,Konditionen!$B:$D,3,0))","v":1163.7}]
["Kunststoff","RLPPS","RLPPS14090","PPs Reduzierung 140.90","Asymmetrisch","17.ALLG",69.44,{"$f":"G8445*(1-VLOOKUP(F8445,Konditionen!$B:$D,3,0))","v":69.44}]
["Kunststoff","RLPPS","RLPPS16075","PPs Reduzierung 160.75","Asymmetrisch","17.ALLG",89.53,{"$f":"G8450*(1-VLOOKUP(F8450,Konditionen!$B:$D,3,0))","v":89.53}]
["Kunststoff","RLPPS","RLPPS18090","PPs Reduzierung 180.90","Asymmetrisch","17.ALLG",89.53,{"$f":"G8458*(1-VLOOKUP(F8458,Konditionen!$B:$D,3,0))","v":89.53}]
["Kunststoff","RLPPS","RLPPS225110","PPs Reduzierung 225.110","Asymmetrisch","17.ALLG",102.92,{"$f":"G8466*(1-VLOOKUP(F8466,Konditionen!$B:$D,3,0))","v":102.92}]
["Kunststoff","RLPPS","RLPPS225200","PPs Reduzierung 225.200","Asymmetrisch","17.ALLG",86.94,{"$f":"G8471*(1-VLOOKUP(F8471,Konditionen!$B:$D,3,0))","v":86.94}]
["Kunststoff","RLPPS","RLPPS250225","PPs Reduzierung 250.225","Asymmetrisch","17.ALLG",104.22,{"$f":"G8479*(1-VLOOKUP(F8479,Konditionen!$B:$D,3,0))","v":104.22}]
["Kunststoff","RLPPS","RLPPS280160","PPs Reduzierung 280.160","Asymmetrisch","17.ALLG",141.91,{"$f":"G8484*(1-VLOOKUP(F8484,Konditionen!$B:$D,3,0))","v":141.91}]
["Kunststoff","RLPPS","RLPPS315160","PPs Reduzierung 315.160","Asymmetrisch","17.ALLG",161.46,{"$f":"G8492*(1-VLOOKUP(F8492,Konditionen!$B:$D,3,0))","v":161.46}]
["Kunststoff","RLPPS","RLPPS355200","PPs Reduzierung 355.200","Asymmetrisch","17.ALLG",154.11000000000001,{"$f":"G8500*(1-VLOOKUP(F8500,Konditionen!$B:$D,3,0))","v":154.11000000000001}]
["Kunststoff","RLPPS","RLPPS400160","PPs Reduzierung 400.160","Asymmetrisch","17.ALLG",206.28,{"$f":"G8505*(1-VLOOKUP(F8505,Konditionen!$B:$D,3,0))","v":206.28}]
["Kunststoff","RLPPS","RLPPS450200","PPs Reduzierung 450.200","Asymmetrisch","17.ALLG",362.77,{"$f":"G8513*(1-VLOOKUP(F8513,Konditionen!$B:$D,3,0))","v":362.77}]
["Kunststoff","RLPPS","RLPPS500225","PPs Reduzierung 500.225","Asymmetrisch","17.ALLG",418.6,{"$f":"G8521*(1-VLOOKUP(F8521,Konditionen!$B:$D,3,0))","v":418.6}]
["Kunststoff","RLPPS","RLPPS500400","PPs Reduzierung 500.400","Asymmetrisch","17.ALLG",413.85,{"$f":"G8526*(1-VLOOKUP(F8526,Konditionen!$B:$D,3,0))","v":413.85}]
["Kunststoff","RLPPS","RLPPS560500","PPs Reduzierung 560.500","Asymmetrisch","17.ALLG",405.21,{"$f":"G8534*(1-VLOOKUP(F8534,Konditionen!$B:$D,3,0))","v":405.21}]
["Kunststoff","RLPPS","RLPPS600355","PPs Reduzierung 600.355","Asymmetrisch","17.ALLG",491.5,{"$f":"G8540*(1-VLOOKUP(F8540,Konditionen!$B:$D,3,0))","v":491.5}]
["Kunststoff","RLPPS","RLPPS630400","PPs Reduzierung 630.400","Asymmetrisch","17.ALLG",510.94,{"$f":"G8548*(1-VLOOKUP(F8548,Konditionen!$B:$D,3,0))","v":510.94}]
["Kunststoff","RLPPS","RLPPS700400","PPs Reduzierung 700.400","Asymmetrisch","17.ALLG",512.02,{"$f":"G8556*(1-VLOOKUP(F8556,Konditionen!$B:$D,3,0))","v":512.02}]
["Kunststoff","RLPPS","RLPPS710600","PPs Reduzierung 710.600","Asymmetrisch","17.ALLG",503.6,{"$f":"G8568*(1-VLOOKUP(F8568,Konditionen!$B:$D,3,0))","v":503.6}]
["Kunststoff","RLPPS","RLPPS710630","PPs Reduzierung 710.630","Asymmetrisch","17.ALLG",432,{"$f":"G8569*(1-VLOOKUP(F8569,Konditionen!$B:$D,3,0))","v":432}]
["Kunststoff","RLPPS","RLPPS800560","PPs Reduzierung 800.560","Asymmetrisch","17.ALLG",645.51,{"$f":"G8577*(1-VLOOKUP(F8577,Konditionen!$B:$D,3,0))","v":645.51}]
["Kunststoff","RLPPS","RLPPS900800","PPs Reduzierung 900.800","Asymmetrisch","17.ALLG",781.48,{"$f":"G8589*(1-VLOOKUP(F8589,Konditionen!$B:$D,3,0))","v":781.48}]
["Kunststoff","RLPPS","RLPPS9050","PPs Reduzierung 90.50","Asymmetrisch","17.ALLG",60.26,{"$f":"G8590*(1-VLOOKUP(F8590,Konditionen!$B:$D,3,0))","v":60.26}]
["Kunststoff","RMIPPS","RMIPPS315","Rohr m.Insektenschutz in PPs 315","Muffenanschluss","17.ALLG",188.35,{"$f":"G8602*(1-VLOOKUP(F8602,Konditionen!$B:$D,3,0))","v":188.35}]
["Kunststoff","RMIPPS","RMIPPS630","Rohr m.Insektenschutz in PPs 630","Muffenanschluss","17.ALLG",879.12,{"$f":"G8610*(1-VLOOKUP(F8610,Konditionen!$B:$D,3,0))","v":879.12}]
["Kunststoff","RMIPPS","RMIPPS75","Rohr m.Insektenschutz in PPs 75","Muffenanschluss","17.ALLG",50.65,{"$f":"G8611*(1-VLOOKUP(F8611,Konditionen!$B:$D,3,0))","v":50.65}]
["Kunststoff","RMVPPS","RMVPPS355","Rohr mit Vogelschutz in PPs 355","Muffenanschluss","17.ALLG",188.13,{"$f":"G8623*(1-VLOOKUP(F8623,Konditionen!$B:$D,3,0))","v":188.13}]
["Kunststoff","RMVPPS","RMVPPS75","Rohr mit Vogelschutz in PPs 75","Muffenanschluss","17.ALLG",44.06,{"$f":"G8631*(1-VLOOKUP(F8631,Konditionen!$B:$D,3,0))","v":44.06}]
["Kunststoff","ROHRSTK","ROHRSTKPPS160","Rohrstück in PPs 160mm","Muffenanschluss","17.ALLG",32.07,{"$f":"G8636*(1-VLOOKUP(F8636,Konditionen!$B:$D,3,0))","v":32.07}]
["Kunststoff","ROHRSTK","ROHRSTKPPS400","Rohrstück in PPs 400mm","Muffenanschluss","17.ALLG",117.72,{"$f":"G8644*(1-VLOOKUP(F8644,Konditionen!$B:$D,3,0))","v":117.72}]
["Montagezubehör","RRDV2A","RRDV2A1812SKK","Revisionsdeckel RRD 18-12 V2A","mit Kantenschutz","14.MS",26.61,{"$f":"G8652*(1-VLOOKUP(F8652,Konditionen!$B:$D,3,0))","v":26.61}]
["Montagezubehör","RRDV2A","RRDV2A187","Revisionsdeckel RRD 18-  7 V2A",null,"14.MS",26.07,{"$f":"G8657*(1-VLOOKUP(F8657,Konditionen!$B:$D,3,0))","v":26.07}]
["Montagezubehör","RRDV2A","RRDV2A211618","Revisionsdeckel RRD 21-16+18 V2A",null,"14.MS",27.84,{"$f":"G8665*(1-VLOOKUP(F8665,Konditionen!$B:$D,3,0))","v":27.84}]
["Montagezubehör","RRDV2A","RRDV2A212528","Revisionsdeckel RRD 21-25+28 V2A",null,"14.MS",27.84,{"$f":"G8669*(1-VLOOKUP(F8669,Konditionen!$B:$D,3,0))","v":27.84}]
["Montagezubehör","RRDV2A","RRDV2A3240","Revisionsdeckel RRD 32-40 V2A",null,"14.MS",37.880000000000003,{"$f":"G8679*(1-VLOOKUP(F8679,Konditionen!$B:$D,3,0))","v":37.880000000000003}]
["Montagezubehör","RRDV2A","RRDV2A4345","Revisionsdeckel RRD 43-45 V2A",null,"14.MS",51.08,{"$f":"G8687*(1-VLOOKUP(F8687,Konditionen!$B:$D,3,0))","v":51.08}]
["Montagezubehör","RRDV2A","RRDV2A4356SKK","Revisionsdeckel RRD 43-56 V2A","mit Kantenschutz","14.MS",52.15,{"$f":"G8692*(1-VLOOKUP(F8692,Konditionen!$B:$D,3,0))","v":52.15}]
["Montagezubehör","RRDV2A","RRDV2A4390SKK","Revisionsdeckel RRD 43-90 V2A","mit Kantenschutz","14.MS",52.15,{"$f":"G8700*(1-VLOOKUP(F8700,Konditionen!$B:$D,3,0))","v":52.15}]
["Montagezubehör","RRDV2A","RRDV2A54140SKK","Revisionsdeckel RRD 54-140 V2A","mit Kantenschutz","14.MS",78.17,{"$f":"G8708*(1-VLOOKUP(F8708,Konditionen!$B:$D,3,0))","v":78.17}]
["Montagezubehör","RRDV2A","RRDV2A5463","Revisionsdeckel RRD 54-  63 V2A",null,"14.MS",76.44,{"$f":"G8713*(1-VLOOKUP(F8713,Konditionen!$B:$D,3,0))","v":76.44}]
["Montagezubehör","RRD","RRD1810","Revisionsdeckel RRD 18-10 verz",null,"14.REV",6.94,{"$f":"G8721*(1-VLOOKUP(F8721,Konditionen!$B:$D,3,0))","v":6.94}]
["Montagezubehör","RRD","RRD1812SKK","Revisionsdeckel RRD 18-12 verz","mit Kantenschutz","14.REV",7.12,{"$f":"G8726*(1-VLOOKUP(F8726,Konditionen!$B:$D,3,0))","v":7.12}]
["Montagezubehör","RRD","RRD188SKK","Revisionsdeckel RRD 18-  8 verz","mit Kantenschutz","14.REV",7.12,{"$f":"G8734*(1-VLOOKUP(F8734,Konditionen!$B:$D,3,0))","v":7.12}]
["Montagezubehör","RRD","RRD212022SKK","Revisionsdeckel RRD 21-20+22 verz","mit Kantenschutz","14.REV",7.76,{"$f":"G8742*(1-VLOOKUP(F8742,Konditionen!$B:$D,3,0))","v":7.76}]
["Montagezubehör","RRD","RRD3228","Revisionsdeckel RRD 32-28 verz",null,"14.REV",10.88,{"$f":"G8747*(1-VLOOKUP(F8747,Konditionen!$B:$D,3,0))","v":10.88}]
["Montagezubehör","RRD","RRD3245","Revisionsdeckel RRD 32-45 verz",null,"14.REV",10.88,{"$f":"G8755*(1-VLOOKUP(F8755,Konditionen!$B:$D,3,0))","v":10.88}]
["Montagezubehör","RRD","RRD4350","Revisionsdeckel RRD 43-50 verz",null,"14.REV",15.28,{"$f":"G8763*(1-VLOOKUP(F8763,Konditionen!$B:$D,3,0))","v":15.28}]
["Montagezubehör","RRD","RRD4363SKK","Revisionsdeckel RRD 43-63 verz","mit Kantenschutz","14.REV",15.63,{"$f":"G8768*(1-VLOOKUP(F8768,Konditionen!$B:$D,3,0))","v":15.63}]
["Montagezubehör","RRD","RRD54100SKK","Revisionsdeckel RRD 54-100 verz","mit Kantenschutz","14.REV",24.31,{"$f":"G8776*(1-VLOOKUP(F8776,Konditionen!$B:$D,3,0))","v":24.31}]
["Montagezubehör","RRD","RRD54140","Revisionsdeckel RRD 54-140 verz",null,"14.REV",23.73,{"$f":"G8781*(1-VLOOKUP(F8781,Konditionen!$B:$D,3,0))","v":23.73}]
["Montagezubehör","RRD","RRD5471","Revisionsdeckel RRD 54-  71 verz",null,"14.REV",23.73,{"$f":"G8789*(1-VLOOKUP(F8789,Konditionen!$B:$D,3,0))","v":23.73}]
["Kunststoff","RSDPPS","RSDPPS110750","PPs Schalldämpfer 110 L=750mm",null,"17.ALLG",304.66000000000003,{"$f":"G8798*(1-VLOOKUP(F8798,Konditionen!$B:$D,3,0))","v":304.66000000000003}]
["Kunststoff","RSDPPS","RSDPPS1401000","PPs Schalldämpfer 140 L=1000mm",null,"17.ALLG",394.41,{"$f":"G8803*(1-VLOOKUP(F8803,Konditionen!$B:$D,3,0))","v":394.41}]
["Kunststoff","RSDPPS","RSDPPS1801000","PPs Schalldämpfer 180 L=1000mm",null,"17.ALLG",485.35,{"$f":"G8811*(1-VLOOKUP(F8811,Konditionen!$B:$D,3,0))","v":485.35}]
["Kunststoff","RSDPPS","RSDPPS2251000","PPs Schalldämpfer 225 L=1000mm",null,"17.ALLG",618.84,{"$f":"G8819*(1-VLOOKUP(F8819,Konditionen!$B:$D,3,0))","v":618.84}]
["Kunststoff","RSDPPS","RSDPPS2501250","PPs Schalldämpfer 250 L=1250mm",null,"17.ALLG",679.53,{"$f":"G8824*(1-VLOOKUP(F8824,Konditionen!$B:$D,3,0))","v":679.53}]
["Kunststoff","RSDPPS","RSDPPS3151250","PPs Schalldämpfer 315 L=1250mm",null,"17.ALLG",894.24,{"$f":"G8832*(1-VLOOKUP(F8832,Konditionen!$B:$D,3,0))","v":894.24}]
["Kunststoff","RSDPPS","RSDPPS3551500","PPs Schalldämpfer 355 L=1500mm",null,"17.ALLG",984.2,{"$f":"G8837*(1-VLOOKUP(F8837,Konditionen!$B:$D,3,0))","v":984.2}]
["Kunststoff","RSKPPS","RSKPPS140","Rückschlagklappe in PPs 140","Muffenanschluss","17.ALLG",96.22,{"$f":"G8845*(1-VLOOKUP(F8845,Konditionen!$B:$D,3,0))","v":96.22}]
["Kunststoff","RSKPPS","RSKPPS355","Rückschlagklappe in PPs 355","Muffenanschluss","17.ALLG",198.93,{"$f":"G8853*(1-VLOOKUP(F8853,Konditionen!$B:$D,3,0))","v":198.93}]
["Rohre und Formteile","RSKU","RSKU150","Rückschlagklappe   RSKU        150","*** Netto-Preis ***","90",27.48,{"$f":"G8858*(1-VLOOKUP(F8858,Konditionen!$B:$D,3,0))","v":27.48}]
["Luftdurchlässe","RS14H","RS14H-E-2-160-21","Dralldurchlass    RS14-H-E-2-160-21","feste Lamell., Abluft, Mess/Drossel","70",295.97000000000003,{"$f":"G8866*(1-VLOOKUP(F8866,Konditionen!$B:$D,3,0))","v":295.97000000000003}]
["Luftdurchlässe","RS14V","RS14V-E-0-315-21","Dralldurchlass    RS14-V-E-0-315-21","feste Lamellen, Abluft","70",361.95,{"$f":"G8878*(1-VLOOKUP(F8878,Konditionen!$B:$D,3,0))","v":361.95}]
["Luftdurchlässe","RS14V","RS14V-S-0-160-21","Dralldurchlass    RS14-V-S-0-160-21","feste Lamellen, Zuluft","70",201.27,{"$f":"G8879*(1-VLOOKUP(F8879,Konditionen!$B:$D,3,0))","v":201.27}]
["Luftdurchlässe","RS15H","RS15H-S-2-160-21","Dralldurchlass    RS15-H-S-2-160-21","ein. Lamellen, Zuluft, Mess/Drossel","70",336.37,{"$f":"G8887*(1-VLOOKUP(F8887,Konditionen!$B:$D,3,0))","v":336.37}]
["Luftdurchlässe","RS16H","RS16H-S-2-250-21","Dralldurchlass    RS16-H-S-2-250-21","ein. Lamellen, Zuluft, Mess/Drossel","70",505.42,{"$f":"G8899*(1-VLOOKUP(F8899,Konditionen!$B:$D,3,0))","v":505.42}]
["Luftdurchlässe","RS16H","RS16H-S-2-315-21","Dralldurchlass    RS16-H-S-2-315-21","ein. Lamellen, Zuluft, Mess/Drossel","70",538.38,{"$f":"G8900*(1-VLOOKUP(F8900,Konditionen!$B:$D,3,0))","v":538.38}]
["Ventilatoren","RTRD","RTRD7","5-Stufenschalter RTRD 7","mit Trafo 400V und Motorschutz","7.ALLG",546,{"$f":"G8908*(1-VLOOKUP(F8908,Konditionen!$B:$D,3,0))","v":546}]
["Ventilatoren","RVK","RVK200E2A","RVK 200E2-A1 sileo Rohrventilator","DN 200,230V/50Hz,Kunststoffgehäuse","7.ALLG",128,{"$f":"G8920*(1-VLOOKUP(F8920,Konditionen!$B:$D,3,0))","v":128}]
["Rohre und Formteile","SBG1","SBG1315","Dach-Rohrhalterung     SBG 1    315","*** Netto-Preis ***","90",51.8,{"$f":"G8927*(1-VLOOKUP(F8927,Konditionen!$B:$D,3,0))","v":51.8}]
["Rohre und Formteile","SBG","SBG250","Dach-Rohrhalterung     SBG 250","*** Netto-Preis ***","90",48,{"$f":"G8934*(1-VLOOKUP(F8934,Konditionen!$B:$D,3,0))","v":48}]
["Rohre und Formteile","SBÖJU","SBÖJU112","Etagenbogen    SBÖJU  112.L1  .L2",null,"30",74.73,{"$f":"G8942*(1-VLOOKUP(F8942,Konditionen!$B:$D,3,0))","v":74.73}]
["Rohre und Formteile","SBÖJU","SBÖJU1120","Etagenbogen    SBÖJU 1120.L1  .L2",null,"30",1986.85,{"$f":"G8943*(1-VLOOKUP(F8943,Konditionen!$B:$D,3,0))","v":1986.85}]
["Rohre und Formteile","SBÖJU","SBÖJU315","Etagenbogen    SBÖJU  315.L1  .L2",null,"30",152.69999999999999,{"$f":"G8955*(1-VLOOKUP(F8955,Konditionen!$B:$D,3,0))","v":152.69999999999999}]
["Rohre und Formteile","SBÖJU","SBÖJU630","Etagenbogen    SBÖJU  630.L1  .L2",null,"30",549.24,{"$f":"G8963*(1-VLOOKUP(F8963,Konditionen!$B:$D,3,0))","v":549.24}]
["Kunststoff","SBS","SBS18060","Spannband mit Schloss 25-200mm","für DN 60 bis 180mm","17.ALLG",3.34,{"$f":"G8968*(1-VLOOKUP(F8968,Konditionen!$B:$D,3,0))","v":3.34}]
["Rohre und Formteile","SB","SB150","Transfer Spannring   SB        150",null,"35",26.97,{"$f":"G8976*(1-VLOOKUP(F8976,Konditionen!$B:$D,3,0))","v":26.97}]
["Rohre und Formteile","SB2","SB2160","Transfer Spannring   SB-2      160","mit Schraubverschluß","35",10.43,{"$f":"G8984*(1-VLOOKUP(F8984,Konditionen!$B:$D,3,0))","v":10.43}]
["Rohre und Formteile","SB2","SB2250","Transfer Spannring   SB-2      250","mit Schraubverschluß","35",15.95,{"$f":"G8989*(1-VLOOKUP(F8989,Konditionen!$B:$D,3,0))","v":15.95}]
["Rohre und Formteile","SB","SB280","Transfer Spannring   SB-2        80","mit Schraubverschluß","35",9.08,{"$f":"G8997*(1-VLOOKUP(F8997,Konditionen!$B:$D,3,0))","v":9.08}]
["Rohre und Formteile","SB","SB80","Transfer Spannring   SB         80",null,"35",26.34,{"$f":"G9005*(1-VLOOKUP(F9005,Konditionen!$B:$D,3,0))","v":26.34}]
["Montagezubehör","SCHM","SCHM2830M8","Schiebemutter SCHM 28/30 M8","für Schienen 27/18, 28/30","90",0.15,{"$f":"G9010*(1-VLOOKUP(F9010,Konditionen!$B:$D,3,0))","v":0.15}]
["Rohre und Formteile","SCHN-SRA","SCHNITTKOSTVA630","Schnittk. Netto f.SRVA/ALU 630-1000","pro Rohr, Längen abweichend von","90",5.5,{"$f":"G9018*(1-VLOOKUP(F9018,Konditionen!$B:$D,3,0))","v":5.5}]
["Rohre und Formteile","SCH-THTR","SCHNITTTHTR150","Schnittkosten für THTR 150",null,"90",42.1,{"$f":"G9023*(1-VLOOKUP(F9023,Konditionen!$B:$D,3,0))","v":42.1}]
["Montagezubehör","SEM","SEM1/4","Schraubeinsatz    SEM    1/4\"","m.Magnet passend zu SSKS und SSKG","90",8.5500000000000007,{"$f":"G9031*(1-VLOOKUP(F9031,Konditionen!$B:$D,3,0))","v":8.5500000000000007}]
["Rohre und Formteile","SHN","SHN160315MAGNET","Saugtrichter    SHN 160.315 Magnet","m.Handgriff,Klappe,Gitter u.Magnet","35",347.93,{"$f":"G9039*(1-VLOOKUP(F9039,Konditionen!$B:$D,3,0))","v":347.93}]
["Rohre und Formteile","SH","SH160315","Saugtrichter          SH 160.315","mit Handgriff u. Klappe","35",190.08,{"$f":"G9044*(1-VLOOKUP(F9044,Konditionen!$B:$D,3,0))","v":190.08}]
["Rohre und Formteile","SKMTR","SKMTR100","Transfer Absperrschieber SKMTR  100","manuelle Betätigung","35",215.16,{"$f":"G9048*(1-VLOOKUP(F9048,Konditionen!$B:$D,3,0))","v":215.16}]
["Rohre und Formteile","SKMTR","SKMTR80","Transfer Absperrschieber SKMTR   80","manuelle Betätigung","35",215.16,{"$f":"G9061*(1-VLOOKUP(F9061,Konditionen!$B:$D,3,0))","v":215.16}]
["Rohre und Formteile","SKPTR","SKPTR-2180","Transfer Absp.Schieber  SKPTR-2 180","pneum. mit 2 Luftzylindern 230V AC","35",1374.79,{"$f":"G9066*(1-VLOOKUP(F9066,Konditionen!$B:$D,3,0))","v":1374.79}]
["Rohre und Formteile","SKPTR","SKPTR100","Transfer Absp.Schieber   SKPTR  100","pneum. mit 1 Luftzylinder 230V AC","35",835.04,{"$f":"G9074*(1-VLOOKUP(F9074,Konditionen!$B:$D,3,0))","v":835.04}]
["Rohre und Formteile","SKPTR","SKPTR80","Transfer Absp.Schieber   SKPTR   80","pneum. mit 1 Luftzylinder 230V AC","35",824.75,{"$f":"G9079*(1-VLOOKUP(F9079,Konditionen!$B:$D,3,0))","v":824.75}]
["Rohre und Formteile","SLBU","SLBU400600","Schalldämpfer    SLBU      400.600","mit Mittelkulisse","30",1238.19,{"$f":"G9087*(1-VLOOKUP(F9087,Konditionen!$B:$D,3,0))","v":1238.19}]
["Rohre und Formteile","SLBU","SLBU5601500","Schalldämpfer    SLBU      560.1500","mit Mittelkulisse","30",3161.54,{"$f":"G9095*(1-VLOOKUP(F9095,Konditionen!$B:$D,3,0))","v":3161.54}]
["Rohre und Formteile","SLBU","SLBU7101200","Schalldämpfer    SLBU      710.1200","mit Mittelkulisse","30",2832.39,{"$f":"G9100*(1-VLOOKUP(F9100,Konditionen!$B:$D,3,0))","v":2832.39}]
["Rohre und Formteile","SLDTR","SLDTR1251290","Transf.Schalldämpfer SLDTR 125.1290","inspizierbar","35",541.48,{"$f":"G9108*(1-VLOOKUP(F9108,Konditionen!$B:$D,3,0))","v":541.48}]
["Rohre und Formteile","SLDTR","SLDTR160390","Transf.Schalldämpfer SLDTR 160.390","inspizierbar","35",393.74,{"$f":"G9113*(1-VLOOKUP(F9113,Konditionen!$B:$D,3,0))","v":393.74}]
["Rohre und Formteile","SLDTR","SLDTR250690","Transf.Schalldämpfer SLDTR 250.690","inspizierbar","35",581.92999999999995,{"$f":"G9121*(1-VLOOKUP(F9121,Konditionen!$B:$D,3,0))","v":581.92999999999995}]
["Rohre und Formteile","SLDTR","SLDTR450990","Transf.Schalldämpfer SLDTR 450.990","inspizierbar","35",1748.23,{"$f":"G9129*(1-VLOOKUP(F9129,Konditionen!$B:$D,3,0))","v":1748.23}]
["Rohre und Formteile","SLDTR","SLDTR80690","Transf.Schalldämpfer SLDTR  80.690","inspizierbar","35",320.07,{"$f":"G9134*(1-VLOOKUP(F9134,Konditionen!$B:$D,3,0))","v":320.07}]
["Flex Rohre und Schalldämpfer","SLFA","SLFA251251250","Schalldämpfer    SLF-A25   125.1250",null,"31",99.05,{"$f":"G9142*(1-VLOOKUP(F9142,Konditionen!$B:$D,3,0))","v":99.05}]
["Flex Rohre und Schalldämpfer","SLFA","SLFA25140750","Schalldämpfer    SLF-A25   140.750",null,"31",74.13,{"$f":"G9150*(1-VLOOKUP(F9150,Konditionen!$B:$D,3,0))","v":74.13}]
["Flex Rohre und Schalldämpfer","SLFA","SLFA25150750","Schalldämpfer    SLF-A25   150.750",null,"31",77.98,{"$f":"G9155*(1-VLOOKUP(F9155,Konditionen!$B:$D,3,0))","v":77.98}]
["Flex Rohre und Schalldämpfer","SLFA","SLFA251801500","Schalldämpfer    SLF-A25   180.1500",null,"31",146.82,{"$f":"G9163*(1-VLOOKUP(F9163,Konditionen!$B:$D,3,0))","v":146.82}]
["Flex Rohre und Schalldämpfer","SLFA","SLFA252001500","Schalldämpfer    SLF-A25   200.1500",null,"31",161.97999999999999,{"$f":"G9168*(1-VLOOKUP(F9168,Konditionen!$B:$D,3,0))","v":161.97999999999999}]
["Flex Rohre und Schalldämpfer","SLFA","SLFA252501000","Schalldämpfer    SLF-A25   250.1000",null,"31",130.83000000000001,{"$f":"G9176*(1-VLOOKUP(F9176,Konditionen!$B:$D,3,0))","v":130.83000000000001}]
["Flex Rohre und Schalldämpfer","SLFA","SLFA25280750","Schalldämpfer    SLF-A25   280.750",null,"31",157.93,{"$f":"G9185*(1-VLOOKUP(F9185,Konditionen!$B:$D,3,0))","v":157.93}]
["Flex Rohre und Schalldämpfer","SLFA","SLFA25300750","Schalldämpfer    SLF-A25   300.750",null,"31",143.71,{"$f":"G9190*(1-VLOOKUP(F9190,Konditionen!$B:$D,3,0))","v":143.71}]
["Flex Rohre und Schalldämpfer","SLFA","SLFA501002000","Schalldämpfer    SLF-A50   100.2000",null,"31",149,{"$f":"G9198*(1-VLOOKUP(F9198,Konditionen!$B:$D,3,0))","v":149}]
["Flex Rohre und Schalldämpfer","SLFA","SLFA501401250","Schalldämpfer    SLF-A50   140.1250",null,"31",134.77000000000001,{"$f":"G9206*(1-VLOOKUP(F9206,Konditionen!$B:$D,3,0))","v":134.77000000000001}]
["Flex Rohre und Schalldämpfer","SLFA","SLFA501501250","Schalldämpfer    SLF-A50   150.1250",null,"31",134.05000000000001,{"$f":"G9211*(1-VLOOKUP(F9211,Konditionen!$B:$D,3,0))","v":134.05000000000001}]
["Flex Rohre und Schalldämpfer","SLFA","SLFA50160750","Schalldämpfer    SLF-A50   160.750",null,"31",91.27,{"$f":"G9219*(1-VLOOKUP(F9219,Konditionen!$B:$D,3,0))","v":91.27}]
["Flex Rohre und Schalldämpfer","SLFA","SLFA502241250","Schalldämpfer    SLF-A50   224.1250",null,"31",194.89,{"$f":"G9231*(1-VLOOKUP(F9231,Konditionen!$B:$D,3,0))","v":194.89}]
["Flex Rohre und Schalldämpfer","SLFA","SLFA502241500","Schalldämpfer    SLF-A50   224.1500",null,"31",222.21,{"$f":"G9232*(1-VLOOKUP(F9232,Konditionen!$B:$D,3,0))","v":222.21}]
["Flex Rohre und Schalldämpfer","SLFA","SLFA502801000","Schalldämpfer    SLF-A50   280.1000",null,"31",176.41,{"$f":"G9240*(1-VLOOKUP(F9240,Konditionen!$B:$D,3,0))","v":176.41}]
["Flex Rohre und Schalldämpfer","SLFA","SLFA50801500","Schalldämpfer    SLF-A50    80.1500",null,"31",109.33,{"$f":"G9252*(1-VLOOKUP(F9252,Konditionen!$B:$D,3,0))","v":109.33}]
["Flex Rohre und Schalldämpfer","SLFA","SLFA50802000","Schalldämpfer    SLF-A50    80.2000",null,"31",135.5,{"$f":"G9253*(1-VLOOKUP(F9253,Konditionen!$B:$D,3,0))","v":135.5}]
["Rohre und Formteile","SLFSU","SLFSU501401500","Schalldämpfer  SLFSU 50 140.1500","beidseitig Safe-Anschluss","30",372.6,{"$f":"G9265*(1-VLOOKUP(F9265,Konditionen!$B:$D,3,0))","v":372.6}]
["Rohre und Formteile","SLFSU","SLFSU501801000","Schalldämpfer  SLFSU 50 180.1000","beidseitig Safe-Anschluss","30",303.52999999999997,{"$f":"G9273*(1-VLOOKUP(F9273,Konditionen!$B:$D,3,0))","v":303.52999999999997}]
["Rohre und Formteile","SLFSU","SLFSU501801500","Schalldämpfer  SLFSU 50 180.1500","beidseitig Safe-Anschluss","30",455.2,{"$f":"G9274*(1-VLOOKUP(F9274,Konditionen!$B:$D,3,0))","v":455.2}]
["Rohre und Formteile","SLFSU","SLFSU502801500","Schalldämpfer  SLFSU 50 280.1500","beidseitig Safe-Anschluss","30",643.70000000000005,{"$f":"G9286*(1-VLOOKUP(F9286,Konditionen!$B:$D,3,0))","v":643.70000000000005}]
["Rohre und Formteile","SLFSU","SLFSU50801000","Schalldämpfer  SLFSU 50  80.1000","beidseitig Safe-Anschluss","30",181.05,{"$f":"G9294*(1-VLOOKUP(F9294,Konditionen!$B:$D,3,0))","v":181.05}]
["Rohre und Formteile","SLFSU","SLFSU50801500","Schalldämpfer  SLFSU 50   80.1500","beidseitig Safe-Anschluss","30",271.52,{"$f":"G9295*(1-VLOOKUP(F9295,Konditionen!$B:$D,3,0))","v":271.52}]
["Flex Rohre und Schalldämpfer","SLFS25","SLFS252B3003000","s-isol-Flexr.SLF-S25-2B/2B 300.3000",null,"11",476.85,{"$f":"G9307*(1-VLOOKUP(F9307,Konditionen!$B:$D,3,0))","v":476.85}]
["Flex Rohre und Schalldämpfer","SLFS50","SLFS502B1503000","s-isol-Flexr.SLF-S50-2B/2B 150.3000",null,"11",266.58,{"$f":"G9314*(1-VLOOKUP(F9314,Konditionen!$B:$D,3,0))","v":266.58}]
["Flex Rohre und Schalldämpfer","SLFS50","SLFS502B3003000","s-isol-Flexr.SLF-S50-2B/2B 300.3000",null,"11",510.43,{"$f":"G9321*(1-VLOOKUP(F9321,Konditionen!$B:$D,3,0))","v":510.43}]
["Flex Rohre und Schalldämpfer","SLFU","SLFU501251250","Schalldämpfer    SLFU50   125.1250","beidseitig Safe-Anschluss","31",92.93,{"$f":"G9329*(1-VLOOKUP(F9329,Konditionen!$B:$D,3,0))","v":92.93}]
["Flex Rohre und Schalldämpfer","SLFU","SLFU501601000","Schalldämpfer    SLFU50   160.1000","beidseitig Safe-Anschluss","31",94.18,{"$f":"G9337*(1-VLOOKUP(F9337,Konditionen!$B:$D,3,0))","v":94.18}]
["Flex Rohre und Schalldämpfer","SLFU","SLFU50180750","Schalldämpfer    SLFU50   180.750","beidseitig Safe-Anschluss","31",102.48,{"$f":"G9342*(1-VLOOKUP(F9342,Konditionen!$B:$D,3,0))","v":102.48}]
["Flex Rohre und Schalldämpfer","SLFU","SLFU502501250","Schalldämpfer    SLFU50   250.1250","beidseitig Safe-Anschluss","31",155.12,{"$f":"G9350*(1-VLOOKUP(F9350,Konditionen!$B:$D,3,0))","v":155.12}]
["Flex Rohre und Schalldämpfer","SLFU","SLFU503001000","Schalldämpfer    SLFU50   300.1000","beidseitig Safe-Anschluss","31",156.68,{"$f":"G9355*(1-VLOOKUP(F9355,Konditionen!$B:$D,3,0))","v":156.68}]
["Rohre und Formteile","SLGTR","SLGTR100990","Transf.Schalldämpfer SLGTR 100.990",null,"35",521.32000000000005,{"$f":"G9363*(1-VLOOKUP(F9363,Konditionen!$B:$D,3,0))","v":521.32000000000005}]
["Rohre und Formteile","SLGTR","SLGTR140990","Transf.Schalldämpfer SLGTR 140.990",null,"35",626.12,{"$f":"G9371*(1-VLOOKUP(F9371,Konditionen!$B:$D,3,0))","v":626.12}]
["Rohre und Formteile","SLGTR","SLGTR1601290","Transf.Schalldämpfer SLGTR 160.1290",null,"35",762.14,{"$f":"G9376*(1-VLOOKUP(F9376,Konditionen!$B:$D,3,0))","v":762.14}]
["Rohre und Formteile","SLGTR","SLGTR200690","Transf.Schalldämpfer SLGTR 200.690",null,"35",672.25,{"$f":"G9384*(1-VLOOKUP(F9384,Konditionen!$B:$D,3,0))","v":672.25}]
["Rohre und Formteile","SLGTR","SLGTR80390","Transf.Schalldämpfer SLGTR  80.390",null,"35",284.74,{"$f":"G9392*(1-VLOOKUP(F9392,Konditionen!$B:$D,3,0))","v":284.74}]
["Rohre und Formteile","SLGU","SLGU100300100","Schalldämpfer    SLGU 100.300","100mm Isolierung","30",216.84,{"$f":"G9397*(1-VLOOKUP(F9397,Konditionen!$B:$D,3,0))","v":216.84}]
["Rohre und Formteile","SLGU","SLGU125900150","Schalldämpfer    SLGU 125.900","150mm Isolierung","30",708.25,{"$f":"G9405*(1-VLOOKUP(F9405,Konditionen!$B:$D,3,0))","v":708.25}]
["Rohre und Formteile","SLGU","SLGU140900100","Schalldämpfer    SLGU 140.900","100mm Isolierung","30",494.24,{"$f":"G9410*(1-VLOOKUP(F9410,Konditionen!$B:$D,3,0))","v":494.24}]
["Rohre und Formteile","SLGU","SLGU1601200100","Schalldämpfer    SLGU 160.1200","100mm Isolierung","30",799.99,{"$f":"G9418*(1-VLOOKUP(F9418,Konditionen!$B:$D,3,0))","v":799.99}]
["Rohre und Formteile","SLGU","SLGU180600100","Schalldämpfer    SLGU 180.600","100mm Isolierung","30",423.71,{"$f":"G9426*(1-VLOOKUP(F9426,Konditionen!$B:$D,3,0))","v":423.71}]
["Rohre und Formteile","SLGU","SLGU200600100","Schalldämpfer    SLGU 200.600","100mm Isolierung","30",423.71,{"$f":"G9431*(1-VLOOKUP(F9431,Konditionen!$B:$D,3,0))","v":423.71}]
["Rohre und Formteile","SLGU","SLGU250900150","Schalldämpfer    SLGU 250.900","150mm Isolierung","30",1313.75,{"$f":"G9443*(1-VLOOKUP(F9443,Konditionen!$B:$D,3,0))","v":1313.75}]
["Rohre und Formteile","SLGU","SLGU80900100","Schalldämpfer    SLGU  80.900","100mm Isolierung","30",397.68,{"$f":"G9448*(1-VLOOKUP(F9448,Konditionen!$B:$D,3,0))","v":397.68}]
["Rohre und Formteile","SLKNU","SLKNU100600100","Schalldämpfer SLKNU 100.600","mit 100mm Isolierung","30",439.46,{"$f":"G9453*(1-VLOOKUP(F9453,Konditionen!$B:$D,3,0))","v":439.46}]
["Rohre und Formteile","SLKNU","SLKNU125600100","Schalldämpfer SLKNU 125.600","mit 100mm Isolierung","30",439.46,{"$f":"G9461*(1-VLOOKUP(F9461,Konditionen!$B:$D,3,0))","v":439.46}]
["Rohre und Formteile","SLKNU","SLKNU160120050","Schalldämpfer SLKNU 160.1200","mit 50mm Isolierung","30",524.89,{"$f":"G9466*(1-VLOOKUP(F9466,Konditionen!$B:$D,3,0))","v":524.89}]
["Rohre und Formteile","SLKNU","SLKNU200120050","Schalldämpfer SLKNU 200.1200","mit 50mm Isolierung","30",610.33000000000004,{"$f":"G9474*(1-VLOOKUP(F9474,Konditionen!$B:$D,3,0))","v":610.33000000000004}]
["Rohre und Formteile","SLKNU","SLKNU250120050","Schalldämpfer SLKNU 250.1200","mit 50mm Isolierung","30",708.04,{"$f":"G9482*(1-VLOOKUP(F9482,Konditionen!$B:$D,3,0))","v":708.04}]
["Rohre und Formteile","SLKNU","SLKNU250900100","Schalldämpfer SLKNU 250.900","mit 100mm Isolierung","30",878.91,{"$f":"G9487*(1-VLOOKUP(F9487,Konditionen!$B:$D,3,0))","v":878.91}]
["Rohre und Formteile","SLKNU","SLKNU4001200100","Schalldämpfer SLKNU 400.1200","mit 100mm Isolierung","30",1208.49,{"$f":"G9495*(1-VLOOKUP(F9495,Konditionen!$B:$D,3,0))","v":1208.49}]
["Rohre und Formteile","SLKNU","SLKNU40090050","Schalldämpfer SLKNU 400.900","mit 50mm Isolierung","30",891.09,{"$f":"G9500*(1-VLOOKUP(F9500,Konditionen!$B:$D,3,0))","v":891.09}]
["Rohre und Formteile","SLKNU","SLKNU8001500100","Schalldämpfer SLKNU 800.1500","mit 100mm Isolierung","30",2929.58,{"$f":"G9508*(1-VLOOKUP(F9508,Konditionen!$B:$D,3,0))","v":2929.58}]
["Rohre und Formteile","SLTR","SLTR125990","Transf. Schalldämpfer SLTR 125.990",null,"35",326.77999999999997,{"$f":"G9516*(1-VLOOKUP(F9516,Konditionen!$B:$D,3,0))","v":326.77999999999997}]
["Rohre und Formteile","SLTR","SLTR1501290","Transf. Schalldämpfer SLTR 150.1290",null,"35",457.35,{"$f":"G9521*(1-VLOOKUP(F9521,Konditionen!$B:$D,3,0))","v":457.35}]
["Rohre und Formteile","SLTR","SLTR1801290","Transf. Schalldämpfer SLTR 180.1290",null,"35",547.72,{"$f":"G9529*(1-VLOOKUP(F9529,Konditionen!$B:$D,3,0))","v":547.72}]
["Rohre und Formteile","SLTR","SLTR2241290","Transf. Schalldämpfer SLTR 224.1290",null,"35",635.09,{"$f":"G9537*(1-VLOOKUP(F9537,Konditionen!$B:$D,3,0))","v":635.09}]
["Rohre und Formteile","SLTR","SLTR250990","Transf. Schalldämpfer SLTR 250.990",null,"35",477.19,{"$f":"G9542*(1-VLOOKUP(F9542,Konditionen!$B:$D,3,0))","v":477.19}]
["Rohre und Formteile","SLTR","SLTR350990","Transf. Schalldämpfer SLTR 350.990",null,"35",926.87,{"$f":"G9550*(1-VLOOKUP(F9550,Konditionen!$B:$D,3,0))","v":926.87}]
["Rohre und Formteile","SLUFP","SLUFP125900","Schalldämpfer   SLUFP   125.900","Lindab FireProtect Rund","80",398.11,{"$f":"G9562*(1-VLOOKUP(F9562,Konditionen!$B:$D,3,0))","v":398.11}]
["Rohre und Formteile","SLUFP","SLUFP150900","Schalldämpfer   SLUFP   150.900","Lindab FireProtect Rund","80",398.11,{"$f":"G9564*(1-VLOOKUP(F9564,Konditionen!$B:$D,3,0))","v":398.11}]
["Rohre und Formteile","SLUFP","SLUFP315900","Schalldämpfer   SLUFP   315.900","Lindab FireProtect Rund","80",1149.7,{"$f":"G9572*(1-VLOOKUP(F9572,Konditionen!$B:$D,3,0))","v":1149.7}]
["Rohre und Formteile","SLU","SLUV2A100090050","Schalldämpfer SLU V2A     1000.900","Edelstahl W.Nr. 1.4301","60",8966.66,{"$f":"G9584*(1-VLOOKUP(F9584,Konditionen!$B:$D,3,0))","v":8966.66}]
["Rohre und Formteile","SLU","SLUV2A1001200100","Schalldämpfer SLU V2A     100.1200","Edelstahl W.Nr. 1.4301","60",1636.5,{"$f":"G9585*(1-VLOOKUP(F9585,Konditionen!$B:$D,3,0))","v":1636.5}]
["Rohre und Formteile","SLU","SLUV2A125600100","Schalldämpfer SLU V2A     125.600","Edelstahl W.Nr. 1.4301","60",1248.26,{"$f":"G9593*(1-VLOOKUP(F9593,Konditionen!$B:$D,3,0))","v":1248.26}]
["Rohre und Formteile","SLU","SLUV2A150600100","Schalldämpfer SLU V2A     150.600","Edelstahl W.Nr. 1.4301","60",1440.18,{"$f":"G9605*(1-VLOOKUP(F9605,Konditionen!$B:$D,3,0))","v":1440.18}]
["Rohre und Formteile","SLU","SLUV2A15060050","Schalldämpfer SLU V2A     150.600","Edelstahl W.Nr. 1.4301","60",1070.67,{"$f":"G9606*(1-VLOOKUP(F9606,Konditionen!$B:$D,3,0))","v":1070.67}]
["Rohre und Formteile","SLU","SLUV2A18060050","Schalldämpfer SLU V2A     180.600","Edelstahl W.Nr. 1.4301","60",1070.67,{"$f":"G9618*(1-VLOOKUP(F9618,Konditionen!$B:$D,3,0))","v":1070.67}]
["Rohre und Formteile","SLU","SLUV2A20090050","Schalldämpfer SLU V2A     200.900","Edelstahl W.Nr. 1.4301","60",1325.41,{"$f":"G9626*(1-VLOOKUP(F9626,Konditionen!$B:$D,3,0))","v":1325.41}]
["Rohre und Formteile","SLU","SLUV2A2241200100","Schalldämpfer SLU V2A     224.1200","Edelstahl W.Nr. 1.4301","60",2566.4299999999998,{"$f":"G9627*(1-VLOOKUP(F9627,Konditionen!$B:$D,3,0))","v":2566.4299999999998}]
["Rohre und Formteile","SLU","SLUV2A2801200100","Schalldämpfer SLU V2A     280.1200","Edelstahl W.Nr. 1.4301","60",3626.14,{"$f":"G9639*(1-VLOOKUP(F9639,Konditionen!$B:$D,3,0))","v":3626.14}]
["Rohre und Formteile","SLU","SLUV2A300600100","Schalldämpfer SLU V2A     300.600","Edelstahl W.Nr. 1.4301","60",2303.61,{"$f":"G9647*(1-VLOOKUP(F9647,Konditionen!$B:$D,3,0))","v":2303.61}]
["Rohre und Formteile","SLU","SLUV2A315120050","Schalldämpfer SLU V2A     315.1200","Edelstahl W.Nr. 1.4301","60",3128.05,{"$f":"G9652*(1-VLOOKUP(F9652,Konditionen!$B:$D,3,0))","v":3128.05}]
["Rohre und Formteile","SLU","SLUV2A35560050","Schalldämpfer SLU V2A     355.600","Edelstahl W.Nr. 1.4301","60",1898.53,{"$f":"G9660*(1-VLOOKUP(F9660,Konditionen!$B:$D,3,0))","v":1898.53}]
["Rohre und Formteile","SLU","SLUV2A40090050","Schalldämpfer SLU V2A     400.900","Edelstahl W.Nr. 1.4301","60",2523.0300000000002,{"$f":"G9668*(1-VLOOKUP(F9668,Konditionen!$B:$D,3,0))","v":2523.0300000000002}]
["Rohre und Formteile","SLU","SLUV2A450900100","Schalldämpfer SLU V2A     450.900","Edelstahl W.Nr. 1.4301","60",3345.43,{"$f":"G9673*(1-VLOOKUP(F9673,Konditionen!$B:$D,3,0))","v":3345.43}]
["Rohre und Formteile","SLU","SLUV2A5601200100","Schalldämpfer SLU V2A     560.1200","Edelstahl W.Nr. 1.4301","60",5865.57,{"$f":"G9681*(1-VLOOKUP(F9681,Konditionen!$B:$D,3,0))","v":5865.57}]
["Rohre und Formteile","SLU","SLUV2A600600100","Schalldämpfer SLU V2A     600.600","Edelstahl W.Nr. 1.4301","60",4041.82,{"$f":"G9689*(1-VLOOKUP(F9689,Konditionen!$B:$D,3,0))","v":4041.82}]
["Rohre und Formteile","SLU","SLUV2A6301200100","Schalldämpfer SLU V2A     630.1200","Edelstahl W.Nr. 1.4301","60",5865.57,{"$f":"G9693*(1-VLOOKUP(F9693,Konditionen!$B:$D,3,0))","v":5865.57}]
["Rohre und Formteile","SLU","SLUV2A710900100","Schalldämpfer SLU V2A     710.900","Edelstahl W.Nr. 1.4301","60",6610.35,{"$f":"G9703*(1-VLOOKUP(F9703,Konditionen!$B:$D,3,0))","v":6610.35}]
["Rohre und Formteile","SLU","SLUV2A80060050","Schalldämpfer SLU V2A     800.600","Edelstahl W.Nr. 1.4301","60",5696.59,{"$f":"G9708*(1-VLOOKUP(F9708,Konditionen!$B:$D,3,0))","v":5696.59}]
["Rohre und Formteile","SLU","SLUV2A8090050","Schalldämpfer SLU V2A       80.900","Edelstahl W.Nr. 1.4301","60",760.84,{"$f":"G9716*(1-VLOOKUP(F9716,Konditionen!$B:$D,3,0))","v":760.84}]
["Rohre und Formteile","SLU","SLU100300","Schalldämpfer    SLU       100.300","L = 360 mm","30",136.86000000000001,{"$f":"G9724*(1-VLOOKUP(F9724,Konditionen!$B:$D,3,0))","v":136.86000000000001}]
["Rohre und Formteile","SLU","SLU125600","Schalldämpfer    SLU       125.600","L = 665 mm","30",198.05,{"$f":"G9729*(1-VLOOKUP(F9729,Konditionen!$B:$D,3,0))","v":198.05}]
["Rohre und Formteile","SLU","SLU150600","Schalldämpfer    SLU       150.600",null,"30",234.9,{"$f":"G9737*(1-VLOOKUP(F9737,Konditionen!$B:$D,3,0))","v":234.9}]
["Rohre und Formteile","SLU","SLU160900","Schalldämpfer    SLU       160.900","L = 975 mm","30",270.16000000000003,{"$f":"G9742*(1-VLOOKUP(F9742,Konditionen!$B:$D,3,0))","v":270.16000000000003}]
["Rohre und Formteile","SLU","SLU200900","Schalldämpfer    SLU       200.900","L = 985 mm","30",328.73,{"$f":"G9750*(1-VLOOKUP(F9750,Konditionen!$B:$D,3,0))","v":328.73}]
["Rohre und Formteile","SLU","SLU2801200","Schalldämpfer    SLU       280.1200","mit 100 mm Isolierung","30",665.85,{"$f":"G9758*(1-VLOOKUP(F9758,Konditionen!$B:$D,3,0))","v":665.85}]
["Rohre und Formteile","SLU","SLU300900","Schalldämpfer    SLU       300.900",null,"30",553.96,{"$f":"G9763*(1-VLOOKUP(F9763,Konditionen!$B:$D,3,0))","v":553.96}]
["Rohre und Formteile","SLU","SLU400600","Schalldämpfer    SLU       400.600",null,"30",638.03,{"$f":"G9771*(1-VLOOKUP(F9771,Konditionen!$B:$D,3,0))","v":638.03}]
["Rohre und Formteile","SLU","SLU6001200","Schalldämpfer    SLU       600.1200","mit 100 mm Isolierung","30",1626.53,{"$f":"G9779*(1-VLOOKUP(F9779,Konditionen!$B:$D,3,0))","v":1626.53}]
["Rohre und Formteile","SLU","SLU8001200","Schalldämpfer    SLU       800.1200",null,"30",2118.4699999999998,{"$f":"G9784*(1-VLOOKUP(F9784,Konditionen!$B:$D,3,0))","v":2118.4699999999998}]
["Rohre und Formteile","SLXU","SLXU125300","Schalldämpfer    SLXU       125.300","50mm Isolierung","30",135.5,{"$f":"G9792*(1-VLOOKUP(F9792,Konditionen!$B:$D,3,0))","v":135.5}]
["Rohre und Formteile","SLXU","SLXU160900","Schalldämpfer    SLXU       160.900","50mm Isolierung","30",216.11,{"$f":"G9797*(1-VLOOKUP(F9797,Konditionen!$B:$D,3,0))","v":216.11}]
["Rohre und Formteile","SMFU","SMFU100300","Schiebemuffe   SMFU     100.300",null,"30",24.24,{"$f":"G9805*(1-VLOOKUP(F9805,Konditionen!$B:$D,3,0))","v":24.24}]
["Rohre und Formteile","SMFU","SMFU160500","Schiebemuffe   SMFU     160.500",null,"30",48.59,{"$f":"G9813*(1-VLOOKUP(F9813,Konditionen!$B:$D,3,0))","v":48.59}]
["Rohre und Formteile","SMFU","SMFU250300","Schiebemuffe   SMFU     250.300",null,"30",42.72,{"$f":"G9818*(1-VLOOKUP(F9818,Konditionen!$B:$D,3,0))","v":42.72}]
["Rohre und Formteile","SM","SM200","Montagekosten    SM            200","für Sattelstutzen, Netto-Preis","90",15.5,{"$f":"G9830*(1-VLOOKUP(F9830,Konditionen!$B:$D,3,0))","v":15.5}]
["Rohre und Formteile","SM","SM315","Montagekosten    SM            315","für Sattelstutzen, Netto-Preis","90",25.65,{"$f":"G9835*(1-VLOOKUP(F9835,Konditionen!$B:$D,3,0))","v":25.65}]
["Rohre und Formteile","SM","SM560","Montagekosten    SM            560","für Sattelstutzen, Netto-Preis","90",64.75,{"$f":"G9840*(1-VLOOKUP(F9840,Konditionen!$B:$D,3,0))","v":64.75}]
["Rohre und Formteile","SM","SM800","Montagekosten    SM            800","für Sattelstutzen, Netto-Preis","90",86.9,{"$f":"G9848*(1-VLOOKUP(F9848,Konditionen!$B:$D,3,0))","v":86.9}]
["Rohre und Formteile","SNPU","SNPU125150","Schiebenippel  SNPU     125.150",null,"30",24.24,{"$f":"G9853*(1-VLOOKUP(F9853,Konditionen!$B:$D,3,0))","v":24.24}]
["Rohre und Formteile","SNPU","SNPU200500","Schiebenippel  SNPU     200.500",null,"30",60.98,{"$f":"G9861*(1-VLOOKUP(F9861,Konditionen!$B:$D,3,0))","v":60.98}]
["Smarttools","SPN","SPN","Nebelpistole     SPN","einschl. Nebelfluid und 6 Batterien","90",32,{"$f":"G9869*(1-VLOOKUP(F9869,Konditionen!$B:$D,3,0))","v":32}]
["Rohre und Formteile","SRC","SRC125","Abdeckung, Kunststoff  SRC 125","für Rohrdurchführung","90",6.1,{"$f":"G9874*(1-VLOOKUP(F9874,Konditionen!$B:$D,3,0))","v":6.1}]
["Rohre und Formteile","SRDDIN","SRDDIN112","Lindabrohr dicht SRDDIN 112  Meter","nach DIN 24145","10",47.31,{"$f":"G9882*(1-VLOOKUP(F9882,Konditionen!$B:$D,3,0))","v":47.31}]
["Rohre und Formteile","SRDDIN","SRDDIN300","Lindabrohr dicht SRDDIN 300  Meter","nach DIN 24145","10",112.32,{"$f":"G9894*(1-VLOOKUP(F9894,Konditionen!$B:$D,3,0))","v":112.32}]
["Rohre und Formteile","SRDDIN","SRDDIN315","Lindabrohr dicht SRDDIN 315  Meter","nach DIN 24145","10",142.43,{"$f":"G9895*(1-VLOOKUP(F9895,Konditionen!$B:$D,3,0))","v":142.43}]
["Rohre und Formteile","SRDDIN","SRDDIN710","Lindabrohr dicht SRDDIN 710  Meter","nach DIN 24145","10",377.45,{"$f":"G9903*(1-VLOOKUP(F9903,Konditionen!$B:$D,3,0))","v":377.45}]
["Rohre und Formteile","SRDEN","SRDEN1500","Lindabrohr dicht  SRD   1500 Meter","gem.DIN EN 12237, mit Doppelsicke","10",958.62,{"$f":"G9915*(1-VLOOKUP(F9915,Konditionen!$B:$D,3,0))","v":958.62}]
["Rohre und Formteile","SRDEN","SRDEN160","Lindabrohr dicht  SRD   160  Meter","gem.DIN EN 12237","10",55.98,{"$f":"G9916*(1-VLOOKUP(F9916,Konditionen!$B:$D,3,0))","v":55.98}]
["Rohre und Formteile","SRDEN","SRDEN315","Lindabrohr dicht  SRD   315  Meter","gem.DIN EN 12237, mit Doppelsicke","10",131.22999999999999,{"$f":"G9924*(1-VLOOKUP(F9924,Konditionen!$B:$D,3,0))","v":131.22999999999999}]
["Rohre und Formteile","SRDEN","SRDEN800","Lindabrohr dicht  SRD   800  Meter","gem.DIN EN 12237, mit Doppelsicke","10",384.8,{"$f":"G9936*(1-VLOOKUP(F9936,Konditionen!$B:$D,3,0))","v":384.8}]
["Rohre und Formteile","SRDEN","SRDEN90","Lindabrohr dicht  SRD   90   Meter","gem.DIN EN 12237","10",35.03,{"$f":"G9937*(1-VLOOKUP(F9937,Konditionen!$B:$D,3,0))","v":35.03}]
["Rohre und Formteile","SRDIN","SRDIN200","Lindabrohr   SRDIN 200       Meter","nach DIN 24145","10",44.18,{"$f":"G9949*(1-VLOOKUP(F9949,Konditionen!$B:$D,3,0))","v":44.18}]
["Rohre und Formteile","SRDIN","SRDIN250","Lindabrohr   SRDIN 250       Meter","nach DIN 24145","10",55.26,{"$f":"G9951*(1-VLOOKUP(F9951,Konditionen!$B:$D,3,0))","v":55.26}]
["Rohre und Formteile","SRDIN","SRDIN560","Lindabrohr   SRDIN 560       Meter","nach DIN 24145","10",160.13,{"$f":"G9959*(1-VLOOKUP(F9959,Konditionen!$B:$D,3,0))","v":160.13}]
["Rohre und Formteile","SRDV2A","SRDV2A0,6315","Lindabrohr  SRD V2A 0,6 315  Meter","Edelstahl W.Nr.1.4301,mit Dichtung","60",356.64,{"$f":"G9971*(1-VLOOKUP(F9971,Konditionen!$B:$D,3,0))","v":356.64}]
["Rohre und Formteile","SRDV2A","SRDV2A0,8710","Lindabrohr  SRD V2A 0,8 710  Meter","Edelstahl W.Nr.1.4301,mit Dichtung","60",881.12,{"$f":"G9979*(1-VLOOKUP(F9979,Konditionen!$B:$D,3,0))","v":881.12}]
["Rohre und Formteile","SRENC","SRENC1002400","Lindabrohr SR CLICK 100.2400  Stück","gem.DIN EN 12237","10",49.36,{"$f":"G9984*(1-VLOOKUP(F9984,Konditionen!$B:$D,3,0))","v":49.36}]
["Rohre und Formteile","SRENC","SRENC1252400","Lindabrohr SR CLICK 125.2400  Stück","gem.DIN EN 12237","10",61.88,{"$f":"G9992*(1-VLOOKUP(F9992,Konditionen!$B:$D,3,0))","v":61.88}]
["Rohre und Formteile","SRENC","SRENC1502400","Lindabrohr SR CLICK 150.2400  Stück","gem.DIN EN 12237","10",78.86,{"$f":"G10000*(1-VLOOKUP(F10000,Konditionen!$B:$D,3,0))","v":78.86}]
["Rohre und Formteile","SRENC","SRENC1603000","Lindabrohr SR CLICK 160.3000  Stück","gem.DIN EN 12237","10",98.6,{"$f":"G10005*(1-VLOOKUP(F10005,Konditionen!$B:$D,3,0))","v":98.6}]
["Rohre und Formteile","SRENC","SRENC2003000","Lindabrohr SR CLICK 200.3000  Stück","gem.DIN EN 12237","10",124.61,{"$f":"G10013*(1-VLOOKUP(F10013,Konditionen!$B:$D,3,0))","v":124.61}]
["Rohre und Formteile","SRENC","SRENC3003000","Lindabrohr SR CLICK 300.3000  Stück","gem.DIN EN 12237 mit Doppelsicke","10",186.74,{"$f":"G10021*(1-VLOOKUP(F10021,Konditionen!$B:$D,3,0))","v":186.74}]
["Rohre und Formteile","SREN","SREN10003000","Lindabrohr   SR    1000.3000 Stück","gem.DIN EN 12237, mit Doppelsicke","10",1111.05,{"$f":"G10026*(1-VLOOKUP(F10026,Konditionen!$B:$D,3,0))","v":1111.05}]
["Rohre und Formteile","SREN","SREN1122400","Lindabrohr   SR    112.2400  Stück","gem.DIN EN 12237","10",61.88,{"$f":"G10034*(1-VLOOKUP(F10034,Konditionen!$B:$D,3,0))","v":61.88}]
["Rohre und Formteile","SREN","SREN1251200","Lindabrohr   SR    125.1200  Stück","gem.DIN EN 12237","10",30.93,{"$f":"G10039*(1-VLOOKUP(F10039,Konditionen!$B:$D,3,0))","v":30.93}]
["Rohre und Formteile","SREN","SREN150","Lindabrohr   SR    150       Meter","gem.DIN EN 12237","10",32.86,{"$f":"G10047*(1-VLOOKUP(F10047,Konditionen!$B:$D,3,0))","v":32.86}]
["Rohre und Formteile","SREN","SREN1602400","Lindabrohr   SR    160.2400  Stück","gem.DIN EN 12237","10",78.86,{"$f":"G10055*(1-VLOOKUP(F10055,Konditionen!$B:$D,3,0))","v":78.86}]
["Rohre und Formteile","SREN","SREN1803000","Lindabrohr   SR    180.3000  Stück","gem.DIN EN 12237","10",124.61,{"$f":"G10060*(1-VLOOKUP(F10060,Konditionen!$B:$D,3,0))","v":124.61}]
["Rohre und Formteile","SREN","SREN2503000","Lindabrohr   SR    250.3000  Stück","gem.DIN EN 12237, mit Doppelsicke","10",156.4,{"$f":"G10068*(1-VLOOKUP(F10068,Konditionen!$B:$D,3,0))","v":156.4}]
["Rohre und Formteile","SREN","SREN3553000","Lindabrohr   SR    355.3000  Stück","gem.DIN EN 12237, mit Doppelsicke","10",257.17,{"$f":"G10076*(1-VLOOKUP(F10076,Konditionen!$B:$D,3,0))","v":257.17}]
["Rohre und Formteile","SREN","SREN4503000","Lindabrohr   SR    450.3000  Stück","gem.DIN EN 12237, mit Doppelsicke","10",323.99,{"$f":"G10080*(1-VLOOKUP(F10080,Konditionen!$B:$D,3,0))","v":323.99}]
["Rohre und Formteile","SREN","SREN631200","Lindabrohr   SR     63.1200  Stück","gem. DIN EN 12237","10",20.34,{"$f":"G10090*(1-VLOOKUP(F10090,Konditionen!$B:$D,3,0))","v":20.34}]
["Rohre und Formteile","SREN","SREN7103000","Lindabrohr   SR    710.3000  Stück","gem.DIN EN 12237, mit Doppelsicke","10",656.66,{"$f":"G10095*(1-VLOOKUP(F10095,Konditionen!$B:$D,3,0))","v":656.66}]
["Rohre und Formteile","SREN","SREN802400","Lindabrohr   SR     80.2400  Stück","gem.DIN EN 12237","10",40.69,{"$f":"G10103*(1-VLOOKUP(F10103,Konditionen!$B:$D,3,0))","v":40.69}]
["Flex Rohre und Schalldämpfer","SRFC","SRFC1005000","Flexrohr         SRF-C     100.5000",null,"11",43.09,{"$f":"G10111*(1-VLOOKUP(F10111,Konditionen!$B:$D,3,0))","v":43.09}]
["Flex Rohre und Schalldämpfer","SRFC","SRFC1605000","Flexrohr         SRF-C     160.5000",null,"11",69.430000000000007,{"$f":"G10116*(1-VLOOKUP(F10116,Konditionen!$B:$D,3,0))","v":69.430000000000007}]
["Flex Rohre und Schalldämpfer","SRFC","SRFC3553000","Flexrohr         SRF-C     355.3000",null,"11",107.24,{"$f":"G10124*(1-VLOOKUP(F10124,Konditionen!$B:$D,3,0))","v":107.24}]
["Flex Rohre und Schalldämpfer","SRFC","SRFC635000","Flexrohr         SRF-C      63.5000",null,"11",36.57,{"$f":"G10129*(1-VLOOKUP(F10129,Konditionen!$B:$D,3,0))","v":36.57}]
["Rohre und Formteile","SRFP","SRFP140","Lindabrohr   SR FP 140        Meter","Lindab FireProtect Rund","80",36.590000000000003,{"$f":"G10137*(1-VLOOKUP(F10137,Konditionen!$B:$D,3,0))","v":36.590000000000003}]
["Rohre und Formteile","SRFP","SRFP300","Lindabrohr   SR FP 300        Meter","Lindab FireProtect Rund","80",68.09,{"$f":"G10145*(1-VLOOKUP(F10145,Konditionen!$B:$D,3,0))","v":68.09}]
["Rohre und Formteile","SRFP","SRFP500","Lindabrohr   SR FP 500        Meter","Lindab FireProtect Rund","80",128.68,{"$f":"G10150*(1-VLOOKUP(F10150,Konditionen!$B:$D,3,0))","v":128.68}]
["Rohre und Formteile","SRFTH","SRFTH1256000","Flexschlauch     TH        125.6000","Polyamidgewebe mit Drahteinlage","11",150.94999999999999,{"$f":"G10158*(1-VLOOKUP(F10158,Konditionen!$B:$D,3,0))","v":150.94999999999999}]
["Rohre und Formteile","SRFTH","SRFTH2806000","Flexschlauch     TH        280.6000","Polyamidgewebe mit Drahteinlage","11",374.56,{"$f":"G10166*(1-VLOOKUP(F10166,Konditionen!$B:$D,3,0))","v":374.56}]
["Rohre und Formteile","SRFTH","SRFTH4506000","Flexschlauch     TH        450.6000","Polyamidgewebe mit Drahteinlage","11",600.84,{"$f":"G10171*(1-VLOOKUP(F10171,Konditionen!$B:$D,3,0))","v":600.84}]
["Rohre und Formteile","SRFTH","SRFTH8006000","Flexschlauch     TH        800.6000","Polyamidgewebe mit Drahteinlage","11",2093.81,{"$f":"G10179*(1-VLOOKUP(F10179,Konditionen!$B:$D,3,0))","v":2093.81}]
["Flex Rohre und Schalldämpfer","SRFVA","SRFVA1403000","Edelstahl-Flexrohr SRF-VA 140.3000",null,"11",345.52,{"$f":"G10184*(1-VLOOKUP(F10184,Konditionen!$B:$D,3,0))","v":345.52}]
["Flex Rohre und Schalldämpfer","SRFVA","SRFVA3003000","Edelstahl-Flexrohr SRF-VA 300.3000",null,"11",627.34,{"$f":"G10192*(1-VLOOKUP(F10192,Konditionen!$B:$D,3,0))","v":627.34}]
["Flex Rohre und Schalldämpfer","SRFV","SRFV2005000","Flexrohr Stahl verz. SRF-V 200.5000","in Stangen","11",429.31,{"$f":"G10200*(1-VLOOKUP(F10200,Konditionen!$B:$D,3,0))","v":429.31}]
["Flex Rohre und Schalldämpfer","SRFW","SRFW252B1603000","w-isol.Flexr.SRF-W25-2B/2B 160.3000",null,"11",231.97,{"$f":"G10209*(1-VLOOKUP(F10209,Konditionen!$B:$D,3,0))","v":231.97}]
["Flex Rohre und Schalldämpfer","SRFW","SRFW252B2803000","w-isol-Flexr.SRF-W25-2B/2B 280.3000",null,"11",463.42,{"$f":"G10214*(1-VLOOKUP(F10214,Konditionen!$B:$D,3,0))","v":463.42}]
["Flex Rohre und Schalldämpfer","SRFW50","SRFW502B1403000","w-isol.Flexr.SRF-W50-2B/2B 140.3000",null,"11",260.89999999999998,{"$f":"G10222*(1-VLOOKUP(F10222,Konditionen!$B:$D,3,0))","v":260.89999999999998}]
["Flex Rohre und Schalldämpfer","SRFW50","SRFW502B2243000","w-isol.Flexr.SRF-W50-2B/2B 224.3000",null,"11",384.69,{"$f":"G10227*(1-VLOOKUP(F10227,Konditionen!$B:$D,3,0))","v":384.69}]
["Rohre und Formteile","SRH","SRH","Handle                         SRH","Transporthilfe für Rohre 315-1250mm","90",49.9,{"$f":"G10235*(1-VLOOKUP(F10235,Konditionen!$B:$D,3,0))","v":49.9}]
["Rohre und Formteile","SRI","SRI50100","Lindabrohr Isol  SRI 50   100.1000","50mm Isolierung","65",120.28,{"$f":"G10247*(1-VLOOKUP(F10247,Konditionen!$B:$D,3,0))","v":120.28}]
["Rohre und Formteile","SRI","SRI50125","Lindabrohr Isol  SRI 50   125.1000","50mm Isolierung","65",139.69,{"$f":"G10248*(1-VLOOKUP(F10248,Konditionen!$B:$D,3,0))","v":139.69}]
["Rohre und Formteile","SRI","SRI50500","Lindabrohr Isol  SRI 50    500.1000","50mm Isolierung","65",475.25,{"$f":"G10256*(1-VLOOKUP(F10256,Konditionen!$B:$D,3,0))","v":475.25}]
["Rohre und Formteile","SRPERF","SRPERF3002400","perforiert. Rohr SRP 0,6  300.2400","freier Querschnitt 33 %","10",657.87,{"$f":"G10268*(1-VLOOKUP(F10268,Konditionen!$B:$D,3,0))","v":657.87}]
["Rohre und Formteile","SRPERF","SRPERF3152400","perforiert. Rohr SRP 0,6  315.2400","freier Querschnitt 33 %","10",690.61,{"$f":"G10269*(1-VLOOKUP(F10269,Konditionen!$B:$D,3,0))","v":690.61}]
["Rohre und Formteile","SRTR","SRTR1001000","Transfer Rohr    SRTR    100.1000",null,"35",31.01,{"$f":"G10281*(1-VLOOKUP(F10281,Konditionen!$B:$D,3,0))","v":31.01}]
["Rohre und Formteile","SRTR","SRTR1252000","Transfer Rohr    SRTR    125.2000",null,"35",71.37,{"$f":"G10289*(1-VLOOKUP(F10289,Konditionen!$B:$D,3,0))","v":71.37}]
["Rohre und Formteile","SRTR","SRTR1253000","Transfer Rohr    SRTR    125.3000",null,"35",106.06,{"$f":"G10290*(1-VLOOKUP(F10290,Konditionen!$B:$D,3,0))","v":106.06}]
["Rohre und Formteile","SRTR","SRTR1503000","Transfer Rohr    SRTR    150.3000",null,"35",129.83000000000001,{"$f":"G10302*(1-VLOOKUP(F10302,Konditionen!$B:$D,3,0))","v":129.83000000000001}]
["Rohre und Formteile","SRTR","SRTR1606000","Transfer Rohr    SRTR    160.6000",null,"35",257.19,{"$f":"G10310*(1-VLOOKUP(F10310,Konditionen!$B:$D,3,0))","v":257.19}]
["Rohre und Formteile","SRTR","SRTR1801000","Transfer Rohr    SRTR    180.1000",null,"35",52.79,{"$f":"G10311*(1-VLOOKUP(F10311,Konditionen!$B:$D,3,0))","v":52.79}]
["Rohre und Formteile","SRTR","SRTR2241000","Transfer Rohr    SRTR    224.1000",null,"35",64.44,{"$f":"G10323*(1-VLOOKUP(F10323,Konditionen!$B:$D,3,0))","v":64.44}]
["Rohre und Formteile","SRTR","SRTR2502000","Transfer Rohr    SRTR    250.2000",null,"35",128.94,{"$f":"G10331*(1-VLOOKUP(F10331,Konditionen!$B:$D,3,0))","v":128.94}]
["Rohre und Formteile","SRTR","SRTR3003000","Transfer Rohr    SRTR    300.3000",null,"35",223.5,{"$f":"G10338*(1-VLOOKUP(F10338,Konditionen!$B:$D,3,0))","v":223.5}]
["Rohre und Formteile","SRTR","SRTR315500","Transfer Rohr    SRTR    315.500",null,"35",47.01,{"$f":"G10345*(1-VLOOKUP(F10345,Konditionen!$B:$D,3,0))","v":47.01}]
["Rohre und Formteile","SRTR","SRTR4001000","Transfer Rohr    SRTR    400.1000",null,"35",110.57,{"$f":"G10353*(1-VLOOKUP(F10353,Konditionen!$B:$D,3,0))","v":110.57}]
["Rohre und Formteile","SRTR","SRTR4006000","Transfer Rohr    SRTR    400.6000",null,"35",657.92,{"$f":"G10358*(1-VLOOKUP(F10358,Konditionen!$B:$D,3,0))","v":657.92}]
["Rohre und Formteile","SRTR","SRTR5001500","Transfer Rohr    SRTR    500.1500",null,"35",213.32,{"$f":"G10366*(1-VLOOKUP(F10366,Konditionen!$B:$D,3,0))","v":213.32}]
["Rohre und Formteile","SRTR","SRTR801000","Transfer Rohr    SRTR     80.1000",null,"35",27.65,{"$f":"G10371*(1-VLOOKUP(F10371,Konditionen!$B:$D,3,0))","v":27.65}]
["Rohre und Formteile","SRV2A","SRV2A0,5125","Lindabrohr   SR V2A 0,5 125  METER","Edelstahl W.Nr.1.4301","60",98.29,{"$f":"G10379*(1-VLOOKUP(F10379,Konditionen!$B:$D,3,0))","v":98.29}]
["Rohre und Formteile","SRV2A","SRV2A0,5280","Lindabrohr   SR V2A 0,5 280  METER","Edelstahl W.Nr.1.4301","60",239.46,{"$f":"G10387*(1-VLOOKUP(F10387,Konditionen!$B:$D,3,0))","v":239.46}]
["Rohre und Formteile","SRV2A","SRV2A0,6400","Lindabrohr   SR V2A 0,6 400  METER","Edelstahl W.Nr.1.4301","60",379,{"$f":"G10392*(1-VLOOKUP(F10392,Konditionen!$B:$D,3,0))","v":379}]
["Rohre und Formteile","SRV2A","SRV2A0,8900","Lindabrohr   SR V2A 0,8 900  METER","Edelstahl W.Nr.1.4301","60",1022.82,{"$f":"G10400*(1-VLOOKUP(F10400,Konditionen!$B:$D,3,0))","v":1022.82}]
["Montagezubehör","SR","SRV2A25PE","Spannring SR   25 V2A mit PE","250 mm","14.MS",15.45,{"$f":"G10408*(1-VLOOKUP(F10408,Konditionen!$B:$D,3,0))","v":15.45}]
["Montagezubehör","SR","SRV2A40PE","Spannring SR   40 V2A mit PE","400 mm","14.MS",17.23,{"$f":"G10413*(1-VLOOKUP(F10413,Konditionen!$B:$D,3,0))","v":17.23}]
["Montagezubehör","SR","SRV2A90PE","Spannring SR   90 V2A mit PE","900 mm","14.MS",32.79,{"$f":"G10421*(1-VLOOKUP(F10421,Konditionen!$B:$D,3,0))","v":32.79}]
["Montagezubehör","SR","SR160PE","Spannring SR 160 verz mit PE","1600 mm","14.MS",21.64,{"$f":"G10426*(1-VLOOKUP(F10426,Konditionen!$B:$D,3,0))","v":21.64}]
["Montagezubehör","SR","SR40PE","Spannring SR   40 verz mit PE","400 mm","14.MS",5.12,{"$f":"G10434*(1-VLOOKUP(F10434,Konditionen!$B:$D,3,0))","v":5.12}]
["Montagezubehör","SR","SR90PE","Spannring SR   90 verz mit PE","900 mm","14.MS",9.83,{"$f":"G10442*(1-VLOOKUP(F10442,Konditionen!$B:$D,3,0))","v":9.83}]
["Montagezubehör","SSKIV","SSKIV32","Blechtreibschraube  SSKIV 32","Innenvierkant     4,2X32,St.verz.","90",13.9,{"$f":"G10447*(1-VLOOKUP(F10447,Konditionen!$B:$D,3,0))","v":13.9}]
["Montagezubehör","SSM","SSM10X25","Sechskantschrauben  SSM 10 X 25","m.Mutter,M10X25,St.verz. VPE=200Stk","90",10.8,{"$f":"G10455*(1-VLOOKUP(F10455,Konditionen!$B:$D,3,0))","v":10.8}]
["Luftdurchlässe","STB","STB1511500","Anschlußkasten f. MTL STB-15-1-1500","1-Spaltig, L= 1200-1799mm, 1xDN160","70",311.32,{"$f":"G10459*(1-VLOOKUP(F10459,Konditionen!$B:$D,3,0))","v":311.32}]
["Luftdurchlässe","STB","STB1542000","Anschlußkasten f. MTL STB-15-4-2000","4-Spaltig, L= 1800-2000mm, 2xDN200","70",505.32,{"$f":"G10469*(1-VLOOKUP(F10469,Konditionen!$B:$D,3,0))","v":505.32}]
["Luftdurchlässe","STB","STB1931500","Anschlußkasten f. MTL STB-19-3-1500","3-Spaltig, L= 1200-1799mm, 2xDN200","70",429.31,{"$f":"G10477*(1-VLOOKUP(F10477,Konditionen!$B:$D,3,0))","v":429.31}]
["Luftdurchlässe","STELL","STELL-24V-NC","Stellantrieb                 24V-NC","ohne Adapter                 884099","70",44.73,{"$f":"G10482*(1-VLOOKUP(F10482,Konditionen!$B:$D,3,0))","v":44.73}]
["Montagezubehör","STOCK","STOCK8X100","Stockschraube m.Holzgewinde 8 X 100","St.verz. VPE=100Stk **Netto-Preis**","90",6.3,{"$f":"G10490*(1-VLOOKUP(F10490,Konditionen!$B:$D,3,0))","v":6.3}]
["Rohre und Formteile","STRG4","STRG4400","Rohrfilter       STR G4  400",null,"37",179.01,{"$f":"G10498*(1-VLOOKUP(F10498,Konditionen!$B:$D,3,0))","v":179.01}]
["Rohre und Formteile","STRM5","STRM5200","Rohrfilter       STR M5  200",null,"37",102.41,{"$f":"G10503*(1-VLOOKUP(F10503,Konditionen!$B:$D,3,0))","v":102.41}]
["Luftdurchlässe","STU","STU1511000","Anschlußkasten f. MTL STU-15-1-1000","1-Spaltig, Länge 0-1199mm, 1xDN125","70",252.52,{"$f":"G10511*(1-VLOOKUP(F10511,Konditionen!$B:$D,3,0))","v":252.52}]
["Luftdurchlässe","STU","STU1522000","Anschlußkasten f. MTL STU-15-2-2000","2-Spaltig, L= 1800-2000mm, 2xDN160","70",449.73,{"$f":"G10516*(1-VLOOKUP(F10516,Konditionen!$B:$D,3,0))","v":449.73}]
["Luftdurchlässe","STU","STU1911500","Anschlußkasten f. MTL STU-19-1-1500","1-Spaltig, L= 1200-1799mm, 1xDN160","70",311.32,{"$f":"G10524*(1-VLOOKUP(F10524,Konditionen!$B:$D,3,0))","v":311.32}]
["Luftdurchlässe","STU","STU1941000","Anschlußkasten f. MTL STU-19-4-1000","4-Spaltig, Länge 0-1199mm, 1xDN200","70",297.26,{"$f":"G10532*(1-VLOOKUP(F10532,Konditionen!$B:$D,3,0))","v":297.26}]
["Montagezubehör","SV","SV41","Schienenverbinder SV 41","für Montageschiene 41x41 mm","90",3.25,{"$f":"G10537*(1-VLOOKUP(F10537,Konditionen!$B:$D,3,0))","v":3.25}]
["Brandschutz","TAMPWH25","TAMPWH25200","Paneele TAMPWH25.200","1 Satz = 4 Teile","80",134.61000000000001,{"$f":"G10545*(1-VLOOKUP(F10545,Konditionen!$B:$D,3,0))","v":134.61000000000001}]
["Brandschutz","TAMPWH45","TAMPWH45355","Paneele TAMPWH45.355","1 Satz = 4 Teile","80",233.63,{"$f":"G10553*(1-VLOOKUP(F10553,Konditionen!$B:$D,3,0))","v":233.63}]
["Brandschutz","TAMPWH45","TAMPWH45630","Paneele TAMPWH45.630","1 Satz = 4 Teile","80",359.52,{"$f":"G10558*(1-VLOOKUP(F10558,Konditionen!$B:$D,3,0))","v":359.52}]
["Rohre und Formteile","TBSU","TBSU160125","Schuhstutzen  TBSU 160.125",null,"30",49.96,{"$f":"G10566*(1-VLOOKUP(F10566,Konditionen!$B:$D,3,0))","v":49.96}]
["Rohre und Formteile","TBSU","TBSU280160","Schuhstutzen  TBSU 280.160",null,"30",65.48,{"$f":"G10578*(1-VLOOKUP(F10578,Konditionen!$B:$D,3,0))","v":65.48}]
["Rohre und Formteile","TBSU","TBSU280200","Schuhstutzen  TBSU 280.200",null,"30",89,{"$f":"G10579*(1-VLOOKUP(F10579,Konditionen!$B:$D,3,0))","v":89}]
["Rohre und Formteile","TBSU","TBSU355125","Schuhstutzen  TBSU 355.125",null,"30",49.96,{"$f":"G10587*(1-VLOOKUP(F10587,Konditionen!$B:$D,3,0))","v":49.96}]
["Rohre und Formteile","TBSU","TBSU500125","Schuhstutzen  TBSU 500.125",null,"30",49.96,{"$f":"G10596*(1-VLOOKUP(F10596,Konditionen!$B:$D,3,0))","v":49.96}]
["Rohre und Formteile","TBSU","TBSU500400","Schuhstutzen  TBSU 500.400",null,"30",175.59,{"$f":"G10601*(1-VLOOKUP(F10601,Konditionen!$B:$D,3,0))","v":175.59}]
["Rohre und Formteile","TBSU","TBSU630315","Schuhstutzen  TBSU 630.315",null,"30",138.33000000000001,{"$f":"G10609*(1-VLOOKUP(F10609,Konditionen!$B:$D,3,0))","v":138.33000000000001}]
["Rohre und Formteile","TCKUV2A","TCKUV2A150150","T-Stück          TCKU V2A   150.150","Edelstahl W.Nr. 1.4301","60",172.86,{"$f":"G10621*(1-VLOOKUP(F10621,Konditionen!$B:$D,3,0))","v":172.86}]
["Rohre und Formteile","TCKUV2A","TCKUV2A160160","T-Stück          TCKU V2A   160.160","Edelstahl W.Nr. 1.4301","60",172.86,{"$f":"G10622*(1-VLOOKUP(F10622,Konditionen!$B:$D,3,0))","v":172.86}]
["Rohre und Formteile","TCKUV2A","TCKUV2A560560","T-Stück         TCKU V2A   560.560","Edelstahl W.Nr. 1.4301","60",961.73,{"$f":"G10634*(1-VLOOKUP(F10634,Konditionen!$B:$D,3,0))","v":961.73}]
["Rohre und Formteile","TCPMU","TCPMU125125","T-Stück          TCPMU      125.125","d3=Muffenmaß","30",49.85,{"$f":"G10642*(1-VLOOKUP(F10642,Konditionen!$B:$D,3,0))","v":49.85}]
["Rohre und Formteile","TCPMU","TCPMU160100","T-Stück          TCPMU      160.100","d3=Muffenmaß","30",53.63,{"$f":"G10643*(1-VLOOKUP(F10643,Konditionen!$B:$D,3,0))","v":53.63}]
["Rohre und Formteile","TCPRCU","TCPRCU11263","T-Stück red  TCPRCU   112.    .63",null,"30",63.08,{"$f":"G10655*(1-VLOOKUP(F10655,Konditionen!$B:$D,3,0))","v":63.08}]
["Rohre und Formteile","TCPRCU","TCPRCU12575","T-Stück red  TCPRCU   125.    .75","D3 Vent","30",63.08,{"$f":"G10663*(1-VLOOKUP(F10663,Konditionen!$B:$D,3,0))","v":63.08}]
["Rohre und Formteile","TCPRCU","TCPRCU140140","T-Stück red  TCPRCU   140.    .140",null,"30",91.51,{"$f":"G10668*(1-VLOOKUP(F10668,Konditionen!$B:$D,3,0))","v":91.51}]
["Rohre und Formteile","TCPRCU","TCPRCU15050","T-Stück red  TCPRCU   150.    .50","D3 Vent","30",73.78,{"$f":"G10676*(1-VLOOKUP(F10676,Konditionen!$B:$D,3,0))","v":73.78}]
["Rohre und Formteile","TCPRCU","TCPRCU16050","T-Stück red  TCPRCU   160.    .50","D3 Vent","30",73.78,{"$f":"G10684*(1-VLOOKUP(F10684,Konditionen!$B:$D,3,0))","v":73.78}]
["Rohre und Formteile","TCPRCU","TCPRCU180125","T-Stück red  TCPRCU   180.    .125",null,"30",94.35,{"$f":"G10689*(1-VLOOKUP(F10689,Konditionen!$B:$D,3,0))","v":94.35}]
["Rohre und Formteile","TCPRCU","TCPRCU200140","T-Stück red  TCPRCU   200.    .140",null,"30",102.74,{"$f":"G10697*(1-VLOOKUP(F10697,Konditionen!$B:$D,3,0))","v":102.74}]
["Rohre und Formteile","TCPRCU","TCPRCU224125","T-Stück red  TCPRCU   224.    .125",null,"30",105.06,{"$f":"G10705*(1-VLOOKUP(F10705,Konditionen!$B:$D,3,0))","v":105.06}]
["Rohre und Formteile","TCPRCU","TCPRCU224200","T-Stück red  TCPRCU   224.    .200",null,"30",121.01,{"$f":"G10710*(1-VLOOKUP(F10710,Konditionen!$B:$D,3,0))","v":121.01}]
["Rohre und Formteile","TCPRCU","TCPRCU250180","T-Stück red  TCPRCU   250.    .180",null,"30",121.01,{"$f":"G10718*(1-VLOOKUP(F10718,Konditionen!$B:$D,3,0))","v":121.01}]
["Rohre und Formteile","TCPRCU","TCPRCU280140","T-Stück red  TCPRCU   280.    .140",null,"30",130.46,{"$f":"G10725*(1-VLOOKUP(F10725,Konditionen!$B:$D,3,0))","v":130.46}]
["Rohre und Formteile","TCPRCU","TCPRCU28080","T-Stück red  TCPRCU   280.    .80",null,"30",123.53,{"$f":"G10732*(1-VLOOKUP(F10732,Konditionen!$B:$D,3,0))","v":123.53}]
["Rohre und Formteile","TCPRCU","TCPRCU300224","T-Stück red  TCPRCU   300.    .224",null,"30",145.99,{"$f":"G10740*(1-VLOOKUP(F10740,Konditionen!$B:$D,3,0))","v":145.99}]
["Rohre und Formteile","TCPRCU","TCPRCU315140","T-Stück red  TCPRCU   315.    .140",null,"30",139.38,{"$f":"G10745*(1-VLOOKUP(F10745,Konditionen!$B:$D,3,0))","v":139.38}]
["Rohre und Formteile","TCPRCU","TCPRCU31580","T-Stück red  TCPRCU   315.    .80",null,"30",134.66,{"$f":"G10753*(1-VLOOKUP(F10753,Konditionen!$B:$D,3,0))","v":134.66}]
["Rohre und Formteile","TCPRCU","TCPRCU355224","T-Stück red  TCPRCU   355.    .224",null,"30",184.51,{"$f":"G10758*(1-VLOOKUP(F10758,Konditionen!$B:$D,3,0))","v":184.51}]
["Rohre und Formteile","TCPRCU","TCPRCU400250","T-Stück red  TCPRCU   400.    .250",null,"30",201.62,{"$f":"G10766*(1-VLOOKUP(F10766,Konditionen!$B:$D,3,0))","v":201.62}]
["Rohre und Formteile","TCPRCU","TCPRCU450250","T-Stück red  TCPRCU   450.    .250",null,"30",250,{"$f":"G10774*(1-VLOOKUP(F10774,Konditionen!$B:$D,3,0))","v":250}]
["Rohre und Formteile","TCPRCU","TCPRCU500160","T-Stück red  TCPRCU   500.    .160",null,"30",254.84,{"$f":"G10779*(1-VLOOKUP(F10779,Konditionen!$B:$D,3,0))","v":254.84}]
["Rohre und Formteile","TCPRCU","TCPRCU560250","T-Stück red  TCPRCU   560.    .250",null,"30",307.32,{"$f":"G10787*(1-VLOOKUP(F10787,Konditionen!$B:$D,3,0))","v":307.32}]
["Rohre und Formteile","TCPRCU","TCPRCU600315","T-Stück red  TCPRCU   600.    .315",null,"30",361.89,{"$f":"G10795*(1-VLOOKUP(F10795,Konditionen!$B:$D,3,0))","v":361.89}]
["Rohre und Formteile","TCPRCU","TCPRCU630200","T-Stück red  TCPRCU   630.    .200",null,"30",373.65,{"$f":"G10800*(1-VLOOKUP(F10800,Konditionen!$B:$D,3,0))","v":373.65}]
["Rohre und Formteile","TCPUFP","TCPUFP112100","T-Stück   TCPUFP   112.100","Lindab FireProtect Rund","80",60.17,{"$f":"G10808*(1-VLOOKUP(F10808,Konditionen!$B:$D,3,0))","v":60.17}]
["Rohre und Formteile","TCPUFP","TCPUFP140125","T-Stück   TCPUFP   140.125","Lindab FireProtect Rund","80",71.72,{"$f":"G10813*(1-VLOOKUP(F10813,Konditionen!$B:$D,3,0))","v":71.72}]
["Rohre und Formteile","TCPUFP","TCPUFP150160","T-Stück   TCPUFP   150.160","Lindab FireProtect Rund","80",88.73,{"$f":"G10821*(1-VLOOKUP(F10821,Konditionen!$B:$D,3,0))","v":88.73}]
["Rohre und Formteile","TCPUFP","TCPUFP180140","T-Stück   TCPUFP   180.140","Lindab FireProtect Rund","80",91.19,{"$f":"G10829*(1-VLOOKUP(F10829,Konditionen!$B:$D,3,0))","v":91.19}]
["Rohre und Formteile","TCPUFP","TCPUFP200100","T-Stück   TCPUFP   200.100","Lindab FireProtect Rund","80",82.85,{"$f":"G10834*(1-VLOOKUP(F10834,Konditionen!$B:$D,3,0))","v":82.85}]
["Rohre und Formteile","TCPUFP","TCPUFP224125","T-Stück   TCPUFP   224.125","Lindab FireProtect Rund","80",86.26,{"$f":"G10842*(1-VLOOKUP(F10842,Konditionen!$B:$D,3,0))","v":86.26}]
["Rohre und Formteile","TCPUFP","TCPUFP250200","T-Stück   TCPUFP   250.200","Lindab FireProtect Rund","80",115.61,{"$f":"G10854*(1-VLOOKUP(F10854,Konditionen!$B:$D,3,0))","v":115.61}]
["Rohre und Formteile","TCPUFP","TCPUFP280100","T-Stück   TCPUFP   280.100","Lindab FireProtect Rund","80",94.45,{"$f":"G10856*(1-VLOOKUP(F10856,Konditionen!$B:$D,3,0))","v":94.45}]
["Rohre und Formteile","TCPUFP","TCPUFP280250","T-Stück   TCPUFP   280.250","Lindab FireProtect Rund","80",155.82,{"$f":"G10864*(1-VLOOKUP(F10864,Konditionen!$B:$D,3,0))","v":155.82}]
["Rohre und Formteile","TCPUFP","TCPUFP300160","T-Stück   TCPUFP   300.160","Lindab FireProtect Rund","80",123.53,{"$f":"G10869*(1-VLOOKUP(F10869,Konditionen!$B:$D,3,0))","v":123.53}]
["Rohre und Formteile","TCPUFP","TCPUFP315150","T-Stück   TCPUFP   315.150","Lindab FireProtect Rund","80",126.37,{"$f":"G10877*(1-VLOOKUP(F10877,Konditionen!$B:$D,3,0))","v":126.37}]
["Rohre und Formteile","TCPUFP","TCPUFP355125","T-Stück   TCPUFP   355.125","Lindab FireProtect Rund","80",142.91,{"$f":"G10885*(1-VLOOKUP(F10885,Konditionen!$B:$D,3,0))","v":142.91}]
["Rohre und Formteile","TCPUFP","TCPUFP355315","T-Stück   TCPUFP   355.315","Lindab FireProtect Rund","80",218.4,{"$f":"G10890*(1-VLOOKUP(F10890,Konditionen!$B:$D,3,0))","v":218.4}]
["Rohre und Formteile","TCPUFP","TCPUFP400355","T-Stück   TCPUFP   400.355","Lindab FireProtect Rund","80",274.94,{"$f":"G10898*(1-VLOOKUP(F10898,Konditionen!$B:$D,3,0))","v":274.94}]
["Rohre und Formteile","TCPUFP","TCPUFP500400","T-Stück   TCPUFP   500.400","Lindab FireProtect Rund","80",324.66000000000003,{"$f":"G10910*(1-VLOOKUP(F10910,Konditionen!$B:$D,3,0))","v":324.66000000000003}]
["Rohre und Formteile","TCPUFP","TCPUFP560160","T-Stück   TCPUFP   560.160","Lindab FireProtect Rund","80",274.79000000000002,{"$f":"G10911*(1-VLOOKUP(F10911,Konditionen!$B:$D,3,0))","v":274.79000000000002}]
["Rohre und Formteile","TCPUFP","TCPUFP600400","T-Stück   TCPUFP   600.400","Lindab FireProtect Rund","80",390.39,{"$f":"G10919*(1-VLOOKUP(F10919,Konditionen!$B:$D,3,0))","v":390.39}]
["Rohre und Formteile","TCPU","TCPU112100","T-Stück          TCPU      112.100",null,"30",42.09,{"$f":"G10931*(1-VLOOKUP(F10931,Konditionen!$B:$D,3,0))","v":42.09}]
["Rohre und Formteile","TCPU","TCPU112112","T-Stück          TCPU      112.112",null,"30",41.55,{"$f":"G10932*(1-VLOOKUP(F10932,Konditionen!$B:$D,3,0))","v":41.55}]
["Rohre und Formteile","TCPU","TCPU125125","T-Stück          TCPU      125.125",null,"30",41.55,{"$f":"G10940*(1-VLOOKUP(F10940,Konditionen!$B:$D,3,0))","v":41.55}]
["Rohre und Formteile","TCPU","TCPU14080","T-Stück          TCPU      140.80",null,"30",44.71,{"$f":"G10952*(1-VLOOKUP(F10952,Konditionen!$B:$D,3,0))","v":44.71}]
["Rohre und Formteile","TCPU","TCPU150100","T-Stück          TCPU      150.100",null,"30",45.97,{"$f":"G10953*(1-VLOOKUP(F10953,Konditionen!$B:$D,3,0))","v":45.97}]
["Rohre und Formteile","TCPU","TCPU160160GJUT","T-Stück          TCPU160.160GJUT","mit Einbauring für OPF-Ventil","30",100.54,{"$f":"G10965*(1-VLOOKUP(F10965,Konditionen!$B:$D,3,0))","v":100.54}]
["Rohre und Formteile","TCPU","TCPU180160","T-Stück          TCPU      180.160",null,"30",68.319999999999993,{"$f":"G10973*(1-VLOOKUP(F10973,Konditionen!$B:$D,3,0))","v":68.319999999999993}]
["Rohre und Formteile","TCPU","TCPU18080","T-Stück          TCPU      180.80",null,"30",52.16,{"$f":"G10975*(1-VLOOKUP(F10975,Konditionen!$B:$D,3,0))","v":52.16}]
["Rohre und Formteile","TCPU","TCPU224150","T-Stück          TCPU      224.150",null,"30",76.510000000000005,{"$f":"G10987*(1-VLOOKUP(F10987,Konditionen!$B:$D,3,0))","v":76.510000000000005}]
["Rohre und Formteile","TCPU","TCPU250140","T-Stück          TCPU      250.140",null,"30",76.510000000000005,{"$f":"G10995*(1-VLOOKUP(F10995,Konditionen!$B:$D,3,0))","v":76.510000000000005}]
["Rohre und Formteile","TCPU","TCPU250224","T-Stück          TCPU      250.224",null,"30",102.96,{"$f":"G11000*(1-VLOOKUP(F11000,Konditionen!$B:$D,3,0))","v":102.96}]
["Rohre und Formteile","TCPU","TCPU280180","T-Stück          TCPU      280.180",null,"30",99.07,{"$f":"G11008*(1-VLOOKUP(F11008,Konditionen!$B:$D,3,0))","v":99.07}]
["Rohre und Formteile","TCPU","TCPU300140","T-Stück          TCPU      300.140",null,"30",86.17,{"$f":"G11016*(1-VLOOKUP(F11016,Konditionen!$B:$D,3,0))","v":86.17}]
["Rohre und Formteile","TCPU","TCPU300224","T-Stück          TCPU      300.224",null,"30",115.34,{"$f":"G11021*(1-VLOOKUP(F11021,Konditionen!$B:$D,3,0))","v":115.34}]
["Rohre und Formteile","TCPU","TCPU315150","T-Stück          TCPU      315.150",null,"30",90.68,{"$f":"G11029*(1-VLOOKUP(F11029,Konditionen!$B:$D,3,0))","v":90.68}]
["Rohre und Formteile","TCPU","TCPU315315","T-Stück          TCPU      315.315",null,"30",142.94,{"$f":"G11037*(1-VLOOKUP(F11037,Konditionen!$B:$D,3,0))","v":142.94}]
["Rohre und Formteile","TCPU","TCPU355150","T-Stück          TCPU      355.150",null,"30",105.26,{"$f":"G11042*(1-VLOOKUP(F11042,Konditionen!$B:$D,3,0))","v":105.26}]
["Rohre und Formteile","TCPU","TCPU355315","T-Stück          TCPU      355.315",null,"30",149.66,{"$f":"G11050*(1-VLOOKUP(F11050,Konditionen!$B:$D,3,0))","v":149.66}]
["Rohre und Formteile","TCPU","TCPU400200","T-Stück          TCPU      400.200",null,"30",121.11,{"$f":"G11055*(1-VLOOKUP(F11055,Konditionen!$B:$D,3,0))","v":121.11}]
["Rohre und Formteile","TCPU","TCPU450100","T-Stück          TCPU      450.100",null,"30",124.58,{"$f":"G11063*(1-VLOOKUP(F11063,Konditionen!$B:$D,3,0))","v":124.58}]
["Rohre und Formteile","TCPU","TCPU450315","T-Stück          TCPU      450.315",null,"30",185.77,{"$f":"G11071*(1-VLOOKUP(F11071,Konditionen!$B:$D,3,0))","v":185.77}]
["Rohre und Formteile","TCPU","TCPU500125","T-Stück          TCPU      500.125",null,"30",140.85,{"$f":"G11076*(1-VLOOKUP(F11076,Konditionen!$B:$D,3,0))","v":140.85}]
["Rohre und Formteile","TCPU","TCPU500450","T-Stück          TCPU      500.450",null,"30",237.72,{"$f":"G11084*(1-VLOOKUP(F11084,Konditionen!$B:$D,3,0))","v":237.72}]
["Rohre und Formteile","TCPU","TCPU560315","T-Stück          TCPU      560.315",null,"30",230.06,{"$f":"G11092*(1-VLOOKUP(F11092,Konditionen!$B:$D,3,0))","v":230.06}]
["Rohre und Formteile","TCPU","TCPU560560","T-Stück          TCPU      560.560",null,"30",314.98,{"$f":"G11097*(1-VLOOKUP(F11097,Konditionen!$B:$D,3,0))","v":314.98}]
["Rohre und Formteile","TCPU","TCPU600315","T-Stück          TCPU      600.315",null,"30",244.44,{"$f":"G11104*(1-VLOOKUP(F11104,Konditionen!$B:$D,3,0))","v":244.44}]
["Rohre und Formteile","TCPU","TCPU630100","T-Stück          TCPU      630.100",null,"30",234.68,{"$f":"G11111*(1-VLOOKUP(F11111,Konditionen!$B:$D,3,0))","v":234.68}]
["Rohre und Formteile","TCPU","TCPU630400","T-Stück          TCPU      630.400",null,"30",317.5,{"$f":"G11119*(1-VLOOKUP(F11119,Konditionen!$B:$D,3,0))","v":317.5}]
["Rohre und Formteile","TCRCU","TCRCU10001000","T-Stück red  TCRCU   1000.    .1000",null,"30",1573.94,{"$f":"G11127*(1-VLOOKUP(F11127,Konditionen!$B:$D,3,0))","v":1573.94}]
["Rohre und Formteile","TCRCU","TCRCU1000450","T-Stück red  TCRCU   1000.    .450",null,"30",973.69,{"$f":"G11132*(1-VLOOKUP(F11132,Konditionen!$B:$D,3,0))","v":973.69}]
["Rohre und Formteile","TCRCU","TCRCU100112","T-Stück red  TCRCU    100.    .112",null,"30",74.62,{"$f":"G11140*(1-VLOOKUP(F11140,Konditionen!$B:$D,3,0))","v":74.62}]
["Rohre und Formteile","TCRCU","TCRCU11201000","T-Stück red  TCRCU   1120.    .1000",null,"30",1830.56,{"$f":"G11145*(1-VLOOKUP(F11145,Konditionen!$B:$D,3,0))","v":1830.56}]
["Rohre und Formteile","TCRCU","TCRCU1120630","T-Stück red  TCRCU   1120.    .630",null,"30",1383.86,{"$f":"G11153*(1-VLOOKUP(F11153,Konditionen!$B:$D,3,0))","v":1383.86}]
["Rohre und Formteile","TCRCU","TCRCU112160","T-Stück red  TCRCU    112.    .160",null,"30",87.95,{"$f":"G11161*(1-VLOOKUP(F11161,Konditionen!$B:$D,3,0))","v":87.95}]
["Rohre und Formteile","TCRCU","TCRCU12501120","T-Stück red  TCRCU   1250.    .1120",null,"30",2396.5,{"$f":"G11166*(1-VLOOKUP(F11166,Konditionen!$B:$D,3,0))","v":2396.5}]
["Rohre und Formteile","TCRCU","TCRCU1250900","T-Stück red  TCRCU   1250.    .900",null,"30",2058.9499999999998,{"$f":"G11174*(1-VLOOKUP(F11174,Konditionen!$B:$D,3,0))","v":2058.9499999999998}]
["Rohre und Formteile","TCRCU","TCRCU140150","T-Stück red  TCRCU    140.    .150",null,"30",91.51,{"$f":"G11182*(1-VLOOKUP(F11182,Konditionen!$B:$D,3,0))","v":91.51}]
["Rohre und Formteile","TCRCU","TCRCU14063","T-Stück red  TCRCU    140.    .63",null,"30",73.78,{"$f":"G11187*(1-VLOOKUP(F11187,Konditionen!$B:$D,3,0))","v":73.78}]
["Rohre und Formteile","TCRCU","TCRCU150250","T-Stück red  TCRCU    150.    .250",null,"30",129.51,{"$f":"G11195*(1-VLOOKUP(F11195,Konditionen!$B:$D,3,0))","v":129.51}]
["Rohre und Formteile","TCRCU","TCRCU160180","T-Stück red  TCRCU    160.    .180",null,"30",119.23,{"$f":"G11200*(1-VLOOKUP(F11200,Konditionen!$B:$D,3,0))","v":119.23}]
["Rohre und Formteile","TCRCU","TCRCU180200","T-Stück red  TCRCU    180.    .200",null,"30",113.24,{"$f":"G11208*(1-VLOOKUP(F11208,Konditionen!$B:$D,3,0))","v":113.24}]
["Rohre und Formteile","TCRCU","TCRCU18090","T-Stück red  TCRCU    180.    .90","D3 Vent","30",90.26,{"$f":"G11216*(1-VLOOKUP(F11216,Konditionen!$B:$D,3,0))","v":90.26}]
["Rohre und Formteile","TCRCU","TCRCU200300","T-Stück red  TCRCU    200.    .300",null,"30",161.43,{"$f":"G11221*(1-VLOOKUP(F11221,Konditionen!$B:$D,3,0))","v":161.43}]
["Rohre und Formteile","TCRCU","TCRCU224280","T-Stück red  TCRCU    224.    .280",null,"30",172.02,{"$f":"G11229*(1-VLOOKUP(F11229,Konditionen!$B:$D,3,0))","v":172.02}]
["Rohre und Formteile","TCRCU","TCRCU280112","T-Stück red  TCRCU    280.    .112",null,"30",123.53,{"$f":"G11241*(1-VLOOKUP(F11241,Konditionen!$B:$D,3,0))","v":123.53}]
["Rohre und Formteile","TCRCU","TCRCU280300","T-Stück red  TCRCU    280.    .300",null,"30",161.72999999999999,{"$f":"G11243*(1-VLOOKUP(F11243,Konditionen!$B:$D,3,0))","v":161.72999999999999}]
["Rohre und Formteile","TCRCU","TCRCU300300","T-Stück red  TCRCU    300.    .300",null,"30",161.72999999999999,{"$f":"G11251*(1-VLOOKUP(F11251,Konditionen!$B:$D,3,0))","v":161.72999999999999}]
["Rohre und Formteile","TCRCU","TCRCU315500","T-Stück red  TCRCU    315.    .500",null,"30",275.61,{"$f":"G11263*(1-VLOOKUP(F11263,Konditionen!$B:$D,3,0))","v":275.61}]
["Rohre und Formteile","TCRCU","TCRCU31590","T-Stück red  TCRCU    315.    .90","D3 Vent","30",134.66,{"$f":"G11264*(1-VLOOKUP(F11264,Konditionen!$B:$D,3,0))","v":134.66}]
["Rohre und Formteile","TCRCU","TCRCU355400","T-Stück red  TCRCU    355.    .400",null,"30",288.31,{"$f":"G11272*(1-VLOOKUP(F11272,Konditionen!$B:$D,3,0))","v":288.31}]
["Rohre und Formteile","TCRCU","TCRCU400560","T-Stück red  TCRCU    400.    .560",null,"30",388.65,{"$f":"G11284*(1-VLOOKUP(F11284,Konditionen!$B:$D,3,0))","v":388.65}]
["Rohre und Formteile","TCRCU","TCRCU400600","T-Stück red  TCRCU    400.    .600",null,"30",410.17,{"$f":"G11285*(1-VLOOKUP(F11285,Konditionen!$B:$D,3,0))","v":410.17}]
["Rohre und Formteile","TCRCU","TCRCU450600","T-Stück red  TCRCU    450.    .600",null,"30",464.32,{"$f":"G11297*(1-VLOOKUP(F11297,Konditionen!$B:$D,3,0))","v":464.32}]
["Rohre und Formteile","TCRCU","TCRCU500450","T-Stück red  TCRCU    500.    .450",null,"30",346.36,{"$f":"G11305*(1-VLOOKUP(F11305,Konditionen!$B:$D,3,0))","v":346.36}]
["Rohre und Formteile","TCRCU","TCRCU500500","T-Stück red  TCRCU    500.    .500",null,"30",364.62,{"$f":"G11306*(1-VLOOKUP(F11306,Konditionen!$B:$D,3,0))","v":364.62}]
["Rohre und Formteile","TCRCU","TCRCU560450","T-Stück red  TCRCU    560.    .450",null,"30",375.85,{"$f":"G11318*(1-VLOOKUP(F11318,Konditionen!$B:$D,3,0))","v":375.85}]
["Rohre und Formteile","TCRCU","TCRCU600224","T-Stück red  TCRCU    600.    .224",null,"30",328.31,{"$f":"G11326*(1-VLOOKUP(F11326,Konditionen!$B:$D,3,0))","v":328.31}]
["Rohre und Formteile","TCRCU","TCRCU600280","T-Stück red  TCRCU    600.    .280",null,"30",351.82,{"$f":"G11327*(1-VLOOKUP(F11327,Konditionen!$B:$D,3,0))","v":351.82}]
["Rohre und Formteile","TCRCU","TCRCU630280","T-Stück red  TCRCU    630.    .280",null,"30",397.68,{"$f":"G11339*(1-VLOOKUP(F11339,Konditionen!$B:$D,3,0))","v":397.68}]
["Rohre und Formteile","TCRCU","TCRCU630710","T-Stück red  TCRCU    630.    .710",null,"30",824.23,{"$f":"G11347*(1-VLOOKUP(F11347,Konditionen!$B:$D,3,0))","v":824.23}]
["Rohre und Formteile","TCRCU","TCRCU710200","T-Stück red  TCRCU    710.    .200",null,"30",482.17,{"$f":"G11352*(1-VLOOKUP(F11352,Konditionen!$B:$D,3,0))","v":482.17}]
["Rohre und Formteile","TCRCU","TCRCU710450","T-Stück red  TCRCU    710.    .450",null,"30",580.41,{"$f":"G11360*(1-VLOOKUP(F11360,Konditionen!$B:$D,3,0))","v":580.41}]
["Rohre und Formteile","TCRCU","TCRCU710560","T-Stück red  TCRCU    710.    .560",null,"30",648.41999999999996,{"$f":"G11362*(1-VLOOKUP(F11362,Konditionen!$B:$D,3,0))","v":648.41999999999996}]
["Rohre und Formteile","TCRCU","TCRCU800450","T-Stück red  TCRCU    800.    .450",null,"30",688.94,{"$f":"G11374*(1-VLOOKUP(F11374,Konditionen!$B:$D,3,0))","v":688.94}]
["Rohre und Formteile","TCRCU","TCRCU80100","T-Stück red  TCRCU     80.    .100",null,"30",70.52,{"$f":"G11382*(1-VLOOKUP(F11382,Konditionen!$B:$D,3,0))","v":70.52}]
["Rohre und Formteile","TCRCU","TCRCU8090","T-Stück red  TCRCU     80.    .90","D3 Vent","30",70.52,{"$f":"G11387*(1-VLOOKUP(F11387,Konditionen!$B:$D,3,0))","v":70.52}]
["Rohre und Formteile","TCRCU","TCRCU900500","T-Stück red  TCRCU    900.    .500",null,"30",862.33,{"$f":"G11395*(1-VLOOKUP(F11395,Konditionen!$B:$D,3,0))","v":862.33}]
["Rohre und Formteile","TCSIU","TCSIU125100GJUT","T-Stück      TCSIU   125.100-GJUT","für direkten Ventileinbau, passend","30",95.5,{"$f":"G11403*(1-VLOOKUP(F11403,Konditionen!$B:$D,3,0))","v":95.5}]
["Rohre und Formteile","TCUFP","TCUFP100140","T-Stück   TCUFP   100.140","Lindab FireProtect Rund","80",76.97,{"$f":"G11408*(1-VLOOKUP(F11408,Konditionen!$B:$D,3,0))","v":76.97}]
["Rohre und Formteile","TCUFP","TCUFP112112","T-Stück   TCUFP   112.112","Lindab FireProtect Rund","80",75.02,{"$f":"G11416*(1-VLOOKUP(F11416,Konditionen!$B:$D,3,0))","v":75.02}]
["Rohre und Formteile","TCUFP","TCUFP112280","T-Stück   TCUFP   112.280","Lindab FireProtect Rund","80",148.88999999999999,{"$f":"G11424*(1-VLOOKUP(F11424,Konditionen!$B:$D,3,0))","v":148.88999999999999}]
["Rohre und Formteile","TCUFP","TCUFP125180","T-Stück   TCUFP   125.180","Lindab FireProtect Rund","80",94.66,{"$f":"G11429*(1-VLOOKUP(F11429,Konditionen!$B:$D,3,0))","v":94.66}]
["Rohre und Formteile","TCUFP","TCUFP12575","T-Stück   TCUFP   125.75","Lindab FireProtect Rund","80",78.17,{"$f":"G11437*(1-VLOOKUP(F11437,Konditionen!$B:$D,3,0))","v":78.17}]
["Rohre und Formteile","TCUFP","TCUFP140200","T-Stück   TCUFP   140.200","Lindab FireProtect Rund","80",124.27,{"$f":"G11442*(1-VLOOKUP(F11442,Konditionen!$B:$D,3,0))","v":124.27}]
["Rohre und Formteile","TCUFP","TCUFP150250","T-Stück   TCUFP   150.250","Lindab FireProtect Rund","80",136.55000000000001,{"$f":"G11450*(1-VLOOKUP(F11450,Konditionen!$B:$D,3,0))","v":136.55000000000001}]
["Rohre und Formteile","TCUFP","TCUFP180112","T-Stück   TCUFP   180.112","Lindab FireProtect Rund","80",98.49,{"$f":"G11458*(1-VLOOKUP(F11458,Konditionen!$B:$D,3,0))","v":98.49}]
["Rohre und Formteile","TCUFP","TCUFP200224","T-Stück   TCUFP   200.224","Lindab FireProtect Rund","80",146.63,{"$f":"G11463*(1-VLOOKUP(F11463,Konditionen!$B:$D,3,0))","v":146.63}]
["Rohre und Formteile","TCUFP","TCUFP224280","T-Stück   TCUFP   224.280","Lindab FireProtect Rund","80",157.87,{"$f":"G11471*(1-VLOOKUP(F11471,Konditionen!$B:$D,3,0))","v":157.87}]
["Rohre und Formteile","TCUFP","TCUFP250315","T-Stück   TCUFP   250.315","Lindab FireProtect Rund","80",191.1,{"$f":"G11479*(1-VLOOKUP(F11479,Konditionen!$B:$D,3,0))","v":191.1}]
["Rohre und Formteile","TCUFP","TCUFP280300","T-Stück   TCUFP   280.300","Lindab FireProtect Rund","80",196.56,{"$f":"G11484*(1-VLOOKUP(F11484,Konditionen!$B:$D,3,0))","v":196.56}]
["Rohre und Formteile","TCUFP","TCUFP300300","T-Stück   TCUFP   300.300","Lindab FireProtect Rund","80",192.2,{"$f":"G11491*(1-VLOOKUP(F11491,Konditionen!$B:$D,3,0))","v":192.2}]
["Rohre und Formteile","TCUFP","TCUFP315300","T-Stück   TCUFP   315.300","Lindab FireProtect Rund","80",205.85,{"$f":"G11498*(1-VLOOKUP(F11498,Konditionen!$B:$D,3,0))","v":205.85}]
["Rohre und Formteile","TCUFP","TCUFP355180","T-Stück   TCUFP   355.180","Lindab FireProtect Rund","80",163.49,{"$f":"G11506*(1-VLOOKUP(F11506,Konditionen!$B:$D,3,0))","v":163.49}]
["Rohre und Formteile","TCUFP","TCUFP400112","T-Stück   TCUFP   400.112","Lindab FireProtect Rund","80",159.5,{"$f":"G11514*(1-VLOOKUP(F11514,Konditionen!$B:$D,3,0))","v":159.5}]
["Rohre und Formteile","TCUFP","TCUFP400300","T-Stück   TCUFP   400.300","Lindab FireProtect Rund","80",245.02,{"$f":"G11519*(1-VLOOKUP(F11519,Konditionen!$B:$D,3,0))","v":245.02}]
["Rohre und Formteile","TCUFP","TCUFP450180","T-Stück   TCUFP   450.180","Lindab FireProtect Rund","80",199.08,{"$f":"G11527*(1-VLOOKUP(F11527,Konditionen!$B:$D,3,0))","v":199.08}]
["Rohre und Formteile","TCUFP","TCUFP450450","T-Stück   TCUFP   450.450","Lindab FireProtect Rund","80",332.12,{"$f":"G11532*(1-VLOOKUP(F11532,Konditionen!$B:$D,3,0))","v":332.12}]
["Rohre und Formteile","TCUFP","TCUFP500280","T-Stück   TCUFP   500.280","Lindab FireProtect Rund","80",253.05,{"$f":"G11540*(1-VLOOKUP(F11540,Konditionen!$B:$D,3,0))","v":253.05}]
["Rohre und Formteile","TCUFP","TCUFP500710","T-Stück   TCUFP   500.710","Lindab FireProtect Rund","80",832.6,{"$f":"G11548*(1-VLOOKUP(F11548,Konditionen!$B:$D,3,0))","v":832.6}]
["Rohre und Formteile","TCUFP","TCUFP560280","T-Stück   TCUFP   560.280","Lindab FireProtect Rund","80",295.26,{"$f":"G11553*(1-VLOOKUP(F11553,Konditionen!$B:$D,3,0))","v":295.26}]
["Rohre und Formteile","TCUFP","TCUFP560710","T-Stück   TCUFP   560.710","Lindab FireProtect Rund","80",915.55,{"$f":"G11561*(1-VLOOKUP(F11561,Konditionen!$B:$D,3,0))","v":915.55}]
["Rohre und Formteile","TCUFP","TCUFP600500","T-Stück   TCUFP   600.500","Lindab FireProtect Rund","80",432.86,{"$f":"G11569*(1-VLOOKUP(F11569,Konditionen!$B:$D,3,0))","v":432.86}]
["Rohre und Formteile","TCUFP","TCUFP600800","T-Stück   TCUFP   600.800","Lindab FireProtect Rund","80",1055.93,{"$f":"G11574*(1-VLOOKUP(F11574,Konditionen!$B:$D,3,0))","v":1055.93}]
["Rohre und Formteile","TCUFP","TCUFP630500","T-Stück   TCUFP   630.500","Lindab FireProtect Rund","80",538.76,{"$f":"G11582*(1-VLOOKUP(F11582,Konditionen!$B:$D,3,0))","v":538.76}]
["Rohre und Formteile","TCUI","TCUI25125150","T-Stück isoliert   TCUI 25 125.150","25MM Isolierung","65",227.02,{"$f":"G11594*(1-VLOOKUP(F11594,Konditionen!$B:$D,3,0))","v":227.02}]
["Rohre und Formteile","TCUI","TCUI25125200","T-Stück isoliert  TCUI  25 125.200","25MM Isolierung","65",268.69,{"$f":"G11595*(1-VLOOKUP(F11595,Konditionen!$B:$D,3,0))","v":268.69}]
["Rohre und Formteile","TCUI","TCUI25200150","T-Stück isoliert  TCPUI 25 200.150","25MM Isolierung","65",268.69,{"$f":"G11603*(1-VLOOKUP(F11603,Konditionen!$B:$D,3,0))","v":268.69}]
["Rohre und Formteile","TCUI","TCUI25300125","T-Stück isoliert  TCPUI 25 300.125","25MM Isolierung","65",321.48,{"$f":"G11615*(1-VLOOKUP(F11615,Konditionen!$B:$D,3,0))","v":321.48}]
["Rohre und Formteile","TCUI","TCUI25300355","T-Stück isoliert  TCUI  25 300.355","25MM Isolierung","65",489.94,{"$f":"G11620*(1-VLOOKUP(F11620,Konditionen!$B:$D,3,0))","v":489.94}]
["Rohre und Formteile","TCUI","TCUI25355400","T-Stück isoliert  TCUI  25 355.400","25MM Isolierung","65",561.41999999999996,{"$f":"G11629*(1-VLOOKUP(F11629,Konditionen!$B:$D,3,0))","v":561.41999999999996}]
["Rohre und Formteile","TCUI","TCUI25400355","T-Stück isoliert  TCUI  25 400.355","25MM Isolierung","65",625.54999999999995,{"$f":"G11637*(1-VLOOKUP(F11637,Konditionen!$B:$D,3,0))","v":625.54999999999995}]
["Rohre und Formteile","TCUI","TCUI25400400","T-Stück isoliert  TCPUI 25 400.400","25MM Isolierung","65",658.08,{"$f":"G11638*(1-VLOOKUP(F11638,Konditionen!$B:$D,3,0))","v":658.08}]
["Rohre und Formteile","TCUI","TCUI25450500","T-Stück isoliert  TCUI  25 450.500","25MM Isolierung","65",945.66,{"$f":"G11650*(1-VLOOKUP(F11650,Konditionen!$B:$D,3,0))","v":945.66}]
["Rohre und Formteile","TCUI","TCUI25500400","T-Stück isoliert  TCUI  25 500.400","25MM Isolierung","65",805.96,{"$f":"G11658*(1-VLOOKUP(F11658,Konditionen!$B:$D,3,0))","v":805.96}]
["Rohre und Formteile","TCUI","TCUI25500450","T-Stück isoliert  TCUI  25 500.450","25MM Isolierung","65",850.89,{"$f":"G11659*(1-VLOOKUP(F11659,Konditionen!$B:$D,3,0))","v":850.89}]
["Rohre und Formteile","TCUI","TCUI50150200","T-Stück isoliert  TCUI  50 150.200","50MM Isolierung","65",320.22000000000003,{"$f":"G11671*(1-VLOOKUP(F11671,Konditionen!$B:$D,3,0))","v":320.22000000000003}]
["Rohre und Formteile","TCUI","TCUI50250100","T-Stück isoliert  TCPUI 50 250.100","50MM Isolierung","65",334.5,{"$f":"G11679*(1-VLOOKUP(F11679,Konditionen!$B:$D,3,0))","v":334.5}]
["Rohre und Formteile","TCUI","TCUI50250300","T-Stück isoliert  TCUI  50 250.300","50MM Isolierung","65",496.24,{"$f":"G11684*(1-VLOOKUP(F11684,Konditionen!$B:$D,3,0))","v":496.24}]
["Rohre und Formteile","TCUI","TCUI50300355","T-Stück isoliert  TCUI  50 300.355","50MM Isolierung","65",562.66999999999996,{"$f":"G11692*(1-VLOOKUP(F11692,Konditionen!$B:$D,3,0))","v":562.66999999999996}]
["Rohre und Formteile","TCUI","TCUI50355355","T-Stück isoliert  TCUI  50 355.355","50MM Isolierung","65",610.64,{"$f":"G11700*(1-VLOOKUP(F11700,Konditionen!$B:$D,3,0))","v":610.64}]
["Rohre und Formteile","TCUI","TCUI50400150","T-Stück isoliert  TCPUI 50 400.150","50MM Isolierung","65",530.35,{"$f":"G11705*(1-VLOOKUP(F11705,Konditionen!$B:$D,3,0))","v":530.35}]
["Rohre und Formteile","TCUI","TCUI50450100","T-Stück isoliert  TCPUI 50 450.100","50MM Isolierung","65",536.64,{"$f":"G11713*(1-VLOOKUP(F11713,Konditionen!$B:$D,3,0))","v":536.64}]
["Rohre und Formteile","TCUI","TCUI50450450","T-Stück isoliert  TCUI  50 450.450","50MM Isolierung","65",894.23,{"$f":"G11721*(1-VLOOKUP(F11721,Konditionen!$B:$D,3,0))","v":894.23}]
["Rohre und Formteile","TCUI","TCUI50500200","T-Stück isoliert  TCPUI 50 500.200","50MM Isolierung","65",674.24,{"$f":"G11726*(1-VLOOKUP(F11726,Konditionen!$B:$D,3,0))","v":674.24}]
["Rohre und Formteile","TCUV2A","TCUV2A112125","T-Stück         TCU V2A    112.125","Edelstahl W.NR. 1.4301","60",180.37,{"$f":"G11734*(1-VLOOKUP(F11734,Konditionen!$B:$D,3,0))","v":180.37}]
["Rohre und Formteile","TCUV2A","TCUV2A180200","T-Stück         TCU V2A    180.200","Edelstahl W.NR. 1.4301","60",286.95,{"$f":"G11739*(1-VLOOKUP(F11739,Konditionen!$B:$D,3,0))","v":286.95}]
["Rohre und Formteile","TCUV2A","TCUV2A500560","T-Stück         TCU V2A    500.560","Edelstahl W.NR. 1.4301","60",1249,{"$f":"G11749*(1-VLOOKUP(F11749,Konditionen!$B:$D,3,0))","v":1249}]
["Rohre und Formteile","TCU","TCU10001000","T-Stück          TCU      1000.1000",null,"30",1191.58,{"$f":"G11756*(1-VLOOKUP(F11756,Konditionen!$B:$D,3,0))","v":1191.58}]
["Rohre und Formteile","TCU","TCU1000450","T-Stück          TCU      1000.450",null,"30",629.75,{"$f":"G11761*(1-VLOOKUP(F11761,Konditionen!$B:$D,3,0))","v":629.75}]
["Rohre und Formteile","TCU","TCU100112","T-Stück          TCU       100.112",null,"30",50.38,{"$f":"G11769*(1-VLOOKUP(F11769,Konditionen!$B:$D,3,0))","v":50.38}]
["Rohre und Formteile","TCU","TCU100180","T-Stück          TCU       100.180",null,"30",73.47,{"$f":"G11774*(1-VLOOKUP(F11774,Konditionen!$B:$D,3,0))","v":73.47}]
["Rohre und Formteile","TCU","TCU11201000","T-Stück          TCU      1120.1000",null,"30",1357.2,{"$f":"G11782*(1-VLOOKUP(F11782,Konditionen!$B:$D,3,0))","v":1357.2}]
["Rohre und Formteile","TCU","TCU1120630","T-Stück          TCU      1120.630",null,"30",939.69,{"$f":"G11790*(1-VLOOKUP(F11790,Konditionen!$B:$D,3,0))","v":939.69}]
["Rohre und Formteile","TCU","TCU112140","T-Stück          TCU       112.140",null,"30",59.61,{"$f":"G11795*(1-VLOOKUP(F11795,Konditionen!$B:$D,3,0))","v":59.61}]
["Rohre und Formteile","TCU","TCU11250","T-Stück          TCU       112.50","D3-Vent","30",49.85,{"$f":"G11803*(1-VLOOKUP(F11803,Konditionen!$B:$D,3,0))","v":49.85}]
["Rohre und Formteile","TCU","TCU1250600","T-Stück          TCU      1250.600",null,"30",1088.6199999999999,{"$f":"G11811*(1-VLOOKUP(F11811,Konditionen!$B:$D,3,0))","v":1088.6199999999999}]
["Rohre und Formteile","TCU","TCU125140","T-Stück          TCU       125.140",null,"30",59.61,{"$f":"G11816*(1-VLOOKUP(F11816,Konditionen!$B:$D,3,0))","v":59.61}]
["Rohre und Formteile","TCU","TCU12550","T-Stück          TCU       125.50","D3-Vent","30",49.85,{"$f":"G11824*(1-VLOOKUP(F11824,Konditionen!$B:$D,3,0))","v":49.85}]
["Rohre und Formteile","TCU","TCU140180","T-Stück          TCU       140.180",null,"30",84.38,{"$f":"G11829*(1-VLOOKUP(F11829,Konditionen!$B:$D,3,0))","v":84.38}]
["Rohre und Formteile","TCU","TCU14090","T-Stück          TCU       140.90","D3-Vent","30",57.82,{"$f":"G11837*(1-VLOOKUP(F11837,Konditionen!$B:$D,3,0))","v":57.82}]
["Rohre und Formteile","TCU","TCU15050","T-Stück          TCU       150.50","D3 Vent","30",54.68,{"$f":"G11845*(1-VLOOKUP(F11845,Konditionen!$B:$D,3,0))","v":54.68}]
["Rohre und Formteile","TCU","TCU160180","T-Stück          TCU       160.180",null,"30",84.38,{"$f":"G11850*(1-VLOOKUP(F11850,Konditionen!$B:$D,3,0))","v":84.38}]
["Rohre und Formteile","TCU","TCU16090","T-Stück          TCU       160.90","D3-Vent","30",57.82,{"$f":"G11858*(1-VLOOKUP(F11858,Konditionen!$B:$D,3,0))","v":57.82}]
["Rohre und Formteile","TCU","TCU18071","T-Stück          TCU       180.71","D3 Vent","30",57.62,{"$f":"G11866*(1-VLOOKUP(F11866,Konditionen!$B:$D,3,0))","v":57.62}]
["Rohre und Formteile","TCU","TCU200224","T-Stück          TCU       200.224",null,"30",102.22,{"$f":"G11870*(1-VLOOKUP(F11870,Konditionen!$B:$D,3,0))","v":102.22}]
["Rohre und Formteile","TCU","TCU224112","T-Stück          TCU       224.112",null,"30",67.59,{"$f":"G11880*(1-VLOOKUP(F11880,Konditionen!$B:$D,3,0))","v":67.59}]
["Rohre und Formteile","TCU","TCU224355","T-Stück          TCU       224.355",null,"30",135.6,{"$f":"G11885*(1-VLOOKUP(F11885,Konditionen!$B:$D,3,0))","v":135.6}]
["Rohre und Formteile","TCU","TCU25090","T-Stück          TCU       250.90","D3-Vent","30",75.78,{"$f":"G11893*(1-VLOOKUP(F11893,Konditionen!$B:$D,3,0))","v":75.78}]
["Rohre und Formteile","TCU","TCU300112","T-Stück          TCU       300.112",null,"30",89.21,{"$f":"G11901*(1-VLOOKUP(F11901,Konditionen!$B:$D,3,0))","v":89.21}]
["Rohre und Formteile","TCU","TCU30090","T-Stück          TCU       300.90","D3-Vent","30",87.11,{"$f":"G11906*(1-VLOOKUP(F11906,Konditionen!$B:$D,3,0))","v":87.11}]
["Rohre und Formteile","TCU","TCU355400","T-Stück          TCU       355.400",null,"30",218.51,{"$f":"G11914*(1-VLOOKUP(F11914,Konditionen!$B:$D,3,0))","v":218.51}]
["Rohre und Formteile","TCU","TCU400630","T-Stück          TCU       400.630",null,"30",390.12,{"$f":"G11926*(1-VLOOKUP(F11926,Konditionen!$B:$D,3,0))","v":390.12}]
["Rohre und Formteile","TCU","TCU450140","T-Stück          TCU       450.140",null,"30",129.72,{"$f":"G11927*(1-VLOOKUP(F11927,Konditionen!$B:$D,3,0))","v":129.72}]
["Rohre und Formteile","TCU","TCU500180","T-Stück          TCU       500.180",null,"30",155.86000000000001,{"$f":"G11935*(1-VLOOKUP(F11935,Konditionen!$B:$D,3,0))","v":155.86000000000001}]
["Rohre und Formteile","TCU","TCU560600","T-Stück          TCU       560.600",null,"30",411.74,{"$f":"G11947*(1-VLOOKUP(F11947,Konditionen!$B:$D,3,0))","v":411.74}]
["Rohre und Formteile","TCU","TCU560630","T-Stück          TCU       560.630",null,"30",516.91999999999996,{"$f":"G11948*(1-VLOOKUP(F11948,Konditionen!$B:$D,3,0))","v":516.91999999999996}]
["Rohre und Formteile","TCU","TCU600800","T-Stück          TCU       600.800",null,"30",703,{"$f":"G11956*(1-VLOOKUP(F11956,Konditionen!$B:$D,3,0))","v":703}]
["Rohre und Formteile","TCU","TCU6371","T-Stück          TCU        63.71","D3-Vent","30",47.12,{"$f":"G11968*(1-VLOOKUP(F11968,Konditionen!$B:$D,3,0))","v":47.12}]
["Rohre und Formteile","TCU","TCU6375","T-Stück          TPU        63.75","D3-Vent","30",47.12,{"$f":"G11969*(1-VLOOKUP(F11969,Konditionen!$B:$D,3,0))","v":47.12}]
["Rohre und Formteile","TCU","TCU710400","T-Stück          TCU       710.400",null,"30",385.71,{"$f":"G11981*(1-VLOOKUP(F11981,Konditionen!$B:$D,3,0))","v":385.71}]
["Rohre und Formteile","TCU","TCU710900","T-Stück          TCU       710.900",null,"30",957.11,{"$f":"G11989*(1-VLOOKUP(F11989,Konditionen!$B:$D,3,0))","v":957.11}]
["Rohre und Formteile","TCU","TCU8001000","T-Stück          TCU       800.1000",null,"30",1260.75,{"$f":"G11990*(1-VLOOKUP(F11990,Konditionen!$B:$D,3,0))","v":1260.75}]
["Rohre und Formteile","TCU","TCU800800","T-Stück          TCU       800.800",null,"30",750.23,{"$f":"G12002*(1-VLOOKUP(F12002,Konditionen!$B:$D,3,0))","v":750.23}]
["Rohre und Formteile","TCU","TCU8050","T-Stück          TCU        80.50","D3-Vent","30",47.12,{"$f":"G12007*(1-VLOOKUP(F12007,Konditionen!$B:$D,3,0))","v":47.12}]
["Rohre und Formteile","TCU","TCU900400","T-Stück          TCU       900.400",null,"30",506.42,{"$f":"G12016*(1-VLOOKUP(F12016,Konditionen!$B:$D,3,0))","v":506.42}]
["Rohre und Formteile","TCU","TCU900900","T-Stück          TCU       900.900",null,"30",964.67,{"$f":"G12024*(1-VLOOKUP(F12024,Konditionen!$B:$D,3,0))","v":964.67}]
["Kunststoff","TEFFIPPS","TEFFIPPS200","PPs T-Stück  DN 200","mit eingespritzter Lippendichtung","17.EFFI",88.7,{"$f":"G12032*(1-VLOOKUP(F12032,Konditionen!$B:$D,3,0))","v":88.7}]
["Kunststoff","TEFFIPPS","TEFFIPPS75","PPs T-Stück  DN 75","mit eingespritzter Lippendichtung","17.EFFI",45.54,{"$f":"G12037*(1-VLOOKUP(F12037,Konditionen!$B:$D,3,0))","v":45.54}]
["Filter","TF7","TF73006592287","Taschenfilter TF7-300-6 592 X 287","Klasse F7; 6 Taschen; TLänge 300 MM","37",23.36,{"$f":"G12045*(1-VLOOKUP(F12045,Konditionen!$B:$D,3,0))","v":23.36}]
["Filter","TF7","TF73603287892","Taschenfilter TF7-360-3 287 X 892","Klasse F7; 3 Taschen; TLänge 360 MM","37",36.01,{"$f":"G12053*(1-VLOOKUP(F12053,Konditionen!$B:$D,3,0))","v":36.01}]
["Filter","TF7","TF73606490592","Taschenfilter TF7-360-6 490 X 592","Klasse F7; 6 Taschen; TLänge 360 MM","37",32.64,{"$f":"G12058*(1-VLOOKUP(F12058,Konditionen!$B:$D,3,0))","v":32.64}]
["Filter","TF7","TF738010490892","Taschenfilter TF7-380-10 490 X 892","Kl. F7; 10 Taschen; TLänge 380 MM","37",67.22,{"$f":"G12066*(1-VLOOKUP(F12066,Konditionen!$B:$D,3,0))","v":67.22}]
["Filter","TF7","TF73808490892","Taschenfilter TF7-380-8 490 X 892","Kl. F7; 8 Taschen; TLänge 380 MM","37",57.73,{"$f":"G12071*(1-VLOOKUP(F12071,Konditionen!$B:$D,3,0))","v":57.73}]
["Filter","TF7","TF753512592490","Taschenfilter TF7-535-12 592 X 490","Kl. F7; 12 Taschen; TLänge 535 MM","37",66.5,{"$f":"G12079*(1-VLOOKUP(F12079,Konditionen!$B:$D,3,0))","v":66.5}]
["Filter","TF7","TF75356287892","Taschenfilter TF7-535-6 287 X 892","Kl. F7; 6 Taschen; TLänge 535 MM","37",56.41,{"$f":"G12087*(1-VLOOKUP(F12087,Konditionen!$B:$D,3,0))","v":56.41}]
["Filter","TF7","TF76003287592","Taschenfilter TF7-600-3 287 X 592","Klasse F7; 3 Taschen; TLänge 600 MM","37",27.34,{"$f":"G12092*(1-VLOOKUP(F12092,Konditionen!$B:$D,3,0))","v":27.34}]
["Filter","TF7","TF76006592490","Taschenfilter TF7-600-6 592 X 490","Klasse F7; 6 Taschen; TLänge 600 MM","37",42.13,{"$f":"G12100*(1-VLOOKUP(F12100,Konditionen!$B:$D,3,0))","v":42.13}]
["Filter","TF7","TF763510490892","Taschenfilter TF7-635-10 490 X 892","Kl. F7; 10 Taschen; TLänge 635 MM","37",94.86,{"$f":"G12108*(1-VLOOKUP(F12108,Konditionen!$B:$D,3,0))","v":94.86}]
["Filter","TF7","TF763512592287","Taschenfilter TF7-635-12 592 X 287","Kl. F7; 12 Taschen; TLänge 635 MM","37",59.36,{"$f":"G12113*(1-VLOOKUP(F12113,Konditionen!$B:$D,3,0))","v":59.36}]
["Filter","TF7","TF76356287592","Taschenfilter TF7-635-6 287 X 592","Kl. F7; 6 Taschen; TLänge 635 MM","37",45.59,{"$f":"G12121*(1-VLOOKUP(F12121,Konditionen!$B:$D,3,0))","v":45.59}]
["Filter","TF8","TF83003287592","Taschenfilter TF8-300-3 287 X 592","Klasse F8; 3 Taschen; TLänge 300 MM","37",21.32,{"$f":"G12126*(1-VLOOKUP(F12126,Konditionen!$B:$D,3,0))","v":21.32}]
["Filter","TF8","TF83008592592","Taschenfilter TF8-300-8 592 X 592","Klasse F8; 8 Taschen; TLänge 300 MM","37",39.880000000000003,{"$f":"G12136*(1-VLOOKUP(F12136,Konditionen!$B:$D,3,0))","v":39.880000000000003}]
["Filter","TF8","TF83605490892","Taschenfilter TF8-360-5 490 X 892","Klasse F8; 5 Taschen; TLänge 360 MM","37",51.61,{"$f":"G12143*(1-VLOOKUP(F12143,Konditionen!$B:$D,3,0))","v":51.61}]
["Filter","TF8","TF83606592892","Taschenfilter TF8-360-6 592 X 892","Klasse F8; 6 Taschen; TLänge 360 MM","37",63.24,{"$f":"G12148*(1-VLOOKUP(F12148,Konditionen!$B:$D,3,0))","v":63.24}]
["Filter","TF8","TF83806287892","Taschenfilter TF8-380-6 287 X 892","Kl. F8; 6 Taschen; TLänge 380 MM","37",51.31,{"$f":"G12156*(1-VLOOKUP(F12156,Konditionen!$B:$D,3,0))","v":51.31}]
["Filter","TF8","TF853510592490","Taschenfilter TF8-535-10 592 X 490","Kl. F8; 10 Taschen; TLänge 535 MM","37",64.459999999999994,{"$f":"G12161*(1-VLOOKUP(F12161,Konditionen!$B:$D,3,0))","v":64.459999999999994}]
["Filter","TF8","TF85355287592","Taschenfilter TF8-535-5 287 X 592","Kl. F8; 5 Taschen; TLänge 535 MM","37",39.68,{"$f":"G12169*(1-VLOOKUP(F12169,Konditionen!$B:$D,3,0))","v":39.68}]
["Filter","TF8","TF86003287592","Taschenfilter TF8-600-3 287 X 592","Klasse F8; 3 Taschen; TLänge 600 MM","37",30.09,{"$f":"G12177*(1-VLOOKUP(F12177,Konditionen!$B:$D,3,0))","v":30.09}]
["Filter","TF8","TF86006490592","Taschenfilter TF8-600-6 490 X 592","Klasse F8; 6 Taschen; TLänge 600 MM","37",49.98,{"$f":"G12182*(1-VLOOKUP(F12182,Konditionen!$B:$D,3,0))","v":49.98}]
["Filter","TF8","TF86008592892","Taschenfilter TF8-600-8 592 X 892","Klasse F8; 8 Taschen; TLänge 600 MM","37",87.82,{"$f":"G12190*(1-VLOOKUP(F12190,Konditionen!$B:$D,3,0))","v":87.82}]
["Filter","TF8","TF863512592490","Taschenfilter TF8-635-12 592 X 490","Kl. F8; 12 Taschen; TLänge 635 MM","37",85.88,{"$f":"G12198*(1-VLOOKUP(F12198,Konditionen!$B:$D,3,0))","v":85.88}]
["Filter","TF8","TF86355287892","Taschenfilter TF8-635-5 287 X 892","Kl. F8; 5 Taschen; TLänge 635 MM","37",62.02,{"$f":"G12203*(1-VLOOKUP(F12203,Konditionen!$B:$D,3,0))","v":62.02}]
["Filter","TF9","TF93004287287","Taschenfilter TF9-300-4 287 X 287","Klasse F9; 4 Taschen; TLänge 300 MM","37",19.48,{"$f":"G12211*(1-VLOOKUP(F12211,Konditionen!$B:$D,3,0))","v":19.48}]
["Filter","TF9","TF93006592490","Taschenfilter TF9-300-6 592 X 490","Klasse F9; 6 Taschen; TLänge 300 MM","37",31.31,{"$f":"G12216*(1-VLOOKUP(F12216,Konditionen!$B:$D,3,0))","v":31.31}]
["Filter","TF9","TF93604287287","Taschenfilter TF9-360-4 287 X 287","Klasse F9; 4 Taschen; TLänge 360 MM","37",21.11,{"$f":"G12224*(1-VLOOKUP(F12224,Konditionen!$B:$D,3,0))","v":21.11}]
["Filter","TF9","TF93606592892","Taschenfilter TF9-360-6 592 X 892","Klasse F9; 6 Taschen; TLänge 360 MM","37",64.77,{"$f":"G12232*(1-VLOOKUP(F12232,Konditionen!$B:$D,3,0))","v":64.77}]
["Filter","TF9","TF938010592892","Taschenfilter TF9-380-10 592 X 892","Kl. F9; 10 Taschen; TLänge 380 MM","37",78.44,{"$f":"G12237*(1-VLOOKUP(F12237,Konditionen!$B:$D,3,0))","v":78.44}]
["Filter","TF9","TF953510592490","Taschenfilter TF9-535-10 592 X 490","Kl. F9; 10 Taschen; TLänge 535 MM","37",66.3,{"$f":"G12245*(1-VLOOKUP(F12245,Konditionen!$B:$D,3,0))","v":66.3}]
["Filter","TF9","TF95355287592","Taschenfilter TF9-535-5 287 X 592","Kl. F9; 5 Taschen; TLänge 535 MM","37",40.700000000000003,{"$f":"G12253*(1-VLOOKUP(F12253,Konditionen!$B:$D,3,0))","v":40.700000000000003}]
["Filter","TF9","TF96004287287","Taschenfilter TF9-600-4 287 X 287","Klasse F9; 4 Taschen; TLänge 600 MM","37",27.85,{"$f":"G12265*(1-VLOOKUP(F12265,Konditionen!$B:$D,3,0))","v":27.85}]
["Filter","TF9","TF96004287892","Taschenfilter TF9-600-4 287 X 892","Klasse F9; 4 Taschen; TLänge 600 MM","37",52.63,{"$f":"G12267*(1-VLOOKUP(F12267,Konditionen!$B:$D,3,0))","v":52.63}]
["Filter","TF9","TF96008592592","Taschenfilter TF9-600-8 592 X 592","Klasse F9; 8 Taschen; TLänge 600 MM","37",64.97,{"$f":"G12279*(1-VLOOKUP(F12279,Konditionen!$B:$D,3,0))","v":64.97}]
["Filter","TF9","TF96008592892","Taschenfilter TF9-600-8 592 X 892","Klasse F9; 8 Taschen; TLänge 600 MM","37",90.37,{"$f":"G12280*(1-VLOOKUP(F12280,Konditionen!$B:$D,3,0))","v":90.37}]
["Filter","TF9","TF963512592490","Taschenfilter TF9-635-12 592 X 490","Kl. F9; 12 Taschen; TLänge 635 MM","37",88.33,{"$f":"G12288*(1-VLOOKUP(F12288,Konditionen!$B:$D,3,0))","v":88.33}]
["Rohre und Formteile","TGFVV2A","TGFVV2A112","Dachdurchf. TGFV  V2A         112","H = 600 MM * W.Nr. 1.4301","60",513.17999999999995,{"$f":"G12300*(1-VLOOKUP(F12300,Konditionen!$B:$D,3,0))","v":513.17999999999995}]
["Rohre und Formteile","TGFVV2A","TGFVV2A125","Dachdurchf. TGFV  V2A         125","H = 600 MM * W.Nr. 1.4301","60",513.17999999999995,{"$f":"G12301*(1-VLOOKUP(F12301,Konditionen!$B:$D,3,0))","v":513.17999999999995}]
["Rohre und Formteile","TGFVV2A","TGFVV2A400","Dachdurchf. TGFV  V2A         400","H = 600 MM * W.Nr. 1.4301","60",1325.61,{"$f":"G12313*(1-VLOOKUP(F12313,Konditionen!$B:$D,3,0))","v":1325.61}]
["Rohre und Formteile","TGFV","TGFV100","Dachdurchführg. TGFV           100","H = 600 MM * mit Regenkragen","53",180.42,{"$f":"G12321*(1-VLOOKUP(F12321,Konditionen!$B:$D,3,0))","v":180.42}]
["Rohre und Formteile","TGFV","TGFV112","Dachdurchführg. TGFV           112","H = 600 MM * mit Regenkragen","53",194.48,{"$f":"G12322*(1-VLOOKUP(F12322,Konditionen!$B:$D,3,0))","v":194.48}]
["Rohre und Formteile","TGFV","TGFV355","Dachdurchführg. TGFV           355","H = 600 MM * mit Regenkragen","53",318.86,{"$f":"G12334*(1-VLOOKUP(F12334,Konditionen!$B:$D,3,0))","v":318.86}]
["Rohre und Formteile","TGFV","TGFV80","Dachdurchführg. TGFV            80","H = 600 MM * mit Regenkragen","53",180.42,{"$f":"G12342*(1-VLOOKUP(F12342,Konditionen!$B:$D,3,0))","v":180.42}]
["Rohre und Formteile","TGFV","TGFV800","Dachdurchführg. TGFV           800","H = 600 MM * mit Regenkragen","53",631,{"$f":"G12343*(1-VLOOKUP(F12343,Konditionen!$B:$D,3,0))","v":631}]
["Rohre und Formteile","TGF0V2A","TGF0V2A300","Dachdurchf. TGF0  V2A   0 Grad 300","W.NR.1.4301, ohne Regenkragen,H=500","60",677.13,{"$f":"G12355*(1-VLOOKUP(F12355,Konditionen!$B:$D,3,0))","v":677.13}]
["Rohre und Formteile","TGF0V2A","TGF0V2A630","Dachdurchf. TGF0  V2A   0 Grad 630","W.NR.1.4301, ohne Regenkragen,H=500","60",1419.87,{"$f":"G12363*(1-VLOOKUP(F12363,Konditionen!$B:$D,3,0))","v":1419.87}]
["Rohre und Formteile","TGF","TGF1001-45","Dachdurchführg. TGF 1-45 100.__Grad","ohne Regenkragen","53",143.06,{"$f":"G12368*(1-VLOOKUP(F12368,Konditionen!$B:$D,3,0))","v":143.06}]
["Rohre und Formteile","TGF","TGF1501-45","Dachdurchführg. TGF 1-45 150 __Grad","ohne Regenkragen","53",167.5,{"$f":"G12376*(1-VLOOKUP(F12376,Konditionen!$B:$D,3,0))","v":167.5}]
["Rohre und Formteile","TGF","TGF2241-45","Dachdurchführg. TGF 1-45 224 __Grad","ohne Regenkragen","53",204.14,{"$f":"G12384*(1-VLOOKUP(F12384,Konditionen!$B:$D,3,0))","v":204.14}]
["Rohre und Formteile","TGF","TGF2501-45","Dachdurchführg. TGF 1-45 250 __Grad","ohne Regenkragen","53",204.14,{"$f":"G12386*(1-VLOOKUP(F12386,Konditionen!$B:$D,3,0))","v":204.14}]
["Rohre und Formteile","TGF45V2A","TGF45V2A112","Dachdurchf. TGF45 V2A  __ Grad 112","W.NR.1.4301, ohne Regenkragen","60",674.09,{"$f":"G12398*(1-VLOOKUP(F12398,Konditionen!$B:$D,3,0))","v":674.09}]
["Rohre und Formteile","TGF45V2A","TGF45V2A180","Dachdurchf. TGF45 V2A  __ Grad 180","W.NR.1.4301, ohne Regenkragen","60",860.86,{"$f":"G12403*(1-VLOOKUP(F12403,Konditionen!$B:$D,3,0))","v":860.86}]
["Rohre und Formteile","TGF45V2A","TGF45V2A400","Dachdurchf. TGF45 V2A  __ Grad 400","W.NR.1.4301, ohne Regenkragen","60",1643.17,{"$f":"G12411*(1-VLOOKUP(F12411,Konditionen!$B:$D,3,0))","v":1643.17}]
["Rohre und Formteile","TGF45V2A","TGF45V2A900","Dachdurchf. TGF45 V2A  __ Grad 900","W.NR.1.4301, ohne Regenkragen","60",3554.24,{"$f":"G12419*(1-VLOOKUP(F12419,Konditionen!$B:$D,3,0))","v":3554.24}]
["Rohre und Formteile","TGF","TGF5600","Dachdurchführg. TGF 0          560","H = 500 mm * ohne Regenkragen","53",202.46,{"$f":"G12424*(1-VLOOKUP(F12424,Konditionen!$B:$D,3,0))","v":202.46}]
["Filter","TGF7","TGF73003287287","Taschenfilter TGF7-300-3 287 X 287","Klasse F7; 3 Taschen; TLänge 300 MM","37",26.32,{"$f":"G12432*(1-VLOOKUP(F12432,Konditionen!$B:$D,3,0))","v":26.32}]
["Filter","TGF7","TGF73006592592","Taschenfilter TGF7-300-6 592 X 592","Klasse F7; 6 Taschen; TLänge 300 MM","37",45.9,{"$f":"G12440*(1-VLOOKUP(F12440,Konditionen!$B:$D,3,0))","v":45.9}]
["Filter","TGF7","TGF73603287592","Taschenfilter TGF7-360-3 287 X 592","Klasse F7; 3 Taschen; TLänge 360 MM","37",30.19,{"$f":"G12445*(1-VLOOKUP(F12445,Konditionen!$B:$D,3,0))","v":30.19}]
["Filter","TGF7","TGF73606592490","Taschenfilter TGF7-360-6 592 X 490","Klasse F7; 6 Taschen; TLänge 360 MM","37",50.39,{"$f":"G12453*(1-VLOOKUP(F12453,Konditionen!$B:$D,3,0))","v":50.39}]
["Filter","TGF7","TGF73608592892","Taschenfilter TGF7-360-8 592 X 892","Klasse F7; 8 Taschen; TLänge 360 MM","37",106.69,{"$f":"G12458*(1-VLOOKUP(F12458,Konditionen!$B:$D,3,0))","v":106.69}]
["Filter","TGF7","TGF753510490892","Taschenfilter TGF7-535-10 490 X 892","Kl. F7; 10 Taschen; TLänge 535 MM","37",173.3,{"$f":"G12466*(1-VLOOKUP(F12466,Konditionen!$B:$D,3,0))","v":173.3}]
["Filter","TGF7","TGF753512592892","Taschenfilter TGF7-535-12 592 X 892","Kl. F7; 12 Taschen; TLänge 535 MM","37",205.43,{"$f":"G12474*(1-VLOOKUP(F12474,Konditionen!$B:$D,3,0))","v":205.43}]
["Filter","TGF7","TGF75356287592","Taschenfilter TGF7-535-6 287 X 592","Kl. F7; 6 Taschen; TLänge 535 MM","37",64.67,{"$f":"G12479*(1-VLOOKUP(F12479,Konditionen!$B:$D,3,0))","v":64.67}]
["Filter","TGF7","TGF76004287892","Taschenfilter TGF7-600-4 287 X 892","Klasse F7; 4 Taschen; TLänge 600 MM","37",84.76,{"$f":"G12487*(1-VLOOKUP(F12487,Konditionen!$B:$D,3,0))","v":84.76}]
["Filter","TGF7","TGF76008592490","Taschenfilter TGF7-600-8 592 X 490","Klasse F7; 8 Taschen; TLänge 600 MM","37",90.68,{"$f":"G12495*(1-VLOOKUP(F12495,Konditionen!$B:$D,3,0))","v":90.68}]
["Filter","TGF7","TGF763510592287","Taschenfilter TGF7-635-10 592 X 287","Kl. F7; 10 Taschen; TLänge 635 MM","37",114.14,{"$f":"G12500*(1-VLOOKUP(F12500,Konditionen!$B:$D,3,0))","v":114.14}]
["Filter","TGF7","TGF76355287287","Taschenfilter TGF7-635-5 287 X 287","Kl. F7; 5 Taschen; TLänge 635 MM","37",61.2,{"$f":"G12508*(1-VLOOKUP(F12508,Konditionen!$B:$D,3,0))","v":61.2}]
["Filter","TGF7","TGF76358490892","Taschenfilter TGF7-635-8 490 X 892","Kl. F7; 8 Taschen; TLänge 635 MM","37",162.59,{"$f":"G12515*(1-VLOOKUP(F12515,Konditionen!$B:$D,3,0))","v":162.59}]
["Filter","TGF8","TGF83004287287","Taschenfilter TGF8-300-4 287 X 287","Klasse F8; 4 Taschen; TLänge 300 MM","37",35.799999999999997,{"$f":"G12522*(1-VLOOKUP(F12522,Konditionen!$B:$D,3,0))","v":35.799999999999997}]
["Filter","TGF8","TGF83008592490","Taschenfilter TGF8-300-8 592 X 490","Klasse F8; 8 Taschen; TLänge 300 MM","37",64.260000000000005,{"$f":"G12530*(1-VLOOKUP(F12530,Konditionen!$B:$D,3,0))","v":64.260000000000005}]
["Filter","TGF8","TGF83604287592","Taschenfilter TGF8-360-4 287 X 592","Klasse F8; 4 Taschen; TLänge 360 MM","37",41.21,{"$f":"G12535*(1-VLOOKUP(F12535,Konditionen!$B:$D,3,0))","v":41.21}]
["Filter","TGF8","TGF83608592287","Taschenfilter TGF8-360-8 592 X 287","Klasse F8; 8 Taschen; TLänge 360 MM","37",71.3,{"$f":"G12543*(1-VLOOKUP(F12543,Konditionen!$B:$D,3,0))","v":71.3}]
["Filter","TGF8","TGF838010592892","Taschenfilter TGF8-380-10 592 X 892","Kl. F8; 10 Taschen; TLänge 380 MM","37",158.19999999999999,{"$f":"G12548*(1-VLOOKUP(F12548,Konditionen!$B:$D,3,0))","v":158.19999999999999}]
["Filter","TGF8","TGF853510592490","Taschenfilter TGF8-535-10 592 X 490","Kl. F8; 10 Taschen; TLänge 535 MM","37",117.81,{"$f":"G12556*(1-VLOOKUP(F12556,Konditionen!$B:$D,3,0))","v":117.81}]
["Filter","TGF8","TGF85355287592","Taschenfilter TGF8-535-5 287 X 592","Kl. F8; 5 Taschen; TLänge 535 MM","37",63.95,{"$f":"G12564*(1-VLOOKUP(F12564,Konditionen!$B:$D,3,0))","v":63.95}]
["Filter","TGF8","TGF85358490592","Taschenfilter TGF8-535-8 490 X 592","Kl. F8; 8 Taschen; TLänge 535 MM","37",96.7,{"$f":"G12569*(1-VLOOKUP(F12569,Konditionen!$B:$D,3,0))","v":96.7}]
["Filter","TGF8","TGF86006490592","Taschenfilter TGF8-600-6 490 X 592","Klasse F8; 6 Taschen; TLänge 600 MM","37",82.11,{"$f":"G12577*(1-VLOOKUP(F12577,Konditionen!$B:$D,3,0))","v":82.11}]
["Filter","TGF8","TGF86008592892","Taschenfilter TGF8-600-8 592 X 892","Klasse F8; 8 Taschen; TLänge 600 MM","37",186.05,{"$f":"G12585*(1-VLOOKUP(F12585,Konditionen!$B:$D,3,0))","v":186.05}]
["Filter","TGF8","TGF863510592592","Taschenfilter TGF8-635-10 592 X 592","Kl. F8; 10 Taschen; TLänge 635 MM","37",135.56,{"$f":"G12590*(1-VLOOKUP(F12590,Konditionen!$B:$D,3,0))","v":135.56}]
["Filter","TGF8","TGF86355287892","Taschenfilter TGF8-635-5 287 X 892","Kl. F8; 5 Taschen; TLänge 635 MM","37",125.97,{"$f":"G12598*(1-VLOOKUP(F12598,Konditionen!$B:$D,3,0))","v":125.97}]
["Filter","TGF9","TGF93006592287","Taschenfilter TGF9-300-6 592 X 287","Klasse F9; 6 Taschen; TLänge 300 MM","37",52.53,{"$f":"G12610*(1-VLOOKUP(F12610,Konditionen!$B:$D,3,0))","v":52.53}]
["Filter","TGF9","TGF93006592490","Taschenfilter TGF9-300-6 592 X 490","Klasse F9; 6 Taschen; TLänge 300 MM","37",51,{"$f":"G12611*(1-VLOOKUP(F12611,Konditionen!$B:$D,3,0))","v":51}]
["Filter","TGF9","TGF93604287592","Taschenfilter TGF9-360-4 287 X 592","Klasse F9; 4 Taschen; TLänge 360 MM","37",43.15,{"$f":"G12619*(1-VLOOKUP(F12619,Konditionen!$B:$D,3,0))","v":43.15}]
["Filter","TGF9","TGF938010490892","Taschenfilter TGF9-380-10 490 X 892","Kl. F9; 10 Taschen; TLänge 380 MM","37",167.89,{"$f":"G12631*(1-VLOOKUP(F12631,Konditionen!$B:$D,3,0))","v":167.89}]
["Filter","TGF9","TGF938010592892","Taschenfilter TGF9-380-10 592 X 892","Kl. F9; 10 Taschen; TLänge 380 MM","37",168.71,{"$f":"G12632*(1-VLOOKUP(F12632,Konditionen!$B:$D,3,0))","v":168.71}]
["Filter","TGF9","TGF953512592490","Taschenfilter TGF9-535-12 592 X 490","Kl. F9; 12 Taschen; TLänge 535 MM","37",147.69999999999999,{"$f":"G12644*(1-VLOOKUP(F12644,Konditionen!$B:$D,3,0))","v":147.69999999999999}]
["Filter","TGF9","TGF95356287892","Taschenfilter TGF9-535-6 287 X 892","Kl. F9; 6 Taschen; TLänge 535 MM","37",137.80000000000001,{"$f":"G12652*(1-VLOOKUP(F12652,Konditionen!$B:$D,3,0))","v":137.80000000000001}]
["Filter","TGF9","TGF95358490892","Taschenfilter TGF9-535-8 490 X 892","Kl. F9; 8 Taschen; TLänge 535 MM","37",180.23,{"$f":"G12654*(1-VLOOKUP(F12654,Konditionen!$B:$D,3,0))","v":180.23}]
["Filter","TGF9","TGF96008592287","Taschenfilter TGF9-600-8 592 X 287","Klasse F9; 8 Taschen; TLänge 600 MM","37",110.87,{"$f":"G12666*(1-VLOOKUP(F12666,Konditionen!$B:$D,3,0))","v":110.87}]
["Filter","TGF9","TGF963510592592","Taschenfilter TGF9-635-10 592 X 592","Kl. F9; 10 Taschen; TLänge 635 MM","37",144.02000000000001,{"$f":"G12674*(1-VLOOKUP(F12674,Konditionen!$B:$D,3,0))","v":144.02000000000001}]
["Filter","TGF9","TGF963510592892","Taschenfilter TGF9-635-10 592 X 892","Kl. F9; 10 Taschen; TLänge 635 MM","37",255.92,{"$f":"G12675*(1-VLOOKUP(F12675,Konditionen!$B:$D,3,0))","v":255.92}]
["Filter","TGF9","TGF96358490892","Taschenfilter TGF9-635-8 490 X 892","Kl. F9; 8 Taschen; TLänge 635 MM","37",207.47,{"$f":"G12687*(1-VLOOKUP(F12687,Konditionen!$B:$D,3,0))","v":207.47}]
["Filter","TGM5","TGM52003287592","Taschenfilter TGM5-200-3 287 X 592","Klasse M5; 3 Taschen; TLänge 200 MM","37",21.32,{"$f":"G12695*(1-VLOOKUP(F12695,Konditionen!$B:$D,3,0))","v":21.32}]
["Filter","TGM5","TGM53003287287","Taschenfilter TGM5-300-3 287 X 287","Klasse M5; 3 Taschen; TLänge 300 MM","37",23.36,{"$f":"G12700*(1-VLOOKUP(F12700,Konditionen!$B:$D,3,0))","v":23.36}]
["Filter","TGM5","TGM53603287892","Taschenfilter TGM5-360-3 287 X 892","Klasse M5; 3 Taschen; TLänge 360 MM","37",41.72,{"$f":"G12708*(1-VLOOKUP(F12708,Konditionen!$B:$D,3,0))","v":41.72}]
["Filter","TGM5","TGM56003287592","Taschenfilter TGM5-600-3 287 X 592","Klasse M5; 3 Taschen; TLänge 600 MM","37",34.78,{"$f":"G12716*(1-VLOOKUP(F12716,Konditionen!$B:$D,3,0))","v":34.78}]
["Filter","TGM5","TGM56006592490","Taschenfilter TGM5-600-6 592 X 490","Klasse M5; 6 Taschen; TLänge 600 MM","37",59.47,{"$f":"G12721*(1-VLOOKUP(F12721,Konditionen!$B:$D,3,0))","v":59.47}]
["Filter","TGM6","TGM63006490592","Taschenfilter TGM6-300-6 490 X 592","Klasse M6; 6 Taschen; TLänge 300 MM","37",42.94,{"$f":"G12729*(1-VLOOKUP(F12729,Konditionen!$B:$D,3,0))","v":42.94}]
["Filter","TGM6","TGM63603287592","Taschenfilter TGM6-360-3 287 X 592","Klasse M6; 3 Taschen; TLänge 360 MM","37",28.66,{"$f":"G12737*(1-VLOOKUP(F12737,Konditionen!$B:$D,3,0))","v":28.66}]
["Filter","TGM6","TGM63606490592","Taschenfilter TGM6-360-6 490 X 592","Klasse M6; 6 Taschen; TLänge 360 MM","37",47.53,{"$f":"G12742*(1-VLOOKUP(F12742,Konditionen!$B:$D,3,0))","v":47.53}]
["Filter","TGM6","TGM63608592892","Taschenfilter TGM6-360-8 592 X 892","Klasse M6; 8 Taschen; TLänge 360 MM","37",98.84,{"$f":"G12750*(1-VLOOKUP(F12750,Konditionen!$B:$D,3,0))","v":98.84}]
["Filter","TGM6","TGM63806287892","Taschenfilter TGM6-380-6 287 X 892","Kl. M6; 6 Taschen; TLänge 380 MM","37",79.05,{"$f":"G12755*(1-VLOOKUP(F12755,Konditionen!$B:$D,3,0))","v":79.05}]
["Filter","TGM6","TGM653512592287","Taschenfilter TGM6-535-12 592 X 287","Kl. M6; 12 Taschen; TLänge 535 MM","37",109.24,{"$f":"G12763*(1-VLOOKUP(F12763,Konditionen!$B:$D,3,0))","v":109.24}]
["Filter","TGM6","TGM65356287592","Taschenfilter TGM6-535-6 287 X 592","Kl. M6; 6 Taschen; TLänge 535 MM","37",60.28,{"$f":"G12771*(1-VLOOKUP(F12771,Konditionen!$B:$D,3,0))","v":60.28}]
["Filter","TGM6","TGM65358490592","Taschenfilter TGM6-535-8 490 X 592","Kl. M6; 8 Taschen; TLänge 535 MM","37",77.72,{"$f":"G12773*(1-VLOOKUP(F12773,Konditionen!$B:$D,3,0))","v":77.72}]
["Filter","TGM6","TGM66006592592","Taschenfilter TGM6-600-6 592 X 592","Klasse M6; 6 Taschen; TLänge 600 MM","37",66.61,{"$f":"G12785*(1-VLOOKUP(F12785,Konditionen!$B:$D,3,0))","v":66.61}]
["Filter","TGM6","TGM663510490592","Taschenfilter TGM6-635-10 490 X 592","Kl. M6; 10 Taschen; TLänge 635 MM","37",107.2,{"$f":"G12790*(1-VLOOKUP(F12790,Konditionen!$B:$D,3,0))","v":107.2}]
["Filter","TGM6","TGM663512592592","Taschenfilter TGM6-635-12 592 X 592","Kl. M6; 12 Taschen; TLänge 635 MM","37",126.79,{"$f":"G12798*(1-VLOOKUP(F12798,Konditionen!$B:$D,3,0))","v":126.79}]
["Filter","TGM6","TGM66358490592","Taschenfilter TGM6-635-8 490 X 592","Kl. M6; 8 Taschen; TLänge 635 MM","37",88.03,{"$f":"G12806*(1-VLOOKUP(F12806,Konditionen!$B:$D,3,0))","v":88.03}]
["Filter","TG3","TG31506592287","Taschenfilter TG3-150-6 592 X 287","Klasse G3; 6 Taschen; TLänge 150 MM","37",14.99,{"$f":"G12811*(1-VLOOKUP(F12811,Konditionen!$B:$D,3,0))","v":14.99}]
["Filter","TG3","TG32006592592","Taschenfilter TG3-200-6 592 X 592","Klasse G3; 6 Taschen; TLänge 200 MM","37",19.89,{"$f":"G12819*(1-VLOOKUP(F12819,Konditionen!$B:$D,3,0))","v":19.89}]
["Filter","TG3","TG33603287592","Taschenfilter TG3-360-3 287 X 592","Klasse G3; 3 Taschen; TLänge 360 MM","37",16.829999999999998,{"$f":"G12827*(1-VLOOKUP(F12827,Konditionen!$B:$D,3,0))","v":16.829999999999998}]
["Filter","TG3","TG33606592490","Taschenfilter TG3-360-6 592 X 490","Klasse G3; 6 Taschen; TLänge 360 MM","37",22.75,{"$f":"G12832*(1-VLOOKUP(F12832,Konditionen!$B:$D,3,0))","v":22.75}]
["Filter","TG3","TG36006592287","Taschenfilter TG3-600-6 592 X 287","Klasse G3; 6 Taschen; TLänge 600 MM","37",23.26,{"$f":"G12840*(1-VLOOKUP(F12840,Konditionen!$B:$D,3,0))","v":23.26}]
["Filter","TG4","TG41503287592","Taschenfilter TG4-150-3 287 X 592","Klasse G4; 3 Taschen; TLänge 150 MM","37",14.28,{"$f":"G12845*(1-VLOOKUP(F12845,Konditionen!$B:$D,3,0))","v":14.28}]
["Filter","TG4","TG42006592287","Taschenfilter TG4-200-6 592 X 287","Klasse G4; 6 Taschen; TLänge 200 MM","37",16.22,{"$f":"G12853*(1-VLOOKUP(F12853,Konditionen!$B:$D,3,0))","v":16.22}]
["Filter","TG4","TG43006592592","Taschenfilter TG4-300-6 592 X 592","Klasse G4; 6 Taschen; TLänge 300 MM","37",22.85,{"$f":"G12861*(1-VLOOKUP(F12861,Konditionen!$B:$D,3,0))","v":22.85}]
["Filter","TG4","TG43605490892","Taschenfilter TG4-360-5 490 X 892","Klasse G4; 5 Taschen; TLänge 360 MM","37",34.07,{"$f":"G12866*(1-VLOOKUP(F12866,Konditionen!$B:$D,3,0))","v":34.07}]
["Filter","TG4","TG46005490592","Taschenfilter TG4-600-5 490 X 592","Klasse G4; 5 Taschen; TLänge 600 MM","37",27.44,{"$f":"G12874*(1-VLOOKUP(F12874,Konditionen!$B:$D,3,0))","v":27.44}]
["Rohre und Formteile","THTR","THTR1406000","Flexibler Schlauch   THTR  140.6000","<6 M + 37,30 Euro Schnittkosten","11",797.06,{"$f":"G12882*(1-VLOOKUP(F12882,Konditionen!$B:$D,3,0))","v":797.06}]
["Rohre und Formteile","THTR","THTR2506000","Flexibler Schlauch   THTR  250.6000","<6 M + 69,70 Euro Schnittkosten","11",1018.28,{"$f":"G12887*(1-VLOOKUP(F12887,Konditionen!$B:$D,3,0))","v":1018.28}]
["Rohre und Formteile","THVTR","THVTR50","Flexibl.Schlauch THVTR  50    METER","<30 M + 22,25 Euro Schnittkosten","11",35.75,{"$f":"G12895*(1-VLOOKUP(F12895,Konditionen!$B:$D,3,0))","v":35.75}]
["Rohre und Formteile","TKS","TKS5","Bandschelle      TKS 5       -525mm",null,"11",6.51,{"$f":"G12902*(1-VLOOKUP(F12902,Konditionen!$B:$D,3,0))","v":6.51}]
["Rohre und Formteile","TLTR","TLTR1150","Transfer Teleskoprohr TLTR 1 150",null,"35",45.07,{"$f":"G12909*(1-VLOOKUP(F12909,Konditionen!$B:$D,3,0))","v":45.07}]
["Rohre und Formteile","TLTR","TLTR1350","Transfer Teleskoprohr TLTR 1 350",null,"35",82.85,{"$f":"G12917*(1-VLOOKUP(F12917,Konditionen!$B:$D,3,0))","v":82.85}]
["Rohre und Formteile","TLTR","TLTR2100","Transfer Teleskoprohr TLTR 2 100",null,"35",32.43,{"$f":"G12922*(1-VLOOKUP(F12922,Konditionen!$B:$D,3,0))","v":32.43}]
["Rohre und Formteile","TLTR","TLTR2250","Transfer Teleskoprohr TLTR 2 250",null,"35",57.2,{"$f":"G12930*(1-VLOOKUP(F12930,Konditionen!$B:$D,3,0))","v":57.2}]
["Rohre und Formteile","TMRAUSN","TMRAUSN150","Reinigungsöffnung   TMRAUSN   150","mit Schiebenippelfunktion","30",133.93,{"$f":"G12942*(1-VLOOKUP(F12942,Konditionen!$B:$D,3,0))","v":133.93}]
["Rohre und Formteile","TMRAUSN","TMRAUSN160","Reinigungsöffnung   TMRAUSN   160","mit Schiebenippelfunktion","30",133.93,{"$f":"G12943*(1-VLOOKUP(F12943,Konditionen!$B:$D,3,0))","v":133.93}]
["Rohre und Formteile","TMRAUSN","TMRAUSN355","Reinigungsöffnung   TMRAUSN   355","mit Schiebenippelfunktion","30",203.19,{"$f":"G12951*(1-VLOOKUP(F12951,Konditionen!$B:$D,3,0))","v":203.19}]
["Rohre und Formteile","TMRAU","TMRAU150","Reinigungsöffng.  TMRAU        150",null,"30",119.54,{"$f":"G12963*(1-VLOOKUP(F12963,Konditionen!$B:$D,3,0))","v":119.54}]
["Rohre und Formteile","TMRAU","TMRAU160","Reinigungsöffng.  TMRAU        160",null,"30",119.54,{"$f":"G12964*(1-VLOOKUP(F12964,Konditionen!$B:$D,3,0))","v":119.54}]
["Rohre und Formteile","TMRAU","TMRAU355","Reinigungsöffng.  TMRAU        355",null,"30",181.47,{"$f":"G12972*(1-VLOOKUP(F12972,Konditionen!$B:$D,3,0))","v":181.47}]
["Filter","TM5","TM51503287592","Taschenfilter TM5-150-3 287 X 592","Klasse M5; 3 Taschen; TLänge 150 MM","37",14.59,{"$f":"G12984*(1-VLOOKUP(F12984,Konditionen!$B:$D,3,0))","v":14.59}]
["Filter","TM5","TM51505490592","Taschenfilter TM5-150-5 490 X 592","Klasse M5; 5 Taschen; TLänge 150 MM","37",17.95,{"$f":"G12985*(1-VLOOKUP(F12985,Konditionen!$B:$D,3,0))","v":17.95}]
["Filter","","TM53003287892","Taschenfilter TM5-300-3 287 X 892","Klasse M5; 3 Taschen; TLänge 300 MM","37",27.44,{"$f":"G12997*(1-VLOOKUP(F12997,Konditionen!$B:$D,3,0))","v":27.44}]
["Filter","TM5","TM53603287892","Taschenfilter TM5-360-3 287 X 892","Klasse M5; 3 Taschen; TLänge 360 MM","37",27.95,{"$f":"G13005*(1-VLOOKUP(F13005,Konditionen!$B:$D,3,0))","v":27.95}]
["Filter","TM5","TM53605490592","Taschenfilter TM5-360-5 490 X 592","Klasse M5; 5 Taschen; TLänge 360 MM","37",23.36,{"$f":"G13006*(1-VLOOKUP(F13006,Konditionen!$B:$D,3,0))","v":23.36}]
["Filter","TM5","TM56006592490","Taschenfilter TM5-600-6 592 X 490","Klasse M5; 6 Taschen; TLänge 600 MM","37",32.840000000000003,{"$f":"G13018*(1-VLOOKUP(F13018,Konditionen!$B:$D,3,0))","v":32.840000000000003}]
["Filter","TM6","TM63006490592","Taschenfilter TM6-300-6 490 X 592","Klasse M6; 6 Taschen; TLänge 300 MM","37",25.4,{"$f":"G13026*(1-VLOOKUP(F13026,Konditionen!$B:$D,3,0))","v":25.4}]
["Filter","TM6","TM63008592490","Taschenfilter TM6-300-8 592 X 490","Klasse M6; 8 Taschen; TLänge 300 MM","37",27.03,{"$f":"G13031*(1-VLOOKUP(F13031,Konditionen!$B:$D,3,0))","v":27.03}]
["Filter","TM6","TM63606490592","Taschenfilter TM6-360-6 490 X 592","Klasse M6; 6 Taschen; TLänge 360 MM","37",25.81,{"$f":"G13040*(1-VLOOKUP(F13040,Konditionen!$B:$D,3,0))","v":25.81}]
["Filter","TM6","TM638010490892","Taschenfilter TM6-380-10 490 X 892","Kl. M6; 10 Taschen; TLänge 380 MM","37",50.69,{"$f":"G13048*(1-VLOOKUP(F13048,Konditionen!$B:$D,3,0))","v":50.69}]
["Filter","TM6","TM63808490892","Taschenfilter TM6-380-8 490 X 892","Kl. M6; 8 Taschen; TLänge 380 MM","37",44.47,{"$f":"G13053*(1-VLOOKUP(F13053,Konditionen!$B:$D,3,0))","v":44.47}]
["Filter","TM6","TM653512592490","Taschenfilter TM6-535-12 592 X 490","Kl. M6; 12 Taschen; TLänge 535 MM","37",49.27,{"$f":"G13061*(1-VLOOKUP(F13061,Konditionen!$B:$D,3,0))","v":49.27}]
["Filter","TM6","TM65356287892","Taschenfilter TM6-535-6 287 X 892","Kl. M6; 6 Taschen; TLänge 535 MM","37",42.74,{"$f":"G13069*(1-VLOOKUP(F13069,Konditionen!$B:$D,3,0))","v":42.74}]
["Filter","TM6","TM660012592892","Taschenfilter TM6-600-12 592 X 892","Kl. M6; 12 Taschen; TLänge 600 MM","37",78.64,{"$f":"G13074*(1-VLOOKUP(F13074,Konditionen!$B:$D,3,0))","v":78.64}]
["Filter","TM6","TM66006287892","Taschenfilter TM6-600-6 287 X 892","Kl. M6; 6 Taschen; TLänge 600 MM","37",46.82,{"$f":"G13082*(1-VLOOKUP(F13082,Konditionen!$B:$D,3,0))","v":46.82}]
["Filter","TM6","TM66006592592","Taschenfilter TM6-600-6 592 X 592","Klasse M6; 6 Taschen; TLänge 600 MM","37",34.17,{"$f":"G13087*(1-VLOOKUP(F13087,Konditionen!$B:$D,3,0))","v":34.17}]
["Filter","TM6","TM663510592287","Taschenfilter TM6-635-10 592 X 287","Kl. M6; 10 Taschen; TLänge 635 MM","37",39.979999999999997,{"$f":"G13095*(1-VLOOKUP(F13095,Konditionen!$B:$D,3,0))","v":39.979999999999997}]
["Filter","TM6","TM66355287287","Taschenfilter TM6-635-5 287 X 287","Kl. M6; 5 Taschen; TLänge 635 MM","37",24.38,{"$f":"G13103*(1-VLOOKUP(F13103,Konditionen!$B:$D,3,0))","v":24.38}]
["Filter","TM6","TM66356287892","Taschenfilter TM6-635-6 287 X 892","Kl. M6; 6 Taschen; TLänge 635 MM","37",46.82,{"$f":"G13108*(1-VLOOKUP(F13108,Konditionen!$B:$D,3,0))","v":46.82}]
["Kunststoff","TPPS","TPPS11090","PPs T-Stück red 110.90.110",null,"17.ALLG",46.11,{"$f":"G13116*(1-VLOOKUP(F13116,Konditionen!$B:$D,3,0))","v":46.11}]
["Kunststoff","TPPS","TPPS12590","PPs T-Stück red 125.90.125",null,"17.ALLG",52.05,{"$f":"G13124*(1-VLOOKUP(F13124,Konditionen!$B:$D,3,0))","v":52.05}]
["Kunststoff","TPPS","TPPS14050","PPs T-Stück red 140.50.140",null,"17.ALLG",62.74,{"$f":"G13129*(1-VLOOKUP(F13129,Konditionen!$B:$D,3,0))","v":62.74}]
["Kunststoff","TPPS","TPPS160140","PPs T-Stück red 160.140.160",null,"17.ALLG",68.900000000000006,{"$f":"G13137*(1-VLOOKUP(F13137,Konditionen!$B:$D,3,0))","v":68.900000000000006}]
["Kunststoff","TPPS","TPPS16090","PPs T-Stück red 160.90.160",null,"17.ALLG",68.900000000000006,{"$f":"G13142*(1-VLOOKUP(F13142,Konditionen!$B:$D,3,0))","v":68.900000000000006}]
["Kunststoff","TPPS","TPPS18075","PPs T-Stück red 180.75.180",null,"17.ALLG",74.84,{"$f":"G13150*(1-VLOOKUP(F13150,Konditionen!$B:$D,3,0))","v":74.84}]
["Kunststoff","TPPS","TPPS20075","PPs T-Stück red 200.75.200",null,"17.ALLG",87.26,{"$f":"G13160*(1-VLOOKUP(F13160,Konditionen!$B:$D,3,0))","v":87.26}]
["Kunststoff","TPPS","TPPS250125","PPs T-Stück red 250.125.250",null,"17.ALLG",112.42,{"$f":"G13164*(1-VLOOKUP(F13164,Konditionen!$B:$D,3,0))","v":112.42}]
["Kunststoff","TPPS","TPPS25063","PPs T-Stück red 250.63.250",null,"17.ALLG",112.42,{"$f":"G13172*(1-VLOOKUP(F13172,Konditionen!$B:$D,3,0))","v":112.42}]
["Kunststoff","TPPS","TPPS280180","PPs T-Stück red 280.180.280",null,"17.ALLG",127.33,{"$f":"G13177*(1-VLOOKUP(F13177,Konditionen!$B:$D,3,0))","v":127.33}]
["Kunststoff","TPPS","TPPS315280","PPs T-Stück red 315.280.315",null,"17.ALLG",158.97,{"$f":"G13185*(1-VLOOKUP(F13185,Konditionen!$B:$D,3,0))","v":158.97}]
["Kunststoff","TPPS","TPPS355355","PPs T-Stück 355.355",null,"17.ALLG",196.56,{"$f":"G13193*(1-VLOOKUP(F13193,Konditionen!$B:$D,3,0))","v":196.56}]
["Kunststoff","TPPS","TPPS400280","PPs T-Stück red 400.280.400",null,"17.ALLG",229.28,{"$f":"G13198*(1-VLOOKUP(F13198,Konditionen!$B:$D,3,0))","v":229.28}]
["Kunststoff","TPPS","TPPS500280","PPs T-Stück red 500.280.500",null,"17.ALLG",302.07,{"$f":"G13206*(1-VLOOKUP(F13206,Konditionen!$B:$D,3,0))","v":302.07}]
["Kunststoff","TPPS","TPPS600600","PPs T-Stück 600.600",null,"17.ALLG",425.95,{"$f":"G13214*(1-VLOOKUP(F13214,Konditionen!$B:$D,3,0))","v":425.95}]
["Kunststoff","TPPS","TPPS7575","PPs T-Stück 75.75",null,"17.ALLG",34.99,{"$f":"G13219*(1-VLOOKUP(F13219,Konditionen!$B:$D,3,0))","v":34.99}]
["Kunststoff","TRDPPS","TRDPPS180180","T-Stück mit Öffnung PPs 180.180","mit Dichtung aus PVC-P o. EPDM","17.ALLG",78.84,{"$f":"G13227*(1-VLOOKUP(F13227,Konditionen!$B:$D,3,0))","v":78.84}]
["Kunststoff","TRDPPS","TRDPPS315250","T-Stück mit Öffnung PPs 315.250","mit Dichtung aus PVC-P o. EPDM","17.ALLG",158.97,{"$f":"G13232*(1-VLOOKUP(F13232,Konditionen!$B:$D,3,0))","v":158.97}]
["Ventilatoren","TR610S","TR610S","Wochentimer TR 610 S",null,"18.ALLG",141.72,{"$f":"G13240*(1-VLOOKUP(F13240,Konditionen!$B:$D,3,0))","v":141.72}]
["Rohre und Formteile","TSRTR","TSRTR224","Paßstück für SRTR   TSRTR      224",null,"35",15,{"$f":"G13248*(1-VLOOKUP(F13248,Konditionen!$B:$D,3,0))","v":15}]
["Rohre und Formteile","TSRTR","TSRTR400","Paßstück für SRTR   TSRTR      400",null,"35",21.78,{"$f":"G13253*(1-VLOOKUP(F13253,Konditionen!$B:$D,3,0))","v":21.78}]
["Rohre und Formteile","TSTCU","TSTCU12501250","Sattelstück      TSTCU    1250.1250",null,"30",999.61,{"$f":"G13261*(1-VLOOKUP(F13261,Konditionen!$B:$D,3,0))","v":999.61}]
["Rohre und Formteile","TSTCU","TSTCU250250","Sattelstück      TSTCU     250.250",null,"30",83.97,{"$f":"G13269*(1-VLOOKUP(F13269,Konditionen!$B:$D,3,0))","v":83.97}]
["Rohre und Formteile","TSTCU","TSTCU400400","Sattelstück      TSTCU     400.400",null,"30",121.65,{"$f":"G13274*(1-VLOOKUP(F13274,Konditionen!$B:$D,3,0))","v":121.65}]
["Rohre und Formteile","TSTCU","TSTCU710710","Sattelstück      TSTCU     710.710",null,"30",259.24,{"$f":"G13281*(1-VLOOKUP(F13281,Konditionen!$B:$D,3,0))","v":259.24}]
["Rohre und Formteile","TVRCU45","TVRCU451000710","T-Stück red TVRCU 45 1000.    .710","Reduziert","30",1404.34,{"$f":"G13295*(1-VLOOKUP(F13295,Konditionen!$B:$D,3,0))","v":1404.34}]
["Rohre und Formteile","TVRCU45","TVRCU451000800","T-Stück red TVRCU 45 1000.    .800","Reduziert","30",1511.81,{"$f":"G13296*(1-VLOOKUP(F13296,Konditionen!$B:$D,3,0))","v":1511.81}]
["Rohre und Formteile","TVRCU45","TVRCU4511201120","T-Stück red TVRCU 45 1120.    .1120","Reduziert","30",2193.5100000000002,{"$f":"G13304*(1-VLOOKUP(F13304,Konditionen!$B:$D,3,0))","v":2193.5100000000002}]
["Rohre und Formteile","TVRCU45","TVRCU4511280","T-Stück red TVRCU 45  112.    .80","Reduziert","30",77.88,{"$f":"G13316*(1-VLOOKUP(F13316,Konditionen!$B:$D,3,0))","v":77.88}]
["Rohre und Formteile","TVRCU45","TVRCU4511290","T-Stück red TVRCU 45  112.    .90","Reduziert","30",77.88,{"$f":"G13317*(1-VLOOKUP(F13317,Konditionen!$B:$D,3,0))","v":77.88}]
["Rohre und Formteile","TVRCU45","TVRCU45125112","T-Stück red TVRCU 45  125.    .112","Reduziert","30",83.54,{"$f":"G13329*(1-VLOOKUP(F13329,Konditionen!$B:$D,3,0))","v":83.54}]
["Rohre und Formteile","TVRCU45","TVRCU45140125","T-Stück red TVRCU 45  140.    .125","Reduziert","30",94.25,{"$f":"G13337*(1-VLOOKUP(F13337,Konditionen!$B:$D,3,0))","v":94.25}]
["Rohre und Formteile","TVRCU45","TVRCU45140140","T-Stück red TVRCU 45  140.    .140","Reduziert","30",110.2,{"$f":"G13338*(1-VLOOKUP(F13338,Konditionen!$B:$D,3,0))","v":110.2}]
["Rohre und Formteile","TVRCU45","TVRCU4515080","T-Stück red TVRCU 45  150.    .80","Reduziert","30",89.73,{"$f":"G13350*(1-VLOOKUP(F13350,Konditionen!$B:$D,3,0))","v":89.73}]
["Rohre und Formteile","TVRCU45","TVRCU4516080","T-Stück red TVRCU 45  160.    .80","Reduziert","30",89.73,{"$f":"G13358*(1-VLOOKUP(F13358,Konditionen!$B:$D,3,0))","v":89.73}]
["Rohre und Formteile","TVRCU45","TVRCU4516090","T-Stück red TVRCU 45  160.    .90","Reduziert","30",91.21,{"$f":"G13359*(1-VLOOKUP(F13359,Konditionen!$B:$D,3,0))","v":91.21}]
["Rohre und Formteile","TVRCU45","TVRCU45200125","T-Stück red TVRCU 45  200.    .125","Reduziert","30",109.36,{"$f":"G13371*(1-VLOOKUP(F13371,Konditionen!$B:$D,3,0))","v":109.36}]
["Rohre und Formteile","TVRCU45","TVRCU45224100","T-Stück red TVRCU 45  224.    .100","Reduziert","30",117.86,{"$f":"G13379*(1-VLOOKUP(F13379,Konditionen!$B:$D,3,0))","v":117.86}]
["Rohre und Formteile","TVRCU45","TVRCU45224160","T-Stück red TVRCU 45  224.    .160","Reduziert","30",132.35,{"$f":"G13384*(1-VLOOKUP(F13384,Konditionen!$B:$D,3,0))","v":132.35}]
["Rohre und Formteile","TVRCU45","TVRCU45250125","T-Stück red TVRCU 45  250.    .125","Reduziert","30",120.18,{"$f":"G13392*(1-VLOOKUP(F13392,Konditionen!$B:$D,3,0))","v":120.18}]
["Rohre und Formteile","TVRCU45","TVRCU4525080","T-Stück red TVRCU 45  250.    .80","Reduziert","30",117.86,{"$f":"G13400*(1-VLOOKUP(F13400,Konditionen!$B:$D,3,0))","v":117.86}]
["Rohre und Formteile","TVRCU45","TVRCU45280140","T-Stück red TVRCU 45  280.    .140","Reduziert","30",146.94,{"$f":"G13405*(1-VLOOKUP(F13405,Konditionen!$B:$D,3,0))","v":146.94}]
["Rohre und Formteile","TVRCU45","TVRCU45300100","T-Stück red TVRCU 45  300.    .100","Reduziert","30",142.41999999999999,{"$f":"G13413*(1-VLOOKUP(F13413,Konditionen!$B:$D,3,0))","v":142.41999999999999}]
["Rohre und Formteile","TVRCU45","TVRCU45300160","T-Stück red TVRCU 45  300.    .160","Reduziert","30",146.94,{"$f":"G13418*(1-VLOOKUP(F13418,Konditionen!$B:$D,3,0))","v":146.94}]
["Rohre und Formteile","TVRCU45","TVRCU45315125","T-Stück red TVRCU 45  315.    .125","Reduziert","30",152.08000000000001,{"$f":"G13427*(1-VLOOKUP(F13427,Konditionen!$B:$D,3,0))","v":152.08000000000001}]
["Rohre und Formteile","TVRCU45","TVRCU45315280","T-Stück red TVRCU 45  315.    .280","Reduziert","30",195.95,{"$f":"G13435*(1-VLOOKUP(F13435,Konditionen!$B:$D,3,0))","v":195.95}]
["Rohre und Formteile","TVRCU45","TVRCU45355125","T-Stück red TVRCU 45  355.    .125","Reduziert","30",184.62,{"$f":"G13440*(1-VLOOKUP(F13440,Konditionen!$B:$D,3,0))","v":184.62}]
["Rohre und Formteile","TVRCU45","TVRCU45355280","T-Stück red TVRCU 45  355.    .280","Reduziert","30",236.67,{"$f":"G13448*(1-VLOOKUP(F13448,Konditionen!$B:$D,3,0))","v":236.67}]
["Rohre und Formteile","TVRCU45","TVRCU45400224","T-Stück red TVRCU 45  400.    .224","Reduziert","30",231.85,{"$f":"G13456*(1-VLOOKUP(F13456,Konditionen!$B:$D,3,0))","v":231.85}]
["Rohre und Formteile","TVRCU45","TVRCU45400355","T-Stück red TVRCU 45  400.    .355","Reduziert","30",281.17,{"$f":"G13461*(1-VLOOKUP(F13461,Konditionen!$B:$D,3,0))","v":281.17}]
["Rohre und Formteile","TVRCU45","TVRCU45450300","T-Stück red TVRCU 45  450.    .300","Reduziert","30",309.10000000000002,{"$f":"G13469*(1-VLOOKUP(F13469,Konditionen!$B:$D,3,0))","v":309.10000000000002}]
["Rohre und Formteile","TVRCU45","TVRCU45500200","T-Stück red TVRCU 45  500.    .200","Reduziert","30",303.85000000000002,{"$f":"G13474*(1-VLOOKUP(F13474,Konditionen!$B:$D,3,0))","v":303.85000000000002}]
["Rohre und Formteile","TVRCU45","TVRCU45500450","T-Stück red TVRCU 45  500.    .450","Reduziert","30",405.34,{"$f":"G13482*(1-VLOOKUP(F13482,Konditionen!$B:$D,3,0))","v":405.34}]
["Rohre und Formteile","TVRCU45","TVRCU45560400","T-Stück red TVRCU 45  560.    .400","Reduziert","30",422.77,{"$f":"G13490*(1-VLOOKUP(F13490,Konditionen!$B:$D,3,0))","v":422.77}]
["Rohre und Formteile","TVRCU45","TVRCU45600280","T-Stück red TVRCU 45  600.    .280","Reduziert","30",407.86,{"$f":"G13495*(1-VLOOKUP(F13495,Konditionen!$B:$D,3,0))","v":407.86}]
["Rohre und Formteile","TVRCU45","TVRCU45600600","T-Stück red TVRCU 45  600.    .600","Reduziert","30",535.29,{"$f":"G13503*(1-VLOOKUP(F13503,Konditionen!$B:$D,3,0))","v":535.29}]
["Rohre und Formteile","TVRCU45","TVRCU45630500","T-Stück red TVRCU 45  630.    .500","Reduziert","30",591.44000000000005,{"$f":"G13511*(1-VLOOKUP(F13511,Konditionen!$B:$D,3,0))","v":591.44000000000005}]
["Rohre und Formteile","TVRCU45","TVRCU45710315","T-Stück red TVRCU 45  710.    .315","Reduziert","30",566.55999999999995,{"$f":"G13516*(1-VLOOKUP(F13516,Konditionen!$B:$D,3,0))","v":566.55999999999995}]
["Rohre und Formteile","TVRCU45","TVRCU45710710","T-Stück red TVRCU 45  710.    .710","Reduziert","30",864.43,{"$f":"G13524*(1-VLOOKUP(F13524,Konditionen!$B:$D,3,0))","v":864.43}]
["Rohre und Formteile","TVRCU45","TVRCU45800500","T-Stück red TVRCU 45  800.    .500","Reduziert","30",830.84,{"$f":"G13529*(1-VLOOKUP(F13529,Konditionen!$B:$D,3,0))","v":830.84}]
["Rohre und Formteile","TVRCU45","TVRCU458080","T-Stück red TVRCU 45   80.    .80","Reduziert","30",74.62,{"$f":"G13537*(1-VLOOKUP(F13537,Konditionen!$B:$D,3,0))","v":74.62}]
["Rohre und Formteile","TVRCU45","TVRCU45900900","T-Stück red TVRCU 45  900.    .900","Reduziert","30",1470.35,{"$f":"G13547*(1-VLOOKUP(F13547,Konditionen!$B:$D,3,0))","v":1470.35}]
["Rohre und Formteile","TVTBU","TVTBU10024CM","Bypass-Klappe   TVTBU  24V      100","mit Motor CM 24-F","32",937.48,{"$f":"G13551*(1-VLOOKUP(F13551,Konditionen!$B:$D,3,0))","v":937.48}]
["Rohre und Formteile","TVTBU","TVTBU25024","Bypass-Klappe  TVTBU  24V      250","mit Motor LM 24A-F","32",1169.1199999999999,{"$f":"G13559*(1-VLOOKUP(F13559,Konditionen!$B:$D,3,0))","v":1169.1199999999999}]
["Rohre und Formteile","TVTR30","TVTR30125125125","Transf. T-Stck TVTR 30 125.125.125",null,"35",144.11000000000001,{"$f":"G13564*(1-VLOOKUP(F13564,Konditionen!$B:$D,3,0))","v":144.11000000000001}]
["Rohre und Formteile","TVTR30","TVTR30150140140","Transf. T-Stck TVTR 30 150.140.140",null,"35",173.28,{"$f":"G13572*(1-VLOOKUP(F13572,Konditionen!$B:$D,3,0))","v":173.28}]
["Rohre und Formteile","TVTR30","TVTR301608080","Transf. T-Stck TVTR 30 160. 80. 80",null,"35",146.83000000000001,{"$f":"G13580*(1-VLOOKUP(F13580,Konditionen!$B:$D,3,0))","v":146.83000000000001}]
["Rohre und Formteile","TVTR30","TVTR30180160160","Transf. T-Stck TVTR 30 180.160.160",null,"35",184.14,{"$f":"G13585*(1-VLOOKUP(F13585,Konditionen!$B:$D,3,0))","v":184.14}]
["Rohre und Formteile","TVTR30","TVTR30200180180","Transf. T-Stck TVTR 30 200.180.180",null,"35",208.28,{"$f":"G13593*(1-VLOOKUP(F13593,Konditionen!$B:$D,3,0))","v":208.28}]
["Rohre und Formteile","TVTR30","TVTR30224180180","Transf. T-Stck TVTR 30 224.180.180",null,"35",228.96,{"$f":"G13601*(1-VLOOKUP(F13601,Konditionen!$B:$D,3,0))","v":228.96}]
["Rohre und Formteile","TVTR30","TVTR30250125125","Transf. T-Stck TVTR 30 250.125.125",null,"35",211.02,{"$f":"G13606*(1-VLOOKUP(F13606,Konditionen!$B:$D,3,0))","v":211.02}]
["Rohre und Formteile","TVTR30","TVTR302508080","Transf. T-Stck TVTR 30 250. 80. 80",null,"35",200.15,{"$f":"G13614*(1-VLOOKUP(F13614,Konditionen!$B:$D,3,0))","v":200.15}]
["Rohre und Formteile","TVTR30","TVTR30315100100","Transf. T-Stck TVTR 30 315.100.100",null,"35",229.64,{"$f":"G13626*(1-VLOOKUP(F13626,Konditionen!$B:$D,3,0))","v":229.64}]
["Rohre und Formteile","TVTR30","TVTR30315125125","Transf. T-Stck TVTR 30 315.125.125",null,"35",246.86,{"$f":"G13627*(1-VLOOKUP(F13627,Konditionen!$B:$D,3,0))","v":246.86}]
["Rohre und Formteile","TVTR30","TVTR30315300300","Transf. T-Stck TVTR 30 315.300.300",null,"35",298.02,{"$f":"G13635*(1-VLOOKUP(F13635,Konditionen!$B:$D,3,0))","v":298.02}]
["Rohre und Formteile","TVTR30","TVTR30350350350","Transf. T-Stck TVTR 30 350.350.350",null,"35",402.08,{"$f":"G13647*(1-VLOOKUP(F13647,Konditionen!$B:$D,3,0))","v":402.08}]
["Rohre und Formteile","TVTR30","TVTR30400140140","Transf. T-Stck TVTR 30 400.140.140",null,"35",303.38,{"$f":"G13648*(1-VLOOKUP(F13648,Konditionen!$B:$D,3,0))","v":303.38}]
["Rohre und Formteile","TVTR30","TVTR30450150150","Transf. T-Stck TVTR 30 450.150.150",null,"35",308.31,{"$f":"G13660*(1-VLOOKUP(F13660,Konditionen!$B:$D,3,0))","v":308.31}]
["Rohre und Formteile","TVTR30","TVTR30450350350","Transf. T-Stck TVTR 30 450.350.350",null,"35",426.18,{"$f":"G13668*(1-VLOOKUP(F13668,Konditionen!$B:$D,3,0))","v":426.18}]
["Rohre und Formteile","TVTR30","TVTR30500250250","Transf. T-Stck TVTR 30 500.250.250",null,"35",371.76,{"$f":"G13676*(1-VLOOKUP(F13676,Konditionen!$B:$D,3,0))","v":371.76}]
["Rohre und Formteile","TVTR30","TVTR30500500500","Transf. T-Stck TVTR 30 500.500.500",null,"35",520.05999999999995,{"$f":"G13682*(1-VLOOKUP(F13682,Konditionen!$B:$D,3,0))","v":520.05999999999995}]
["Rohre und Formteile","TVTU","TVTU250","Bypass-Klappe   TVTU          250",null,"32",457.51,{"$f":"G13690*(1-VLOOKUP(F13690,Konditionen!$B:$D,3,0))","v":457.51}]
["Rohre und Formteile","TVTU","TVTU280","Bypass-Klappe   TVTU          280",null,"32",561.30999999999995,{"$f":"G13691*(1-VLOOKUP(F13691,Konditionen!$B:$D,3,0))","v":561.30999999999995}]
["Rohre und Formteile","TVU45V2A","TVU45V2A280250","T-Stück        TVU45 V2A   280.250","Edelstahl W.NR. 1.4301","60",504.84,{"$f":"G13703*(1-VLOOKUP(F13703,Konditionen!$B:$D,3,0))","v":504.84}]
["Rohre und Formteile","TVU45V2A","TVU45V2A600560","T-Stück        TVU45 V2A   600.560","Edelstahl W.NR. 1.4301","60",1418.77,{"$f":"G13711*(1-VLOOKUP(F13711,Konditionen!$B:$D,3,0))","v":1418.77}]
["Rohre und Formteile","TVU45","TVU4510001000","T-Stück          TVU 45   1000.1000",null,"30",1410.63,{"$f":"G13716*(1-VLOOKUP(F13716,Konditionen!$B:$D,3,0))","v":1410.63}]
["Rohre und Formteile","TVU45","TVU451000800","T-Stück          TVU 45   1000.800",null,"30",1130.5999999999999,{"$f":"G13724*(1-VLOOKUP(F13724,Konditionen!$B:$D,3,0))","v":1130.5999999999999}]
["Rohre und Formteile","TVU45","TVU4511201120","T-Stück          TVU 45   1120.1120",null,"30",1791.73,{"$f":"G13732*(1-VLOOKUP(F13732,Konditionen!$B:$D,3,0))","v":1791.73}]
["Rohre und Formteile","TVU45","TVU451120710","T-Stück          TVU 45   1120.710",null,"30",1223.28,{"$f":"G13737*(1-VLOOKUP(F13737,Konditionen!$B:$D,3,0))","v":1223.28}]
["Rohre und Formteile","TVU45","TVU4511290","T-Stück          TVU 45    112.90","D3 Vent","30",51.32,{"$f":"G13745*(1-VLOOKUP(F13745,Konditionen!$B:$D,3,0))","v":51.32}]
["Rohre und Formteile","TVU45","TVU451250710","T-Stück          TVU 45   1250.710",null,"30",1471.3,{"$f":"G13753*(1-VLOOKUP(F13753,Konditionen!$B:$D,3,0))","v":1471.3}]
["Rohre und Formteile","TVU45","TVU45125125","T-Stück          TVU 45    125.125",null,"30",53.95,{"$f":"G13758*(1-VLOOKUP(F13758,Konditionen!$B:$D,3,0))","v":53.95}]
["Rohre und Formteile","TVU45","TVU45140140","T-Stück          TVU 45    140.140",null,"30",77.66,{"$f":"G13766*(1-VLOOKUP(F13766,Konditionen!$B:$D,3,0))","v":77.66}]
["Rohre und Formteile","TVU45","TVU45150100","T-Stück          TVU 45    150.100",null,"30",58.77,{"$f":"G13771*(1-VLOOKUP(F13771,Konditionen!$B:$D,3,0))","v":58.77}]
["Rohre und Formteile","TVU45","TVU4515090","T-Stück          TVU 45    150.90","D3 Vent","30",58.77,{"$f":"G13779*(1-VLOOKUP(F13779,Konditionen!$B:$D,3,0))","v":58.77}]
["Rohre und Formteile","TVU45","TVU4516090","T-Stück          TVU 45    160.90","D3 Vent","30",58.77,{"$f":"G13787*(1-VLOOKUP(F13787,Konditionen!$B:$D,3,0))","v":58.77}]
["Rohre und Formteile","TVU45","TVU45180150","T-Stück          TVU 45    180.150",null,"30",84.49,{"$f":"G13792*(1-VLOOKUP(F13792,Konditionen!$B:$D,3,0))","v":84.49}]
["Rohre und Formteile","TVU45","TVU45200100","T-Stück          TVU 45    200.100",null,"30",68,{"$f":"G13797*(1-VLOOKUP(F13797,Konditionen!$B:$D,3,0))","v":68}]
["Rohre und Formteile","TVU45","TVU4520090","T-Stück          TVU 45    200.90","D3 Vent","30",68,{"$f":"G13806*(1-VLOOKUP(F13806,Konditionen!$B:$D,3,0))","v":68}]
["Rohre und Formteile","TVU45","TVU45224200","T-Stück          TVU 45    224.200",null,"30",96.14,{"$f":"G13814*(1-VLOOKUP(F13814,Konditionen!$B:$D,3,0))","v":96.14}]
["Rohre und Formteile","TVU45","TVU45250150","T-Stück          TVU 45    250.150",null,"30",90.36,{"$f":"G13822*(1-VLOOKUP(F13822,Konditionen!$B:$D,3,0))","v":90.36}]
["Rohre und Formteile","TVU45","TVU45250250","T-Stück          TVU 45    250.250",null,"30",109.25,{"$f":"G13827*(1-VLOOKUP(F13827,Konditionen!$B:$D,3,0))","v":109.25}]
["Rohre und Formteile","TVU45","TVU45280160","T-Stück          TVU 45    280.160",null,"30",101.39,{"$f":"G13835*(1-VLOOKUP(F13835,Konditionen!$B:$D,3,0))","v":101.39}]
["Rohre und Formteile","TVU45","TVU45300125","T-Stück          TVU 45    300.125",null,"30",95.5,{"$f":"G13843*(1-VLOOKUP(F13843,Konditionen!$B:$D,3,0))","v":95.5}]
["Rohre und Formteile","TVU45","TVU45300200","T-Stück          TVU 45    300.200",null,"30",112.4,{"$f":"G13848*(1-VLOOKUP(F13848,Konditionen!$B:$D,3,0))","v":112.4}]
["Rohre und Formteile","TVU45","TVU45315140","T-Stück          TVU 45    315.140",null,"30",104.21,{"$f":"G13856*(1-VLOOKUP(F13856,Konditionen!$B:$D,3,0))","v":104.21}]
["Rohre und Formteile","TVU45","TVU45315224","T-Stück          TVU 45    315.224",null,"30",122.8,{"$f":"G13861*(1-VLOOKUP(F13861,Konditionen!$B:$D,3,0))","v":122.8}]
["Rohre und Formteile","TVU45","TVU45355140","T-Stück          TVU 45    355.140",null,"30",124.16,{"$f":"G13869*(1-VLOOKUP(F13869,Konditionen!$B:$D,3,0))","v":124.16}]
["Rohre und Formteile","TVU45","TVU45355300","T-Stück          TVU 45    355.300",null,"30",170.55,{"$f":"G13877*(1-VLOOKUP(F13877,Konditionen!$B:$D,3,0))","v":170.55}]
["Rohre und Formteile","TVU45","TVU45400180","T-Stück          TVU 45    400.180",null,"30",143.16,{"$f":"G13882*(1-VLOOKUP(F13882,Konditionen!$B:$D,3,0))","v":143.16}]
["Rohre und Formteile","TVU45","TVU45400400","T-Stück          TVU 45    400.400",null,"30",214.01,{"$f":"G13890*(1-VLOOKUP(F13890,Konditionen!$B:$D,3,0))","v":214.01}]
["Rohre und Formteile","TVU45","TVU45450315","T-Stück          TVU 45    450.315",null,"30",219.36,{"$f":"G13898*(1-VLOOKUP(F13898,Konditionen!$B:$D,3,0))","v":219.36}]
["Rohre und Formteile","TVU45","TVU45500224","T-Stück          TVU 45    500.224",null,"30",203.71,{"$f":"G13903*(1-VLOOKUP(F13903,Konditionen!$B:$D,3,0))","v":203.71}]
["Rohre und Formteile","TVU45","TVU45500500","T-Stück          TVU 45    500.500",null,"30",306.05,{"$f":"G13911*(1-VLOOKUP(F13911,Konditionen!$B:$D,3,0))","v":306.05}]
["Rohre und Formteile","TVU45","TVU45560315","T-Stück          TVU 45    560.315",null,"30",273.93,{"$f":"G13916*(1-VLOOKUP(F13916,Konditionen!$B:$D,3,0))","v":273.93}]
["Rohre und Formteile","TVU45","TVU45600355","T-Stück          TVU 45    600.355",null,"30",301.23,{"$f":"G13926*(1-VLOOKUP(F13926,Konditionen!$B:$D,3,0))","v":301.23}]
["Rohre und Formteile","TVU45","TVU45630280","T-Stück          TVU 45    630.280",null,"30",319.48,{"$f":"G13933*(1-VLOOKUP(F13933,Konditionen!$B:$D,3,0))","v":319.48}]
["Rohre und Formteile","TVU45","TVU45630450","T-Stück          TVU 45    630.450",null,"30",406.82,{"$f":"G13938*(1-VLOOKUP(F13938,Konditionen!$B:$D,3,0))","v":406.82}]
["Rohre und Formteile","TVU45","TVU45710355","T-Stück          TVU 45    710.355",null,"30",422.87,{"$f":"G13946*(1-VLOOKUP(F13946,Konditionen!$B:$D,3,0))","v":422.87}]
["Rohre und Formteile","TVU45","TVU45800500","T-Stück          TVU 45    800.500",null,"30",620.4,{"$f":"G13958*(1-VLOOKUP(F13958,Konditionen!$B:$D,3,0))","v":620.4}]
["Rohre und Formteile","TVU45","TVU45800560","T-Stück          TVU 45    800.560",null,"30",672.77,{"$f":"G13959*(1-VLOOKUP(F13959,Konditionen!$B:$D,3,0))","v":672.77}]
["Rohre und Formteile","TVU45","TVU45900355","T-Stück          TVU 45    900.355",null,"30",562.04,{"$f":"G13967*(1-VLOOKUP(F13967,Konditionen!$B:$D,3,0))","v":562.04}]
["Kunststoff","TV45PPS","TV45PPS12001200","PPs T-Stück 45° 1200.1200",null,"17.ALLG",3237.62,{"$f":"G13979*(1-VLOOKUP(F13979,Konditionen!$B:$D,3,0))","v":3237.62}]
["Kunststoff","TV45PPS","TV45PPS12501250","PPs T-Stück 45° 1250.1250",null,"17.ALLG",3422.95,{"$f":"G13980*(1-VLOOKUP(F13980,Konditionen!$B:$D,3,0))","v":3422.95}]
["Kunststoff","TV45PPS","TV45PPS280280","PPs T-Stück 45° 280.280",null,"17.ALLG",167.5,{"$f":"G13988*(1-VLOOKUP(F13988,Konditionen!$B:$D,3,0))","v":167.5}]
["Kunststoff","TV45PPS","TV45PPS710710","PPs T-Stück 45° 710.710",null,"17.ALLG",1169.74,{"$f":"G14000*(1-VLOOKUP(F14000,Konditionen!$B:$D,3,0))","v":1169.74}]
["Kunststoff","TV45PPS","TV45PPS7575","PPs T-Stück 45° 75.75",null,"17.ALLG",64.260000000000005,{"$f":"G14001*(1-VLOOKUP(F14001,Konditionen!$B:$D,3,0))","v":64.260000000000005}]
["Luftdurchlässe","ULV0","ULV02","Teleskopwanddurchführung      ULV02","Breite 470mm, Wandstärken 230-440mm","70",119.18,{"$f":"G14013*(1-VLOOKUP(F14013,Konditionen!$B:$D,3,0))","v":119.18}]
["Rohre und Formteile","UV","UV10025","Montage-Bügel    UV 25          100","*** Netto-Preis ***","90",3,{"$f":"G14021*(1-VLOOKUP(F14021,Konditionen!$B:$D,3,0))","v":3}]
["Rohre und Formteile","UV","UV11225","Montage-Bügel    UV 25          112",null,"90",3,{"$f":"G14022*(1-VLOOKUP(F14022,Konditionen!$B:$D,3,0))","v":3}]
["Rohre und Formteile","UV","UV35525","Montage-Bügel    UV 25          355","*** Netto-Preis ***","90",4.8,{"$f":"G14034*(1-VLOOKUP(F14034,Konditionen!$B:$D,3,0))","v":4.8}]
["Rohre und Formteile","VAK","VAK","Ventil-Einstell-Set             VAK","zur Einregulierung der Ventile","70",26.24,{"$f":"G14042*(1-VLOOKUP(F14042,Konditionen!$B:$D,3,0))","v":26.24}]
["Luftdurchlässe","VBA","VBA1400150","Anschlusskasten   VBA-1 400 x 150mm","Anschluss rückseitig, DN 250mm","70",175.81,{"$f":"G14047*(1-VLOOKUP(F14047,Konditionen!$B:$D,3,0))","v":175.81}]
["Luftdurchlässe","VERSIO","VERSIO-R-200X100","Übergang Versio R-Kasten  200x100mm","Abgang seitlich 2 x DN100, verzinkt","90",26.5,{"$f":"G14055*(1-VLOOKUP(F14055,Konditionen!$B:$D,3,0))","v":26.5}]
["Filter","VFR","VFR305305","Filter-Rahmen  VFR  305 X 305    MM","für Filter 26/48MM  287X287MM","37",44.17,{"$f":"G14063*(1-VLOOKUP(F14063,Konditionen!$B:$D,3,0))","v":44.17}]
["Rohre und Formteile","VHA","VHA200","Fortlufthaube verz. VHA    200/315",null,"53",213.37,{"$f":"G14069*(1-VLOOKUP(F14069,Konditionen!$B:$D,3,0))","v":213.37}]
["Rohre und Formteile","VHING","VHING1001-30","Dachdurchführg.  VHING  1-30   100","mit Platte aus Polymergummi","53",148.93,{"$f":"G14077*(1-VLOOKUP(F14077,Konditionen!$B:$D,3,0))","v":148.93}]
["Rohre und Formteile","VHING","VHING1251-30","Dachdurchführg.  VHING  1-30   125","mit Platte aus Polymergummi","53",162.36000000000001,{"$f":"G14085*(1-VLOOKUP(F14085,Konditionen!$B:$D,3,0))","v":162.36000000000001}]
["Rohre und Formteile","VHING","VHING14031-45","Dachdurchführg.  VHING 31-45   140","mit Platte aus Polymergummi","53",191.86,{"$f":"G14090*(1-VLOOKUP(F14090,Konditionen!$B:$D,3,0))","v":191.86}]
["Rohre und Formteile","VHING","VHING16031-45","Dachdurchführg.  VHING 31-45   160","mit Platte aus Polymergummi","53",191.86,{"$f":"G14098*(1-VLOOKUP(F14098,Konditionen!$B:$D,3,0))","v":191.86}]
["Rohre und Formteile","VHING","VHING18046-55","Dachdurchführg.  VHING 46-55   180","mit Platte aus Polymergummi","53",247.48,{"$f":"G14103*(1-VLOOKUP(F14103,Konditionen!$B:$D,3,0))","v":247.48}]
["Rohre und Formteile","VHING","VHING22446-55","Dachdurchführg.  VHING 46-55   224","mit Platte aus Polymergummi","53",275.51,{"$f":"G14111*(1-VLOOKUP(F14111,Konditionen!$B:$D,3,0))","v":275.51}]
["Rohre und Formteile","VHING","VHING28046-55","Dachdurchführg.  VHING 46-55   280","mit Platte aus Polymergummi","53",388.45,{"$f":"G14119*(1-VLOOKUP(F14119,Konditionen!$B:$D,3,0))","v":388.45}]
["Rohre und Formteile","VHING","VHING3150","Dachdurchführg.  VHING   0     315","komplett verzinkt","53",255.99,{"$f":"G14124*(1-VLOOKUP(F14124,Konditionen!$B:$D,3,0))","v":255.99}]
["Rohre und Formteile","VHING","VHING4000","Dachdurchführg.  VHING   0     400","komplett verzinkt","53",310.57,{"$f":"G14132*(1-VLOOKUP(F14132,Konditionen!$B:$D,3,0))","v":310.57}]
["Rohre und Formteile","VHING","VHING5001-30","Dachdurchführg.  VHING  1-30   500","mit Platte aus Polymergummi","53",555.42999999999995,{"$f":"G14140*(1-VLOOKUP(F14140,Konditionen!$B:$D,3,0))","v":555.42999999999995}]
["Rohre und Formteile","VHING","VHING56016-30","Dachdurchführg.  VHING 16-30   560","mit Platte aus Polymergummi","53",573.38,{"$f":"G14145*(1-VLOOKUP(F14145,Konditionen!$B:$D,3,0))","v":573.38}]
["Rohre und Formteile","VHING","VHING6300","Dachdurchführg.  VHING   0     630","komplett verzinkt","53",485.53,{"$f":"G14153*(1-VLOOKUP(F14153,Konditionen!$B:$D,3,0))","v":485.53}]
["Rohre und Formteile","VHING","VHING7100","Dachdurchführg.  VHING   0     710","komplett verzinkt","53",547.55999999999995,{"$f":"G14158*(1-VLOOKUP(F14158,Konditionen!$B:$D,3,0))","v":547.55999999999995}]
["Rohre und Formteile","VHING","VHING80016-30","Dachdurchführg.  VHING 16-30   800","mit Platte aus Polymergummi","53",819.41,{"$f":"G14166*(1-VLOOKUP(F14166,Konditionen!$B:$D,3,0))","v":819.41}]
["Rohre und Formteile","VHLV2A","VHLV2A250","Lamellenhaube V2A  VHL      250.380","H = 197 - 7 Lamellen   * 1.4301","60",2011.09,{"$f":"G14174*(1-VLOOKUP(F14174,Konditionen!$B:$D,3,0))","v":2011.09}]
["Rohre und Formteile","VHLV2A","VHLV2A600","Lamellenhaube V2A  VHL      600.760","H = 413 - 14 Lamellen  * 1.4301","60",5326.77,{"$f":"G14179*(1-VLOOKUP(F14179,Konditionen!$B:$D,3,0))","v":5326.77}]
["Rohre und Formteile","VHL","VHL1000","Lamellenhaube verz.  VHL 1000.1130","H=692 - 22 Lamellen","53",4721.21,{"$f":"G14184*(1-VLOOKUP(F14184,Konditionen!$B:$D,3,0))","v":4721.21}]
["Rohre und Formteile","VHL","VHL400560","Lamellenhaube verz.  VHL   400/560",null,"53",651.36,{"$f":"G14193*(1-VLOOKUP(F14193,Konditionen!$B:$D,3,0))","v":651.36}]
["Rohre und Formteile","VHP","VHP160280","Dachhaube       VHP        160.280",null,"53",138.65,{"$f":"G14201*(1-VLOOKUP(F14201,Konditionen!$B:$D,3,0))","v":138.65}]
["Rohre und Formteile","VHP","VHP630800","Dachhaube       VHP        630.800",null,"53",839.77,{"$f":"G14209*(1-VLOOKUP(F14209,Konditionen!$B:$D,3,0))","v":839.77}]
["Rohre und Formteile","VHV2A","VHV2A125","Dachhaube        VH V2A        125","Edelstahl W.Nr. 1.4301, Nippelmaß","60",260.18,{"$f":"G14214*(1-VLOOKUP(F14214,Konditionen!$B:$D,3,0))","v":260.18}]
["Rohre und Formteile","VHV2A","VHV2A280","Dachhaube        VH V2A        280","Edelstahl W.Nr. 1.4301, Nippelmaß","60",441.81,{"$f":"G14222*(1-VLOOKUP(F14222,Konditionen!$B:$D,3,0))","v":441.81}]
["Rohre und Formteile","VHV2A","VHV2A600","Dachhaube        VH V2A        600","Edelstahl W.Nr. 1.4301, Nippelmaß","60",1123.72,{"$f":"G14230*(1-VLOOKUP(F14230,Konditionen!$B:$D,3,0))","v":1123.72}]
["Rohre und Formteile","VH","VH140","Dachhaube        VH            140",null,"53",75.78,{"$f":"G14235*(1-VLOOKUP(F14235,Konditionen!$B:$D,3,0))","v":75.78}]
["Rohre und Formteile","VH","VH300","Dachhaube        VH            300",null,"53",115.03,{"$f":"G14243*(1-VLOOKUP(F14243,Konditionen!$B:$D,3,0))","v":115.03}]
["Rohre und Formteile","VH","VH500","Dachhaube        VH            500",null,"53",275.2,{"$f":"G14248*(1-VLOOKUP(F14248,Konditionen!$B:$D,3,0))","v":275.2}]
["Smarttools","VIS350","VIS350","Inspektionskamera VIS 350","mit Videospeicher **Netto-Preis**","90",2030,{"$f":"G14256*(1-VLOOKUP(F14256,Konditionen!$B:$D,3,0))","v":2030}]
["Rohre und Formteile","VLG","VLG180","Mauerhülse       VLG           180","d = 185 mm","30",43.55,{"$f":"G14264*(1-VLOOKUP(F14264,Konditionen!$B:$D,3,0))","v":43.55}]
["Rohre und Formteile","VLG","VLG300","Mauerhülse       VLG           300","Handgebaut, ohne Löcher, nicht","30",64.13,{"$f":"G14269*(1-VLOOKUP(F14269,Konditionen!$B:$D,3,0))","v":64.13}]
["Rohre und Formteile","VLG","VLG63","Mauerhülse       VLG            63","d = 63 mm handgefertigt","30",29.49,{"$f":"G14277*(1-VLOOKUP(F14277,Konditionen!$B:$D,3,0))","v":29.49}]
["Ventilatoren","VRDE","VRDE3","Trafo-Drehzahlsteller VRDE 3","230 Volt, 2-stufig","18.ALLG",322.2,{"$f":"G14289*(1-VLOOKUP(F14289,Konditionen!$B:$D,3,0))","v":322.2}]
["Ventilatoren","VRDE","VRDE7","Trafo-Drehzahlsteller VRDE 7","230 Volt, 2-stufig","18.ALLG",430.1,{"$f":"G14290*(1-VLOOKUP(F14290,Konditionen!$B:$D,3,0))","v":430.1}]
["Rohre und Formteile","VRFU","VRFU100","Montagering VRFU  100",null,"70",5.57,{"$f":"G14298*(1-VLOOKUP(F14298,Konditionen!$B:$D,3,0))","v":5.57}]
["Rohre und Formteile","VRGU","VRGU125","Montagering VRGU  125","mit Doppellippendichtung","70",5.27,{"$f":"G14310*(1-VLOOKUP(F14310,Konditionen!$B:$D,3,0))","v":5.27}]
["Rohre und Formteile","VRR","VRR100","Abdecksockel VRR 100",null,"70",25.1,{"$f":"G14313*(1-VLOOKUP(F14313,Konditionen!$B:$D,3,0))","v":25.1}]
["Ventilatoren","VRS","VRS2UP","Elektr. Drehzahlsteller VRS 2,0 UP",null,"18.ALLG",90.45,{"$f":"G14320*(1-VLOOKUP(F14320,Konditionen!$B:$D,3,0))","v":90.45}]
["Luftdurchlässe","VRU","VRU-100-MF","VVS-Regler               VRU-100-MF","Min. 0m³/h - Max. 198m³/h","70",721.17,{"$f":"G14332*(1-VLOOKUP(F14332,Konditionen!$B:$D,3,0))","v":721.17}]
["Luftdurchlässe","VRU","VRU-125-MF","VVS-Regler               VRU-125-MF","Min. 0m³/h - Max. 309m³/h","70",721.17,{"$f":"G14333*(1-VLOOKUP(F14333,Konditionen!$B:$D,3,0))","v":721.17}]
["Luftdurchlässe","VR","VR315","Frischluftgitter VR             315","M/Rundem Anschluß","70",386.02,{"$f":"G14345*(1-VLOOKUP(F14345,Konditionen!$B:$D,3,0))","v":386.02}]
["Luftdurchlässe","VS-5","VS-5/V/R-400","Weitwurfdüse         VS-5/V/R-400mm","manuell 30° schwenkbar      RAL9010","70",469.87,{"$f":"G14353*(1-VLOOKUP(F14353,Konditionen!$B:$D,3,0))","v":469.87}]
["Luftdurchlässe","VSR","VSR200","Ventiduct       VSR-0200-xxx-1000-0","Düsenrohr xxx=Düsenmuster angeben!!","70",197.97,{"$f":"G14354*(1-VLOOKUP(F14354,Konditionen!$B:$D,3,0))","v":197.97}]
["Rohre und Formteile","VS","VS250","Vogelschutz VS 250",null,"17.ALLG",42.44,{"$f":"G14366*(1-VLOOKUP(F14366,Konditionen!$B:$D,3,0))","v":42.44}]
["Rohre und Formteile","VS","VS600","Vogelschutz VS 600",null,"17.ALLG",108,{"$f":"G14374*(1-VLOOKUP(F14374,Konditionen!$B:$D,3,0))","v":108}]
["Rohre und Formteile","VS","VS630","Vogelschutz VS 630",null,"17.ALLG",108,{"$f":"G14375*(1-VLOOKUP(F14375,Konditionen!$B:$D,3,0))","v":108}]
["Luftdurchlässe","WB","WB1500150","Anschlusskasten   WB-1  500 x 150mm","Anschluss hinten DN125mm","70",125.23,{"$f":"G14387*(1-VLOOKUP(F14387,Konditionen!$B:$D,3,0))","v":125.23}]
["Rohre und Formteile","WDI","WDI160","Isolierte Wanddurchführung  WDI-160","incl. Wetterschutzgitter WGRVZ-160","90",70.430000000000007,{"$f":"G14395*(1-VLOOKUP(F14395,Konditionen!$B:$D,3,0))","v":70.430000000000007}]
["Luftdurchlässe","WEIDM","WEIDMULLER3-POLE","Weidmüller Stecker 3-polig",null,"70",3.05,{"$f":"G14400*(1-VLOOKUP(F14400,Konditionen!$B:$D,3,0))","v":3.05}]
["Brandschutz","WH25B-S2","WH25BS2150","Brandschutzklappe WH25 150","mit 2 Endlageschaltern","80",378.53,{"$f":"G14408*(1-VLOOKUP(F14408,Konditionen!$B:$D,3,0))","v":378.53}]
["Brandschutz","WH25B-S2","WH25BS2315","Brandschutzklappe WH25 315","mit 2 Endlageschaltern","80",477.75,{"$f":"G14416*(1-VLOOKUP(F14416,Konditionen!$B:$D,3,0))","v":477.75}]
["Brandschutz","WH25B","WH25B160","Brandschutzklappe WH25 160",null,"80",318.68,{"$f":"G14421*(1-VLOOKUP(F14421,Konditionen!$B:$D,3,0))","v":318.68}]
["Brandschutz","WH45B-S2","WH45BS2200","Brandschutzklappe WH45 200","mit 2 Endlageschaltern","80",539.70000000000005,{"$f":"G14429*(1-VLOOKUP(F14429,Konditionen!$B:$D,3,0))","v":539.70000000000005}]
["Brandschutz","WH45B-S2","WH45BS2400","Brandschutzklappe WH45 400","mit 2 Endlageschaltern","80",699.62,{"$f":"G14434*(1-VLOOKUP(F14434,Konditionen!$B:$D,3,0))","v":699.62}]
["Brandschutz","WH45B","WH45B200","Brandschutzklappe WH45 200",null,"80",455.28,{"$f":"G14442*(1-VLOOKUP(F14442,Konditionen!$B:$D,3,0))","v":455.28}]
["Brandschutz","WH45B","WH45B600","Brandschutzklappe WH45 600",null,"80",765.24,{"$f":"G14451*(1-VLOOKUP(F14451,Konditionen!$B:$D,3,0))","v":765.24}]
["Brandschutz","WH45DGBM","WH45DGB560","Brandschutzklappe WH45 560  230V","mit Stellmotor Belimo BF230T","80",1995.21,{"$f":"G14456*(1-VLOOKUP(F14456,Konditionen!$B:$D,3,0))","v":1995.21}]
["Brandschutz","WH45VGBM","WH45VGB600","Brandschutzklappe WH45 600  24V","mit Stellmotor Belimo BF24T","80",1765.05,{"$f":"G14464*(1-VLOOKUP(F14464,Konditionen!$B:$D,3,0))","v":1765.05}]
["Rohre und Formteile","WKRV2A","WKRV2A150","Wasserkragen     WKR V2A       150","Edelstahl W.Nr. 1.4301","60",224.92,{"$f":"G14472*(1-VLOOKUP(F14472,Konditionen!$B:$D,3,0))","v":224.92}]
["Rohre und Formteile","WKRV2A","WKRV2A250","Wasserkragen     WKR V2A       250","Edelstahl W.Nr. 1.4301","60",290.31,{"$f":"G14477*(1-VLOOKUP(F14477,Konditionen!$B:$D,3,0))","v":290.31}]
["Rohre und Formteile","WKRV2A","WKRV2A560","Wasserkragen     WKR V2A       560","Edelstahl W.Nr. 1.4301","60",936.8,{"$f":"G14485*(1-VLOOKUP(F14485,Konditionen!$B:$D,3,0))","v":936.8}]
["Rohre und Formteile","WKRV2A","WKRV2A900","Wasserkragen     WKR V2A       900","Edelstahl W.Nr. 1.4301","60",1336.16,{"$f":"G14490*(1-VLOOKUP(F14490,Konditionen!$B:$D,3,0))","v":1336.16}]
["Rohre und Formteile","WKR","WKR200","Wasserkragen     WKR           200",null,"53",50.38,{"$f":"G14498*(1-VLOOKUP(F14498,Konditionen!$B:$D,3,0))","v":50.38}]
["Rohre und Formteile","WKR","WKR450","Wasserkragen     WKR           450",null,"53",123.53,{"$f":"G14506*(1-VLOOKUP(F14506,Konditionen!$B:$D,3,0))","v":123.53}]
["Rohre und Formteile","WKR","WKR710","Wasserkragen     WKR           710","Symmetrisch","53",300.18,{"$f":"G14511*(1-VLOOKUP(F14511,Konditionen!$B:$D,3,0))","v":300.18}]
["Brandschutz","WK25B-S2","WK25BS2100450","Brandschutzklappe WK25 100x450","mit 2 Endlageschaltern","80",514.71,{"$f":"G14519*(1-VLOOKUP(F14519,Konditionen!$B:$D,3,0))","v":514.71}]
["Brandschutz","WK25B-S2","WK25BS2150400","Brandschutzklappe WK25 150x400","mit 2 Endlageschaltern","80",517.34,{"$f":"G14527*(1-VLOOKUP(F14527,Konditionen!$B:$D,3,0))","v":517.34}]
["Brandschutz","WK25B-S2","WK25BS2200200","Brandschutzklappe WK25 200x200","mit 2 Endlageschaltern","80",479.54,{"$f":"G14532*(1-VLOOKUP(F14532,Konditionen!$B:$D,3,0))","v":479.54}]
["Brandschutz","WK25B-S2","WK25BS2200600","Brandschutzklappe WK25 200x600","mit 2 Endlageschaltern","80",602.70000000000005,{"$f":"G14540*(1-VLOOKUP(F14540,Konditionen!$B:$D,3,0))","v":602.70000000000005}]
["Brandschutz","WK25B-S2","WK25BS2250400","Brandschutzklappe WK25 250x400","mit 2 Endlageschaltern","80",558.6,{"$f":"G14545*(1-VLOOKUP(F14545,Konditionen!$B:$D,3,0))","v":558.6}]
["Brandschutz","WK25B-S2","WK25BS2300350","Brandschutzklappe WK25 300x350","mit 2 Endlageschaltern","80",558.29,{"$f":"G14553*(1-VLOOKUP(F14553,Konditionen!$B:$D,3,0))","v":558.29}]
["Brandschutz","WK25B-S2","WK25BS2350300","Brandschutzklappe WK25 350x300","mit 2 Endlageschaltern","80",556.61,{"$f":"G14561*(1-VLOOKUP(F14561,Konditionen!$B:$D,3,0))","v":556.61}]
["Brandschutz","WK25B-S2","WK25BS2400350","Brandschutzklappe WK25 400x350","mit 2 Endlageschaltern","80",595.88,{"$f":"G14571*(1-VLOOKUP(F14571,Konditionen!$B:$D,3,0))","v":595.88}]
["Brandschutz","WK25B-S2","WK25BS2400550","Brandschutzklappe WK25 400x550","mit 2 Endlageschaltern","80",672.74,{"$f":"G14575*(1-VLOOKUP(F14575,Konditionen!$B:$D,3,0))","v":672.74}]
["Brandschutz","WK25B-S2","WK25BS2450350","Brandschutzklappe WK25 450x350","mit 2 Endlageschaltern","80",611.84,{"$f":"G14580*(1-VLOOKUP(F14580,Konditionen!$B:$D,3,0))","v":611.84}]
["Brandschutz","WK25B-S2","WK25BS2500300","Brandschutzklappe WK25 500x300","mit 2 Endlageschaltern","80",606.16999999999996,{"$f":"G14588*(1-VLOOKUP(F14588,Konditionen!$B:$D,3,0))","v":606.16999999999996}]
["Brandschutz","WK25B-S2","WK25BS2550250","Brandschutzklappe WK25 550x250","mit 2 Endlageschaltern","80",601.86,{"$f":"G14596*(1-VLOOKUP(F14596,Konditionen!$B:$D,3,0))","v":601.86}]
["Brandschutz","WK25B-S2","WK25BS2550500","Brandschutzklappe WK25 550x500","mit 2 Endlageschaltern","80",714.42,{"$f":"G14601*(1-VLOOKUP(F14601,Konditionen!$B:$D,3,0))","v":714.42}]
["Brandschutz","WK25B-S2","WK25BS2600450","Brandschutzklappe WK25 600x450","mit 2 Endlageschaltern","80",707.39,{"$f":"G14609*(1-VLOOKUP(F14609,Konditionen!$B:$D,3,0))","v":707.39}]
["Brandschutz","WK25B-S2","WK25BS2650400","Brandschutzklappe WK25 650x400","mit 2 Endlageschaltern","80",703.4,{"$f":"G14617*(1-VLOOKUP(F14617,Konditionen!$B:$D,3,0))","v":703.4}]
["Brandschutz","WK25B-S2","WK25BS2700200","Brandschutzklappe WK25 700x200","mit 2 Endlageschaltern","80",621.39,{"$f":"G14622*(1-VLOOKUP(F14622,Konditionen!$B:$D,3,0))","v":621.39}]
["Brandschutz","WK25B-S2","WK25BS2700600","Brandschutzklappe WK25 700x600","mit 2 Endlageschaltern","80",832.55,{"$f":"G14630*(1-VLOOKUP(F14630,Konditionen!$B:$D,3,0))","v":832.55}]
["Brandschutz","WK25B-S2","WK25BS2800300","Brandschutzklappe WK25 800x300","mit 2 Endlageschaltern","80",701.82,{"$f":"G14642*(1-VLOOKUP(F14642,Konditionen!$B:$D,3,0))","v":701.82}]
["Brandschutz","WK25B-S2","WK25BS2800350","Brandschutzklappe WK25 800x350","mit 2 Endlageschaltern","80",729.86,{"$f":"G14643*(1-VLOOKUP(F14643,Konditionen!$B:$D,3,0))","v":729.86}]
["Brandschutz","WK25B","WK25B100300","Brandschutzklappe WK25 100x300",null,"80",405.3,{"$f":"G14651*(1-VLOOKUP(F14651,Konditionen!$B:$D,3,0))","v":405.3}]
["Brandschutz","WK25B","WK25B150450","Brandschutzklappe WK25 150x450",null,"80",462.74,{"$f":"G14663*(1-VLOOKUP(F14663,Konditionen!$B:$D,3,0))","v":462.74}]
["Brandschutz","WK25B","WK25B150500","Brandschutzklappe WK25 150x500",null,"80",476.7,{"$f":"G14664*(1-VLOOKUP(F14664,Konditionen!$B:$D,3,0))","v":476.7}]
["Brandschutz","WK25B","WK25B250200","Brandschutzklappe WK25 250x200",null,"80",424.52,{"$f":"G14676*(1-VLOOKUP(F14676,Konditionen!$B:$D,3,0))","v":424.52}]
["Brandschutz","WK25B","WK25B250600","Brandschutzklappe WK25 250x600",null,"80",550.1,{"$f":"G14684*(1-VLOOKUP(F14684,Konditionen!$B:$D,3,0))","v":550.1}]
["Brandschutz","WK25B","WK25B300200","Brandschutzklappe WK25 300x200",null,"80",437.54,{"$f":"G14685*(1-VLOOKUP(F14685,Konditionen!$B:$D,3,0))","v":437.54}]
["Brandschutz","WK25B","WK25B300550","Brandschutzklappe WK25 300x550",null,"80",553.77,{"$f":"G14692*(1-VLOOKUP(F14692,Konditionen!$B:$D,3,0))","v":553.77}]
["Brandschutz","WK25B","WK25B400350","Brandschutzklappe WK25 400x350",null,"80",523.32000000000005,{"$f":"G14706*(1-VLOOKUP(F14706,Konditionen!$B:$D,3,0))","v":523.32000000000005}]
["Brandschutz","WK25B","WK25B400400","Brandschutzklappe WK25 400x400",null,"80",542.12,{"$f":"G14707*(1-VLOOKUP(F14707,Konditionen!$B:$D,3,0))","v":542.12}]
["Brandschutz","WK25B","WK25B450550","Brandschutzklappe WK25 450x550",null,"80",616.35,{"$f":"G14719*(1-VLOOKUP(F14719,Konditionen!$B:$D,3,0))","v":616.35}]
["Brandschutz","WK25B","WK25B500500","Brandschutzklappe WK25 500x500",null,"80",617.4,{"$f":"G14727*(1-VLOOKUP(F14727,Konditionen!$B:$D,3,0))","v":617.4}]
["Brandschutz","WK25B","WK25B550300","Brandschutzklappe WK25 550x300",null,"80",549.57000000000005,{"$f":"G14732*(1-VLOOKUP(F14732,Konditionen!$B:$D,3,0))","v":549.57000000000005}]
["Brandschutz","WK25B","WK25B600250","Brandschutzklappe WK25 600x250",null,"80",542.96,{"$f":"G14740*(1-VLOOKUP(F14740,Konditionen!$B:$D,3,0))","v":542.96}]
["Brandschutz","WK25B","WK25B650200","Brandschutzklappe WK25 650x200",null,"80",534.87,{"$f":"G14748*(1-VLOOKUP(F14748,Konditionen!$B:$D,3,0))","v":534.87}]
["Brandschutz","WK25B","WK25B650450","Brandschutzklappe WK25 650x450",null,"80",648.38,{"$f":"G14753*(1-VLOOKUP(F14753,Konditionen!$B:$D,3,0))","v":648.38}]
["Brandschutz","WK25B","WK25B700400","Brandschutzklappe WK25 700x400",null,"80",643.65,{"$f":"G14761*(1-VLOOKUP(F14761,Konditionen!$B:$D,3,0))","v":643.65}]
["Brandschutz","WK25B","WK25B750350","Brandschutzklappe WK25 750x350",null,"80",636.72,{"$f":"G14769*(1-VLOOKUP(F14769,Konditionen!$B:$D,3,0))","v":636.72}]
["Brandschutz","WK25B","WK25B750600","Brandschutzklappe WK25 750x600",null,"80",773.85,{"$f":"G14774*(1-VLOOKUP(F14774,Konditionen!$B:$D,3,0))","v":773.85}]
["Brandschutz","WK25B","WK25B800550","Brandschutzklappe WK25 800x550",null,"80",767.97,{"$f":"G14782*(1-VLOOKUP(F14782,Konditionen!$B:$D,3,0))","v":767.97}]
["Brandschutz","WK45B-SA","WK45BSA1000250","Brandschutzklappe WK45 1000x250","mit Endlageschalter offen","80",740.25,{"$f":"G14787*(1-VLOOKUP(F14787,Konditionen!$B:$D,3,0))","v":740.25}]
["Brandschutz","WK45B-SA","WK45BSA1000650","Brandschutzklappe WK45 1000x650","mit Endlageschalter offen","80",1023.44,{"$f":"G14795*(1-VLOOKUP(F14795,Konditionen!$B:$D,3,0))","v":1023.44}]
["Brandschutz","WK45B-SA","WK45BSA1050400","Brandschutzklappe WK45 1050x400","mit Endlageschalter offen","80",878.96,{"$f":"G14803*(1-VLOOKUP(F14803,Konditionen!$B:$D,3,0))","v":878.96}]
["Brandschutz","WK45B-SA","WK45BSA1050650","Brandschutzklappe WK45 1050x650","mit Endlageschalter offen","80",1050.21,{"$f":"G14808*(1-VLOOKUP(F14808,Konditionen!$B:$D,3,0))","v":1050.21}]
["Brandschutz","WK45B-SA","WK45BSA1100400","Brandschutzklappe WK45 1100x400","mit Endlageschalter offen","80",898.7,{"$f":"G14816*(1-VLOOKUP(F14816,Konditionen!$B:$D,3,0))","v":898.7}]
["Brandschutz","WK45B-SA","WK45BSA1100650","Brandschutzklappe WK45 1100x650","mit Endlageschalter offen","80",1074.99,{"$f":"G14821*(1-VLOOKUP(F14821,Konditionen!$B:$D,3,0))","v":1074.99}]
["Brandschutz","WK45B-SA","WK45BSA1150400","Brandschutzklappe WK45 1150x400","mit Endlageschalter offen","80",918.44,{"$f":"G14829*(1-VLOOKUP(F14829,Konditionen!$B:$D,3,0))","v":918.44}]
["Brandschutz","WK45B-SA","WK45BSA1200200","Brandschutzklappe WK45 1200x200","mit Endlageschalter offen","80",788.55,{"$f":"G14838*(1-VLOOKUP(F14838,Konditionen!$B:$D,3,0))","v":788.55}]
["Brandschutz","WK45B-SA","WK45BSA1200450","Brandschutzklappe WK45 1200x450","mit Endlageschalter offen","80",974.09,{"$f":"G14843*(1-VLOOKUP(F14843,Konditionen!$B:$D,3,0))","v":974.09}]
["Brandschutz","WK45B-SA","WK45BSA1250200","Brandschutzklappe WK45 1250x200","mit Endlageschalter offen","80",804.3,{"$f":"G14851*(1-VLOOKUP(F14851,Konditionen!$B:$D,3,0))","v":804.3}]
["Brandschutz","WK45B-SA","WK45BSA1250600","Brandschutzklappe WK45 1250x600","mit Endlageschalter offen","80",1112.58,{"$f":"G14859*(1-VLOOKUP(F14859,Konditionen!$B:$D,3,0))","v":1112.58}]
["Brandschutz","WK45B-SA","WK45BSA1300200","Brandschutzklappe WK45 1300x200","mit Endlageschalter offen","80",819.95,{"$f":"G14864*(1-VLOOKUP(F14864,Konditionen!$B:$D,3,0))","v":819.95}]
["Brandschutz","WK45B-SA","WK45BSA1300600","Brandschutzklappe WK45 1300x600","mit Endlageschalter offen","80",1136.42,{"$f":"G14872*(1-VLOOKUP(F14872,Konditionen!$B:$D,3,0))","v":1136.42}]
["Brandschutz","WK45B-SA","WK45BSA1350200","Brandschutzklappe WK45 1350x200","mit Endlageschalter offen","80",840.21,{"$f":"G14877*(1-VLOOKUP(F14877,Konditionen!$B:$D,3,0))","v":840.21}]
["Brandschutz","WK45B-SA","WK45BSA1350600","Brandschutzklappe WK45 1350x600","mit Endlageschalter offen","80",1165.29,{"$f":"G14885*(1-VLOOKUP(F14885,Konditionen!$B:$D,3,0))","v":1165.29}]
["Brandschutz","WK45B-SA","WK45BSA1400350","Brandschutzklappe WK45 1400x350","mit Endlageschalter offen","80",980.18,{"$f":"G14893*(1-VLOOKUP(F14893,Konditionen!$B:$D,3,0))","v":980.18}]
["Brandschutz","WK45B-SA","WK45BSA1400600","Brandschutzklappe WK45 1400x600","mit Endlageschalter offen","80",1189.1300000000001,{"$f":"G14898*(1-VLOOKUP(F14898,Konditionen!$B:$D,3,0))","v":1189.1300000000001}]
["Brandschutz","WK45B-SA","WK45BSA1450350","Brandschutzklappe WK45 1450x350","mit Endlageschalter offen","80",998.97,{"$f":"G14906*(1-VLOOKUP(F14906,Konditionen!$B:$D,3,0))","v":998.97}]
["Brandschutz","WK45B-SA","WK45BSA1450750","Brandschutzklappe WK45 1450x750","mit Endlageschalter offen","80",1341.38,{"$f":"G14914*(1-VLOOKUP(F14914,Konditionen!$B:$D,3,0))","v":1341.38}]
["Brandschutz","WK45B-SA","WK45BSA1500350","Brandschutzklappe WK45 1500x350","mit Endlageschalter offen","80",1017.66,{"$f":"G14919*(1-VLOOKUP(F14919,Konditionen!$B:$D,3,0))","v":1017.66}]
["Brandschutz","WK45B-SA","WK45BSA1500750","Brandschutzklappe WK45 1500x750","mit Endlageschalter offen","80",1368.26,{"$f":"G14927*(1-VLOOKUP(F14927,Konditionen!$B:$D,3,0))","v":1368.26}]
["Brandschutz","WK45B-SA","WK45BSA200350","Brandschutzklappe WK45 200x350","mit Endlageschalter offen","80",498.96,{"$f":"G14932*(1-VLOOKUP(F14932,Konditionen!$B:$D,3,0))","v":498.96}]
["Brandschutz","WK45B-SA","WK45BSA200750","Brandschutzklappe WK45 200x750","mit Endlageschalter offen","80",635.66999999999996,{"$f":"G14940*(1-VLOOKUP(F14940,Konditionen!$B:$D,3,0))","v":635.66999999999996}]
["Brandschutz","WK45B-SA","WK45BSA250500","Brandschutzklappe WK45 250x500","mit Endlageschalter offen","80",573.20000000000005,{"$f":"G14948*(1-VLOOKUP(F14948,Konditionen!$B:$D,3,0))","v":573.20000000000005}]
["Brandschutz","WK45B-SA","WK45BSA300350","Brandschutzklappe WK45 300x350","mit Endlageschalter offen","80",536.34,{"$f":"G14958*(1-VLOOKUP(F14958,Konditionen!$B:$D,3,0))","v":536.34}]
["Brandschutz","WK45B-SA","WK45BSA300550","Brandschutzklappe WK45 300x550","mit Endlageschalter offen","80",612.57000000000005,{"$f":"G14962*(1-VLOOKUP(F14962,Konditionen!$B:$D,3,0))","v":612.57000000000005}]
["Brandschutz","WK45B-SA","WK45BSA350500","Brandschutzklappe WK45 350x500","mit Endlageschalter offen","80",618.14,{"$f":"G14974*(1-VLOOKUP(F14974,Konditionen!$B:$D,3,0))","v":618.14}]
["Brandschutz","WK45B-SA","WK45BSA350550","Brandschutzklappe WK45 350x550","mit Endlageschalter offen","80",636.92999999999995,{"$f":"G14975*(1-VLOOKUP(F14975,Konditionen!$B:$D,3,0))","v":636.92999999999995}]
["Brandschutz","WK45B-SA","WK45BSA400300","Brandschutzklappe WK45 400x300","mit Endlageschalter offen","80",564.27,{"$f":"G14983*(1-VLOOKUP(F14983,Konditionen!$B:$D,3,0))","v":564.27}]
["Brandschutz","WK45B-SA","WK45BSA450250","Brandschutzklappe WK45 450x250","mit Endlageschalter offen","80",559.76,{"$f":"G14995*(1-VLOOKUP(F14995,Konditionen!$B:$D,3,0))","v":559.76}]
["Brandschutz","WK45B-SA","WK45BSA450300","Brandschutzklappe WK45 450x300","mit Endlageschalter offen","80",581.91,{"$f":"G14996*(1-VLOOKUP(F14996,Konditionen!$B:$D,3,0))","v":581.91}]
["Brandschutz","WK45B-SA","WK45BSA450700","Brandschutzklappe WK45 450x700","mit Endlageschalter offen","80",753.38,{"$f":"G15004*(1-VLOOKUP(F15004,Konditionen!$B:$D,3,0))","v":753.38}]
["Brandschutz","WK45B-SA","WK45BSA500650","Brandschutzklappe WK45 500x650","mit Endlageschalter offen","80",752.96,{"$f":"G15016*(1-VLOOKUP(F15016,Konditionen!$B:$D,3,0))","v":752.96}]
["Brandschutz","WK45B-SA","WK45BSA500700","Brandschutzklappe WK45 500x700","mit Endlageschalter offen","80",779.1,{"$f":"G15017*(1-VLOOKUP(F15017,Konditionen!$B:$D,3,0))","v":779.1}]
["Brandschutz","WK45B-SA","WK45BSA550650","Brandschutzklappe WK45 550x650","mit Endlageschalter offen","80",779.42,{"$f":"G15029*(1-VLOOKUP(F15029,Konditionen!$B:$D,3,0))","v":779.42}]
["Brandschutz","WK45B-SA","WK45BSA600400","Brandschutzklappe WK45 600x400","mit Endlageschalter offen","80",679.35,{"$f":"G15037*(1-VLOOKUP(F15037,Konditionen!$B:$D,3,0))","v":679.35}]
["Brandschutz","WK45B-SA","WK45BSA600450","Brandschutzklappe WK45 600x450","mit Endlageschalter offen","80",703.19,{"$f":"G15038*(1-VLOOKUP(F15038,Konditionen!$B:$D,3,0))","v":703.19}]
["Brandschutz","WK45B-SA","WK45BSA650400","Brandschutzklappe WK45 650x400","mit Endlageschalter offen","80",699.2,{"$f":"G15050*(1-VLOOKUP(F15050,Konditionen!$B:$D,3,0))","v":699.2}]
["Brandschutz","WK45B-SA","WK45BSA650800","Brandschutzklappe WK45 650x800","mit Endlageschalter offen","80",919.7,{"$f":"G15058*(1-VLOOKUP(F15058,Konditionen!$B:$D,3,0))","v":919.7}]
["Brandschutz","WK45B-SA","WK45BSA700400","Brandschutzklappe WK45 700x400","mit Endlageschalter offen","80",718.94,{"$f":"G15063*(1-VLOOKUP(F15063,Konditionen!$B:$D,3,0))","v":718.94}]
["Brandschutz","WK45B-SA","WK45BSA700800","Brandschutzklappe WK45 700x800","mit Endlageschalter offen","80",947.52,{"$f":"G15071*(1-VLOOKUP(F15071,Konditionen!$B:$D,3,0))","v":947.52}]
["Brandschutz","WK45B-SA","WK45BSA750550","Brandschutzklappe WK45 750x550","mit Endlageschalter offen","80",836.54,{"$f":"G15079*(1-VLOOKUP(F15079,Konditionen!$B:$D,3,0))","v":836.54}]
["Brandschutz","WK45B-SA","WK45BSA800300","Brandschutzklappe WK45 800x300","mit Endlageschalter offen","80",699.93,{"$f":"G15087*(1-VLOOKUP(F15087,Konditionen!$B:$D,3,0))","v":699.93}]
["Brandschutz","WK45B-SA","WK45BSA800600","Brandschutzklappe WK45 800x600","mit Endlageschalter offen","80",893.34,{"$f":"G15093*(1-VLOOKUP(F15093,Konditionen!$B:$D,3,0))","v":893.34}]
["Brandschutz","WK45B-SA","WK45BSA850350","Brandschutzklappe WK45 850x350","mit Endlageschalter offen","80",753.59,{"$f":"G15101*(1-VLOOKUP(F15101,Konditionen!$B:$D,3,0))","v":753.59}]
["Brandschutz","WK45B-SA","WK45BSA850600","Brandschutzklappe WK45 850x600","mit Endlageschalter offen","80",917.07,{"$f":"G15106*(1-VLOOKUP(F15106,Konditionen!$B:$D,3,0))","v":917.07}]
["Brandschutz","WK45B-SA","WK45BSA900350","Brandschutzklappe WK45 900x350","mit Endlageschalter offen","80",772.28,{"$f":"G15114*(1-VLOOKUP(F15114,Konditionen!$B:$D,3,0))","v":772.28}]
["Brandschutz","WK45B-SA","WK45BSA900600","Brandschutzklappe WK45 900x600","mit Endlageschalter offen","80",940.91,{"$f":"G15119*(1-VLOOKUP(F15119,Konditionen!$B:$D,3,0))","v":940.91}]
["Brandschutz","WK45B-SA","WK45BSA950350","Brandschutzklappe WK45 950x350","mit Endlageschalter offen","80",805.04,{"$f":"G15127*(1-VLOOKUP(F15127,Konditionen!$B:$D,3,0))","v":805.04}]
["Brandschutz","WK45B-SA","WK45BSA950750","Brandschutzklappe WK45 950x750","mit Endlageschalter offen","80",1065.33,{"$f":"G15135*(1-VLOOKUP(F15135,Konditionen!$B:$D,3,0))","v":1065.33}]
["Brandschutz","WK45B-SC","WK45BSC1000350","Brandschutzklappe WK45 1000x350","mit Endlageschalter geschlossen","80",823.73,{"$f":"G15140*(1-VLOOKUP(F15140,Konditionen!$B:$D,3,0))","v":823.73}]
["Brandschutz","WK45B-SC","WK45BSC1000750","Brandschutzklappe WK45 1000x750","mit Endlageschalter geschlossen","80",1092.21,{"$f":"G15148*(1-VLOOKUP(F15148,Konditionen!$B:$D,3,0))","v":1092.21}]
["Brandschutz","WK45B-SC","WK45BSC1050500","Brandschutzklappe WK45 1050x500","mit Endlageschalter geschlossen","80",949.62,{"$f":"G15156*(1-VLOOKUP(F15156,Konditionen!$B:$D,3,0))","v":949.62}]
["Brandschutz","WK45B-SC","WK45BSC1050750","Brandschutzklappe WK45 1050x750","mit Endlageschalter geschlossen","80",1121.0899999999999,{"$f":"G15161*(1-VLOOKUP(F15161,Konditionen!$B:$D,3,0))","v":1121.0899999999999}]
["Brandschutz","WK45B-SC","WK45BSC1100500","Brandschutzklappe WK45 1100x500","mit Endlageschalter geschlossen","80",971.36,{"$f":"G15169*(1-VLOOKUP(F15169,Konditionen!$B:$D,3,0))","v":971.36}]
["Brandschutz","WK45B-SC","WK45BSC1100750","Brandschutzklappe WK45 1100x750","mit Endlageschalter geschlossen","80",1147.97,{"$f":"G15174*(1-VLOOKUP(F15174,Konditionen!$B:$D,3,0))","v":1147.97}]
["Brandschutz","WK45B-SC","WK45BSC1150500","Brandschutzklappe WK45 1150x500","mit Endlageschalter geschlossen","80",993.09,{"$f":"G15182*(1-VLOOKUP(F15182,Konditionen!$B:$D,3,0))","v":993.09}]
["Brandschutz","WK45B-SC","WK45BSC1200250","Brandschutzklappe WK45 1200x250","mit Endlageschalter geschlossen","80",819.74,{"$f":"G15190*(1-VLOOKUP(F15190,Konditionen!$B:$D,3,0))","v":819.74}]
["Brandschutz","WK45B-SC","WK45BSC1200500","Brandschutzklappe WK45 1200x500","mit Endlageschalter geschlossen","80",1014.93,{"$f":"G15195*(1-VLOOKUP(F15195,Konditionen!$B:$D,3,0))","v":1014.93}]
["Brandschutz","WK45B-SC","WK45BSC1250250","Brandschutzklappe WK45 1250x250","mit Endlageschalter geschlossen","80",836.33,{"$f":"G15203*(1-VLOOKUP(F15203,Konditionen!$B:$D,3,0))","v":836.33}]
["Brandschutz","WK45B-SC","WK45BSC1250500","Brandschutzklappe WK45 1250x500","mit Endlageschalter geschlossen","80",1036.77,{"$f":"G15208*(1-VLOOKUP(F15208,Konditionen!$B:$D,3,0))","v":1036.77}]
["Brandschutz","WK45B-SC","WK45BSC1300300","Brandschutzklappe WK45 1300x300","mit Endlageschalter geschlossen","80",892.82,{"$f":"G15217*(1-VLOOKUP(F15217,Konditionen!$B:$D,3,0))","v":892.82}]
["Brandschutz","WK45B-SC","WK45BSC1300700","Brandschutzklappe WK45 1300x700","mit Endlageschalter geschlossen","80",1217.48,{"$f":"G15225*(1-VLOOKUP(F15225,Konditionen!$B:$D,3,0))","v":1217.48}]
["Brandschutz","WK45B-SC","WK45BSC1350300","Brandschutzklappe WK45 1350x300","mit Endlageschalter geschlossen","80",915.18,{"$f":"G15230*(1-VLOOKUP(F15230,Konditionen!$B:$D,3,0))","v":915.18}]
["Brandschutz","WK45B-SC","WK45BSC1350700","Brandschutzklappe WK45 1350x700","mit Endlageschalter geschlossen","80",1248.56,{"$f":"G15238*(1-VLOOKUP(F15238,Konditionen!$B:$D,3,0))","v":1248.56}]
["Brandschutz","WK45B-SC","WK45BSC1400450","Brandschutzklappe WK45 1400x450","mit Endlageschalter geschlossen","80",1062.08,{"$f":"G15246*(1-VLOOKUP(F15246,Konditionen!$B:$D,3,0))","v":1062.08}]
["Brandschutz","WK45B-SC","WK45BSC1400700","Brandschutzklappe WK45 1400x700","mit Endlageschalter geschlossen","80",1274.3900000000001,{"$f":"G15251*(1-VLOOKUP(F15251,Konditionen!$B:$D,3,0))","v":1274.3900000000001}]
["Brandschutz","WK45B-SC","WK45BSC1450450","Brandschutzklappe WK45 1450x450","mit Endlageschalter geschlossen","80",1082.8699999999999,{"$f":"G15259*(1-VLOOKUP(F15259,Konditionen!$B:$D,3,0))","v":1082.8699999999999}]
["Brandschutz","WK45B-SC","WK45BSC1450700","Brandschutzklappe WK45 1450x700","mit Endlageschalter geschlossen","80",1300.32,{"$f":"G15264*(1-VLOOKUP(F15264,Konditionen!$B:$D,3,0))","v":1300.32}]
["Brandschutz","WK45B-SC","WK45BSC1500450","Brandschutzklappe WK45 1500x450","mit Endlageschalter geschlossen","80",1103.55,{"$f":"G15272*(1-VLOOKUP(F15272,Konditionen!$B:$D,3,0))","v":1103.55}]
["Brandschutz","WK45B-SC","WK45BSC200200","Brandschutzklappe WK45 200x200","mit Endlageschalter geschlossen","80",461.06,{"$f":"G15280*(1-VLOOKUP(F15280,Konditionen!$B:$D,3,0))","v":461.06}]
["Brandschutz","WK45B-SC","WK45BSC200450","Brandschutzklappe WK45 200x450","mit Endlageschalter geschlossen","80",531.72,{"$f":"G15285*(1-VLOOKUP(F15285,Konditionen!$B:$D,3,0))","v":531.72}]
["Brandschutz","WK45B-SC","WK45BSC250200","Brandschutzklappe WK45 250x200","mit Endlageschalter geschlossen","80",477.12,{"$f":"G15293*(1-VLOOKUP(F15293,Konditionen!$B:$D,3,0))","v":477.12}]
["Brandschutz","WK45B-SC","WK45BSC250800","Brandschutzklappe WK45 250x800","mit Endlageschalter geschlossen","80",679.04,{"$f":"G15305*(1-VLOOKUP(F15305,Konditionen!$B:$D,3,0))","v":679.04}]
["Brandschutz","WK45B-SC","WK45BSC300200","Brandschutzklappe WK45 300x200","mit Endlageschalter geschlossen","80",492.87,{"$f":"G15306*(1-VLOOKUP(F15306,Konditionen!$B:$D,3,0))","v":492.87}]
["Brandschutz","WK45B-SC","WK45BSC300600","Brandschutzklappe WK45 300x600","mit Endlageschalter geschlossen","80",631.79,{"$f":"G15314*(1-VLOOKUP(F15314,Konditionen!$B:$D,3,0))","v":631.79}]
["Brandschutz","WK45B-SC","WK45BSC350550","Brandschutzklappe WK45 350x550","mit Endlageschalter geschlossen","80",636.92999999999995,{"$f":"G15326*(1-VLOOKUP(F15326,Konditionen!$B:$D,3,0))","v":636.92999999999995}]
["Brandschutz","WK45B-SC","WK45BSC350600","Brandschutzklappe WK45 350x600","mit Endlageschalter geschlossen","80",657.09,{"$f":"G15327*(1-VLOOKUP(F15327,Konditionen!$B:$D,3,0))","v":657.09}]
["Brandschutz","WK45B-SC","WK45BSC400450","Brandschutzklappe WK45 400x450","mit Endlageschalter geschlossen","80",618.77,{"$f":"G15337*(1-VLOOKUP(F15337,Konditionen!$B:$D,3,0))","v":618.77}]
["Brandschutz","WK45B-SC","WK45BSC450350","Brandschutzklappe WK45 450x350","mit Endlageschalter geschlossen","80",596.61,{"$f":"G15348*(1-VLOOKUP(F15348,Konditionen!$B:$D,3,0))","v":596.61}]
["Brandschutz","WK45B-SC","WK45BSC450400","Brandschutzklappe WK45 450x400","mit Endlageschalter geschlossen","80",618.77,{"$f":"G15349*(1-VLOOKUP(F15349,Konditionen!$B:$D,3,0))","v":618.77}]
["Brandschutz","WK45B-SC","WK45BSC500350","Brandschutzklappe WK45 500x350","mit Endlageschalter geschlossen","80",615.29999999999995,{"$f":"G15361*(1-VLOOKUP(F15361,Konditionen!$B:$D,3,0))","v":615.29999999999995}]
["Brandschutz","WK45B-SC","WK45BSC500750","Brandschutzklappe WK45 500x750","mit Endlageschalter geschlossen","80",800.94,{"$f":"G15369*(1-VLOOKUP(F15369,Konditionen!$B:$D,3,0))","v":800.94}]
["Brandschutz","WK45B-SC","WK45BSC500800","Brandschutzklappe WK45 500x800","mit Endlageschalter geschlossen","80",834.12,{"$f":"G15370*(1-VLOOKUP(F15370,Konditionen!$B:$D,3,0))","v":834.12}]
["Brandschutz","WK45B-SC","WK45BSC550750","Brandschutzklappe WK45 550x750","mit Endlageschalter geschlossen","80",841.16,{"$f":"G15382*(1-VLOOKUP(F15382,Konditionen!$B:$D,3,0))","v":841.16}]
["Brandschutz","WK45B-SC","WK45BSC600500","Brandschutzklappe WK45 600x500","mit Endlageschalter geschlossen","80",731.33,{"$f":"G15390*(1-VLOOKUP(F15390,Konditionen!$B:$D,3,0))","v":731.33}]
["Brandschutz","WK45B-SC","WK45BSC600550","Brandschutzklappe WK45 600x550","mit Endlageschalter geschlossen","80",755.06,{"$f":"G15391*(1-VLOOKUP(F15391,Konditionen!$B:$D,3,0))","v":755.06}]
["Brandschutz","WK45B-SC","WK45BSC650500","Brandschutzklappe WK45 650x500","mit Endlageschalter geschlossen","80",753.06,{"$f":"G15403*(1-VLOOKUP(F15403,Konditionen!$B:$D,3,0))","v":753.06}]
["Brandschutz","WK45B-SC","WK45BSC700250","Brandschutzklappe WK45 700x250","mit Endlageschalter geschlossen","80",644.6,{"$f":"G15411*(1-VLOOKUP(F15411,Konditionen!$B:$D,3,0))","v":644.6}]
["Brandschutz","WK45B-SC","WK45BSC700500","Brandschutzklappe WK45 700x500","mit Endlageschalter geschlossen","80",774.8,{"$f":"G15416*(1-VLOOKUP(F15416,Konditionen!$B:$D,3,0))","v":774.8}]
["Brandschutz","WK45B-SC","WK45BSC750250","Brandschutzklappe WK45 750x250","mit Endlageschalter geschlossen","80",662.76,{"$f":"G15424*(1-VLOOKUP(F15424,Konditionen!$B:$D,3,0))","v":662.76}]
["Brandschutz","WK45B-SC","WK45BSC750650","Brandschutzklappe WK45 750x650","mit Endlageschalter geschlossen","80",891.98,{"$f":"G15432*(1-VLOOKUP(F15432,Konditionen!$B:$D,3,0))","v":891.98}]
["Brandschutz","WK45B-SC","WK45BSC800250","Brandschutzklappe WK45 800x250","mit Endlageschalter geschlossen","80",670.64,{"$f":"G15437*(1-VLOOKUP(F15437,Konditionen!$B:$D,3,0))","v":670.64}]
["Brandschutz","WK45B-SC","WK45BSC800650","Brandschutzklappe WK45 800x650","mit Endlageschalter geschlossen","80",921.17,{"$f":"G15445*(1-VLOOKUP(F15445,Konditionen!$B:$D,3,0))","v":921.17}]
["Brandschutz","WK45B-SC","WK45BSC850250","Brandschutzklappe WK45 850x250","mit Endlageschalter geschlossen","80",687.44,{"$f":"G15450*(1-VLOOKUP(F15450,Konditionen!$B:$D,3,0))","v":687.44}]
["Brandschutz","WK45B-SC","WK45BSC850650","Brandschutzklappe WK45 850x650","mit Endlageschalter geschlossen","80",946.05,{"$f":"G15458*(1-VLOOKUP(F15458,Konditionen!$B:$D,3,0))","v":946.05}]
["Brandschutz","WK45B-SC","WK45BSC900400","Brandschutzklappe WK45 900x400","mit Endlageschalter geschlossen","80",815.01,{"$f":"G15466*(1-VLOOKUP(F15466,Konditionen!$B:$D,3,0))","v":815.01}]
["Brandschutz","WK45B-SC","WK45BSC900800","Brandschutzklappe WK45 900x800","mit Endlageschalter geschlossen","80",1065.33,{"$f":"G15474*(1-VLOOKUP(F15474,Konditionen!$B:$D,3,0))","v":1065.33}]
["Brandschutz","WK45B-SC","WK45BSC950450","Brandschutzklappe WK45 950x450","mit Endlageschalter geschlossen","80",868.46,{"$f":"G15480*(1-VLOOKUP(F15480,Konditionen!$B:$D,3,0))","v":868.46}]
["Brandschutz","WK45B-S2","WK45BS21000200","Brandschutzklappe WK45 1000x200","mit 2 Endlagenschalter","80",752.85,{"$f":"G15488*(1-VLOOKUP(F15488,Konditionen!$B:$D,3,0))","v":752.85}]
["Brandschutz","WK45B-S2","WK45BS21000450","Brandschutzklappe WK45 1000x450","mit 2 Endlagenschalter","80",928.94,{"$f":"G15493*(1-VLOOKUP(F15493,Konditionen!$B:$D,3,0))","v":928.94}]
["Brandschutz","WK45B-S2","WK45BS21050200","Brandschutzklappe WK45 1050x200","mit 2 Endlagenschalter","80",770.07,{"$f":"G15501*(1-VLOOKUP(F15501,Konditionen!$B:$D,3,0))","v":770.07}]
["Brandschutz","WK45B-S2","WK45BS21050450","Brandschutzklappe WK45 1050x450","mit 2 Endlagenschalter","80",951.51,{"$f":"G15506*(1-VLOOKUP(F15506,Konditionen!$B:$D,3,0))","v":951.51}]
["Brandschutz","WK45B-S2","WK45BS21100200","Brandschutzklappe WK45 1100x200","mit 2 Endlagenschalter","80",796.74,{"$f":"G15514*(1-VLOOKUP(F15514,Konditionen!$B:$D,3,0))","v":796.74}]
["Brandschutz","WK45B-S2","WK45BS21100600","Brandschutzklappe WK45 1100x600","mit 2 Endlagenschalter","80",1080.77,{"$f":"G15522*(1-VLOOKUP(F15522,Konditionen!$B:$D,3,0))","v":1080.77}]
["Brandschutz","WK45B-S2","WK45BS21150200","Brandschutzklappe WK45 1150x200","mit 2 Endlagenschalter","80",812.49,{"$f":"G15527*(1-VLOOKUP(F15527,Konditionen!$B:$D,3,0))","v":812.49}]
["Brandschutz","WK45B-S2","WK45BS21150600","Brandschutzklappe WK45 1150x600","mit 2 Endlagenschalter","80",1104.5999999999999,{"$f":"G15535*(1-VLOOKUP(F15535,Konditionen!$B:$D,3,0))","v":1104.5999999999999}]
["Brandschutz","WK45B-S2","WK45BS21200350","Brandschutzklappe WK45 1200x350","mit 2 Endlagenschalter","80",940.17,{"$f":"G15543*(1-VLOOKUP(F15543,Konditionen!$B:$D,3,0))","v":940.17}]
["Brandschutz","WK45B-S2","WK45BS21200600","Brandschutzklappe WK45 1200x600","mit 2 Endlagenschalter","80",1128.44,{"$f":"G15548*(1-VLOOKUP(F15548,Konditionen!$B:$D,3,0))","v":1128.44}]
["Brandschutz","WK45B-S2","WK45BS21250350","Brandschutzklappe WK45 1250x350","mit 2 Endlagenschalter","80",958.86,{"$f":"G15556*(1-VLOOKUP(F15556,Konditionen!$B:$D,3,0))","v":958.86}]
["Brandschutz","WK45B-S2","WK45BS21250600","Brandschutzklappe WK45 1250x600","mit 2 Endlagenschalter","80",1152.27,{"$f":"G15561*(1-VLOOKUP(F15561,Konditionen!$B:$D,3,0))","v":1152.27}]
["Brandschutz","WK45B-S2","WK45BS21300350","Brandschutzklappe WK45 1300x350","mit 2 Endlagenschalter","80",977.55,{"$f":"G15569*(1-VLOOKUP(F15569,Konditionen!$B:$D,3,0))","v":977.55}]
["Brandschutz","WK45B-S2","WK45BS21300750","Brandschutzklappe WK45 1300x750","mit 2 Endlagenschalter","80",1295.07,{"$f":"G15577*(1-VLOOKUP(F15577,Konditionen!$B:$D,3,0))","v":1295.07}]
["Brandschutz","WK45B-S2","WK45BS21350350","Brandschutzklappe WK45 1350x350","mit 2 Endlagenschalter","80",1001.07,{"$f":"G15582*(1-VLOOKUP(F15582,Konditionen!$B:$D,3,0))","v":1001.07}]
["Brandschutz","WK45B-S2","WK45BS21350750","Brandschutzklappe WK45 1350x750","mit 2 Endlagenschalter","80",1327.2,{"$f":"G15590*(1-VLOOKUP(F15590,Konditionen!$B:$D,3,0))","v":1327.2}]
["Brandschutz","WK45B-S2","WK45BS21400350","Brandschutzklappe WK45 1400x350","mit 2 Endlagenschalter","80",1019.76,{"$f":"G15595*(1-VLOOKUP(F15595,Konditionen!$B:$D,3,0))","v":1019.76}]
["Brandschutz","WK45B-S2","WK45BS21400800","Brandschutzklappe WK45 1400x800","mit 2 Endlagenschalter","80",1394.19,{"$f":"G15604*(1-VLOOKUP(F15604,Konditionen!$B:$D,3,0))","v":1394.19}]
["Brandschutz","WK45B-S2","WK45BS21450550","Brandschutzklappe WK45 1450x550","mit 2 Endlagenschalter","80",1209.5999999999999,{"$f":"G15612*(1-VLOOKUP(F15612,Konditionen!$B:$D,3,0))","v":1209.5999999999999}]
["Brandschutz","WK45B-S2","WK45BS21450800","Brandschutzklappe WK45 1450x800","mit 2 Endlagenschalter","80",1422.12,{"$f":"G15617*(1-VLOOKUP(F15617,Konditionen!$B:$D,3,0))","v":1422.12}]
["Brandschutz","WK45B-S2","WK45BS21500550","Brandschutzklappe WK45 1500x550","mit 2 Endlagenschalter","80",1232.3900000000001,{"$f":"G15625*(1-VLOOKUP(F15625,Konditionen!$B:$D,3,0))","v":1232.3900000000001}]
["Brandschutz","WK45B-S2","WK45BS2200300","Brandschutzklappe WK45 200x300","mit 2 Endlagenschalter","80",528.99,{"$f":"G15633*(1-VLOOKUP(F15633,Konditionen!$B:$D,3,0))","v":528.99}]
["Brandschutz","WK45B-S2","WK45BS2200550","Brandschutzklappe WK45 200x550","mit 2 Endlagenschalter","80",606.79999999999995,{"$f":"G15638*(1-VLOOKUP(F15638,Konditionen!$B:$D,3,0))","v":606.79999999999995}]
["Brandschutz","WK45B-S2","WK45BS2250300","Brandschutzklappe WK45 250x300","mit 2 Endlagenschalter","80",546.63,{"$f":"G15646*(1-VLOOKUP(F15646,Konditionen!$B:$D,3,0))","v":546.63}]
["Brandschutz","WK45B-S2","WK45BS2300250","Brandschutzklappe WK45 300x250","mit 2 Endlagenschalter","80",545.37,{"$f":"G15658*(1-VLOOKUP(F15658,Konditionen!$B:$D,3,0))","v":545.37}]
["Brandschutz","WK45B-S2","WK45BS2300300","Brandschutzklappe WK45 300x300","mit 2 Endlagenschalter","80",564.27,{"$f":"G15659*(1-VLOOKUP(F15659,Konditionen!$B:$D,3,0))","v":564.27}]
["Brandschutz","WK45B-S2","WK45BS2300700","Brandschutzklappe WK45 300x700","mit 2 Endlagenschalter","80",711.17,{"$f":"G15667*(1-VLOOKUP(F15667,Konditionen!$B:$D,3,0))","v":711.17}]
["Brandschutz","WK45B-S2","WK45BS2350650","Brandschutzklappe WK45 350x650","mit 2 Endlagenschalter","80",715.47,{"$f":"G15679*(1-VLOOKUP(F15679,Konditionen!$B:$D,3,0))","v":715.47}]
["Brandschutz","WK45B-S2","WK45BS2350700","Brandschutzklappe WK45 350x700","mit 2 Endlagenschalter","80",738.57,{"$f":"G15680*(1-VLOOKUP(F15680,Konditionen!$B:$D,3,0))","v":738.57}]
["Brandschutz","WK45B-S2","WK45BS2400650","Brandschutzklappe WK45 400x650","mit 2 Endlagenschalter","80",743.09,{"$f":"G15692*(1-VLOOKUP(F15692,Konditionen!$B:$D,3,0))","v":743.09}]
["Brandschutz","WK45B-S2","WK45BS2450400","Brandschutzklappe WK45 450x400","mit 2 Endlagenschalter","80",658.35,{"$f":"G15700*(1-VLOOKUP(F15700,Konditionen!$B:$D,3,0))","v":658.35}]
["Brandschutz","WK45B-S2","WK45BS2450450","Brandschutzklappe WK45 450x450","mit 2 Endlagenschalter","80",679.04,{"$f":"G15701*(1-VLOOKUP(F15701,Konditionen!$B:$D,3,0))","v":679.04}]
["Brandschutz","WK45B-S2","WK45BS2500400","Brandschutzklappe WK45 500x400","mit 2 Endlagenschalter","80",678.09,{"$f":"G15713*(1-VLOOKUP(F15713,Konditionen!$B:$D,3,0))","v":678.09}]
["Brandschutz","WK45B-S2","WK45BS2500800","Brandschutzklappe WK45 500x800","mit 2 Endlagenschalter","80",873.81,{"$f":"G15721*(1-VLOOKUP(F15721,Konditionen!$B:$D,3,0))","v":873.81}]
["Brandschutz","WK45B-S2","WK45BS2550300","Brandschutzklappe WK45 550x300","mit 2 Endlagenschalter","80",658.35,{"$f":"G15724*(1-VLOOKUP(F15724,Konditionen!$B:$D,3,0))","v":658.35}]
["Brandschutz","WK45B-S2","WK45BS2600200","Brandschutzklappe WK45 600x200","mit 2 Endlagenschalter","80",631.89,{"$f":"G15735*(1-VLOOKUP(F15735,Konditionen!$B:$D,3,0))","v":631.89}]
["Brandschutz","WK45B-S2","WK45BS2600600","Brandschutzklappe WK45 600x600","mit 2 Endlagenschalter","80",820.05,{"$f":"G15743*(1-VLOOKUP(F15743,Konditionen!$B:$D,3,0))","v":820.05}]
["Brandschutz","WK45B-S2","WK45BS2650200","Brandschutzklappe WK45 650x200","mit 2 Endlagenschalter","80",647.64,{"$f":"G15748*(1-VLOOKUP(F15748,Konditionen!$B:$D,3,0))","v":647.64}]
["Brandschutz","WK45B-S2","WK45BS2650600","Brandschutzklappe WK45 650x600","mit 2 Endlagenschalter","80",843.78,{"$f":"G15756*(1-VLOOKUP(F15756,Konditionen!$B:$D,3,0))","v":843.78}]
["Brandschutz","WK45B-S2","WK45BS2700350","Brandschutzklappe WK45 700x350","mit 2 Endlagenschalter","80",731.22,{"$f":"G15764*(1-VLOOKUP(F15764,Konditionen!$B:$D,3,0))","v":731.22}]
["Brandschutz","WK45B-S2","WK45BS2700600","Brandschutzklappe WK45 700x600","mit 2 Endlagenschalter","80",879.17,{"$f":"G15769*(1-VLOOKUP(F15769,Konditionen!$B:$D,3,0))","v":879.17}]
["Brandschutz","WK45B-S2","WK45BS2750350","Brandschutzklappe WK45 750x350","mit 2 Endlagenschalter","80",751.49,{"$f":"G15777*(1-VLOOKUP(F15777,Konditionen!$B:$D,3,0))","v":751.49}]
["Brandschutz","WK45B-S2","WK45BS2750750","Brandschutzklappe WK45 750x750","mit 2 Endlagenschalter","80",990.15,{"$f":"G15785*(1-VLOOKUP(F15785,Konditionen!$B:$D,3,0))","v":990.15}]
["Brandschutz","WK45B-S2","WK45BS2800350","Brandschutzklappe WK45 800x350","mit 2 Endlagenschalter","80",774.59,{"$f":"G15790*(1-VLOOKUP(F15790,Konditionen!$B:$D,3,0))","v":774.59}]
["Brandschutz","WK45B-S2","WK45BS2800750","Brandschutzklappe WK45 800x750","mit 2 Endlagenschalter","80",1021.34,{"$f":"G15798*(1-VLOOKUP(F15798,Konditionen!$B:$D,3,0))","v":1021.34}]
["Brandschutz","WK45B-S2","WK45BS2850350","Brandschutzklappe WK45 850x350","mit 2 Endlagenschalter","80",793.28,{"$f":"G15803*(1-VLOOKUP(F15803,Konditionen!$B:$D,3,0))","v":793.28}]
["Brandschutz","WK45B-S2","WK45BS2850750","Brandschutzklappe WK45 850x750","mit 2 Endlagenschalter","80",1048.22,{"$f":"G15811*(1-VLOOKUP(F15811,Konditionen!$B:$D,3,0))","v":1048.22}]
["Brandschutz","WK45B-S2","WK45BS2900500","Brandschutzklappe WK45 900x500","mit 2 Endlagenschalter","80",919.07,{"$f":"G15819*(1-VLOOKUP(F15819,Konditionen!$B:$D,3,0))","v":919.07}]
["Brandschutz","WK45B-S2","WK45BS2900750","Brandschutzklappe WK45 900x750","mit 2 Endlagenschalter","80",1075.0999999999999,{"$f":"G15824*(1-VLOOKUP(F15824,Konditionen!$B:$D,3,0))","v":1075.0999999999999}]
["Brandschutz","WK45B-S2","WK45BS2950500","Brandschutzklappe WK45 950x500","mit 2 Endlagenschalter","80",943.74,{"$f":"G15832*(1-VLOOKUP(F15832,Konditionen!$B:$D,3,0))","v":943.74}]
["Brandschutz","WK45B-S2","WK45BS2950750","Brandschutzklappe WK45 950x750","mit 2 Endlagenschalter","80",1105.02,{"$f":"G15837*(1-VLOOKUP(F15837,Konditionen!$B:$D,3,0))","v":1105.02}]
["Brandschutz","WK45","WK45B1000500","Brandschutzklappe WK45 1000x500",null,"80",882.53,{"$f":"G15845*(1-VLOOKUP(F15845,Konditionen!$B:$D,3,0))","v":882.53}]
["Brandschutz","WK45","WK45B1050250","Brandschutzklappe WK45 1050x250",null,"80",727.34,{"$f":"G15853*(1-VLOOKUP(F15853,Konditionen!$B:$D,3,0))","v":727.34}]
["Brandschutz","WK45","WK45B1050550","Brandschutzklappe WK45 1050x550",null,"80",938.7,{"$f":"G15859*(1-VLOOKUP(F15859,Konditionen!$B:$D,3,0))","v":938.7}]
["Brandschutz","WK45","WK45B1100300","Brandschutzklappe WK45 1100x300",null,"80",779.31,{"$f":"G15867*(1-VLOOKUP(F15867,Konditionen!$B:$D,3,0))","v":779.31}]
["Brandschutz","WK45","WK45B1100700","Brandschutzklappe WK45 1100x700",null,"80",1069.43,{"$f":"G15875*(1-VLOOKUP(F15875,Konditionen!$B:$D,3,0))","v":1069.43}]
["Brandschutz","WK45","WK45B1150300","Brandschutzklappe WK45 1150x300",null,"80",796.95,{"$f":"G15880*(1-VLOOKUP(F15880,Konditionen!$B:$D,3,0))","v":796.95}]
["Brandschutz","WK45","WK45B1150700","Brandschutzklappe WK45 1150x700",null,"80",1095.1500000000001,{"$f":"G15888*(1-VLOOKUP(F15888,Konditionen!$B:$D,3,0))","v":1095.1500000000001}]
["Brandschutz","WK45","WK45B1200300","Brandschutzklappe WK45 1200x300",null,"80",814.49,{"$f":"G15893*(1-VLOOKUP(F15893,Konditionen!$B:$D,3,0))","v":814.49}]
["Brandschutz","WK45","WK45B1200700","Brandschutzklappe WK45 1200x700",null,"80",1120.77,{"$f":"G15901*(1-VLOOKUP(F15901,Konditionen!$B:$D,3,0))","v":1120.77}]
["Brandschutz","WK45","WK45B1250450","Brandschutzklappe WK45 1250x450",null,"80",951.09,{"$f":"G15909*(1-VLOOKUP(F15909,Konditionen!$B:$D,3,0))","v":951.09}]
["Brandschutz","WK45","WK45B1250700","Brandschutzklappe WK45 1250x700",null,"80",1146.5,{"$f":"G15914*(1-VLOOKUP(F15914,Konditionen!$B:$D,3,0))","v":1146.5}]
["Brandschutz","WK45","WK45B1300450","Brandschutzklappe WK45 1300x450",null,"80",971.78,{"$f":"G15922*(1-VLOOKUP(F15922,Konditionen!$B:$D,3,0))","v":971.78}]
["Brandschutz","WK45","WK45B1300700","Brandschutzklappe WK45 1300x700",null,"80",1172.22,{"$f":"G15927*(1-VLOOKUP(F15927,Konditionen!$B:$D,3,0))","v":1172.22}]
["Brandschutz","WK45","WK45B1350450","Brandschutzklappe WK45 1350x450",null,"80",997.19,{"$f":"G15935*(1-VLOOKUP(F15935,Konditionen!$B:$D,3,0))","v":997.19}]
["Brandschutz","WK45","WK45B1400200","Brandschutzklappe WK45 1400x200",null,"80",813.12,{"$f":"G15943*(1-VLOOKUP(F15943,Konditionen!$B:$D,3,0))","v":813.12}]
["Brandschutz","WK45","WK45B1400450","Brandschutzklappe WK45 1400x450",null,"80",1017.87,{"$f":"G15948*(1-VLOOKUP(F15948,Konditionen!$B:$D,3,0))","v":1017.87}]
["Brandschutz","WK45","WK45B1450200","Brandschutzklappe WK45 1450x200",null,"80",828.66,{"$f":"G15956*(1-VLOOKUP(F15956,Konditionen!$B:$D,3,0))","v":828.66}]
["Brandschutz","WK45","WK45B1450600","Brandschutzklappe WK45 1450x600",null,"80",1167.81,{"$f":"G15964*(1-VLOOKUP(F15964,Konditionen!$B:$D,3,0))","v":1167.81}]
["Brandschutz","WK45","WK45B1500200","Brandschutzklappe WK45 1500x200",null,"80",844.2,{"$f":"G15969*(1-VLOOKUP(F15969,Konditionen!$B:$D,3,0))","v":844.2}]
["Brandschutz","WK45","WK45B200200","Brandschutzklappe WK45 200x200",null,"80",420.84,{"$f":"G15982*(1-VLOOKUP(F15982,Konditionen!$B:$D,3,0))","v":420.84}]
["Brandschutz","WK45","WK45B200600","Brandschutzklappe WK45 200x600",null,"80",543.27,{"$f":"G15990*(1-VLOOKUP(F15990,Konditionen!$B:$D,3,0))","v":543.27}]
["Brandschutz","WK45","WK45B200650","Brandschutzklappe WK45 200x650",null,"80",558.91999999999996,{"$f":"G15991*(1-VLOOKUP(F15991,Konditionen!$B:$D,3,0))","v":558.91999999999996}]
["Brandschutz","WK45","WK45B250400","Brandschutzklappe WK45 250x400",null,"80",494.97,{"$f":"G15999*(1-VLOOKUP(F15999,Konditionen!$B:$D,3,0))","v":494.97}]
["Brandschutz","WK45","WK45B300350","Brandschutzklappe WK45 300x350",null,"80",495.6,{"$f":"G16011*(1-VLOOKUP(F16011,Konditionen!$B:$D,3,0))","v":495.6}]
["Brandschutz","WK45","WK45B300400","Brandschutzklappe WK45 300x400",null,"80",514.5,{"$f":"G16012*(1-VLOOKUP(F16012,Konditionen!$B:$D,3,0))","v":514.5}]
["Brandschutz","WK45","WK45B300800","Brandschutzklappe WK45 300x800",null,"80",665.07,{"$f":"G16020*(1-VLOOKUP(F16020,Konditionen!$B:$D,3,0))","v":665.07}]
["Brandschutz","WK45","WK45B350750","Brandschutzklappe WK45 350x750",null,"80",675.68,{"$f":"G16032*(1-VLOOKUP(F16032,Konditionen!$B:$D,3,0))","v":675.68}]
["Brandschutz","WK45","WK45B350800","Brandschutzklappe WK45 350x800",null,"80",694.37,{"$f":"G16033*(1-VLOOKUP(F16033,Konditionen!$B:$D,3,0))","v":694.37}]
["Brandschutz","WK45","WK45B400750","Brandschutzklappe WK45 400x750",null,"80",705.29,{"$f":"G16045*(1-VLOOKUP(F16045,Konditionen!$B:$D,3,0))","v":705.29}]
["Brandschutz","WK45","WK45B450500","Brandschutzklappe WK45 450x500",null,"80",622.97,{"$f":"G16053*(1-VLOOKUP(F16053,Konditionen!$B:$D,3,0))","v":622.97}]
["Brandschutz","WK45","WK45B450550","Brandschutzklappe WK45 450x550",null,"80",643.54999999999995,{"$f":"G16054*(1-VLOOKUP(F16054,Konditionen!$B:$D,3,0))","v":643.54999999999995}]
["Brandschutz","WK45","WK45B500500","Brandschutzklappe WK45 500x500",null,"80",644.49,{"$f":"G16066*(1-VLOOKUP(F16066,Konditionen!$B:$D,3,0))","v":644.49}]
["Brandschutz","WK45","WK45B550250","Brandschutzklappe WK45 550x250",null,"80",553.46,{"$f":"G16074*(1-VLOOKUP(F16074,Konditionen!$B:$D,3,0))","v":553.46}]
["Brandschutz","WK45","WK45B550500","Brandschutzklappe WK45 550x500",null,"80",667.7,{"$f":"G16079*(1-VLOOKUP(F16079,Konditionen!$B:$D,3,0))","v":667.7}]
["Brandschutz","WK45","WK45B600250","Brandschutzklappe WK45 600x250",null,"80",570.04999999999995,{"$f":"G16087*(1-VLOOKUP(F16087,Konditionen!$B:$D,3,0))","v":570.04999999999995}]
["Brandschutz","WK45","WK45B600650","Brandschutzklappe WK45 600x650",null,"80",761.67,{"$f":"G16095*(1-VLOOKUP(F16095,Konditionen!$B:$D,3,0))","v":761.67}]
["Brandschutz","WK45","WK45B650250","Brandschutzklappe WK45 650x250",null,"80",586.64,{"$f":"G16100*(1-VLOOKUP(F16100,Konditionen!$B:$D,3,0))","v":586.64}]
["Brandschutz","WK45","WK45B650400","Brandschutzklappe WK45 650x400",null,"80",657.3,{"$f":"G16103*(1-VLOOKUP(F16103,Konditionen!$B:$D,3,0))","v":657.3}]
["Brandschutz","WK45","WK45B650800","Brandschutzklappe WK45 650x800",null,"80",876.44,{"$f":"G16111*(1-VLOOKUP(F16111,Konditionen!$B:$D,3,0))","v":876.44}]
["Brandschutz","WK45","WK45B700200","Brandschutzklappe WK45 700x200",null,"80",582.44000000000005,{"$f":"G16112*(1-VLOOKUP(F16112,Konditionen!$B:$D,3,0))","v":582.44000000000005}]
["Brandschutz","WK45","WK45B700250","Brandschutzklappe WK45 700x250",null,"80",603.23,{"$f":"G16113*(1-VLOOKUP(F16113,Konditionen!$B:$D,3,0))","v":603.23}]
["Brandschutz","WK45","WK45B700300","Brandschutzklappe WK45 700x300",null,"80",630.21,{"$f":"G16114*(1-VLOOKUP(F16114,Konditionen!$B:$D,3,0))","v":630.21}]
["Brandschutz","WK45","WK45B700350","Brandschutzklappe WK45 700x350",null,"80",649.85,{"$f":"G16115*(1-VLOOKUP(F16115,Konditionen!$B:$D,3,0))","v":649.85}]
["Brandschutz","WK45","WK45B700400","Brandschutzklappe WK45 700x400",null,"80",676.94,{"$f":"G16116*(1-VLOOKUP(F16116,Konditionen!$B:$D,3,0))","v":676.94}]
["Brandschutz","WK45","WK45B700450","Brandschutzklappe WK45 700x450",null,"80",702.45,{"$f":"G16117*(1-VLOOKUP(F16117,Konditionen!$B:$D,3,0))","v":702.45}]
["Brandschutz","WK45","WK45B700500","Brandschutzklappe WK45 700x500",null,"80",732.59,{"$f":"G16118*(1-VLOOKUP(F16118,Konditionen!$B:$D,3,0))","v":732.59}]
["Brandschutz","WK45","WK45B700550","Brandschutzklappe WK45 700x550",null,"80",758.1,{"$f":"G16119*(1-VLOOKUP(F16119,Konditionen!$B:$D,3,0))","v":758.1}]
["Brandschutz","WK45","WK45B700600","Brandschutzklappe WK45 700x600",null,"80",796.74,{"$f":"G16120*(1-VLOOKUP(F16120,Konditionen!$B:$D,3,0))","v":796.74}]
["Brandschutz","WK45","WK45B700650","Brandschutzklappe WK45 700x650",null,"80",822.47,{"$f":"G16121*(1-VLOOKUP(F16121,Konditionen!$B:$D,3,0))","v":822.47}]
["Brandschutz","WK45","WK45B700700","Brandschutzklappe WK45 700x700",null,"80",852.81,{"$f":"G16122*(1-VLOOKUP(F16122,Konditionen!$B:$D,3,0))","v":852.81}]
["Brandschutz","WK45","WK45B700750","Brandschutzklappe WK45 700x750",null,"80",878.43,{"$f":"G16123*(1-VLOOKUP(F16123,Konditionen!$B:$D,3,0))","v":878.43}]
["Brandschutz","WK45","WK45B700800","Brandschutzklappe WK45 700x800",null,"80",904.05,{"$f":"G16124*(1-VLOOKUP(F16124,Konditionen!$B:$D,3,0))","v":904.05}]
["Brandschutz","WK45","WK45B750200","Brandschutzklappe WK45 750x200",null,"80",599.34,{"$f":"G16125*(1-VLOOKUP(F16125,Konditionen!$B:$D,3,0))","v":599.34}]
["Brandschutz","WK45","WK45B750250","Brandschutzklappe WK45 750x250",null,"80",621.29,{"$f":"G16126*(1-VLOOKUP(F16126,Konditionen!$B:$D,3,0))","v":621.29}]
["Brandschutz","WK45","WK45B750300","Brandschutzklappe WK45 750x300",null,"80",649.32000000000005,{"$f":"G16127*(1-VLOOKUP(F16127,Konditionen!$B:$D,3,0))","v":649.32000000000005}]
["Brandschutz","WK45","WK45B750350","Brandschutzklappe WK45 750x350",null,"80",669.9,{"$f":"G16128*(1-VLOOKUP(F16128,Konditionen!$B:$D,3,0))","v":669.9}]
["Brandschutz","WK45","WK45B750400","Brandschutzklappe WK45 750x400",null,"80",698.04,{"$f":"G16129*(1-VLOOKUP(F16129,Konditionen!$B:$D,3,0))","v":698.04}]
["Brandschutz","WK45","WK45B750450","Brandschutzklappe WK45 750x450",null,"80",724.71,{"$f":"G16130*(1-VLOOKUP(F16130,Konditionen!$B:$D,3,0))","v":724.71}]
["Brandschutz","WK45","WK45B750500","Brandschutzklappe WK45 750x500",null,"80",755.69,{"$f":"G16131*(1-VLOOKUP(F16131,Konditionen!$B:$D,3,0))","v":755.69}]
["Brandschutz","WK45","WK45B750550","Brandschutzklappe WK45 750x550",null,"80",793.8,{"$f":"G16132*(1-VLOOKUP(F16132,Konditionen!$B:$D,3,0))","v":793.8}]
["Brandschutz","WK45","WK45B750600","Brandschutzklappe WK45 750x600",null,"80",822.26,{"$f":"G16133*(1-VLOOKUP(F16133,Konditionen!$B:$D,3,0))","v":822.26}]
["Brandschutz","WK45","WK45B750650","Brandschutzklappe WK45 750x650",null,"80",848.93,{"$f":"G16134*(1-VLOOKUP(F16134,Konditionen!$B:$D,3,0))","v":848.93}]
["Brandschutz","WK45","WK45B750700","Brandschutzklappe WK45 750x700",null,"80",880.32,{"$f":"G16135*(1-VLOOKUP(F16135,Konditionen!$B:$D,3,0))","v":880.32}]
["Brandschutz","WK45","WK45B750750","Brandschutzklappe WK45 750x750",null,"80",906.99,{"$f":"G16136*(1-VLOOKUP(F16136,Konditionen!$B:$D,3,0))","v":906.99}]
["Brandschutz","WK45","WK45B750800","Brandschutzklappe WK45 750x800",null,"80",933.77,{"$f":"G16137*(1-VLOOKUP(F16137,Konditionen!$B:$D,3,0))","v":933.77}]
["Brandschutz","WK45","WK45B800200","Brandschutzklappe WK45 800x200",null,"80",606.27,{"$f":"G16138*(1-VLOOKUP(F16138,Konditionen!$B:$D,3,0))","v":606.27}]
["Brandschutz","WK45","WK45B800250","Brandschutzklappe WK45 800x250",null,"80",629.05999999999995,{"$f":"G16139*(1-VLOOKUP(F16139,Konditionen!$B:$D,3,0))","v":629.05999999999995}]
["Brandschutz","WK45","WK45B800300","Brandschutzklappe WK45 800x300",null,"80",658.14,{"$f":"G16140*(1-VLOOKUP(F16140,Konditionen!$B:$D,3,0))","v":658.14}]
["Brandschutz","WK45","WK45B800350","Brandschutzklappe WK45 800x350",null,"80",692.9,{"$f":"G16141*(1-VLOOKUP(F16141,Konditionen!$B:$D,3,0))","v":692.9}]
["Brandschutz","WK45","WK45B800400","Brandschutzklappe WK45 800x400",null,"80",722.09,{"$f":"G16142*(1-VLOOKUP(F16142,Konditionen!$B:$D,3,0))","v":722.09}]
["Brandschutz","WK45","WK45B800450","Brandschutzklappe WK45 800x450",null,"80",749.6,{"$f":"G16143*(1-VLOOKUP(F16143,Konditionen!$B:$D,3,0))","v":749.6}]
["Brandschutz","WK45","WK45B800500","Brandschutzklappe WK45 800x500",null,"80",793.17,{"$f":"G16144*(1-VLOOKUP(F16144,Konditionen!$B:$D,3,0))","v":793.17}]
["Brandschutz","WK45","WK45B800550","Brandschutzklappe WK45 800x550",null,"80",820.79,{"$f":"G16145*(1-VLOOKUP(F16145,Konditionen!$B:$D,3,0))","v":820.79}]
["Brandschutz","WK45","WK45B800600","Brandschutzklappe WK45 800x600",null,"80",850.19,{"$f":"G16146*(1-VLOOKUP(F16146,Konditionen!$B:$D,3,0))","v":850.19}]
["Brandschutz","WK45","WK45B800650","Brandschutzklappe WK45 800x650",null,"80",877.91,{"$f":"G16147*(1-VLOOKUP(F16147,Konditionen!$B:$D,3,0))","v":877.91}]
["Brandschutz","WK45","WK45B800700","Brandschutzklappe WK45 800x700",null,"80",910.35,{"$f":"G16148*(1-VLOOKUP(F16148,Konditionen!$B:$D,3,0))","v":910.35}]
["Brandschutz","WK45","WK45B800750","Brandschutzklappe WK45 800x750",null,"80",938.07,{"$f":"G16149*(1-VLOOKUP(F16149,Konditionen!$B:$D,3,0))","v":938.07}]
["Brandschutz","WK45","WK45B800800","Brandschutzklappe WK45 800x800",null,"80",965.69,{"$f":"G16150*(1-VLOOKUP(F16150,Konditionen!$B:$D,3,0))","v":965.69}]
["Brandschutz","WK45","WK45B850200","Brandschutzklappe WK45 850x200",null,"80",621.91999999999996,{"$f":"G16151*(1-VLOOKUP(F16151,Konditionen!$B:$D,3,0))","v":621.91999999999996}]
["Brandschutz","WK45","WK45B850250","Brandschutzklappe WK45 850x250",null,"80",645.65,{"$f":"G16152*(1-VLOOKUP(F16152,Konditionen!$B:$D,3,0))","v":645.65}]
["Brandschutz","WK45","WK45B850300","Brandschutzklappe WK45 850x300",null,"80",675.78,{"$f":"G16153*(1-VLOOKUP(F16153,Konditionen!$B:$D,3,0))","v":675.78}]
["Brandschutz","WK45","WK45B850350","Brandschutzklappe WK45 850x350",null,"80",711.48,{"$f":"G16154*(1-VLOOKUP(F16154,Konditionen!$B:$D,3,0))","v":711.48}]
["Brandschutz","WK45","WK45B850400","Brandschutzklappe WK45 850x400",null,"80",741.62,{"$f":"G16155*(1-VLOOKUP(F16155,Konditionen!$B:$D,3,0))","v":741.62}]
["Brandschutz","WK45","WK45B850450","Brandschutzklappe WK45 850x450",null,"80",781.52,{"$f":"G16156*(1-VLOOKUP(F16156,Konditionen!$B:$D,3,0))","v":781.52}]
["Brandschutz","WK45","WK45B850500","Brandschutzklappe WK45 850x500",null,"80",814.8,{"$f":"G16157*(1-VLOOKUP(F16157,Konditionen!$B:$D,3,0))","v":814.8}]
["Brandschutz","WK45","WK45B850550","Brandschutzklappe WK45 850x550",null,"80",843.47,{"$f":"G16158*(1-VLOOKUP(F16158,Konditionen!$B:$D,3,0))","v":843.47}]
["Brandschutz","WK45","WK45B850600","Brandschutzklappe WK45 850x600",null,"80",873.92,{"$f":"G16159*(1-VLOOKUP(F16159,Konditionen!$B:$D,3,0))","v":873.92}]
["Brandschutz","WK45","WK45B850650","Brandschutzklappe WK45 850x650",null,"80",902.58,{"$f":"G16160*(1-VLOOKUP(F16160,Konditionen!$B:$D,3,0))","v":902.58}]
["Brandschutz","WK45","WK45B850700","Brandschutzklappe WK45 850x700",null,"80",935.97,{"$f":"G16161*(1-VLOOKUP(F16161,Konditionen!$B:$D,3,0))","v":935.97}]
["Brandschutz","WK45","WK45B850750","Brandschutzklappe WK45 850x750",null,"80",964.74,{"$f":"G16162*(1-VLOOKUP(F16162,Konditionen!$B:$D,3,0))","v":964.74}]
["Brandschutz","WK45","WK45B850800","Brandschutzklappe WK45 850x800",null,"80",993.3,{"$f":"G16163*(1-VLOOKUP(F16163,Konditionen!$B:$D,3,0))","v":993.3}]
["Brandschutz","WK45","WK45B900200","Brandschutzklappe WK45 900x200",null,"80",637.35,{"$f":"G16164*(1-VLOOKUP(F16164,Konditionen!$B:$D,3,0))","v":637.35}]
["Brandschutz","WK45","WK45B900250","Brandschutzklappe WK45 900x250",null,"80",662.24,{"$f":"G16165*(1-VLOOKUP(F16165,Konditionen!$B:$D,3,0))","v":662.24}]
["Brandschutz","WK45","WK45B900300","Brandschutzklappe WK45 900x300",null,"80",693.32,{"$f":"G16166*(1-VLOOKUP(F16166,Konditionen!$B:$D,3,0))","v":693.32}]
["Brandschutz","WK45","WK45B900350","Brandschutzklappe WK45 900x350",null,"80",730.07,{"$f":"G16167*(1-VLOOKUP(F16167,Konditionen!$B:$D,3,0))","v":730.07}]
["Brandschutz","WK45","WK45B900400","Brandschutzklappe WK45 900x400",null,"80",772.49,{"$f":"G16168*(1-VLOOKUP(F16168,Konditionen!$B:$D,3,0))","v":772.49}]
["Brandschutz","WK45","WK45B900450","Brandschutzklappe WK45 900x450",null,"80",802.1,{"$f":"G16169*(1-VLOOKUP(F16169,Konditionen!$B:$D,3,0))","v":802.1}]
["Brandschutz","WK45","WK45B900500","Brandschutzklappe WK45 900x500",null,"80",836.43,{"$f":"G16170*(1-VLOOKUP(F16170,Konditionen!$B:$D,3,0))","v":836.43}]
["Brandschutz","WK45","WK45B900550","Brandschutzklappe WK45 900x550",null,"80",866.04,{"$f":"G16171*(1-VLOOKUP(F16171,Konditionen!$B:$D,3,0))","v":866.04}]
["Brandschutz","WK45","WK45B900600","Brandschutzklappe WK45 900x600",null,"80",897.54,{"$f":"G16172*(1-VLOOKUP(F16172,Konditionen!$B:$D,3,0))","v":897.54}]
["Brandschutz","WK45","WK45B900650","Brandschutzklappe WK45 900x650",null,"80",927.15,{"$f":"G16173*(1-VLOOKUP(F16173,Konditionen!$B:$D,3,0))","v":927.15}]
["Brandschutz","WK45","WK45B900700","Brandschutzklappe WK45 900x700",null,"80",961.7,{"$f":"G16174*(1-VLOOKUP(F16174,Konditionen!$B:$D,3,0))","v":961.7}]
["Brandschutz","WK45","WK45B900750","Brandschutzklappe WK45 900x750",null,"80",991.41,{"$f":"G16175*(1-VLOOKUP(F16175,Konditionen!$B:$D,3,0))","v":991.41}]
["Brandschutz","WK45","WK45B900800","Brandschutzklappe WK45 900x800",null,"80",1021.02,{"$f":"G16176*(1-VLOOKUP(F16176,Konditionen!$B:$D,3,0))","v":1021.02}]
["Brandschutz","WK45","WK45B950200","Brandschutzklappe WK45 950x200",null,"80",655.73,{"$f":"G16177*(1-VLOOKUP(F16177,Konditionen!$B:$D,3,0))","v":655.73}]
["Brandschutz","WK45","WK45B950250","Brandschutzklappe WK45 950x250",null,"80",681.56,{"$f":"G16178*(1-VLOOKUP(F16178,Konditionen!$B:$D,3,0))","v":681.56}]
["Brandschutz","WK45","WK45B950300","Brandschutzklappe WK45 950x300",null,"80",713.69,{"$f":"G16179*(1-VLOOKUP(F16179,Konditionen!$B:$D,3,0))","v":713.69}]
["Brandschutz","WK45","WK45B950350","Brandschutzklappe WK45 950x350",null,"80",762.51,{"$f":"G16180*(1-VLOOKUP(F16180,Konditionen!$B:$D,3,0))","v":762.51}]
["Brandschutz","WK45","WK45B950400","Brandschutzklappe WK45 950x400",null,"80",794.85,{"$f":"G16181*(1-VLOOKUP(F16181,Konditionen!$B:$D,3,0))","v":794.85}]
["Brandschutz","WK45","WK45B950450","Brandschutzklappe WK45 950x450",null,"80",825.62,{"$f":"G16182*(1-VLOOKUP(F16182,Konditionen!$B:$D,3,0))","v":825.62}]
["Brandschutz","WK45","WK45B950500","Brandschutzklappe WK45 950x500",null,"80",861,{"$f":"G16183*(1-VLOOKUP(F16183,Konditionen!$B:$D,3,0))","v":861}]
["Brandschutz","WK45","WK45B950550","Brandschutzklappe WK45 950x550",null,"80",891.66,{"$f":"G16184*(1-VLOOKUP(F16184,Konditionen!$B:$D,3,0))","v":891.66}]
["Brandschutz","WK45","WK45B950600","Brandschutzklappe WK45 950x600",null,"80",924.11,{"$f":"G16185*(1-VLOOKUP(F16185,Konditionen!$B:$D,3,0))","v":924.11}]
["Brandschutz","WK45","WK45B950650","Brandschutzklappe WK45 950x650",null,"80",954.87,{"$f":"G16186*(1-VLOOKUP(F16186,Konditionen!$B:$D,3,0))","v":954.87}]
["Brandschutz","WK45","WK45B950700","Brandschutzklappe WK45 950x700",null,"80",990.36,{"$f":"G16187*(1-VLOOKUP(F16187,Konditionen!$B:$D,3,0))","v":990.36}]
["Brandschutz","WK45","WK45B950750","Brandschutzklappe WK45 950x750",null,"80",1021.02,{"$f":"G16188*(1-VLOOKUP(F16188,Konditionen!$B:$D,3,0))","v":1021.02}]
["Brandschutz","WK45","WK45B950800","Brandschutzklappe WK45 950x800",null,"80",1051.79,{"$f":"G16189*(1-VLOOKUP(F16189,Konditionen!$B:$D,3,0))","v":1051.79}]
["Brandschutz","WK45MTB","WK45MTB","Montageplatte WK45MTB","für Belimo BLF und BF","80",204.12,{"$f":"G16190*(1-VLOOKUP(F16190,Konditionen!$B:$D,3,0))","v":204.12}]
["Brandschutz","WK","WK70","Schmelzlot WK70","70°C","80",22.58,{"$f":"G16191*(1-VLOOKUP(F16191,Konditionen!$B:$D,3,0))","v":22.58}]
["Brandschutz","WK","WK95","Schmelzlot WK95","95°C","80",48.2,{"$f":"G16192*(1-VLOOKUP(F16192,Konditionen!$B:$D,3,0))","v":48.2}]
["Ventilatoren","WSDKBT","WSDKBT1","Wetterschutzdach WSD/KBT-1","für KBT 160-180 und KBR 315/355 4pl","7.ALLG",26,{"$f":"G16193*(1-VLOOKUP(F16193,Konditionen!$B:$D,3,0))","v":26}]
["Ventilatoren","","WSDKBT2","Wetterschutzdach WSD/KBT-2","für KBT 200-280 und KBR 315/355 2pl","7.ALLG",32,{"$f":"G16194*(1-VLOOKUP(F16194,Konditionen!$B:$D,3,0))","v":32}]
["Ventilatoren","WSDMUB","WSDMUB025","Wetterschutzdach WSD-MUB 025","für Ventilator MUB...025","7.ALLG",68,{"$f":"G16195*(1-VLOOKUP(F16195,Konditionen!$B:$D,3,0))","v":68}]
["Ventilatoren","WSDMUB","WSDMUB042","Wetterschutzdach WSD-MUB 042","für Ventilator MUB...042","7.ALLG",83,{"$f":"G16196*(1-VLOOKUP(F16196,Konditionen!$B:$D,3,0))","v":83}]
["Ventilatoren","WSDMUB","WSDMUB062","Wetterschutzdach WSD-MUB 062","für Ventilator MUB...062","7.ALLG",86,{"$f":"G16197*(1-VLOOKUP(F16197,Konditionen!$B:$D,3,0))","v":86}]
["Rohre und Formteile","WTRHV","WTRHV100","Wanddurchführung eckig  WTRHV 100","incl. Wetterschutzgitter 255x255mm;","90",69.92,{"$f":"G16198*(1-VLOOKUP(F16198,Konditionen!$B:$D,3,0))","v":69.92}]
["Rohre und Formteile","WTRHV","WTRHV125","Wanddurchführung eckig  WTRHV 125","incl. Wetterschutzgitter 305x305mm;","90",81.45,{"$f":"G16199*(1-VLOOKUP(F16199,Konditionen!$B:$D,3,0))","v":81.45}]
["Rohre und Formteile","WTRHV","WTRHV160","Wanddurchführung eckig  WTRHV 160","incl. Wetterschutzgitter 355x355mm;","90",96.9,{"$f":"G16200*(1-VLOOKUP(F16200,Konditionen!$B:$D,3,0))","v":96.9}]
["Rohre und Formteile","WTRHV","WTRHV200","Wanddurchführung eckig  WTRHV 200","incl. Wetterschutzgitter 430x430mm;","90",113.17,{"$f":"G16201*(1-VLOOKUP(F16201,Konditionen!$B:$D,3,0))","v":113.17}]
["Rohre und Formteile","WTRHV","WTRHV250","Wanddurchführung eckig  WTRHV 250","incl. Wetterschutzgitter 530x530mm;","90",137.80000000000001,{"$f":"G16202*(1-VLOOKUP(F16202,Konditionen!$B:$D,3,0))","v":137.80000000000001}]
["Rohre und Formteile","XVTR","XVTR100100100100","Tr.Kreuzst.XVTR 30 100.100.100.100",null,"35",181.78,{"$f":"G16203*(1-VLOOKUP(F16203,Konditionen!$B:$D,3,0))","v":181.78}]
["Rohre und Formteile","XVTR","XVTR100808080","Tr.Kreuzst.XVTR 30 100. 80. 80. 80",null,"35",173.28,{"$f":"G16204*(1-VLOOKUP(F16204,Konditionen!$B:$D,3,0))","v":173.28}]
["Rohre und Formteile","XVTR","XVTR125100100100","Tr.Kreuzst.XVTR 30 125.100.100.100",null,"35",190.33,{"$f":"G16205*(1-VLOOKUP(F16205,Konditionen!$B:$D,3,0))","v":190.33}]
["Rohre und Formteile","XVTR","XVTR125125125125","Tr.Kreuzst.XVTR 30 125.125.125.125",null,"35",215.06,{"$f":"G16206*(1-VLOOKUP(F16206,Konditionen!$B:$D,3,0))","v":215.06}]
["Rohre und Formteile","XVTR","XVTR125808080","Tr.Kreuzst.XVTR 30 125. 80. 80. 80",null,"35",190.28,{"$f":"G16207*(1-VLOOKUP(F16207,Konditionen!$B:$D,3,0))","v":190.28}]
["Rohre und Formteile","XVTR","XVTR140100100100","Tr.Kreuzst.XVTR 30 140.100.100.100",null,"35",221.62,{"$f":"G16208*(1-VLOOKUP(F16208,Konditionen!$B:$D,3,0))","v":221.62}]
["Rohre und Formteile","XVTR","XVTR140125125125","Tr.Kreuzst.XVTR 30 140.125.125.125",null,"35",233.16,{"$f":"G16209*(1-VLOOKUP(F16209,Konditionen!$B:$D,3,0))","v":233.16}]
["Rohre und Formteile","XVTR","XVTR140140140140","Tr.Kreuzst.XVTR 30 140.140.140.140",null,"35",259.14,{"$f":"G16210*(1-VLOOKUP(F16210,Konditionen!$B:$D,3,0))","v":259.14}]
["Rohre und Formteile","XVTR","XVTR140808080","Tr.Kreuzst.XVTR 30 140. 80. 80. 80",null,"35",221.45,{"$f":"G16211*(1-VLOOKUP(F16211,Konditionen!$B:$D,3,0))","v":221.45}]
["Rohre und Formteile","XVTR","XVTR150100100100","Tr.Kreuzst.XVTR 30 150.100.100.100",null,"35",221.62,{"$f":"G16212*(1-VLOOKUP(F16212,Konditionen!$B:$D,3,0))","v":221.62}]
["Rohre und Formteile","XVTR","XVTR150125125125","Tr.Kreuzst.XVTR 30 150.125.125.125",null,"35",233.16,{"$f":"G16213*(1-VLOOKUP(F16213,Konditionen!$B:$D,3,0))","v":233.16}]
["Rohre und Formteile","XVTR","XVTR150140140140","Tr.Kreuzst.XVTR 30 150.140.140.140",null,"35",259.14,{"$f":"G16214*(1-VLOOKUP(F16214,Konditionen!$B:$D,3,0))","v":259.14}]
["Rohre und Formteile","XVTR","XVTR150150150150","Tr.Kreuzst.XVTR 30 150.150.150.150",null,"35",259.14,{"$f":"G16215*(1-VLOOKUP(F16215,Konditionen!$B:$D,3,0))","v":259.14}]
["Rohre und Formteile","XVTR","XVTR150808080","Tr.Kreuzst.XVTR 30 150. 80. 80. 80",null,"35",221.45,{"$f":"G16216*(1-VLOOKUP(F16216,Konditionen!$B:$D,3,0))","v":221.45}]
["Rohre und Formteile","XVTR","XVTR160100100100","Tr.Kreuzst.XVTR 30 160.100.100.100",null,"35",221.62,{"$f":"G16217*(1-VLOOKUP(F16217,Konditionen!$B:$D,3,0))","v":221.62}]
["Rohre und Formteile","XVTR","XVTR160125125125","Tr.Kreuzst.XVTR 30 160.125.125.125",null,"35",233.16,{"$f":"G16218*(1-VLOOKUP(F16218,Konditionen!$B:$D,3,0))","v":233.16}]
["Rohre und Formteile","XVTR","XVTR160140140140","Tr.Kreuzst.XVTR 30 160.140.140.140",null,"35",259.14,{"$f":"G16219*(1-VLOOKUP(F16219,Konditionen!$B:$D,3,0))","v":259.14}]
["Rohre und Formteile","XVTR","XVTR160150150150","Tr.Kreuzst.XVTR 30 160.150.150.150",null,"35",259.14,{"$f":"G16220*(1-VLOOKUP(F16220,Konditionen!$B:$D,3,0))","v":259.14}]
["Rohre und Formteile","XVTR","XVTR160160160160","Tr.Kreuzst.XVTR 30 160.160.160.160",null,"35",259.14,{"$f":"G16221*(1-VLOOKUP(F16221,Konditionen!$B:$D,3,0))","v":259.14}]
["Rohre und Formteile","XVTR","XVTR160808080","Tr.Kreuzst.XVTR 30 160. 80. 80. 80",null,"35",221.45,{"$f":"G16222*(1-VLOOKUP(F16222,Konditionen!$B:$D,3,0))","v":221.45}]
["Rohre und Formteile","XVTR","XVTR180100100100","Tr.Kreuzst.XVTR 30 180.100.100.100",null,"35",256.41000000000003,{"$f":"G16223*(1-VLOOKUP(F16223,Konditionen!$B:$D,3,0))","v":256.41000000000003}]
["Rohre und Formteile","XVTR","XVTR180125125125","Tr.Kreuzst.XVTR 30 180.125.125.125",null,"35",270.94,{"$f":"G16224*(1-VLOOKUP(F16224,Konditionen!$B:$D,3,0))","v":270.94}]
["Rohre und Formteile","XVTR","XVTR180140140140","Tr.Kreuzst.XVTR 30 180.140.140.140",null,"35",275.93,{"$f":"G16225*(1-VLOOKUP(F16225,Konditionen!$B:$D,3,0))","v":275.93}]
["Rohre und Formteile","XVTR","XVTR180150150150","Tr.Kreuzst.XVTR 30 180.150.150.150",null,"35",275.93,{"$f":"G16226*(1-VLOOKUP(F16226,Konditionen!$B:$D,3,0))","v":275.93}]
["Rohre und Formteile","XVTR","XVTR180160160160","Tr.Kreuzst.XVTR 30 180.160.160.160",null,"35",275.93,{"$f":"G16227*(1-VLOOKUP(F16227,Konditionen!$B:$D,3,0))","v":275.93}]
["Rohre und Formteile","XVTR","XVTR180180180180","Tr.Kreuzst.XVTR 30 180.180.180.180",null,"35",312.14,{"$f":"G16228*(1-VLOOKUP(F16228,Konditionen!$B:$D,3,0))","v":312.14}]
["Rohre und Formteile","XVTR","XVTR180808080","Tr.Kreuzst.XVTR 30 180. 80. 80. 80",null,"35",255.2,{"$f":"G16229*(1-VLOOKUP(F16229,Konditionen!$B:$D,3,0))","v":255.2}]
["Rohre und Formteile","XVTR","XVTR200100100100","Tr.Kreuzst.XVTR 30 200.100.100.100",null,"35",256.41000000000003,{"$f":"G16230*(1-VLOOKUP(F16230,Konditionen!$B:$D,3,0))","v":256.41000000000003}]
["Rohre und Formteile","XVTR","XVTR200125125125","Tr.Kreuzst.XVTR 30 200.125.125.125",null,"35",270.94,{"$f":"G16231*(1-VLOOKUP(F16231,Konditionen!$B:$D,3,0))","v":270.94}]
["Rohre und Formteile","XVTR","XVTR200140140140","Tr.Kreuzst.XVTR 30 200.140.140.140",null,"35",275.93,{"$f":"G16232*(1-VLOOKUP(F16232,Konditionen!$B:$D,3,0))","v":275.93}]
["Rohre und Formteile","XVTR","XVTR200150150150","Tr.Kreuzst.XVTR 30 200.150.150.150",null,"35",275.93,{"$f":"G16233*(1-VLOOKUP(F16233,Konditionen!$B:$D,3,0))","v":275.93}]
["Rohre und Formteile","XVTR","XVTR200160160160","Tr.Kreuzst.XVTR 30 200.160.160.160",null,"35",275.93,{"$f":"G16234*(1-VLOOKUP(F16234,Konditionen!$B:$D,3,0))","v":275.93}]
["Rohre und Formteile","XVTR","XVTR200180180180","Tr.Kreuzst.XVTR 30 200.180.180.180",null,"35",312.14,{"$f":"G16235*(1-VLOOKUP(F16235,Konditionen!$B:$D,3,0))","v":312.14}]
["Rohre und Formteile","XVTR","XVTR200200200200","Tr.Kreuzst.XVTR 30 200.200.200.200",null,"35",312.14,{"$f":"G16236*(1-VLOOKUP(F16236,Konditionen!$B:$D,3,0))","v":312.14}]
["Rohre und Formteile","XVTR","XVTR200808080","Tr.Kreuzst.XVTR 30 200. 80. 80. 80",null,"35",255.2,{"$f":"G16237*(1-VLOOKUP(F16237,Konditionen!$B:$D,3,0))","v":255.2}]
["Rohre und Formteile","XVTR","XVTR224100100100","Tr.Kreuzst.XVTR 30 224.100.100.100",null,"35",301.33,{"$f":"G16238*(1-VLOOKUP(F16238,Konditionen!$B:$D,3,0))","v":301.33}]
["Rohre und Formteile","XVTR","XVTR224125125125","Tr.Kreuzst.XVTR 30 224.125.125.125",null,"35",316.44,{"$f":"G16239*(1-VLOOKUP(F16239,Konditionen!$B:$D,3,0))","v":316.44}]
["Rohre und Formteile","XVTR","XVTR224140140140","Tr.Kreuzst.XVTR 30 224.140.140.140",null,"35",330.14,{"$f":"G16240*(1-VLOOKUP(F16240,Konditionen!$B:$D,3,0))","v":330.14}]
["Rohre und Formteile","XVTR","XVTR224150150150","Tr.Kreuzst.XVTR 30 224.150.150.150",null,"35",330.14,{"$f":"G16241*(1-VLOOKUP(F16241,Konditionen!$B:$D,3,0))","v":330.14}]
["Rohre und Formteile","XVTR","XVTR224160160160","Tr.Kreuzst.XVTR 30 224.160.160.160",null,"35",330.14,{"$f":"G16242*(1-VLOOKUP(F16242,Konditionen!$B:$D,3,0))","v":330.14}]
["Rohre und Formteile","XVTR","XVTR224180180180","Tr.Kreuzst.XVTR 30 224.180.180.180",null,"35",344,{"$f":"G16243*(1-VLOOKUP(F16243,Konditionen!$B:$D,3,0))","v":344}]
["Rohre und Formteile","XVTR","XVTR224200200200","Tr.Kreuzst.XVTR 30 224.200.200.200",null,"35",344,{"$f":"G16244*(1-VLOOKUP(F16244,Konditionen!$B:$D,3,0))","v":344}]
["Rohre und Formteile","XVTR","XVTR224224224224","Tr.Kreuzst.XVTR 30 224.224.224.224",null,"35",427.23,{"$f":"G16245*(1-VLOOKUP(F16245,Konditionen!$B:$D,3,0))","v":427.23}]
["Rohre und Formteile","XVTR","XVTR224808080","Tr.Kreuzst.XVTR 30 224. 80. 80. 80",null,"35",298.61,{"$f":"G16246*(1-VLOOKUP(F16246,Konditionen!$B:$D,3,0))","v":298.61}]
["Rohre und Formteile","XVTR","XVTR250100100100","Tr.Kreuzst.XVTR 30 250.100.100.100",null,"35",301.33,{"$f":"G16247*(1-VLOOKUP(F16247,Konditionen!$B:$D,3,0))","v":301.33}]
["Rohre und Formteile","XVTR","XVTR250125125125","Tr.Kreuzst.XVTR 30 250.125.125.125",null,"35",316.44,{"$f":"G16248*(1-VLOOKUP(F16248,Konditionen!$B:$D,3,0))","v":316.44}]
["Rohre und Formteile","XVTR","XVTR250140140140","Tr.Kreuzst.XVTR 30 250.140.140.140",null,"35",330.14,{"$f":"G16249*(1-VLOOKUP(F16249,Konditionen!$B:$D,3,0))","v":330.14}]
["Rohre und Formteile","XVTR","XVTR250150150150","Tr.Kreuzst.XVTR 30 250.150.150.150",null,"35",330.14,{"$f":"G16250*(1-VLOOKUP(F16250,Konditionen!$B:$D,3,0))","v":330.14}]
["Rohre und Formteile","XVTR","XVTR250160160160","Tr.Kreuzst.XVTR 30 250.160.160.160",null,"35",330.14,{"$f":"G16251*(1-VLOOKUP(F16251,Konditionen!$B:$D,3,0))","v":330.14}]
["Rohre und Formteile","XVTR","XVTR250180180180","Tr.Kreuzst.XVTR 30 250.180.180.180",null,"35",344,{"$f":"G16252*(1-VLOOKUP(F16252,Konditionen!$B:$D,3,0))","v":344}]
["Rohre und Formteile","XVTR","XVTR250200200200","Tr.Kreuzst.XVTR 30 250.200.200.200",null,"35",344,{"$f":"G16253*(1-VLOOKUP(F16253,Konditionen!$B:$D,3,0))","v":344}]
["Rohre und Formteile","XVTR","XVTR250224224224","Tr.Kreuzst.XVTR 30 250.224.224.224",null,"35",427.23,{"$f":"G16254*(1-VLOOKUP(F16254,Konditionen!$B:$D,3,0))","v":427.23}]
["Rohre und Formteile","XVTR","XVTR250250250250","Tr.Kreuzst.XVTR 30 250.250.250.250",null,"35",427.23,{"$f":"G16255*(1-VLOOKUP(F16255,Konditionen!$B:$D,3,0))","v":427.23}]
["Rohre und Formteile","XVTR","XVTR250808080","Tr.Kreuzst.XVTR 30 250. 80. 80. 80",null,"35",298.61,{"$f":"G16256*(1-VLOOKUP(F16256,Konditionen!$B:$D,3,0))","v":298.61}]
["Rohre und Formteile","XVTR","XVTR300100100100","Tr.Kreuzst.XVTR 30 300.10 .100.100",null,"35",321.48,{"$f":"G16257*(1-VLOOKUP(F16257,Konditionen!$B:$D,3,0))","v":321.48}]
["Rohre und Formteile","XVTR","XVTR300125125125","Tr.Kreuzst.XVTR 30 300.125.125.125",null,"35",335.07,{"$f":"G16258*(1-VLOOKUP(F16258,Konditionen!$B:$D,3,0))","v":335.07}]
["Rohre und Formteile","XVTR","XVTR300140140140","Tr.Kreuzst.XVTR 30 300.140.140.140",null,"35",373.65,{"$f":"G16259*(1-VLOOKUP(F16259,Konditionen!$B:$D,3,0))","v":373.65}]
["Rohre und Formteile","XVTR","XVTR300150150150","Tr.Kreuzst.XVTR 30 300.150.150.150",null,"35",373.65,{"$f":"G16260*(1-VLOOKUP(F16260,Konditionen!$B:$D,3,0))","v":373.65}]
["Rohre und Formteile","XVTR","XVTR300160160160","Tr.Kreuzst.XVTR 30 300.160.160.160",null,"35",373.65,{"$f":"G16261*(1-VLOOKUP(F16261,Konditionen!$B:$D,3,0))","v":373.65}]
["Rohre und Formteile","XVTR","XVTR300180180180","Tr.Kreuzst.XVTR 30 300.180.180.180",null,"35",398.94,{"$f":"G16262*(1-VLOOKUP(F16262,Konditionen!$B:$D,3,0))","v":398.94}]
["Rohre und Formteile","XVTR","XVTR300200200200","Tr.Kreuzst.XVTR 30 300.200.200.200",null,"35",398.94,{"$f":"G16263*(1-VLOOKUP(F16263,Konditionen!$B:$D,3,0))","v":398.94}]
["Rohre und Formteile","XVTR","XVTR300224224224","Tr.Kreuzst.XVTR 30 300.224.224.224",null,"35",412.79,{"$f":"G16264*(1-VLOOKUP(F16264,Konditionen!$B:$D,3,0))","v":412.79}]
["Rohre und Formteile","XVTR","XVTR300250250250","Tr.Kreuzst.XVTR 30 300.250.250.250",null,"35",412.79,{"$f":"G16265*(1-VLOOKUP(F16265,Konditionen!$B:$D,3,0))","v":412.79}]
["Rohre und Formteile","XVTR","XVTR300300300300","Tr.Kreuzst.XVTR 30 300.300.300.300",null,"35",431.43,{"$f":"G16266*(1-VLOOKUP(F16266,Konditionen!$B:$D,3,0))","v":431.43}]
["Rohre und Formteile","XVTR","XVTR315100100100","Tr.Kreuzst.XVTR 30 315.100.100.100",null,"35",345.46,{"$f":"G16267*(1-VLOOKUP(F16267,Konditionen!$B:$D,3,0))","v":345.46}]
["Rohre und Formteile","XVTR","XVTR315125125125","Tr.Kreuzst.XVTR 30 315.125.125.125",null,"35",370.81,{"$f":"G16268*(1-VLOOKUP(F16268,Konditionen!$B:$D,3,0))","v":370.81}]
["Rohre und Formteile","XVTR","XVTR315140140140","Tr.Kreuzst.XVTR 30 315.140.140.140",null,"35",376.69,{"$f":"G16269*(1-VLOOKUP(F16269,Konditionen!$B:$D,3,0))","v":376.69}]
["Rohre und Formteile","XVTR","XVTR315150150150","Tr.Kreuzst.XVTR 30 315.150.150.150",null,"35",376.69,{"$f":"G16270*(1-VLOOKUP(F16270,Konditionen!$B:$D,3,0))","v":376.69}]
["Rohre und Formteile","XVTR","XVTR315160160160","Tr.Kreuzst.XVTR 30 315.160.160.160",null,"35",376.69,{"$f":"G16271*(1-VLOOKUP(F16271,Konditionen!$B:$D,3,0))","v":376.69}]
["Rohre und Formteile","XVTR","XVTR315180180180","Tr.Kreuzst.XVTR 30 315.180.180.180",null,"35",402.56,{"$f":"G16272*(1-VLOOKUP(F16272,Konditionen!$B:$D,3,0))","v":402.56}]
["Rohre und Formteile","XVTR","XVTR315200200200","Tr.Kreuzst.XVTR 30 315.200.200.200",null,"35",402.56,{"$f":"G16273*(1-VLOOKUP(F16273,Konditionen!$B:$D,3,0))","v":402.56}]
["Rohre und Formteile","XVTR","XVTR315224224224","Tr.Kreuzst.XVTR 30 315.224.224.224",null,"35",431.43,{"$f":"G16274*(1-VLOOKUP(F16274,Konditionen!$B:$D,3,0))","v":431.43}]
["Rohre und Formteile","XVTR","XVTR315250250250","Tr.Kreuzst.XVTR 30 315.250.250.250",null,"35",431.43,{"$f":"G16275*(1-VLOOKUP(F16275,Konditionen!$B:$D,3,0))","v":431.43}]
["Rohre und Formteile","XVTR","XVTR315300300300","Tr.Kreuzst.XVTR 30 315.300.300.300",null,"35",445.28,{"$f":"G16276*(1-VLOOKUP(F16276,Konditionen!$B:$D,3,0))","v":445.28}]
["Rohre und Formteile","XVTR","XVTR315315315315","Tr.Kreuzst.XVTR 30 315.315.315.315",null,"35",447.48,{"$f":"G16277*(1-VLOOKUP(F16277,Konditionen!$B:$D,3,0))","v":447.48}]
["Rohre und Formteile","XVTR","XVTR350100100100","Tr.Kreuzst.XVTR 30 350.100.100.100",null,"35",370.81,{"$f":"G16278*(1-VLOOKUP(F16278,Konditionen!$B:$D,3,0))","v":370.81}]
["Rohre und Formteile","XVTR","XVTR350125125125","Tr.Kreuzst.XVTR 30 350.125.125.125",null,"35",398.94,{"$f":"G16279*(1-VLOOKUP(F16279,Konditionen!$B:$D,3,0))","v":398.94}]
["Rohre und Formteile","XVTR","XVTR350140140140","Tr.Kreuzst.XVTR 30 350.140.140.140",null,"35",420.57,{"$f":"G16280*(1-VLOOKUP(F16280,Konditionen!$B:$D,3,0))","v":420.57}]
["Rohre und Formteile","XVTR","XVTR350150150150","Tr.Kreuzst.XVTR 30 350.150.150.150",null,"35",420.57,{"$f":"G16281*(1-VLOOKUP(F16281,Konditionen!$B:$D,3,0))","v":420.57}]
["Rohre und Formteile","XVTR","XVTR350160160160","Tr.Kreuzst.XVTR 30 350.160.160.160",null,"35",420.57,{"$f":"G16282*(1-VLOOKUP(F16282,Konditionen!$B:$D,3,0))","v":420.57}]
["Rohre und Formteile","XVTR","XVTR350180180180","Tr.Kreuzst.XVTR 30 350.180.180.180",null,"35",431.43,{"$f":"G16283*(1-VLOOKUP(F16283,Konditionen!$B:$D,3,0))","v":431.43}]
["Rohre und Formteile","XVTR","XVTR350200200200","Tr.Kreuzst.XVTR 30 350.200.200.200",null,"35",431.43,{"$f":"G16284*(1-VLOOKUP(F16284,Konditionen!$B:$D,3,0))","v":431.43}]
["Rohre und Formteile","XVTR","XVTR350224224224","Tr.Kreuzst.XVTR 30 350.224.224.224",null,"35",454.83,{"$f":"G16285*(1-VLOOKUP(F16285,Konditionen!$B:$D,3,0))","v":454.83}]
["Rohre und Formteile","XVTR","XVTR350250250250","Tr.Kreuzst.XVTR 30 350.250.250.250",null,"35",454.83,{"$f":"G16286*(1-VLOOKUP(F16286,Konditionen!$B:$D,3,0))","v":454.83}]
["Rohre und Formteile","XVTR","XVTR350300300300","Tr.Kreuzst.XVTR 30 350.300.300.300",null,"35",469.26,{"$f":"G16287*(1-VLOOKUP(F16287,Konditionen!$B:$D,3,0))","v":469.26}]
["Rohre und Formteile","XVTR","XVTR350315315315","Tr.Kreuzst.XVTR 30 350.315.315.315",null,"35",495.24,{"$f":"G16288*(1-VLOOKUP(F16288,Konditionen!$B:$D,3,0))","v":495.24}]
["Rohre und Formteile","XVTR","XVTR350350350350","Tr.Kreuzst.XVTR 30 350.350.350.350",null,"35",603.14,{"$f":"G16289*(1-VLOOKUP(F16289,Konditionen!$B:$D,3,0))","v":603.14}]
["Rohre und Formteile","XVTR","XVTR400100100100","Tr.Kreuzst.XVTR 30 400.100.100.100",null,"35",384.41,{"$f":"G16290*(1-VLOOKUP(F16290,Konditionen!$B:$D,3,0))","v":384.41}]
["Rohre und Formteile","XVTR","XVTR400125125125","Tr.Kreuzst.XVTR 30 400.125.125.125",null,"35",414.21,{"$f":"G16291*(1-VLOOKUP(F16291,Konditionen!$B:$D,3,0))","v":414.21}]
["Rohre und Formteile","XVTR","XVTR400140140140","Tr.Kreuzst.XVTR 30 400.140.140.140",null,"35",454.83,{"$f":"G16292*(1-VLOOKUP(F16292,Konditionen!$B:$D,3,0))","v":454.83}]
["Rohre und Formteile","XVTR","XVTR400150150150","Tr.Kreuzst.XVTR 30 400.150.150.150",null,"35",454.83,{"$f":"G16293*(1-VLOOKUP(F16293,Konditionen!$B:$D,3,0))","v":454.83}]
["Rohre und Formteile","XVTR","XVTR400160160160","Tr.Kreuzst.XVTR 30 400.160.160.160",null,"35",454.83,{"$f":"G16294*(1-VLOOKUP(F16294,Konditionen!$B:$D,3,0))","v":454.83}]
["Rohre und Formteile","XVTR","XVTR400180180180","Tr.Kreuzst.XVTR 30 400.180.180.180",null,"35",483.01,{"$f":"G16295*(1-VLOOKUP(F16295,Konditionen!$B:$D,3,0))","v":483.01}]
["Rohre und Formteile","XVTR","XVTR400200200200","Tr.Kreuzst.XVTR 30 400.200.200.200",null,"35",483.01,{"$f":"G16296*(1-VLOOKUP(F16296,Konditionen!$B:$D,3,0))","v":483.01}]
["Rohre und Formteile","XVTR","XVTR400224224224","Tr.Kreuzst.XVTR 30 400.224.224.224",null,"35",531.45000000000005,{"$f":"G16297*(1-VLOOKUP(F16297,Konditionen!$B:$D,3,0))","v":531.45000000000005}]
["Rohre und Formteile","XVTR","XVTR400250250250","Tr.Kreuzst.XVTR 30 400.250.250.250",null,"35",531.45000000000005,{"$f":"G16298*(1-VLOOKUP(F16298,Konditionen!$B:$D,3,0))","v":531.45000000000005}]
["Rohre und Formteile","XVTR","XVTR400300300300","Tr.Kreuzst.XVTR 30 400.300.300.300",null,"35",556.85,{"$f":"G16299*(1-VLOOKUP(F16299,Konditionen!$B:$D,3,0))","v":556.85}]
["Rohre und Formteile","XVTR","XVTR400315315315","Tr.Kreuzst.XVTR 30 400.315.315.315",null,"35",565.29,{"$f":"G16300*(1-VLOOKUP(F16300,Konditionen!$B:$D,3,0))","v":565.29}]
["Rohre und Formteile","XVTR","XVTR400350350350","Tr.Kreuzst.XVTR 30 400.350.350.350",null,"35",625.65,{"$f":"G16301*(1-VLOOKUP(F16301,Konditionen!$B:$D,3,0))","v":625.65}]
["Rohre und Formteile","XVTR","XVTR400400400400","Tr.Kreuzst.XVTR 30 400.400.400.400",null,"35",639.4,{"$f":"G16302*(1-VLOOKUP(F16302,Konditionen!$B:$D,3,0))","v":639.4}]
["Rohre und Formteile","XVTR","XVTR450100100100","Tr.Kreuzst.XVTR 30 450.100.100.100",null,"35",403.98,{"$f":"G16303*(1-VLOOKUP(F16303,Konditionen!$B:$D,3,0))","v":403.98}]
["Rohre und Formteile","XVTR","XVTR450125125125","Tr.Kreuzst.XVTR 30 450.125.125.125",null,"35",433.68,{"$f":"G16304*(1-VLOOKUP(F16304,Konditionen!$B:$D,3,0))","v":433.68}]
["Rohre und Formteile","XVTR","XVTR450140140140","Tr.Kreuzst.XVTR 30 450.140.140.140",null,"35",462.7,{"$f":"G16305*(1-VLOOKUP(F16305,Konditionen!$B:$D,3,0))","v":462.7}]
["Rohre und Formteile","XVTR","XVTR450150150150","Tr.Kreuzst.XVTR 30 450.150.150.150",null,"35",462.7,{"$f":"G16306*(1-VLOOKUP(F16306,Konditionen!$B:$D,3,0))","v":462.7}]
["Rohre und Formteile","XVTR","XVTR450160160160","Tr.Kreuzst.XVTR 30 450.160.160.160",null,"35",462.7,{"$f":"G16307*(1-VLOOKUP(F16307,Konditionen!$B:$D,3,0))","v":462.7}]
["Rohre und Formteile","XVTR","XVTR450180180180","Tr.Kreuzst.XVTR 30 450.180.180.180",null,"35",518.38,{"$f":"G16308*(1-VLOOKUP(F16308,Konditionen!$B:$D,3,0))","v":518.38}]
["Rohre und Formteile","XVTR","XVTR450200200200","Tr.Kreuzst.XVTR 30 450.200.200.200",null,"35",518.38,{"$f":"G16309*(1-VLOOKUP(F16309,Konditionen!$B:$D,3,0))","v":518.38}]
["Rohre und Formteile","XVTR","XVTR450224224224","Tr.Kreuzst.XVTR 30 450.224.224.224",null,"35",542.26,{"$f":"G16310*(1-VLOOKUP(F16310,Konditionen!$B:$D,3,0))","v":542.26}]
["Rohre und Formteile","XVTR","XVTR450250250250","Tr.Kreuzst.XVTR 30 450.250.250.250",null,"35",542.26,{"$f":"G16311*(1-VLOOKUP(F16311,Konditionen!$B:$D,3,0))","v":542.26}]
["Rohre und Formteile","XVTR","XVTR450300300300","Tr.Kreuzst.XVTR 30 450.300.300.300",null,"35",559.63,{"$f":"G16312*(1-VLOOKUP(F16312,Konditionen!$B:$D,3,0))","v":559.63}]
["Rohre und Formteile","XVTR","XVTR450315315315","Tr.Kreuzst.XVTR 30 450.315.315.315",null,"35",585.98,{"$f":"G16313*(1-VLOOKUP(F16313,Konditionen!$B:$D,3,0))","v":585.98}]
["Rohre und Formteile","XVTR","XVTR450350350350","Tr.Kreuzst.XVTR 30 450.350.350.350",null,"35",639.4,{"$f":"G16314*(1-VLOOKUP(F16314,Konditionen!$B:$D,3,0))","v":639.4}]
["Rohre und Formteile","XVTR","XVTR450400400400","Tr.Kreuzst.XVTR 30 450.400.400.400",null,"35",668.95,{"$f":"G16315*(1-VLOOKUP(F16315,Konditionen!$B:$D,3,0))","v":668.95}]
["Rohre und Formteile","XVTR","XVTR450450450450","Tr.Kreuzst.XVTR 30 450.450.450.450",null,"35",708.98,{"$f":"G16316*(1-VLOOKUP(F16316,Konditionen!$B:$D,3,0))","v":708.98}]
["Rohre und Formteile","XVTR","XVTR500100100100","Tr.Kreuzst.XVTR 30 500.100.100.100",null,"35",416.36,{"$f":"G16317*(1-VLOOKUP(F16317,Konditionen!$B:$D,3,0))","v":416.36}]
["Rohre und Formteile","XVTR","XVTR500125125125","Tr.Kreuzst.XVTR 30 500.125.125.125",null,"35",443.03,{"$f":"G16318*(1-VLOOKUP(F16318,Konditionen!$B:$D,3,0))","v":443.03}]
["Rohre und Formteile","XVTR","XVTR500140140140","Tr.Kreuzst.XVTR 30 500.140.140.140",null,"35",467.11,{"$f":"G16319*(1-VLOOKUP(F16319,Konditionen!$B:$D,3,0))","v":467.11}]
["Rohre und Formteile","XVTR","XVTR500150150150","Tr.Kreuzst.XVTR 30 500.150.150.150",null,"35",467.11,{"$f":"G16320*(1-VLOOKUP(F16320,Konditionen!$B:$D,3,0))","v":467.11}]
["Rohre und Formteile","XVTR","XVTR500160160160","Tr.Kreuzst.XVTR 30 500.160.160.160",null,"35",467.11,{"$f":"G16321*(1-VLOOKUP(F16321,Konditionen!$B:$D,3,0))","v":467.11}]
["Rohre und Formteile","XVTR","XVTR500180180180","Tr.Kreuzst.XVTR 30 500.180.180.180",null,"35",540.30999999999995,{"$f":"G16322*(1-VLOOKUP(F16322,Konditionen!$B:$D,3,0))","v":540.30999999999995}]
["Rohre und Formteile","XVTR","XVTR500200200200","Tr.Kreuzst.XVTR 30 500.200.200.200",null,"35",540.30999999999995,{"$f":"G16323*(1-VLOOKUP(F16323,Konditionen!$B:$D,3,0))","v":540.30999999999995}]
["Rohre und Formteile","XVTR","XVTR500224224224","Tr.Kreuzst.XVTR 30 500.224.224.224",null,"35",556.85,{"$f":"G16324*(1-VLOOKUP(F16324,Konditionen!$B:$D,3,0))","v":556.85}]
["Rohre und Formteile","XVTR","XVTR500250250250","Tr.Kreuzst.XVTR 30 500.250.250.250",null,"35",556.85,{"$f":"G16325*(1-VLOOKUP(F16325,Konditionen!$B:$D,3,0))","v":556.85}]
["Rohre und Formteile","XVTR","XVTR500300300300","Tr.Kreuzst.XVTR 30 500.300.300.300",null,"35",572.85,{"$f":"G16326*(1-VLOOKUP(F16326,Konditionen!$B:$D,3,0))","v":572.85}]
["Rohre und Formteile","XVTR","XVTR500315315315","Tr.Kreuzst.XVTR 30 500.315.315.315",null,"35",603.14,{"$f":"G16327*(1-VLOOKUP(F16327,Konditionen!$B:$D,3,0))","v":603.14}]
["Rohre und Formteile","XVTR","XVTR500350350350","Tr.Kreuzst.XVTR 30 500.350.350.350",null,"35",656.03,{"$f":"G16328*(1-VLOOKUP(F16328,Konditionen!$B:$D,3,0))","v":656.03}]
["Rohre und Formteile","XVTR","XVTR500400400400","Tr.Kreuzst.XVTR 30 500.400.400.400",null,"35",690.14,{"$f":"G16329*(1-VLOOKUP(F16329,Konditionen!$B:$D,3,0))","v":690.14}]
["Rohre und Formteile","XVTR","XVTR500450450450","Tr.Kreuzst.XVTR 30 500.450.450.450",null,"35",730.61,{"$f":"G16330*(1-VLOOKUP(F16330,Konditionen!$B:$D,3,0))","v":730.61}]
["Rohre und Formteile","XVTR","XVTR500500500500","Tr.Kreuzst.XVTR 30 500.500.500.500",null,"35",779.88,{"$f":"G16331*(1-VLOOKUP(F16331,Konditionen!$B:$D,3,0))","v":779.88}]
["Rohre und Formteile","XVTR","XVTR80808080","Tr.Kreuzst.XVTR 30  80. 80. 80. 80",null,"35",173.28,{"$f":"G16332*(1-VLOOKUP(F16332,Konditionen!$B:$D,3,0))","v":173.28}]
["Rohre und Formteile","YGC","YGC100","Rundes Wetterschutzgitter YGC 100","(alte Bezeichnung USAV)","70",27.79,{"$f":"G16333*(1-VLOOKUP(F16333,Konditionen!$B:$D,3,0))","v":27.79}]
["Rohre und Formteile","YGC","YGC125","Rundes Wetterschutzgitter YGC 125","(alte Bezeichnung USAV)","70",29.55,{"$f":"G16334*(1-VLOOKUP(F16334,Konditionen!$B:$D,3,0))","v":29.55}]
["Rohre und Formteile","YGC","YGC160","Rundes Wetterschutzgitter YGC 160","(alte Bezeichnung USAV)","70",40.6,{"$f":"G16335*(1-VLOOKUP(F16335,Konditionen!$B:$D,3,0))","v":40.6}]
["Rohre und Formteile","YGC","YGC200","Rundes Wetterschutzgitter YGC 200","(alte Bezeichnung USAV)","70",49.39,{"$f":"G16336*(1-VLOOKUP(F16336,Konditionen!$B:$D,3,0))","v":49.39}]
["Rohre und Formteile","YGC","YGC250","Rundes Wetterschutzgitter YGC 250","(alte Bezeichnung USAV)","70",90.41,{"$f":"G16337*(1-VLOOKUP(F16337,Konditionen!$B:$D,3,0))","v":90.41}]
["Rohre und Formteile","YGC","YGC315","Rundes Wetterschutzgitter YGC 315","(alte Bezeichnung USAV)","70",135.35,{"$f":"G16338*(1-VLOOKUP(F16338,Konditionen!$B:$D,3,0))","v":135.35}]
["Rohre und Formteile","YVTR30","YVTR30100100100","Tr.Hosenstück  YVTR 30 100.100.100",null,"35",154.02000000000001,{"$f":"G16339*(1-VLOOKUP(F16339,Konditionen!$B:$D,3,0))","v":154.02000000000001}]
["Rohre und Formteile","YVTR30","YVTR301008080","Tr.Hosenstück  YVTR 30 100. 80. 80",null,"35",154.02000000000001,{"$f":"G16340*(1-VLOOKUP(F16340,Konditionen!$B:$D,3,0))","v":154.02000000000001}]
["Rohre und Formteile","YVTR30","YVTR30125100100","Tr.Hosenstück  YVTR 30 125.100.100",null,"35",169.5,{"$f":"G16341*(1-VLOOKUP(F16341,Konditionen!$B:$D,3,0))","v":169.5}]
["Rohre und Formteile","YVTR30","YVTR30125125125","Tr.Hosenstück  YVTR 30 125.125.125",null,"35",189.55,{"$f":"G16342*(1-VLOOKUP(F16342,Konditionen!$B:$D,3,0))","v":189.55}]
["Rohre und Formteile","YVTR30","YVTR301258080","Tr.Hosenstück  YVTR 30 125. 80. 80",null,"35",169.5,{"$f":"G16343*(1-VLOOKUP(F16343,Konditionen!$B:$D,3,0))","v":169.5}]
["Rohre und Formteile","YVTR30","YVTR30140100100","Tr.Hosenstück  YVTR 30 140.100.100",null,"35",194.59,{"$f":"G16344*(1-VLOOKUP(F16344,Konditionen!$B:$D,3,0))","v":194.59}]
["Rohre und Formteile","YVTR30","YVTR30140125125","Tr.Hosenstück  YVTR 30 140.125.125",null,"35",198.62,{"$f":"G16345*(1-VLOOKUP(F16345,Konditionen!$B:$D,3,0))","v":198.62}]
["Rohre und Formteile","YVTR30","YVTR30140140140","Tr.Hosenstück  YVTR 30 140.140.140",null,"35",228.96,{"$f":"G16346*(1-VLOOKUP(F16346,Konditionen!$B:$D,3,0))","v":228.96}]
["Rohre und Formteile","YVTR30","YVTR301408080","Tr.Hosenstück  YVTR 30 140. 80. 80",null,"35",194.59,{"$f":"G16347*(1-VLOOKUP(F16347,Konditionen!$B:$D,3,0))","v":194.59}]
["Rohre und Formteile","YVTR30","YVTR30150100100","Tr.Hosenstück  YVTR 30 150.100.100",null,"35",194.59,{"$f":"G16348*(1-VLOOKUP(F16348,Konditionen!$B:$D,3,0))","v":194.59}]
["Rohre und Formteile","YVTR30","YVTR30150125125","Tr.Hosenstück  YVTR 30 150.125.125",null,"35",198.62,{"$f":"G16349*(1-VLOOKUP(F16349,Konditionen!$B:$D,3,0))","v":198.62}]
["Rohre und Formteile","YVTR30","YVTR30150140140","Tr.Hosenstück  YVTR 30 150.140.140",null,"35",228.96,{"$f":"G16350*(1-VLOOKUP(F16350,Konditionen!$B:$D,3,0))","v":228.96}]
["Rohre und Formteile","YVTR30","YVTR30150150150","Tr.Hosenstück  YVTR 30 150.150.150",null,"35",228.96,{"$f":"G16351*(1-VLOOKUP(F16351,Konditionen!$B:$D,3,0))","v":228.96}]
["Rohre und Formteile","YVTR30","YVTR301508080","Tr.Hosenstück  YVTR 30 150. 80. 80",null,"35",194.59,{"$f":"G16352*(1-VLOOKUP(F16352,Konditionen!$B:$D,3,0))","v":194.59}]
["Rohre und Formteile","YVTR30","YVTR30160100100","Tr.Hosenstück  YVTR 30 160.100.100",null,"35",194.59,{"$f":"G16353*(1-VLOOKUP(F16353,Konditionen!$B:$D,3,0))","v":194.59}]
["Rohre und Formteile","YVTR30","YVTR30160125125","Tr.Hosenstück  YVTR 30 160.125.125",null,"35",198.62,{"$f":"G16354*(1-VLOOKUP(F16354,Konditionen!$B:$D,3,0))","v":198.62}]
["Rohre und Formteile","YVTR30","YVTR30160140140","Tr.Hosenstück  YVTR 30 160.140.140",null,"35",228.96,{"$f":"G16355*(1-VLOOKUP(F16355,Konditionen!$B:$D,3,0))","v":228.96}]
["Rohre und Formteile","YVTR30","YVTR30160150150","Tr.Hosenstück  YVTR 30 160.150.150",null,"35",228.96,{"$f":"G16356*(1-VLOOKUP(F16356,Konditionen!$B:$D,3,0))","v":228.96}]
["Rohre und Formteile","YVTR30","YVTR30160160160","Tr.Hosenstück  YVTR 30 160.160.160",null,"35",228.96,{"$f":"G16357*(1-VLOOKUP(F16357,Konditionen!$B:$D,3,0))","v":228.96}]
["Rohre und Formteile","YVTR30","YVTR301608080","Tr.Hosenstück  YVTR 30 160. 80. 80",null,"35",194.59,{"$f":"G16358*(1-VLOOKUP(F16358,Konditionen!$B:$D,3,0))","v":194.59}]
["Rohre und Formteile","YVTR30","YVTR30180100100","Tr.Hosenstück  YVTR 30 180.100.100",null,"35",226.81,{"$f":"G16359*(1-VLOOKUP(F16359,Konditionen!$B:$D,3,0))","v":226.81}]
["Rohre und Formteile","YVTR30","YVTR30180125125","Tr.Hosenstück  YVTR 30 180.125.125",null,"35",239.87,{"$f":"G16360*(1-VLOOKUP(F16360,Konditionen!$B:$D,3,0))","v":239.87}]
["Rohre und Formteile","YVTR30","YVTR30180140140","Tr.Hosenstück  YVTR 30 180.140.140",null,"35",244.81,{"$f":"G16361*(1-VLOOKUP(F16361,Konditionen!$B:$D,3,0))","v":244.81}]
["Rohre und Formteile","YVTR30","YVTR30180150150","Tr.Hosenstück  YVTR 30 180.150.150",null,"35",244.81,{"$f":"G16362*(1-VLOOKUP(F16362,Konditionen!$B:$D,3,0))","v":244.81}]
["Rohre und Formteile","YVTR30","YVTR30180160160","Tr.Hosenstück  YVTR 30 180.160.160",null,"35",244.81,{"$f":"G16363*(1-VLOOKUP(F16363,Konditionen!$B:$D,3,0))","v":244.81}]
["Rohre und Formteile","YVTR30","YVTR30180180180","Tr.Hosenstück  YVTR 30 180.180.180",null,"35",276.56,{"$f":"G16364*(1-VLOOKUP(F16364,Konditionen!$B:$D,3,0))","v":276.56}]
["Rohre und Formteile","YVTR30","YVTR301808080","Tr.Hosenstück  YVTR 30 180. 80. 80",null,"35",217.94,{"$f":"G16365*(1-VLOOKUP(F16365,Konditionen!$B:$D,3,0))","v":217.94}]
["Rohre und Formteile","YVTR30","YVTR30200100100","Tr.Hosenstück  YVTR 30 200.100.100",null,"35",226.81,{"$f":"G16366*(1-VLOOKUP(F16366,Konditionen!$B:$D,3,0))","v":226.81}]
["Rohre und Formteile","YVTR30","YVTR30200125125","Tr.Hosenstück  YVTR 30 200.125.125",null,"35",239.87,{"$f":"G16367*(1-VLOOKUP(F16367,Konditionen!$B:$D,3,0))","v":239.87}]
["Rohre und Formteile","YVTR30","YVTR30200140140","Tr.Hosenstück  YVTR 30 200.140.140",null,"35",244.81,{"$f":"G16368*(1-VLOOKUP(F16368,Konditionen!$B:$D,3,0))","v":244.81}]
["Rohre und Formteile","YVTR30","YVTR30200150150","Tr.Hosenstück  YVTR 30 200.150.150",null,"35",244.81,{"$f":"G16369*(1-VLOOKUP(F16369,Konditionen!$B:$D,3,0))","v":244.81}]
["Rohre und Formteile","YVTR30","YVTR30200160160","Tr.Hosenstück  YVTR 30 200.160.160",null,"35",244.81,{"$f":"G16370*(1-VLOOKUP(F16370,Konditionen!$B:$D,3,0))","v":244.81}]
["Rohre und Formteile","YVTR30","YVTR30200180180","Tr.Hosenstück  YVTR 30 200.180.180",null,"35",276.56,{"$f":"G16371*(1-VLOOKUP(F16371,Konditionen!$B:$D,3,0))","v":276.56}]
["Rohre und Formteile","YVTR30","YVTR30200200200","Tr.Hosenstück  YVTR 30 200.200.200",null,"35",276.56,{"$f":"G16372*(1-VLOOKUP(F16372,Konditionen!$B:$D,3,0))","v":276.56}]
["Rohre und Formteile","YVTR30","YVTR302008080","Tr.Hosenstück  YVTR 30 200. 80. 80",null,"35",226.81,{"$f":"G16373*(1-VLOOKUP(F16373,Konditionen!$B:$D,3,0))","v":226.81}]
["Rohre und Formteile","YVTR30","YVTR30224100100","Tr.Hosenstück  YVTR 30 224.100.100",null,"35",265.38,{"$f":"G16374*(1-VLOOKUP(F16374,Konditionen!$B:$D,3,0))","v":265.38}]
["Rohre und Formteile","YVTR30","YVTR30224125125","Tr.Hosenstück  YVTR 30 224.125.125",null,"35",280.64999999999998,{"$f":"G16375*(1-VLOOKUP(F16375,Konditionen!$B:$D,3,0))","v":280.64999999999998}]
["Rohre und Formteile","YVTR30","YVTR30224140140","Tr.Hosenstück  YVTR 30 224.140.140",null,"35",292.45999999999998,{"$f":"G16376*(1-VLOOKUP(F16376,Konditionen!$B:$D,3,0))","v":292.45999999999998}]
["Rohre und Formteile","YVTR30","YVTR30224150150","Tr.Hosenstück  YVTR 30 224.150.150",null,"35",292.45999999999998,{"$f":"G16377*(1-VLOOKUP(F16377,Konditionen!$B:$D,3,0))","v":292.45999999999998}]
["Rohre und Formteile","YVTR30","YVTR30224160160","Tr.Hosenstück  YVTR 30 224.160.160",null,"35",292.45999999999998,{"$f":"G16378*(1-VLOOKUP(F16378,Konditionen!$B:$D,3,0))","v":292.45999999999998}]
["Rohre und Formteile","YVTR30","YVTR30224180180","Tr.Hosenstück  YVTR 30 224.180.180",null,"35",304.06,{"$f":"G16379*(1-VLOOKUP(F16379,Konditionen!$B:$D,3,0))","v":304.06}]
["Rohre und Formteile","YVTR30","YVTR30224200200","Tr.Hosenstück  YVTR 30 224.200.200",null,"35",304.06,{"$f":"G16380*(1-VLOOKUP(F16380,Konditionen!$B:$D,3,0))","v":304.06}]
["Rohre und Formteile","YVTR30","YVTR30224224224","Tr.Hosenstück  YVTR 30 224.224.224",null,"35",377.95,{"$f":"G16381*(1-VLOOKUP(F16381,Konditionen!$B:$D,3,0))","v":377.95}]
["Rohre und Formteile","YVTR30","YVTR302248080","Tr.Hosenstück  YVTR 30 224. 80. 80",null,"35",237.25,{"$f":"G16382*(1-VLOOKUP(F16382,Konditionen!$B:$D,3,0))","v":237.25}]
["Rohre und Formteile","YVTR30","YVTR30250100100","Tr.Hosenstück  YVTR 30 250.100.100",null,"35",265.38,{"$f":"G16383*(1-VLOOKUP(F16383,Konditionen!$B:$D,3,0))","v":265.38}]
["Rohre und Formteile","YVTR30","YVTR30250125125","Tr.Hosenstück  YVTR 30 250.125.125",null,"35",280.64999999999998,{"$f":"G16384*(1-VLOOKUP(F16384,Konditionen!$B:$D,3,0))","v":280.64999999999998}]
["Rohre und Formteile","YVTR30","YVTR30250140140","Tr.Hosenstück  YVTR 30 250.140.140",null,"35",292.45999999999998,{"$f":"G16385*(1-VLOOKUP(F16385,Konditionen!$B:$D,3,0))","v":292.45999999999998}]
["Rohre und Formteile","YVTR30","YVTR30250150150","Tr.Hosenstück  YVTR 30 250.150.150",null,"35",292.45999999999998,{"$f":"G16386*(1-VLOOKUP(F16386,Konditionen!$B:$D,3,0))","v":292.45999999999998}]
["Rohre und Formteile","YVTR30","YVTR30250160160","Tr.Hosenstück  YVTR 30 250.160.160",null,"35",292.45999999999998,{"$f":"G16387*(1-VLOOKUP(F16387,Konditionen!$B:$D,3,0))","v":292.45999999999998}]
["Rohre und Formteile","YVTR30","YVTR30250180180","Tr.Hosenstück  YVTR 30 250.180.180",null,"35",304.06,{"$f":"G16388*(1-VLOOKUP(F16388,Konditionen!$B:$D,3,0))","v":304.06}]
["Rohre und Formteile","YVTR30","YVTR30250200200","Tr.Hosenstück  YVTR 30 250.200.200",null,"35",304.06,{"$f":"G16389*(1-VLOOKUP(F16389,Konditionen!$B:$D,3,0))","v":304.06}]
["Rohre und Formteile","YVTR30","YVTR30250224224","Tr.Hosenstück  YVTR 30 250.224.224",null,"35",377.95,{"$f":"G16390*(1-VLOOKUP(F16390,Konditionen!$B:$D,3,0))","v":377.95}]
["Rohre und Formteile","YVTR30","YVTR30250250250","Tr.Hosenstück  YVTR 30 250.250.250",null,"35",377.95,{"$f":"G16391*(1-VLOOKUP(F16391,Konditionen!$B:$D,3,0))","v":377.95}]
["Rohre und Formteile","YVTR30","YVTR302508080","Tr.Hosenstück  YVTR 30 250. 80. 80",null,"35",265.38,{"$f":"G16392*(1-VLOOKUP(F16392,Konditionen!$B:$D,3,0))","v":265.38}]
["Rohre und Formteile","YVTR30","YVTR30300100100","Tr.Hosenstück  YVTR 30 300.100.100",null,"35",284.74,{"$f":"G16393*(1-VLOOKUP(F16393,Konditionen!$B:$D,3,0))","v":284.74}]
["Rohre und Formteile","YVTR30","YVTR30300125125","Tr.Hosenstück  YVTR 30 300.125.125",null,"35",298.02,{"$f":"G16394*(1-VLOOKUP(F16394,Konditionen!$B:$D,3,0))","v":298.02}]
["Rohre und Formteile","YVTR30","YVTR30300140140","Tr.Hosenstück  YVTR 30 300.140.140",null,"35",331.71,{"$f":"G16395*(1-VLOOKUP(F16395,Konditionen!$B:$D,3,0))","v":331.71}]
["Rohre und Formteile","YVTR30","YVTR30300150150","Tr.Hosenstück  YVTR 30 300.150.150",null,"35",331.71,{"$f":"G16396*(1-VLOOKUP(F16396,Konditionen!$B:$D,3,0))","v":331.71}]
["Rohre und Formteile","YVTR30","YVTR30300160160","Tr.Hosenstück  YVTR 30 300.160.160",null,"35",331.71,{"$f":"G16397*(1-VLOOKUP(F16397,Konditionen!$B:$D,3,0))","v":331.71}]
["Rohre und Formteile","YVTR30","YVTR30300180180","Tr.Hosenstück  YVTR 30 300.180.180",null,"35",353.76,{"$f":"G16398*(1-VLOOKUP(F16398,Konditionen!$B:$D,3,0))","v":353.76}]
["Rohre und Formteile","YVTR30","YVTR30300200200","Tr.Hosenstück  YVTR 30 300.200.200",null,"35",353.76,{"$f":"G16399*(1-VLOOKUP(F16399,Konditionen!$B:$D,3,0))","v":353.76}]
["Rohre und Formteile","YVTR30","YVTR30300224224","Tr.Hosenstück  YVTR 30 300.224.224",null,"35",377.95,{"$f":"G16400*(1-VLOOKUP(F16400,Konditionen!$B:$D,3,0))","v":377.95}]
["Rohre und Formteile","YVTR30","YVTR30300250250","Tr.Hosenstück  YVTR 30 300.250.250",null,"35",377.95,{"$f":"G16401*(1-VLOOKUP(F16401,Konditionen!$B:$D,3,0))","v":377.95}]
["Rohre und Formteile","YVTR30","YVTR30300300300","Tr.Hosenstück  YVTR 30 300.300.300",null,"35",393.01,{"$f":"G16402*(1-VLOOKUP(F16402,Konditionen!$B:$D,3,0))","v":393.01}]
["Rohre und Formteile","YVTR30","YVTR303008080","Tr.Hosenstück  YVTR 30 300. 80. 80",null,"35",273.63,{"$f":"G16403*(1-VLOOKUP(F16403,Konditionen!$B:$D,3,0))","v":273.63}]
["Rohre und Formteile","YVTR30","YVTR30315100100","Tr.Hosenstück  YVTR 30 315.100.100",null,"35",328.25,{"$f":"G16404*(1-VLOOKUP(F16404,Konditionen!$B:$D,3,0))","v":328.25}]
["Rohre und Formteile","YVTR30","YVTR30315125125","Tr.Hosenstück  YVTR 30 315.125.125",null,"35",332.35,{"$f":"G16405*(1-VLOOKUP(F16405,Konditionen!$B:$D,3,0))","v":332.35}]
["Rohre und Formteile","YVTR30","YVTR30315140140","Tr.Hosenstück  YVTR 30 315.140.140",null,"35",344.21,{"$f":"G16406*(1-VLOOKUP(F16406,Konditionen!$B:$D,3,0))","v":344.21}]
["Rohre und Formteile","YVTR30","YVTR30315150150","Tr.Hosenstück  YVTR 30 315.150.150",null,"35",344.21,{"$f":"G16407*(1-VLOOKUP(F16407,Konditionen!$B:$D,3,0))","v":344.21}]
["Rohre und Formteile","YVTR30","YVTR30315160160","Tr.Hosenstück  YVTR 30 315.160.160",null,"35",344.21,{"$f":"G16408*(1-VLOOKUP(F16408,Konditionen!$B:$D,3,0))","v":344.21}]
["Rohre und Formteile","YVTR30","YVTR30315180180","Tr.Hosenstück  YVTR 30 315.180.180",null,"35",361.37,{"$f":"G16409*(1-VLOOKUP(F16409,Konditionen!$B:$D,3,0))","v":361.37}]
["Rohre und Formteile","YVTR30","YVTR30315200200","Tr.Hosenstück  YVTR 30 315.200.200",null,"35",361.37,{"$f":"G16410*(1-VLOOKUP(F16410,Konditionen!$B:$D,3,0))","v":361.37}]
["Rohre und Formteile","YVTR30","YVTR30315224224","Tr.Hosenstück  YVTR 30 315.224.224",null,"35",385.56,{"$f":"G16411*(1-VLOOKUP(F16411,Konditionen!$B:$D,3,0))","v":385.56}]
["Rohre und Formteile","YVTR30","YVTR30315250250","Tr.Hosenstück  YVTR 30 315.250.250",null,"35",385.56,{"$f":"G16412*(1-VLOOKUP(F16412,Konditionen!$B:$D,3,0))","v":385.56}]
["Rohre und Formteile","YVTR30","YVTR30315300300","Tr.Hosenstück  YVTR 30 315.300.300",null,"35",395.89,{"$f":"G16413*(1-VLOOKUP(F16413,Konditionen!$B:$D,3,0))","v":395.89}]
["Rohre und Formteile","YVTR","YVTR30315315315","Tr.Hosenstück  YVTR 30 315.315.315",null,"35",402.08,{"$f":"G16414*(1-VLOOKUP(F16414,Konditionen!$B:$D,3,0))","v":402.08}]
["Rohre und Formteile","YVTR30","YVTR303158080","Tr.Hosenstück  YVTR 30 315. 80. 80",null,"35",306.89,{"$f":"G16415*(1-VLOOKUP(F16415,Konditionen!$B:$D,3,0))","v":306.89}]
["Rohre und Formteile","YVTR30","YVTR30350100100","Tr.Hosenstück  YVTR 30 350.100.100",null,"35",335.07,{"$f":"G16416*(1-VLOOKUP(F16416,Konditionen!$B:$D,3,0))","v":335.07}]
["Rohre und Formteile","YVTR30","YVTR30350125125","Tr.Hosenstück  YVTR 30 350.125.125",null,"35",353.76,{"$f":"G16417*(1-VLOOKUP(F16417,Konditionen!$B:$D,3,0))","v":353.76}]
["Rohre und Formteile","YVTR30","YVTR30350140140","Tr.Hosenstück  YVTR 30 350.140.140",null,"35",373.01,{"$f":"G16418*(1-VLOOKUP(F16418,Konditionen!$B:$D,3,0))","v":373.01}]
["Rohre und Formteile","YVTR30","YVTR30350150150","Tr.Hosenstück  YVTR 30 350.150.150",null,"35",373.01,{"$f":"G16419*(1-VLOOKUP(F16419,Konditionen!$B:$D,3,0))","v":373.01}]
["Rohre und Formteile","YVTR30","YVTR30350160160","Tr.Hosenstück  YVTR 30 350.160.160",null,"35",373.01,{"$f":"G16420*(1-VLOOKUP(F16420,Konditionen!$B:$D,3,0))","v":373.01}]
["Rohre und Formteile","YVTR30","YVTR30350180180","Tr.Hosenstück  YVTR 30 350.180.180",null,"35",382.83,{"$f":"G16421*(1-VLOOKUP(F16421,Konditionen!$B:$D,3,0))","v":382.83}]
["Rohre und Formteile","YVTR30","YVTR30350200200","Tr.Hosenstück  YVTR 30 350.200.200",null,"35",382.83,{"$f":"G16422*(1-VLOOKUP(F16422,Konditionen!$B:$D,3,0))","v":382.83}]
["Rohre und Formteile","YVTR30","YVTR30350224224","Tr.Hosenstück  YVTR 30 350.224.224",null,"35",402.08,{"$f":"G16423*(1-VLOOKUP(F16423,Konditionen!$B:$D,3,0))","v":402.08}]
["Rohre und Formteile","YVTR30","YVTR30350250250","Tr.Hosenstück  YVTR 30 350.250.250",null,"35",402.08,{"$f":"G16424*(1-VLOOKUP(F16424,Konditionen!$B:$D,3,0))","v":402.08}]
["Rohre und Formteile","YVTR30","YVTR30350300300","Tr.Hosenstück  YVTR 30 350.300.300",null,"35",417.2,{"$f":"G16425*(1-VLOOKUP(F16425,Konditionen!$B:$D,3,0))","v":417.2}]
["Rohre und Formteile","YVTR30","YVTR30350315315","Tr.Hosenstück  YVTR 30 350.315.315",null,"35",438.67,{"$f":"G16426*(1-VLOOKUP(F16426,Konditionen!$B:$D,3,0))","v":438.67}]
["Rohre und Formteile","YVTR30","YVTR30350350350","Tr.Hosenstück  YVTR 30 350.350.350",null,"35",534.97,{"$f":"G16427*(1-VLOOKUP(F16427,Konditionen!$B:$D,3,0))","v":534.97}]
["Rohre und Formteile","YVTR30","YVTR30400125125","Tr.Hosenstück  YVTR 30 400.125.125",null,"35",367.51,{"$f":"G16428*(1-VLOOKUP(F16428,Konditionen!$B:$D,3,0))","v":367.51}]
["Rohre und Formteile","YVTR30","YVTR30400140140","Tr.Hosenstück  YVTR 30 400.140.140",null,"35",402.08,{"$f":"G16429*(1-VLOOKUP(F16429,Konditionen!$B:$D,3,0))","v":402.08}]
["Rohre und Formteile","YVTR30","YVTR30400150150","Tr.Hosenstück  YVTR 30 400.150.150",null,"35",402.08,{"$f":"G16430*(1-VLOOKUP(F16430,Konditionen!$B:$D,3,0))","v":402.08}]
["Rohre und Formteile","YVTR30","YVTR30400160160","Tr.Hosenstück  YVTR 30 400.160.160",null,"35",402.08,{"$f":"G16431*(1-VLOOKUP(F16431,Konditionen!$B:$D,3,0))","v":402.08}]
["Rohre und Formteile","YVTR30","YVTR30400180180","Tr.Hosenstück  YVTR 30 400.180.180",null,"35",428.33,{"$f":"G16432*(1-VLOOKUP(F16432,Konditionen!$B:$D,3,0))","v":428.33}]
["Rohre und Formteile","YVTR30","YVTR30400200200","Tr.Hosenstück  YVTR 30 400.200.200",null,"35",428.33,{"$f":"G16433*(1-VLOOKUP(F16433,Konditionen!$B:$D,3,0))","v":428.33}]
["Rohre und Formteile","YVTR30","YVTR30400224224","Tr.Hosenstück  YVTR 30 400.224.224",null,"35",473.1,{"$f":"G16434*(1-VLOOKUP(F16434,Konditionen!$B:$D,3,0))","v":473.1}]
["Rohre und Formteile","YVTR30","YVTR30400250250","Tr.Hosenstück  YVTR 30 400.250.250",null,"35",473.1,{"$f":"G16435*(1-VLOOKUP(F16435,Konditionen!$B:$D,3,0))","v":473.1}]
["Rohre und Formteile","YVTR30","YVTR30400300300","Tr.Hosenstück  YVTR 30 400.300.300",null,"35",492.35,{"$f":"G16436*(1-VLOOKUP(F16436,Konditionen!$B:$D,3,0))","v":492.35}]
["Rohre und Formteile","YVTR30","YVTR30400315315","Tr.Hosenstück  YVTR 30 400.315.315",null,"35",502.12,{"$f":"G16437*(1-VLOOKUP(F16437,Konditionen!$B:$D,3,0))","v":502.12}]
["Rohre und Formteile","YVTR30","YVTR30400350350","Tr.Hosenstück  YVTR 30 400.350.350",null,"35",553.70000000000005,{"$f":"G16438*(1-VLOOKUP(F16438,Konditionen!$B:$D,3,0))","v":553.70000000000005}]
["Rohre und Formteile","YVTR30","YVTR30400400400","Tr.Hosenstück  YVTR 30 400.400.400",null,"35",566.24,{"$f":"G16439*(1-VLOOKUP(F16439,Konditionen!$B:$D,3,0))","v":566.24}]
["Rohre und Formteile","YVTR30","YVTR30450140140","Tr.Hosenstück  YVTR 30 450.140.140",null,"35",410.38,{"$f":"G16440*(1-VLOOKUP(F16440,Konditionen!$B:$D,3,0))","v":410.38}]
["Rohre und Formteile","YVTR30","YVTR30450150150","Tr.Hosenstück  YVTR 30 450.150.150",null,"35",410.38,{"$f":"G16441*(1-VLOOKUP(F16441,Konditionen!$B:$D,3,0))","v":410.38}]
["Rohre und Formteile","YVTR30","YVTR30450160160","Tr.Hosenstück  YVTR 30 450.160.160",null,"35",410.38,{"$f":"G16442*(1-VLOOKUP(F16442,Konditionen!$B:$D,3,0))","v":410.38}]
["Rohre und Formteile","YVTR30","YVTR30450180180","Tr.Hosenstück  YVTR 30 450.180.180",null,"35",457.93,{"$f":"G16443*(1-VLOOKUP(F16443,Konditionen!$B:$D,3,0))","v":457.93}]
["Rohre und Formteile","YVTR30","YVTR30450200200","Tr.Hosenstück  YVTR 30 450.200.200",null,"35",457.93,{"$f":"G16444*(1-VLOOKUP(F16444,Konditionen!$B:$D,3,0))","v":457.93}]
["Rohre und Formteile","YVTR30","YVTR30450224224","Tr.Hosenstück  YVTR 30 450.224.224",null,"35",480.71,{"$f":"G16445*(1-VLOOKUP(F16445,Konditionen!$B:$D,3,0))","v":480.71}]
["Rohre und Formteile","YVTR30","YVTR30450250250","Tr.Hosenstück  YVTR 30 450.250.250",null,"35",480.71,{"$f":"G16446*(1-VLOOKUP(F16446,Konditionen!$B:$D,3,0))","v":480.71}]
["Rohre und Formteile","YVTR30","YVTR30450300300","Tr.Hosenstück  YVTR 30 450.300.300",null,"35",506.94,{"$f":"G16447*(1-VLOOKUP(F16447,Konditionen!$B:$D,3,0))","v":506.94}]
["Rohre und Formteile","YVTR30","YVTR30450315315","Tr.Hosenstück  YVTR 30 450.315.315",null,"35",520.64,{"$f":"G16448*(1-VLOOKUP(F16448,Konditionen!$B:$D,3,0))","v":520.64}]
["Rohre und Formteile","YVTR30","YVTR30450350350","Tr.Hosenstück  YVTR 30 450.350.350",null,"35",566.24,{"$f":"G16449*(1-VLOOKUP(F16449,Konditionen!$B:$D,3,0))","v":566.24}]
["Rohre und Formteile","YVTR30","YVTR30450400400","Tr.Hosenstück  YVTR 30 450.400.400",null,"35",592.38,{"$f":"G16450*(1-VLOOKUP(F16450,Konditionen!$B:$D,3,0))","v":592.38}]
["Rohre und Formteile","YVTR30","YVTR30450450450","Tr.Hosenstück  YVTR 30 450.450.450",null,"35",626.96,{"$f":"G16451*(1-VLOOKUP(F16451,Konditionen!$B:$D,3,0))","v":626.96}]
["Rohre und Formteile","YVTR30","YVTR30500150150","Tr.Hosenstück  YVTR 30 500.150.150",null,"35",415.78,{"$f":"G16452*(1-VLOOKUP(F16452,Konditionen!$B:$D,3,0))","v":415.78}]
["Rohre und Formteile","YVTR30","YVTR30500160160","Tr.Hosenstück  YVTR 30 500.160.160",null,"35",415.78,{"$f":"G16453*(1-VLOOKUP(F16453,Konditionen!$B:$D,3,0))","v":415.78}]
["Rohre und Formteile","YVTR30","YVTR30500180180","Tr.Hosenstück  YVTR 30 500.180.180",null,"35",477.19,{"$f":"G16454*(1-VLOOKUP(F16454,Konditionen!$B:$D,3,0))","v":477.19}]
["Rohre und Formteile","YVTR30","YVTR30500200200","Tr.Hosenstück  YVTR 30 500.200.200",null,"35",477.19,{"$f":"G16455*(1-VLOOKUP(F16455,Konditionen!$B:$D,3,0))","v":477.19}]
["Rohre und Formteile","YVTR30","YVTR30500224224","Tr.Hosenstück  YVTR 30 500.224.224",null,"35",492.35,{"$f":"G16456*(1-VLOOKUP(F16456,Konditionen!$B:$D,3,0))","v":492.35}]
["Rohre und Formteile","YVTR30","YVTR30500250250","Tr.Hosenstück  YVTR 30 500.250.250",null,"35",492.35,{"$f":"G16457*(1-VLOOKUP(F16457,Konditionen!$B:$D,3,0))","v":492.35}]
["Rohre und Formteile","YVTR30","YVTR30500300300","Tr.Hosenstück  YVTR 30 500.300.300",null,"35",507.47,{"$f":"G16458*(1-VLOOKUP(F16458,Konditionen!$B:$D,3,0))","v":507.47}]
["Rohre und Formteile","YVTR30","YVTR30500315315","Tr.Hosenstück  YVTR 30 500.315.315",null,"35",535.76,{"$f":"G16459*(1-VLOOKUP(F16459,Konditionen!$B:$D,3,0))","v":535.76}]
["Rohre und Formteile","YVTR30","YVTR30500350350","Tr.Hosenstück  YVTR 30 500.350.350",null,"35",581.46,{"$f":"G16460*(1-VLOOKUP(F16460,Konditionen!$B:$D,3,0))","v":581.46}]
["Rohre und Formteile","YVTR30","YVTR30500400400","Tr.Hosenstück  YVTR 30 500.400.400",null,"35",610.33000000000004,{"$f":"G16461*(1-VLOOKUP(F16461,Konditionen!$B:$D,3,0))","v":610.33000000000004}]
["Rohre und Formteile","YVTR30","YVTR30500450450","Tr.Hosenstück  YVTR 30 500.450.450",null,"35",646.07000000000005,{"$f":"G16462*(1-VLOOKUP(F16462,Konditionen!$B:$D,3,0))","v":646.07000000000005}]
["Rohre und Formteile","YVTR30","YVTR30500500500","Tr.Hosenstück  YVTR 30 500.500.500",null,"35",690.99,{"$f":"G16463*(1-VLOOKUP(F16463,Konditionen!$B:$D,3,0))","v":690.99}]
["Rohre und Formteile","YVTR30","YVTR30808080","Tr.Hosenstück  YVTR 30  80. 80. 80",null,"35",154.02000000000001,{"$f":"G16464*(1-VLOOKUP(F16464,Konditionen!$B:$D,3,0))","v":154.02000000000001}]
["Rohre und Formteile","YVU45","YVU451000710710","Hosenstück GW90  YVU45 1000.710.710",null,"30",1690.03,{"$f":"G16465*(1-VLOOKUP(F16465,Konditionen!$B:$D,3,0))","v":1690.03}]
["Rohre und Formteile","YVU","YVU451008080","Hosenstück GW90  YVU45  100.80.80",null,"30",118.49,{"$f":"G16466*(1-VLOOKUP(F16466,Konditionen!$B:$D,3,0))","v":118.49}]
["Rohre und Formteile","YVU45","YVU451120800800","Hosenstück GW90  YVU45 1120.800.800",null,"30",2091.0700000000002,{"$f":"G16467*(1-VLOOKUP(F16467,Konditionen!$B:$D,3,0))","v":2091.0700000000002}]
["Rohre und Formteile","YVU","YVU451128080","Hosenstück GW90  YVU45  112.80.80",null,"30",125.1,{"$f":"G16468*(1-VLOOKUP(F16468,Konditionen!$B:$D,3,0))","v":125.1}]
["Rohre und Formteile","YVU45","YVU451250900900","Hosenstück GW90  YVU45 1250.900.900",null,"30",2580.6,{"$f":"G16469*(1-VLOOKUP(F16469,Konditionen!$B:$D,3,0))","v":2580.6}]
["Rohre und Formteile","YVU","YVU45125100100","Hosenstück GW90  YVU45  125.100.100",null,"30",125.1,{"$f":"G16470*(1-VLOOKUP(F16470,Konditionen!$B:$D,3,0))","v":125.1}]
["Rohre und Formteile","YVU","YVU45140100100","Hosenstück GW90  YVU45  140.100.100",null,"30",141.69,{"$f":"G16471*(1-VLOOKUP(F16471,Konditionen!$B:$D,3,0))","v":141.69}]
["Rohre und Formteile","YVU","YVU45150100100","Hosenstück GW90  YVU45  150.100.100",null,"30",141.69,{"$f":"G16472*(1-VLOOKUP(F16472,Konditionen!$B:$D,3,0))","v":141.69}]
["Rohre und Formteile","YVU","YVU45160112112","Hosenstück GW90  YVU45  160.112.112",null,"30",141.69,{"$f":"G16473*(1-VLOOKUP(F16473,Konditionen!$B:$D,3,0))","v":141.69}]
["Rohre und Formteile","YVU","YVU45180125125","Hosenstück GW90  YVU45  180.125.125",null,"30",176.53,{"$f":"G16474*(1-VLOOKUP(F16474,Konditionen!$B:$D,3,0))","v":176.53}]
["Rohre und Formteile","YVU","YVU45200140140","Hosenstück GW90  YVU45  200.140.140",null,"30",176.53,{"$f":"G16475*(1-VLOOKUP(F16475,Konditionen!$B:$D,3,0))","v":176.53}]
["Rohre und Formteile","YVU","YVU45224160160","Hosenstück GW90  YVU45  224.160.160",null,"30",197.21,{"$f":"G16476*(1-VLOOKUP(F16476,Konditionen!$B:$D,3,0))","v":197.21}]
["Rohre und Formteile","YVU","YVU45250180180","Hosenstück GW90  YVU45  250.180.180",null,"30",197.21,{"$f":"G16477*(1-VLOOKUP(F16477,Konditionen!$B:$D,3,0))","v":197.21}]
["Rohre und Formteile","YVU","YVU45280200200","Hosenstück GW90  YVU45  280.200.200",null,"30",225.65,{"$f":"G16478*(1-VLOOKUP(F16478,Konditionen!$B:$D,3,0))","v":225.65}]
["Rohre und Formteile","YVU","YVU45300200200","Hosenstück GW90  YVU45  300.200.200",null,"30",225.65,{"$f":"G16479*(1-VLOOKUP(F16479,Konditionen!$B:$D,3,0))","v":225.65}]
["Rohre und Formteile","YVU","YVU45315224224","Hosenstück GW90  YVU45  315.224.224",null,"30",255.78,{"$f":"G16480*(1-VLOOKUP(F16480,Konditionen!$B:$D,3,0))","v":255.78}]
["Rohre und Formteile","YVU","YVU45355250250","Hosenstück GW90  YVU45  355.250.250",null,"30",255.78,{"$f":"G16481*(1-VLOOKUP(F16481,Konditionen!$B:$D,3,0))","v":255.78}]
["Rohre und Formteile","YVU","YVU45400280280","Hosenstück GW90  YVU45  400.280.280",null,"30",303.85000000000002,{"$f":"G16482*(1-VLOOKUP(F16482,Konditionen!$B:$D,3,0))","v":303.85000000000002}]
["Rohre und Formteile","YVU","YVU45450300300","Hosenstück GW90  YVU45  450.300.300",null,"30",303.85000000000002,{"$f":"G16483*(1-VLOOKUP(F16483,Konditionen!$B:$D,3,0))","v":303.85000000000002}]
["Rohre und Formteile","YVU","YVU45450315315","Hosenstück GW90  YVU45  450.315.315",null,"30",303.85000000000002,{"$f":"G16484*(1-VLOOKUP(F16484,Konditionen!$B:$D,3,0))","v":303.85000000000002}]
["Rohre und Formteile","YVU","YVU45500355355","Hosenstück GW90  YVU45  500.355.355",null,"30",392.54,{"$f":"G16485*(1-VLOOKUP(F16485,Konditionen!$B:$D,3,0))","v":392.54}]
["Rohre und Formteile","YVU","YVU45560400400","Hosenstück GW90  YVU45  560.400.400",null,"30",433.89,{"$f":"G16486*(1-VLOOKUP(F16486,Konditionen!$B:$D,3,0))","v":433.89}]
["Rohre und Formteile","YVU","YVU45600400400","Hosenstück GW90  YVU45  600.400.400",null,"30",468.63,{"$f":"G16487*(1-VLOOKUP(F16487,Konditionen!$B:$D,3,0))","v":468.63}]
["Rohre und Formteile","YVU","YVU45630450450","Hosenstück GW90  YVU45  630.450.450",null,"30",551.34,{"$f":"G16488*(1-VLOOKUP(F16488,Konditionen!$B:$D,3,0))","v":551.34}]
["Rohre und Formteile","YVU","YVU45710500500","Hosenstück GW90  YVU45  710.500.500",null,"30",818.67,{"$f":"G16489*(1-VLOOKUP(F16489,Konditionen!$B:$D,3,0))","v":818.67}]
["Rohre und Formteile","YVU45","YVU45800560560","Hosenstück GW90  YVU45  800.560.560",null,"30",1115.3800000000001,{"$f":"G16490*(1-VLOOKUP(F16490,Konditionen!$B:$D,3,0))","v":1115.3800000000001}]
["Rohre und Formteile","YVU45","YVU45900630630","Hosenstück GW90  YVU45  900.630.630",null,"30",1236.92,{"$f":"G16491*(1-VLOOKUP(F16491,Konditionen!$B:$D,3,0))","v":1236.92}]
["Kunststoff","YV30PPS","YV30PPS110","Hosenstück 30° in PPs 110mm",null,"17.ALLG",52.05,{"$f":"G16492*(1-VLOOKUP(F16492,Konditionen!$B:$D,3,0))","v":52.05}]
["Kunststoff","YV30PPS","YV30PPS125","Hosenstück 30° in PPs 125mm",null,"17.ALLG",61.45,{"$f":"G16493*(1-VLOOKUP(F16493,Konditionen!$B:$D,3,0))","v":61.45}]
["Kunststoff","YV30PPS","YV30PPS140","Hosenstück 30° in PPs 140mm",null,"17.ALLG",66.849999999999994,{"$f":"G16494*(1-VLOOKUP(F16494,Konditionen!$B:$D,3,0))","v":66.849999999999994}]
["Kunststoff","YV30PPS","YV30PPS160","Hosenstück 30° in PPs 160mm",null,"17.ALLG",74.84,{"$f":"G16495*(1-VLOOKUP(F16495,Konditionen!$B:$D,3,0))","v":74.84}]
["Kunststoff","YV30PPS","YV30PPS180","Hosenstück 30° in PPs 180mm",null,"17.ALLG",90.93,{"$f":"G16496*(1-VLOOKUP(F16496,Konditionen!$B:$D,3,0))","v":90.93}]
["Kunststoff","YV30PPS","YV30PPS200","Hosenstück 30° in PPs 200mm",null,"17.ALLG",101.52,{"$f":"G16497*(1-VLOOKUP(F16497,Konditionen!$B:$D,3,0))","v":101.52}]
["Kunststoff","YV30PPS","YV30PPS225","Hosenstück 30° in PPs 225mm",null,"17.ALLG",131.11000000000001,{"$f":"G16498*(1-VLOOKUP(F16498,Konditionen!$B:$D,3,0))","v":131.11000000000001}]
["Kunststoff","YV30PPS","YV30PPS250","Hosenstück 30° in PPs 250mm",null,"17.ALLG",150.44,{"$f":"G16499*(1-VLOOKUP(F16499,Konditionen!$B:$D,3,0))","v":150.44}]
["Kunststoff","YV30PPS","YV30PPS280","Hosenstück 30° in PPs 280mm",null,"17.ALLG",226.9,{"$f":"G16500*(1-VLOOKUP(F16500,Konditionen!$B:$D,3,0))","v":226.9}]
["Kunststoff","YV30PPS","YV30PPS315","Hosenstück 30° in PPs 315mm",null,"17.ALLG",251.2,{"$f":"G16501*(1-VLOOKUP(F16501,Konditionen!$B:$D,3,0))","v":251.2}]
["Kunststoff","YV30PPS","YV30PPS355","Hosenstück 30° in PPs 355mm",null,"17.ALLG",275.39999999999998,{"$f":"G16502*(1-VLOOKUP(F16502,Konditionen!$B:$D,3,0))","v":275.39999999999998}]
["Kunststoff","YV30PPS","YV30PPS400","Hosenstück 30° in PPs 400mm",null,"17.ALLG",288.79000000000002,{"$f":"G16503*(1-VLOOKUP(F16503,Konditionen!$B:$D,3,0))","v":288.79000000000002}]
["Kunststoff","YV30PPS","YV30PPS450","Hosenstück 30° in PPs 450mm",null,"17.ALLG",616.46,{"$f":"G16504*(1-VLOOKUP(F16504,Konditionen!$B:$D,3,0))","v":616.46}]
["Kunststoff","YV30PPS","YV30PPS50","Hosenstück 30° in PPs 50mm",null,"17.ALLG",44.06,{"$f":"G16505*(1-VLOOKUP(F16505,Konditionen!$B:$D,3,0))","v":44.06}]
["Kunststoff","YV30PPS","YV30PPS500","Hosenstück 30° in PPs 500mm",null,"17.ALLG",765.72,{"$f":"G16506*(1-VLOOKUP(F16506,Konditionen!$B:$D,3,0))","v":765.72}]
["Kunststoff","YV30PPS","YV30PPS63","Hosenstück 30° in PPs 63mm",null,"17.ALLG",44.06,{"$f":"G16507*(1-VLOOKUP(F16507,Konditionen!$B:$D,3,0))","v":44.06}]
["Kunststoff","YV30PPS","YV30PPS75","Hosenstück 30° in PPs 75mm",null,"17.ALLG",45.36,{"$f":"G16508*(1-VLOOKUP(F16508,Konditionen!$B:$D,3,0))","v":45.36}]
["Kunststoff","YV30PPS","YV30PPS90","Hosenstück 30° in PPs 90mm",null,"17.ALLG",48.06,{"$f":"G16509*(1-VLOOKUP(F16509,Konditionen!$B:$D,3,0))","v":48.06}]
["Kunststoff","YV45PPS","YV45PPS110","Hosenstück 45° in PPs 110mm",null,"17.ALLG",52.05,{"$f":"G16510*(1-VLOOKUP(F16510,Konditionen!$B:$D,3,0))","v":52.05}]
["Kunststoff","YV45PPS","YV45PPS125","Hosenstück 45° in PPs 125mm",null,"17.ALLG",61.45,{"$f":"G16511*(1-VLOOKUP(F16511,Konditionen!$B:$D,3,0))","v":61.45}]
["Kunststoff","YV45PPS","YV45PPS140","Hosenstück 45° in PPs 140mm",null,"17.ALLG",66.849999999999994,{"$f":"G16512*(1-VLOOKUP(F16512,Konditionen!$B:$D,3,0))","v":66.849999999999994}]
["Kunststoff","YV45PPS","YV45PPS160","Hosenstück 45° in PPs 160mm",null,"17.ALLG",74.84,{"$f":"G16513*(1-VLOOKUP(F16513,Konditionen!$B:$D,3,0))","v":74.84}]
["Kunststoff","YV45PPS","YV45PPS180","Hosenstück 45° in PPs 180mm",null,"17.ALLG",90.93,{"$f":"G16514*(1-VLOOKUP(F16514,Konditionen!$B:$D,3,0))","v":90.93}]
["Kunststoff","YV45PPS","YV45PPS200","Hosenstück 45° in PPs 200mm",null,"17.ALLG",101.52,{"$f":"G16515*(1-VLOOKUP(F16515,Konditionen!$B:$D,3,0))","v":101.52}]
["Kunststoff","YV45PPS","YV45PPS225","Hosenstück 45° in PPs 225mm",null,"17.ALLG",131.11000000000001,{"$f":"G16516*(1-VLOOKUP(F16516,Konditionen!$B:$D,3,0))","v":131.11000000000001}]
["Kunststoff","YV45PPS","YV45PPS250","Hosenstück 45° in PPs 250mm",null,"17.ALLG",150.44,{"$f":"G16517*(1-VLOOKUP(F16517,Konditionen!$B:$D,3,0))","v":150.44}]
["Kunststoff","YV45PPS","YV45PPS280","Hosenstück 45° in PPs 280mm",null,"17.ALLG",226.9,{"$f":"G16518*(1-VLOOKUP(F16518,Konditionen!$B:$D,3,0))","v":226.9}]
["Kunststoff","YV45PPS","YV45PPS315","Hosenstück 45° in PPs 315mm",null,"17.ALLG",251.2,{"$f":"G16519*(1-VLOOKUP(F16519,Konditionen!$B:$D,3,0))","v":251.2}]
["Kunststoff","YV45PPS","YV45PPS355","Hosenstück 45° in PPs 355mm",null,"17.ALLG",275.39999999999998,{"$f":"G16520*(1-VLOOKUP(F16520,Konditionen!$B:$D,3,0))","v":275.39999999999998}]
["Kunststoff","YV45PPS","YV45PPS400","Hosenstück 45° in PPs 400mm",null,"17.ALLG",288.79000000000002,{"$f":"G16521*(1-VLOOKUP(F16521,Konditionen!$B:$D,3,0))","v":288.79000000000002}]
["Kunststoff","YV45PPS","YV45PPS450","Hosenstück 45° in PPs 450mm",null,"17.ALLG",616.46,{"$f":"G16522*(1-VLOOKUP(F16522,Konditionen!$B:$D,3,0))","v":616.46}]
["Kunststoff","YV45PPS","YV45PPS50","Hosenstück 45° in PPs 50mm",null,"17.ALLG",44.06,{"$f":"G16523*(1-VLOOKUP(F16523,Konditionen!$B:$D,3,0))","v":44.06}]
["Kunststoff","YV45PPS","YV45PPS500","Hosenstück 45° in PPs 500mm",null,"17.ALLG",765.72,{"$f":"G16524*(1-VLOOKUP(F16524,Konditionen!$B:$D,3,0))","v":765.72}]
["Kunststoff","YV45PPS","YV45PPS600","Hosenstück 45° in PPs 600mm",null,"17.ALLG",1015.41,{"$f":"G16525*(1-VLOOKUP(F16525,Konditionen!$B:$D,3,0))","v":1015.41}]
["Kunststoff","YV45PPS","YV45PPS63","Hosenstück 45° in PPs 63mm",null,"17.ALLG",44.06,{"$f":"G16526*(1-VLOOKUP(F16526,Konditionen!$B:$D,3,0))","v":44.06}]
["Kunststoff","YV45PPS","YV45PPS75","Hosenstück 45° in PPs 75mm",null,"17.ALLG",45.36,{"$f":"G16527*(1-VLOOKUP(F16527,Konditionen!$B:$D,3,0))","v":45.36}]
["Kunststoff","YV45PPS","YV45PPS90","Hosenstück 45° in PPs 90mm",null,"17.ALLG",48.06,{"$f":"G16528*(1-VLOOKUP(F16528,Konditionen!$B:$D,3,0))","v":48.06}]
["Kunststoff","YV90PPS","YV90PPS110","Hosenstück 90° in PPs 110mm",null,"17.ALLG",53.46,{"$f":"G16529*(1-VLOOKUP(F16529,Konditionen!$B:$D,3,0))","v":53.46}]
["Kunststoff","YV90PPS","YV90PPS125","Hosenstück 90° in PPs 125mm",null,"17.ALLG",61.45,{"$f":"G16530*(1-VLOOKUP(F16530,Konditionen!$B:$D,3,0))","v":61.45}]
["Kunststoff","YV90PPS","YV90PPS140","Hosenstück 90° in PPs 140mm",null,"17.ALLG",69.44,{"$f":"G16531*(1-VLOOKUP(F16531,Konditionen!$B:$D,3,0))","v":69.44}]
["Kunststoff","YV90PPS","YV90PPS160","Hosenstück 90° in PPs 160mm",null,"17.ALLG",78.84,{"$f":"G16532*(1-VLOOKUP(F16532,Konditionen!$B:$D,3,0))","v":78.84}]
["Kunststoff","YV90PPS","YV90PPS180","Hosenstück 90° in PPs 180mm",null,"17.ALLG",97.52,{"$f":"G16533*(1-VLOOKUP(F16533,Konditionen!$B:$D,3,0))","v":97.52}]
["Kunststoff","YV90PPS","YV90PPS200","Hosenstück 90° in PPs 200mm",null,"17.ALLG",107.02,{"$f":"G16534*(1-VLOOKUP(F16534,Konditionen!$B:$D,3,0))","v":107.02}]
["Kunststoff","YV90PPS","YV90PPS225","Hosenstück 90° in PPs 225mm",null,"17.ALLG",140.83000000000001,{"$f":"G16535*(1-VLOOKUP(F16535,Konditionen!$B:$D,3,0))","v":140.83000000000001}]
["Kunststoff","YV90PPS","YV90PPS250","Hosenstück 90° in PPs 250mm",null,"17.ALLG",160.16,{"$f":"G16536*(1-VLOOKUP(F16536,Konditionen!$B:$D,3,0))","v":160.16}]
["Kunststoff","YV90PPS","YV90PPS280","Hosenstück 90° in PPs 280mm",null,"17.ALLG",229.28,{"$f":"G16537*(1-VLOOKUP(F16537,Konditionen!$B:$D,3,0))","v":229.28}]
["Kunststoff","YV90PPS","YV90PPS315","Hosenstück 90° in PPs 315mm",null,"17.ALLG",251.2,{"$f":"G16538*(1-VLOOKUP(F16538,Konditionen!$B:$D,3,0))","v":251.2}]
["Kunststoff","YV90PPS","YV90PPS355","Hosenstück 90° in PPs 355mm",null,"17.ALLG",281.55,{"$f":"G16539*(1-VLOOKUP(F16539,Konditionen!$B:$D,3,0))","v":281.55}]
["Kunststoff","YV90PPS","YV90PPS400","Hosenstück 90° in PPs 400mm",null,"17.ALLG",300.99,{"$f":"G16540*(1-VLOOKUP(F16540,Konditionen!$B:$D,3,0))","v":300.99}]
["Kunststoff","YV90PPS","YV90PPS450","Hosenstück 90° in PPs 450mm",null,"17.ALLG",711.18,{"$f":"G16541*(1-VLOOKUP(F16541,Konditionen!$B:$D,3,0))","v":711.18}]
["Kunststoff","YV90PPS","YV90PPS50","Hosenstück 90° in PPs 50mm",null,"17.ALLG",46.65,{"$f":"G16542*(1-VLOOKUP(F16542,Konditionen!$B:$D,3,0))","v":46.65}]
["Kunststoff","YV90PPS","YV90PPS500","Hosenstück 90° in PPs 500mm",null,"17.ALLG",851.79,{"$f":"G16543*(1-VLOOKUP(F16543,Konditionen!$B:$D,3,0))","v":851.79}]
["Kunststoff","YV90PPS","YV90PPS63","Hosenstück 90° in PPs 63mm",null,"17.ALLG",46.65,{"$f":"G16544*(1-VLOOKUP(F16544,Konditionen!$B:$D,3,0))","v":46.65}]
["Kunststoff","YV90PPS","YV90PPS75","Hosenstück 90° in PPs 75mm",null,"17.ALLG",48.06,{"$f":"G16545*(1-VLOOKUP(F16545,Konditionen!$B:$D,3,0))","v":48.06}]
["Kunststoff","YV90PPS","YV90PPS90","Hosenstück 90° in PPs 90mm",null,"17.ALLG",48.06,{"$f":"G16546*(1-VLOOKUP(F16546,Konditionen!$B:$D,3,0))","v":48.06}]
["Montagezubehör","ZALM","ZALM","Belimo Zusatzadapter ZA-LM","für Klappenachsen 8x8mm, < 35mm","90",9.5,{"$f":"G16547*(1-VLOOKUP(F16547,Konditionen!$B:$D,3,0))","v":9.5}]
["Montagezubehör","ZEBE5","ZEBE5","Dichtband PVC grau          ZEBE 5","Selbstklebend, 50 mm, 25 m Rolle","90",3.45,{"$f":"G16548*(1-VLOOKUP(F16548,Konditionen!$B:$D,3,0))","v":3.45}]
["Montagezubehör","ZEPUG","ZEPUG100","Rohrschelle 2-tlg.     ZEPUG   100","Edelstahl V2A m. Gummieinlage","90",5.9,{"$f":"G16549*(1-VLOOKUP(F16549,Konditionen!$B:$D,3,0))","v":5.9}]
["Montagezubehör","ZEPUG","ZEPUG112","Rohrschelle 2-tlg.     ZEPUG   112","Edelstahl V2A m. Gummieinlage","90",6.25,{"$f":"G16550*(1-VLOOKUP(F16550,Konditionen!$B:$D,3,0))","v":6.25}]
["Montagezubehör","ZEPUG","ZEPUG125","Rohrschelle 2-tlg.     ZEPUG   125","Edelstahl V2A m. Gummieinlage","90",6.25,{"$f":"G16551*(1-VLOOKUP(F16551,Konditionen!$B:$D,3,0))","v":6.25}]
["Montagezubehör","ZEPUG","ZEPUG140","Rohrschelle 2-tlg.     ZEPUG   140","Edelstahl V2A m. Gummieinlage","90",6.8,{"$f":"G16552*(1-VLOOKUP(F16552,Konditionen!$B:$D,3,0))","v":6.8}]
["Montagezubehör","ZEPUG","ZEPUG150","Rohrschelle 2-tlg.     ZEPUG   150","Edelstahl V2A m. Gummieinlage","90",6.8,{"$f":"G16553*(1-VLOOKUP(F16553,Konditionen!$B:$D,3,0))","v":6.8}]
["Montagezubehör","ZEPUG","ZEPUG160","Rohrschelle 2-tlg.     ZEPUG   160","Edelstahl V2A m. Gummieinlage","90",6.8,{"$f":"G16554*(1-VLOOKUP(F16554,Konditionen!$B:$D,3,0))","v":6.8}]
["Montagezubehör","ZEPUG","ZEPUG180","Rohrschelle 2-tlg.     ZEPUG   180","Edelstahl V2A m. Gummieinlage","90",7.6,{"$f":"G16555*(1-VLOOKUP(F16555,Konditionen!$B:$D,3,0))","v":7.6}]
["Montagezubehör","ZEPUG","ZEPUG200","Rohrschelle 2-tlg.     ZEPUG   200","Edelstahl V2A m. Gummieinlage","90",7.6,{"$f":"G16556*(1-VLOOKUP(F16556,Konditionen!$B:$D,3,0))","v":7.6}]
["Montagezubehör","ZEPUG","ZEPUG224","Rohrschelle 2-tlg.     ZEPUG   224","Edelstahl V2A m. Gummieinlage","90",8.4,{"$f":"G16557*(1-VLOOKUP(F16557,Konditionen!$B:$D,3,0))","v":8.4}]
["Montagezubehör","ZEPUG","ZEPUG250","Rohrschelle 2-tlg.     ZEPUG   250","Edelstahl V2A m. Gummieinlage","90",8.4,{"$f":"G16558*(1-VLOOKUP(F16558,Konditionen!$B:$D,3,0))","v":8.4}]
["Montagezubehör","ZEPUG","ZEPUG280","Rohrschelle 2-tlg.     ZEPUG   280","Edelstahl V2A m. Gummieinlage","90",10.75,{"$f":"G16559*(1-VLOOKUP(F16559,Konditionen!$B:$D,3,0))","v":10.75}]
["Montagezubehör","ZEPUG","ZEPUG300","Rohrschelle 2-tlg.     ZEPUG   300","Edelstahl V2A m. Gummieinlage","90",10.75,{"$f":"G16560*(1-VLOOKUP(F16560,Konditionen!$B:$D,3,0))","v":10.75}]
["Montagezubehör","ZEPUG","ZEPUG315","Rohrschelle 2-tlg.     ZEPUG   315","Edelstahl V2A m. Gummieinlage","90",10.75,{"$f":"G16561*(1-VLOOKUP(F16561,Konditionen!$B:$D,3,0))","v":10.75}]
["Montagezubehör","ZEPUG","ZEPUG355","Rohrschelle 2-tlg.     ZEPUG   355","Edelstahl V2A m. Gummieinlage","90",11.4,{"$f":"G16562*(1-VLOOKUP(F16562,Konditionen!$B:$D,3,0))","v":11.4}]
["Montagezubehör","ZEPUG","ZEPUG400","Rohrschelle 2-tlg.     ZEPUG   400","Edelstahl V2A m. Gummieinlage","90",12.2,{"$f":"G16563*(1-VLOOKUP(F16563,Konditionen!$B:$D,3,0))","v":12.2}]
["Montagezubehör","ZEPUG","ZEPUG80","Rohrschelle 2-tlg.     ZEPUG    80","Edelstahl V2A m. Gummieinlage","90",5.6,{"$f":"G16564*(1-VLOOKUP(F16564,Konditionen!$B:$D,3,0))","v":5.6}]
["Montagezubehör","ZINKSPRA","ZINKSPRAY400","Zinkspray, hellgrau GALVA ZINC","400ml Sprühdose","90",5.2,{"$f":"G16565*(1-VLOOKUP(F16565,Konditionen!$B:$D,3,0))","v":5.2}]
["Filter","ZLG4","ZLG448287287","Z-Line Filter G4 287 x 287 x 48 mm","im Papprahmen","37",21.62,{"$f":"G16566*(1-VLOOKUP(F16566,Konditionen!$B:$D,3,0))","v":21.62}]
["Filter","ZLG4","ZLG448287592","Z-Line Filter G4 287 x 592 x 48 mm","im Papprahmen","37",24.89,{"$f":"G16567*(1-VLOOKUP(F16567,Konditionen!$B:$D,3,0))","v":24.89}]
["Filter","ZLG4","ZLG448393495","Z-Line Filter G4 393 x 495 x 48 mm","im Papprahmen","37",26.32,{"$f":"G16568*(1-VLOOKUP(F16568,Konditionen!$B:$D,3,0))","v":26.32}]
["Filter","ZLG4","ZLG448393622","Z-Line Filter G4 393 x 622 x 48 mm","im Papprahmen","37",28.05,{"$f":"G16569*(1-VLOOKUP(F16569,Konditionen!$B:$D,3,0))","v":28.05}]
["Filter","ZLG4","ZLG448490592","Z-Line Filter G4 490 x 592 x 48 mm","im Papprahmen","37",29.38,{"$f":"G16570*(1-VLOOKUP(F16570,Konditionen!$B:$D,3,0))","v":29.38}]
["Filter","ZLG4","ZLG448495495","Z-Line Filter G4 495 x 495 x 48 mm","im Papprahmen","37",28.36,{"$f":"G16571*(1-VLOOKUP(F16571,Konditionen!$B:$D,3,0))","v":28.36}]
["Filter","ZLG","ZLG448495622","Z-Line Filter G4 495 x 622 x 48 mm","im Papprahmen","37",38.35,{"$f":"G16572*(1-VLOOKUP(F16572,Konditionen!$B:$D,3,0))","v":38.35}]
["Filter","ZLG4","ZLG448592592","Z-Line Filter G4 592 x 592 x 48 mm","im Papprahmen","37",31.52,{"$f":"G16573*(1-VLOOKUP(F16573,Konditionen!$B:$D,3,0))","v":31.52}]
["Filter","ZLG","ZLG448610610","Z-Line Filter G4 610 x 610 x 48 mm","im Papprahmen","37",35.6,{"$f":"G16574*(1-VLOOKUP(F16574,Konditionen!$B:$D,3,0))","v":35.6}]
["Filter","ZLG4","ZLG496287287","Z-Line Filter G4 287 x 287 x 96 mm","im Papprahmen","37",26.32,{"$f":"G16575*(1-VLOOKUP(F16575,Konditionen!$B:$D,3,0))","v":26.32}]
["Filter","ZLG4","ZLG496287592","Z-Line Filter G4 287 x 592 x 96 mm","im Papprahmen","37",32.03,{"$f":"G16576*(1-VLOOKUP(F16576,Konditionen!$B:$D,3,0))","v":32.03}]
["Filter","ZLG4","ZLG496393495","Z-Line Filter G4 393 x 495 x 96 mm","im Papprahmen","37",34.880000000000003,{"$f":"G16577*(1-VLOOKUP(F16577,Konditionen!$B:$D,3,0))","v":34.880000000000003}]
["Filter","ZLG4","ZLG496393622","Z-Line Filter G4 393 x 622 x 96 mm","im Papprahmen","37",37.64,{"$f":"G16578*(1-VLOOKUP(F16578,Konditionen!$B:$D,3,0))","v":37.64}]
["Filter","ZLG4","ZLG496490592","Z-Line Filter G4 490 x 592 x 96 mm","im Papprahmen","37",39.58,{"$f":"G16579*(1-VLOOKUP(F16579,Konditionen!$B:$D,3,0))","v":39.58}]
["Filter","ZLG4","ZLG496495495","Z-Line Filter G4 495 x 495 x 96 mm","im Papprahmen","37",38.659999999999997,{"$f":"G16580*(1-VLOOKUP(F16580,Konditionen!$B:$D,3,0))","v":38.659999999999997}]
["Filter","ZLG4","ZLG496495622","Z-Line Filter G4 495 x 622 x 96 mm","im Papprahmen","37",42.23,{"$f":"G16581*(1-VLOOKUP(F16581,Konditionen!$B:$D,3,0))","v":42.23}]
["Filter","ZLG4","ZLG496592592","Z-Line Filter G4 592 x 592 x 96 mm","im Papprahmen","37",43.76,{"$f":"G16582*(1-VLOOKUP(F16582,Konditionen!$B:$D,3,0))","v":43.76}]
["Filter","ZLM5","ZLM548287287","Z-Line Filter M5 287 x 287 x 48 mm","im Papprahmen","37",21.83,{"$f":"G16583*(1-VLOOKUP(F16583,Konditionen!$B:$D,3,0))","v":21.83}]
["Filter","ZLM5","ZLM548287592","Z-Line Filter M5 287 x 592 x 48 mm","im Papprahmen","37",24.89,{"$f":"G16584*(1-VLOOKUP(F16584,Konditionen!$B:$D,3,0))","v":24.89}]
["Filter","ZLM5","ZLM548393495","Z-Line Filter M5 393 x 495 x 48 mm","im Papprahmen","37",26.72,{"$f":"G16585*(1-VLOOKUP(F16585,Konditionen!$B:$D,3,0))","v":26.72}]
["Filter","ZLM5","ZLM548393622","Z-Line Filter M5 393 x 622 x 48 mm","im Papprahmen","37",28.76,{"$f":"G16586*(1-VLOOKUP(F16586,Konditionen!$B:$D,3,0))","v":28.76}]
["Filter","ZLM5","ZLM548490592","Z-Line Filter M5 490 x 592 x 48 mm","im Papprahmen","37",30.09,{"$f":"G16587*(1-VLOOKUP(F16587,Konditionen!$B:$D,3,0))","v":30.09}]
["Filter","ZLM5","ZLM548495495","Z-Line Filter M5 495 x 495 x 48 mm","im Papprahmen","37",28.97,{"$f":"G16588*(1-VLOOKUP(F16588,Konditionen!$B:$D,3,0))","v":28.97}]
["Filter","ZLM5","ZLM548495622","Z-Line Filter M5 495 x 622 x 48 mm","im Papprahmen","37",31.42,{"$f":"G16589*(1-VLOOKUP(F16589,Konditionen!$B:$D,3,0))","v":31.42}]
["Filter","ZLM5","ZLM548592592","Z-Line Filter M5 592 x 592 x 48 mm","im Papprahmen","37",32.54,{"$f":"G16590*(1-VLOOKUP(F16590,Konditionen!$B:$D,3,0))","v":32.54}]
["Filter","ZLM5","ZLM596287287","Z-Line Filter M5 287 x 287 x 96 mm","im Papprahmen","37",26.62,{"$f":"G16591*(1-VLOOKUP(F16591,Konditionen!$B:$D,3,0))","v":26.62}]
["Filter","ZLM5","ZLM596287592","Z-Line Filter M5 287 x 592 x 96 mm","im Papprahmen","37",32.74,{"$f":"G16592*(1-VLOOKUP(F16592,Konditionen!$B:$D,3,0))","v":32.74}]
["Filter","ZLM5","ZLM596393495","Z-Line Filter M5 393 x 495 x 96 mm","im Papprahmen","37",35.799999999999997,{"$f":"G16593*(1-VLOOKUP(F16593,Konditionen!$B:$D,3,0))","v":35.799999999999997}]
["Filter","ZLM5","ZLM596393622","Z-Line Filter M5 393 x 622 x 96 mm","im Papprahmen","37",38.76,{"$f":"G16594*(1-VLOOKUP(F16594,Konditionen!$B:$D,3,0))","v":38.76}]
["Filter","ZLM5","ZLM596490592","Z-Line Filter M5 490 x 592 x 96 mm","im Papprahmen","37",40.700000000000003,{"$f":"G16595*(1-VLOOKUP(F16595,Konditionen!$B:$D,3,0))","v":40.700000000000003}]
["Filter","ZLM5","ZLM596495495","Z-Line Filter M5 495 x 495 x 96 mm","im Papprahmen","37",39.68,{"$f":"G16596*(1-VLOOKUP(F16596,Konditionen!$B:$D,3,0))","v":39.68}]
["Filter","ZLM5","ZLM596495622","Z-Line Filter M5 495 x 622 x 96 mm","im Papprahmen","37",43.66,{"$f":"G16597*(1-VLOOKUP(F16597,Konditionen!$B:$D,3,0))","v":43.66}]
["Filter","ZLM5","ZLM596592592","Z-Line Filter M5 592 x 592 x 96 mm","im Papprahmen","37",45.08,{"$f":"G16598*(1-VLOOKUP(F16598,Konditionen!$B:$D,3,0))","v":45.08}]
["Filter","3VF7","3VF7592287","V-Zellen-Filter 3VF7  592-287-292","Filterklasse F7         EN 779:2012","37",101.18,{"$f":"G16599*(1-VLOOKUP(F16599,Konditionen!$B:$D,3,0))","v":101.18}]
["Filter","3VF7","3VF7592490","V-Zellen-Filter 3VF7  592-490-292","Filterklasse F7         EN 779:2012","37",142.80000000000001,{"$f":"G16600*(1-VLOOKUP(F16600,Konditionen!$B:$D,3,0))","v":142.80000000000001}]
["Filter","3VF7","3VF7592592","V-Zellen-Filter 3VF7  592-592-292","Filterklasse F7         EN 779:2012","37",161.77000000000001,{"$f":"G16601*(1-VLOOKUP(F16601,Konditionen!$B:$D,3,0))","v":161.77000000000001}]
["Filter","3VF8","3VF8592287","V-Zellen-Filter 3VF8  592-287-292","Filterklasse F8         EN 779:2012","37",105.06,{"$f":"G16602*(1-VLOOKUP(F16602,Konditionen!$B:$D,3,0))","v":105.06}]
["Filter","3VF8","3VF8592490","V-Zellen-Filter 3VF8  592-490-292","Filterklasse F8         EN 779:2012","37",148.91999999999999,{"$f":"G16603*(1-VLOOKUP(F16603,Konditionen!$B:$D,3,0))","v":148.91999999999999}]
["Filter","3VF8","3VF8592592","V-Zellen-Filter 3VF8  592-592-292","Filterklasse F8         EN 779:2012","37",169.32,{"$f":"G16604*(1-VLOOKUP(F16604,Konditionen!$B:$D,3,0))","v":169.32}]
["Filter","3VF9","3VF9592287","V-Zellen-Filter 3VF9  592-287-292","Filterklasse F9         EN 779:2012","37",105.67,{"$f":"G16605*(1-VLOOKUP(F16605,Konditionen!$B:$D,3,0))","v":105.67}]
["Filter","3VF9","3VF9592490","V-Zellen-Filter 3VF9  592-490-292","Filterklasse F9         EN 779:2012","37",151.06,{"$f":"G16606*(1-VLOOKUP(F16606,Konditionen!$B:$D,3,0))","v":151.06}]
["Filter","3VF9","3VF9592592","V-Zellen-Filter 3VF9  592-592-292","Filterklasse F9         EN 779:2012","37",171.97,{"$f":"G16607*(1-VLOOKUP(F16607,Konditionen!$B:$D,3,0))","v":171.97}]
["Filter","3VM6","3VM6592287","V-Zellen-Filter 3VM6  592-287-292","Filterklasse M6         EN 779:2012","37",98.74,{"$f":"G16608*(1-VLOOKUP(F16608,Konditionen!$B:$D,3,0))","v":98.74}]
["Filter","3VM6","3VM6592490","V-Zellen-Filter 3VM6  592-490-292","Filterklasse M6         EN 779:2012","37",138.31,{"$f":"G16609*(1-VLOOKUP(F16609,Konditionen!$B:$D,3,0))","v":138.31}]
["Filter","3VM6","3VM6592592","V-Zellen-Filter 3VM6  592-592-292","Filterklasse M6         EN 779:2012","37",156.26,{"$f":"G16610*(1-VLOOKUP(F16610,Konditionen!$B:$D,3,0))","v":156.26}]

{"sheet":"Bestellliste","index":3,"n_rows":13,"n_cols":9,"rows_kept":13,"cut":false,"hidden":false,"merged":[]}
[]
[]
[null,null,"Bestellliste"]
[]
["Datum;",{"$f":"NOW()","v":"2017-04-25T15:16:18.550"}]
["Firma/Kundennr:",0,"Lieferadresse:",null,null,"Lindab GmbH "]
["Ansprechpartner:",{"$f":"Konditionen!D53","v":0},null,null,null,"Carl-Benz-Weg 18, 22941 Bargteheide"]
["Str.:",{"$f":"Konditionen!D54","v":0},null,null,null,"Tel. 04532-28590"]
["Ort:",{"$f":"Konditionen!D55","v":0},null,null,null,"Fax: 04532-5666"]
["Tel.:",{"$f":"Konditionen!D56","v":0},null,null,null,"email: sales@lindab.de"]
["Fax:",{"$f":"Konditionen!D57","v":0}]
[]
["Position","Artikelnummer","Beschreibung 1","Beschreibung 2","Preisgruppe","Preis brutto","Preis netto","Stück","gesamt netto"]